{"text_format":"1","workbook":"xlsx","n_sheets":16,"sheets":["Start","Data","Leerlingaantallen","BevoegdGezag","Schalen_ineengeschoven","RekentoolUitleg","Algoritmes","DUO-CFI","DerdenEnZorg","Personeel","Consolidatie","Directie","Leraren_OOP_ID","Schalen_integraal","Salaris_berekening","Prestatiebox"],"not_rendered":{"charts":0,"images":4,"macros":1,"external_links":0,"defined_names":18323,"comments":1,"pivot_tables":0},"unopened":[],"bounds":{"document_bytes":16777216,"sheet_cells":100000,"rows_first":2000,"rows_last":500,"rows_between":2000,"halvings":0,"cell_chars":16384,"cell_head_chars":4096},"cells_cut":0,"cells_raw":0,"read":"whole","date_system":"1900"}

{"sheet":"Start","index":0,"n_rows":21,"n_cols":2,"rows_kept":21,"cut":false,"hidden":false,"merged":[[20,1,23,14],[25,13,25,14]]}
[]
[]
[]
[]
[]
[]
[]
[]
[]
[]
[]
[]
[]
[]
[]
[]
[]
[]
[]
[]
[null,"Rekenhulp personele bekostiging 2021-2022"]

{"sheet":"Data","index":1,"n_rows":34,"n_cols":63,"rows_kept":34,"cut":false,"hidden":true,"merged":[]}
["Scherm 1","Scherm 2",null,"Scherm 3_1",null,"niet meer in gebruik",null,"Scherm 3_2",null,null,null,"Scherm 3_3",null,null,null,"Scherm 4_1",0,null,null,null,null,null,null,null,null,"Scherm 4_2",0,null,null,null,null,null,null,null,null,"Scherm 4_3",0,null,null,null,null,null,null,null,null,"Scherm 4_4",1]
["Geen data",null,null,{"$f":"(YEAR(Peildatum)-1)&\"/\"&YEAR(Peildatum)","v":"2021/2022"},{"$f":"YEAR(Peildatum)&\"/\"&(YEAR(Peildatum)+1)","v":"2022/2023"},"Resp. '13-'14-'15",null,"Omschrijving (cursief zijn vaste waarden)",{"$f":"D2","v":"2021/2022"},{"$f":"E2","v":"2022/2023"},null,"Omschrijving (cursief zijn vaste waarden)",{"$f":"D2","v":"2021/2022"},{"$f":"E2","v":"2022/2023"},null,"Naam persoon","Beeindigingsdatum","Loonkosten","Schaal","Trede","Uitloopschaal","Werktijdfactor","Toelage directeuren ","Persoon Aan/Uit",null,"Naam persoon","Beeindigingsdatum","Loonkosten","Schaal","Trede","Uitloopschaal","Werktijdfactor","Toelage directeuren ","Persoon Aan/Uit",null,"Naam persoon","Beeindigingsdatum","Loonkosten","Schaal","Trede","Uitloopschaal","Werktijdfactor","Toelage directeuren ","Persoon Aan/Uit",null,"Naam persoon","Beeindigingsdatum","Loonkosten","Schaal","Trede","Uitloopschaal","Werktijdfactor","Toelage directeuren ","Persoon Aan/Uit",null,null,null,null,null,"Vinkjes laten staan!!","Vinkjes Aan/Uit",null,"Ranges met data"]
[null,10925,null,null,null,null,null,"Gemeentelijke subsidies",null,null,null,"Formatie vanuit ondersteuningsplan",null,null,null,null,null,null,null,null,null,null,null,null,null,null,null,null,null,null,null,null,null,null,null,null,null,null,null,null,null,null,null,null,null,"x","2021-01-01",63539.51,"AC",5,null,1,null,-1,null,"Ontslagruimte:",{"$f":"Personeel!N15","v":0},null,"Scherm 1","ѵ",false,null,"B3:B7"]
[null,"Gemeente Westerwolde",null,null,null,null,null,"Contractactiviteiten",null,null,null,null,null,null,null,null,null,null,null,null,null,null,null,null,null,null,null,null,null,null,null,null,null,null,null,null,null,null,null,null,null,null,null,null,null,null,null,null,null,null,null,null,null,null,null,"Ontslagruimte verschil:",{"$f":"Personeel!N16","v":63539.51},null,"Scherm 2","ѵ",null,null,"D3:E27"]
[null,null,null,null,null,null,null,"ESF-subsidies",null,null,null,null,null,null,null,null,null,null,null,null,null,null,null,null,null,null,null,null,null,null,null,null,null,null,null,null,null,null,null,null,null,null,null,null,null,null,null,null,null,null,null,null,null,null,null,null,null,null,"Scherm 3","ѵ",false,null,"D38:D39"]
[null,"Option_WerkgeverValtOnderWPO",null,null,null,null,null,"Loonkostensubsidie OOP",null,null,null,null,null,null,null,null,null,null,null,null,null,null,null,null,null,null,null,null,null,null,null,null,null,null,null,null,null,null,null,null,null,null,null,null,null,null,null,null,null,null,null,null,null,null,null,"Schaal","AC",null,"Scherm 3_1","ѵ",null,null,"I3:J27"]
[null,null,null,null,null,null,null,null,null,null,null,null,null,null,null,null,null,null,null,null,null,null,null,null,null,null,null,null,null,null,null,null,null,null,null,null,null,null,null,null,null,null,null,null,null,null,null,null,null,null,null,null,null,null,null,"Trede",5,null,"Scherm 3_2","ѵ",null,null,"I29:J38"]
[null,0,null,null,null,null,null,null,null,null,null,null,null,null,null,null,null,null,null,null,null,null,null,null,null,null,null,null,null,null,null,null,null,null,null,null,null,null,null,null,null,null,null,null,null,null,null,null,null,null,null,null,null,null,null,"Uitloopschaal",null,null,"Scherm 3_3","ѵ",false,null,"M3:N12"]
[null,{"$f":"LeerlingAantalCalc","v":610},null,null,null,null,null,null,null,null,null,null,null,null,null,null,null,null,null,null,null,null,null,null,null,null,null,null,null,null,null,null,null,null,null,null,null,null,null,null,null,null,null,null,null,null,null,null,null,null,null,null,null,null,null,"Werktijdfactor",1,null,"Scherm 4","ѵ",false,null,"P3:BB502"]
[null,null,null,null,null,null,null,null,null,null,null,null,null,null,null,null,null,null,null,null,null,null,null,null,null,null,null,null,null,null,null,null,null,null,null,null,null,null,null,null,null,null,null,null,null,null,null,null,null,null,null,null,null,null,null,"Toelage directeuren",null,null,"Scherm 4_1","ѵ",null,null,"BI3:BI14"]
[null,null,null,null,null,null,null,null,null,null,null,null,null,null,null,null,null,null,null,null,null,null,null,null,null,null,null,null,null,null,null,null,null,null,null,null,null,null,null,null,null,null,null,null,null,null,null,null,null,null,null,null,null,null,null,"Loonkosten",{"$f":"IF(ISERROR(Salaris_berekening!R105),\"\",Salaris_berekening!R105)","v":63539.505000000005},null,"Scherm 4_2","ѵ"]
[null,null,null,null,null,null,null,null,null,null,null,null,null,null,null,null,null,null,null,null,null,null,null,null,null,null,null,null,null,null,null,null,null,null,null,null,null,null,null,null,null,null,null,null,null,null,null,null,null,null,null,null,null,null,null,null,null,null,"Scherm 4_3","ѵ"]
[null,null,null,null,0,null,null,null,null,null,null,null,null,null,null,null,null,null,null,null,null,null,null,null,null,null,null,null,null,null,null,null,null,null,null,null,null,null,null,null,null,null,null,null,null,null,null,null,null,null,null,null,null,null,null,null,null,null,"Scherm 4_4","ѵ"]
[null,null,null,null,null,null,null,null,null,null,null,null,null,null,null,null,null,null,null,null,null,null,null,null,null,null,null,null,null,null,null,null,null,null,null,null,null,null,null,null,null,null,null,null,null,null,null,null,null,null,null,null,null,null,null,null,null,null,"Scherm 5","ѵ"]
[]
[]
[]
[null,null,null,158996.72,158996.72]
[]
[]
[]
[]
[]
[]
[]
[]
[]
[null,null,null,"Performancebox (popup)",null,null,null,"Gemeentelijke subsidies (popup)",{"$f":"I2","v":"2021/2022"},{"$f":"J2","v":"2022/2023"}]
[null,null,null,"Leerlingaantal 01-10-2012"]
[null,null,null,"Aantal BRIN-nummers 01-10-2012"]
[null,null,null,"Prestatiebox 2013-2014",{"$f":"PrestatieBox1213","v":0}]
[null,null,null,"Leerlingaantal 01-10-2013"]
[null,null,null,"Aantal BRIN-nummers 01-10-2013"]
[null,null,null,"Prestatiebox 2014-2015",{"$f":"PrestatieBox1314","v":0}]

{"sheet":"Leerlingaantallen","index":2,"n_rows":7252,"n_cols":8,"rows_kept":7252,"cut":false,"hidden":true,"merged":[]}
["BRIN","Soort onderwijs","Werkgevernummer","Aantal leerlingen","Bedrag"]
["00AV","Bo",41646,73,{"$f":"D2*IF(B2=$G$9,WerkdrukbedragPerLeerlingBo,IF(B2=$G$10,WerkdrukbedragPerLeerlingSbo,IF(B2=$G$11,WerkdrukbedragPerLeerlingSo,IF(B2=$G$12,WerkdrukbedragPerLeerlingVso,0))))","v":18882.91}]
["00AW","So",62077,78,{"$f":"D3*IF(B3=$G$9,WerkdrukbedragPerLeerlingBo,IF(B3=$G$10,WerkdrukbedragPerLeerlingSbo,IF(B3=$G$11,WerkdrukbedragPerLeerlingSo,IF(B3=$G$12,WerkdrukbedragPerLeerlingVso,0))))","v":40352.520000000004},null,"WerkgeverNummer",{"$f":"Data_WerkgeverNummer","v":10925}]
["00AW","So",62077,24,12416.16,null,"WerkgeverNaam",{"$f":"_xlfn.IFNA(VLOOKUP(Data_WerkgeverNummer,BevoegdGezag[],2,FALSE),\"\")","v":"Gemeente Westerwolde"}]
["00AZ","Bo",41638,91,23538.97,null,"Leerlingaantal",{"$f":"SUMIF(C2:C7252,Data_WerkgeverNummer,D2:D7252)","v":610}]
["00BB","Bo",41613,75,19400.25,null,"Werkdrukbedrag totaal",{"$f":"_xlfn.IFNA(VLOOKUP($H$3,BevoegdGezag[],4,FALSE),0)","v":157788.70000000004}]
["00BS","Bo",41632,110,28453.7]
["00BW","Bo",41516,116,30005.72,null,"Werkdrukbedrag per onderwijssoort"]
["00BZ","Sbo",41632,72,27936.720000000001,null,"Bo",258.67]
["00CD","Bo",41228,175,45267.25,null,"Sbo",388.01]
["00CG","Bo",41516,426,110193.42000000001,null,"So",517.34]
["00CS","Bo",42607,65,16813.55,null,"Vso",517.34]
["00CU","Bo",41246,90,23280.300000000003]
["00CV","Bo",20210,57,14744.19]
["00DA","Bo",30051,45,11640.150000000001]
["00DD","Bo",40581,225,58200.75]
["00DM","Bo",75388,120,31040.400000000001]
["00DN","Bo",42669,169,43715.23]
["00DO","Bo",41775,93,24056.31]
["00DW","Bo",77235,138,35696.46]
["00DX","Bo",77456,192,49664.639999999999]
["00DY","Bo",41632,121,31299.070000000003]
["00DZ","Bo",40950,169,43715.23]
["00EB","Bo",48348,186,48112.62]
["00EH","Sbo",41646,57,22116.57]
["00EI","Bo",30133,144,37248.480000000003]
["00EM","Sbo",42790,159,61693.59]
["00FE","Bo",41646,97,25090.99]
["00FG","Bo",41624,78,20176.260000000002]
["00FI","Bo",45000,167,43197.89]
["00FQ","Bo",30124,71,18365.57]
["00GQ","Bo",20183,115,29747.050000000003]
["00GR","Bo",41632,109,28195.030000000002]
["00GV","Bo",50949,140,36213.800000000003]
["00GX","Bo",41530,114,29488.38]
["00HA","Bo",30128,228,58976.76]
["00HH","Bo",41582,82,21210.940000000002]
["00HZ","Bo",20252,194,50181.98]
["00IF","Bo",50949,59,15261.53]
["00IH","Sbo",40812,150,58201.5]
["00IJ","Bo",85600,177,45784.590000000004]
["00IM","Bo",30145,121,31299.070000000003]
["00JH","Sbo",41414,44,17072.439999999999]
["00JL","Sbo",41514,102,39577.019999999997]
["00JY","Sbo",30742,153,59365.53]
["00KK","So",41417,242,125196.28000000001]
["00KK","Vso",41417,13,6725.42]
["00KM","Vso",25859,63,32592.420000000002]
["00KM","Vso",25859,74,38283.160000000003]
["00KM","So",25859,81,41904.54]
["00KM","Vso",25859,99,51216.66]
["00KM","So",25859,32,16554.88]
["00KM","Vso",25859,75,38800.5]
["00KM","Vso",25859,58,30005.72]
["00KM","Vso",25859,15,7760.1]
["00KM","Vso",25859,46,23797.640000000003]
["00KM","So",25859,172,88982.48000000001]
["00KM","Vso",25859,106,54838.04]
["00KM","Vso",25859,103,53286.020000000004]
["00KM","So",25859,57,29488.38]
["00KU","Sbo",29810,193,74885.929999999993]
["00KX","So",26132,101,52251.340000000004]
["00KX","Vso",26132,98,50699.32]
["00KZ","Sbo",71008,155,60141.549999999996]
["00LD","So",42665,132,68288.88]
["00LD","Vso",42665,72,{"$f":"D66*IF(B66=$G$9,WerkdrukbedragPerLeerlingBo,IF(B66=$G$10,WerkdrukbedragPerLeerlingSbo,IF(B66=$G$11,WerkdrukbedragPerLeerlingSo,IF(B66=$G$12,WerkdrukbedragPerLeerlingVso,0))))","v":37248.480000000003}]
["00LH","So",77338,90,46560.600000000006]
["00LH","Vso",77338,139,71910.260000000009]
["00LS","Sbo",50819,122,47337.22]
["00MI","Sbo",44201,130,50441.299999999996]
["00MN","Sbo",80433,122,47337.22]
["00MS","Sbo",40946,138,53545.38]
["00MU","So",41414,56,28971.040000000001]
["00MU","So",41414,11,5690.7400000000007]
["00MY","Sbo",40876,117,45397.17]
["00NT","So",30968,153,79153.02]
["00NT","Vso",30968,2,1034.68]
["00NT","So",30968,94,48629.960000000006]
["00NT","Vso",30968,149,77083.66]
["00NT","Vso",30968,300,155202]
["00NT","Vso",30968,282,145889.88]
["00NT","So",30968,28,14485.52]
["00NT","Vso",30968,36,18624.240000000002]
["00NY","Sbo",40876,49,19012.489999999998]
["00OJ","So",41312,69,35696.46]
["00OJ","Vso",41312,75,38800.5]
["00ON","So",32216,97,50181.98]
["00ON","So",32216,44,22762.960000000003]
["00ON","So",32216,69,35696.46]
["00OQ","So",41805,93,48112.62]
["00OQ","Vso",41805,149,77083.66]
["00OS","So",41531,190,98294.6]
["00OS","So",41531,3,1552.02]
["00PQ","So",41400,133,68806.22]
["00PQ","Vso",41400,203,105020.02]
["00PZ","So",38209,16,8277.44]
["00PZ","Vso",38209,73,37765.82]
["00PZ","So",38209,47,24314.980000000003]
["00PZ","Vso",38209,61,31557.74]
["00PZ","So",38209,49,25349.66]
["00PZ","Vso",38209,23,11898.820000000002]
["00RK","Vso",41417,77,39835.18]
["00RL","So",41008,84,43456.560000000005]
["00RL","So",41008,15,7760.1]
["00RL","So",41008,92,47595.280000000006]
["00RL","So",41008,50,25867]
["00RL","So",41008,62,32075.08]
["00RL","So",41008,46,23797.640000000003]
["00RL","So",41008,75,38800.5]
["00RS","Vso",42665,195,100881.3]
["00RT","Vso",42572,223,115366.82]
["00RT","Vso",42572,124,64150.16]
["00RT","So",42572,86,44491.240000000005]
["00RT","Vso",42572,85,43973.9]
["00RT","So",42572,75,38800.5]
["00RT","Vso",42572,25,12933.5]
["00RX","Sbo",41516,135,52381.35]
["00SH","Vso",41373,38,19658.920000000002]
["00SH","Vso",41373,136,70358.240000000005]
["00SH","So",41373,94,48629.960000000006]
["00SI","So",42504,59,30523.06]
["00SL","So",41290,97,50181.98]
["00SL","Vso",41290,106,54838.04]
["00SO","So",40631,26,13450.84]
["00SQ","Sbo",44397,72,27936.720000000001]
["00SU","So",10249,64,33109.760000000002]
["00SU","Vso",10249,95,49147.3]
["00TN","Sbo",23961,122,47337.22]
["00TO","So",41531,89,46043.26]
["00TO","Vso",41531,93,{"$f":"D130*IF(B130=$G$9,WerkdrukbedragPerLeerlingBo,IF(B130=$G$10,WerkdrukbedragPerLeerlingSbo,IF(B130=$G$11,WerkdrukbedragPerLeerlingSo,IF(B130=$G$12,WerkdrukbedragPerLeerlingVso,0))))","v":48112.62}]
["00UE","Sbo",41417,176,68289.759999999995]
["00UI","Sbo",71488,129,50053.29]
["00UN","Sbo",41251,120,46561.2]
["00UT","So",41008,134,69323.56]
["00UY","Sbo",41396,108,41905.08]
["00VD","Sbo",55303,184,71393.84]
["00VV","So",48856,34,17589.560000000001]
["00VV","Vso",48856,28,14485.52]
["00VW","Sbo",41417,163,63245.63]
["00WK","Sbo",41443,101,39189.01]
["00WO","Sbo",95694,100,38801]
["00YG","Sbo",47920,81,31428.809999999998]
["00ZF","Vso",41414,107,55355.380000000005]
["00ZF","Vso",41414,118,61046.12]
["00ZF","Vso",41414,112,57942.080000000002]
["00ZF","Vso",41414,91,47077.94]
["00ZF","Vso",41414,65,33627.1]
["00ZN","So",25859,169,87430.46]
["00ZR","Sbo",40901,238,92346.38]
["00ZS","Sbo",77196,105,40741.049999999996]
["01AC","Sbo",61778,107,41517.07]
["01AI","So",62077,139,71910.260000000009]
["01AI","So",62077,115,59494.100000000006]
["01AI","So",62077,8,4138.72]
["01AJ","So",62129,224,115884.16]
["01AJ","Vso",62129,20,10346.800000000001]
["01AJ","So",62129,23,11898.820000000002]
["01AK","Sbo",62181,166,64409.659999999996]
["01BO","Sbo",45000,83,32204.829999999998]
["01BS","Vso",62077,117,60528.780000000006]
["01BS","Vso",62077,64,33109.760000000002]
["01BS","Vso",62077,123,63632.820000000007]
["01BS","Vso",62077,106,54838.04]
["01BS","Vso",62077,37,19141.580000000002]
["01CE","Sbo",40788,219,84974.19]
["01CN","So",83189,100,51734]
["01CN","Vso",83189,138,71392.92]
["01CX","Sbo",40888,76,29488.76]
["01DM","Sbo",83280,156,60529.56]
["01FJ","Sbo",72464,91,35308.909999999996]
["01FN","Sbo",40631,100,38801]
["01FX","So",73114,145,75014.3]
["01FX","Vso",73114,180,93121.200000000012]
["01GE","Sbo",83280,123,47725.229999999996]
["01GF","So",29810,70,36213.800000000003]
["01GQ","Sbo",42486,65,25220.649999999998]
["01JE","So",40631,136,70358.240000000005]
["01JE","So",40631,157,81222.38]
["01JH","Vso",40631,27,13968.18]
["01JH","So",40631,72,37248.480000000003]
["01JH","Vso",40631,92,47595.280000000006]
["01JH","Vso",40631,133,68806.22]
["01JO","So",41314,211,109158.74]
["01JO","So",41314,154,79670.36]
["01JO","Vso",41314,86,44491.240000000005]
["01JO","So",41314,127,65702.180000000008]
["01JO","So",41314,92,47595.280000000006]
["01JO","So",41314,182,94155.88]
["01JO","So",41314,181,93638.540000000008]
["01JO","So",41314,116,60011.44]
["01JO","Vso",41314,88,45525.920000000006]
["01JO","So",41314,180,93121.200000000012]
["01JO","So",41314,90,46560.600000000006]
["01JO","So",41314,167,{"$f":"D194*IF(B194=$G$9,WerkdrukbedragPerLeerlingBo,IF(B194=$G$10,WerkdrukbedragPerLeerlingSbo,IF(B194=$G$11,WerkdrukbedragPerLeerlingSo,IF(B194=$G$12,WerkdrukbedragPerLeerlingVso,0))))","v":86395.78}]
["01JO","So",41314,120,62080.800000000003]
["01JO","So",41314,105,54320.700000000004]
["01JO","So",41314,150,77601]
["01JO","So",41314,117,60528.780000000006]
["01JO","So",41314,35,18106.900000000001]
["01JO","So",41314,32,16554.88]
["01JO","So",41314,174,90017.16]
["01JO","So",41314,108,55872.72]
["01JO","So",41314,48,24832.32]
["01JO","Vso",41314,81,41904.54]
["01JQ","Sbo",41008,102,39577.019999999997]
["01JR","Vso",41531,175,90534.5]
["01JR","Vso",41531,47,24314.980000000003]
["01JW","Sbo",41879,116,45009.159999999996]
["01KI","Vso",42756,43,22245.620000000003]
["01KI","Vso",42756,28,14485.52]
["01KJ","Sbo",70002,198,76825.98]
["01KX","So",24922,59,30523.06]
["01KY","Sbo",41358,195,75661.95]
["01KZ","Sbo",61751,111,43069.11]
["01LB","So",40837,121,62598.140000000007]
["01LB","Vso",40837,24,12416.16]
["01LP","Sbo",41008,94,36472.94]
["01MI","So",40837,155,80187.700000000012]
["01MI","Vso",40837,416,215213.44]
["01OY","So",20281,66,34144.44]
["01OY","Vso",20281,65,33627.1]
["01OZ","So",50143,71,36731.14]
["01OZ","Vso",50143,42,21728.280000000002]
["01PA","So",82253,64,33109.760000000002]
["01PA","Vso",82253,71,36731.14]
["01PD","So",82292,391,202279.94]
["01PD","Vso",82292,67,34661.78]
["01PJ","So",44201,51,26384.34]
["01PJ","Vso",44201,74,38283.160000000003]
["01QH","Vso",83189,246,127265.64000000001]
["01QH","Vso",83189,431,222973.54]
["01QH","Vso",83189,96,49664.639999999999]
["01QH","Vso",83189,32,16554.88]
["01RB","Vso",44813,47,24314.980000000003]
["01RB","So",44813,25,12933.5]
["01RB","So",44813,4,2069.36]
["01RB","Vso",44813,6,3104.04]
["01RE","So",40631,79,40869.86]
["01ST","Sbo",84515,89,34532.89]
["01TQ","So",42687,29,15002.86]
["01TQ","Vso",42687,56,28971.040000000001]
["01TQ","So",42687,65,33627.1]
["01TQ","Vso",42687,81,41904.54]
["01TQ","Vso",42687,114,58976.76]
["01UB","Vso",73114,187,96742.58]
["01UC","So",85256,160,82774.400000000009]
["01UC","Vso",85256,47,24314.980000000003]
["01UC","Vso",85256,51,26384.34]
["01UC","Vso",85256,96,49664.639999999999]
["01UC","Vso",85256,169,87430.46]
["01UC","Vso",85256,145,75014.3]
["01UC","So",85256,155,80187.700000000012]
["01UC","Vso",85256,96,49664.639999999999]
["01UC","Vso",85256,128,66219.520000000004]
["01UC","Vso",85256,71,36731.14]
["01UC","Vso",85256,195,100881.3]
["01UC","Vso",85256,61,31557.74]
["01UC","Vso",85256,64,{"$f":"D258*IF(B258=$G$9,WerkdrukbedragPerLeerlingBo,IF(B258=$G$10,WerkdrukbedragPerLeerlingSbo,IF(B258=$G$11,WerkdrukbedragPerLeerlingSo,IF(B258=$G$12,WerkdrukbedragPerLeerlingVso,0))))","v":33109.760000000002}]
["01UC","So",85256,101,52251.340000000004]
["01UO","So",41821,67,34661.78]
["01UO","Vso",41821,202,104502.68000000001]
["01UO","So",41821,19,9829.4600000000009]
["01UO","Vso",41821,10,5173.4000000000005]
["01UQ","So",85581,96,49664.639999999999]
["01UQ","Vso",85581,85,43973.9]
["01UQ","So",85581,13,6725.42]
["01UQ","So",85581,14,7242.76]
["01UQ","So",85581,38,19658.920000000002]
["01UQ","Vso",85581,28,14485.52]
["01UR","Sbo",42635,340,131923.4]
["01VE","Bo",40945,143,36989.810000000005]
["01VF","Sbo",77690,115,44621.15]
["01VG","Bo",40865,132,34144.44]
["01VG","Bo",40865,269,69582.23000000001]
["01VI","Bo",30010,190,49147.3]
["01VQ","Bo",40257,451,116660.17000000001]
["01VR","Bo",41226,224,57942.080000000002]
["01VY","Bo",41638,252,65184.840000000004]
["01WQ","Bo",42607,118,30523.06]
["01WU","Bo",30027,450,116401.5]
["01WX","So",40837,134,69323.56]
["01WX","Vso",40837,168,86913.12000000001]
["01XH","Bo",41638,123,31816.410000000003]
["01XT","Sbo",43227,86,33368.86]
["01XU","Bo",40774,400,103468]
["01ZA","Sbo",41876,179,69453.789999999994]
["02AC","Vso",21712,158,81739.72]
["02AJ","Sbo",25897,187,72557.87]
["02BJ","Sbo",40636,298,115626.98]
["02CK","So",41312,73,37765.82]
["02CK","Vso",41312,133,68806.22]
["02CO","Sbo",30837,65,25220.649999999998]
["02CP","So",41671,33,17072.22]
["02CP","Vso",41671,37,19141.580000000002]
["02CQ","Sbo",71956,244,94674.44]
["02CX","Sbo",41671,97,37636.97]
["02DE","So",20281,79,40869.86]
["02DE","Vso",20281,56,28971.040000000001]
["02EG","Sbo",47959,35,13580.35]
["02EH","Sbo",41008,85,32980.85]
["02EJ","So",41008,121,62598.140000000007]
["02EP","So",41414,137,70875.58]
["02EP","So",41414,8,4138.72]
["02FI","Sbo",41454,348,135027.48000000001]
["02GA","So",70176,109,56390.060000000005]
["02GA","Vso",70176,105,54320.700000000004]
["02GD","So",25859,92,47595.280000000006]
["02GD","Vso",25859,132,68288.88]
["02GD","So",25859,10,5173.4000000000005]
["02GD","Vso",25859,10,5173.4000000000005]
["02GM","So",30605,68,35179.120000000003]
["02GM","Vso",30605,156,80705.040000000008]
["02KX","So",41821,5,2586.7000000000003]
["02KX","Vso",41821,11,5690.7400000000007]
["02KX","Vso",41821,63,32592.420000000002]
["02KX","Vso",41821,33,17072.22]
["02NY","Sbo",41645,145,56261.45]
["02PQ","Vso",41635,71,36731.14]
["02PQ","Vso",41635,34,17589.560000000001]
["02QV","So",44813,67,34661.78]
["02QV","Vso",44813,26,13450.84]
["02RC","Sbo",40517,189,{"$f":"D322*IF(B322=$G$9,WerkdrukbedragPerLeerlingBo,IF(B322=$G$10,WerkdrukbedragPerLeerlingSbo,IF(B322=$G$11,WerkdrukbedragPerLeerlingSo,IF(B322=$G$12,WerkdrukbedragPerLeerlingVso,0))))","v":73333.89}]
["02RF","So",41879,88,45525.920000000006]
["02RF","Vso",41879,230,118988.20000000001]
["02RF","So",41879,105,54320.700000000004]
["02RF","Vso",41879,193,99846.62000000001]
["02RG","Sbo",40706,33,12804.33]
["02RH","Vso",41200,175,90534.5]
["02RH","So",41200,136,70358.240000000005]
["02RH","Vso",41200,161,83291.740000000005]
["02RH","Vso",41200,81,41904.54]
["02RH","So",41200,86,44491.240000000005]
["02RH","Vso",41200,358,185207.72]
["02RH","Vso",41200,16,8277.44]
["02RK","So",41407,378,195554.52000000002]
["02RM","Vso",40132,90,46560.600000000006]
["02RM","Vso",40132,15,7760.1]
["02RO","So",41531,60,31040.400000000001]
["02RO","Vso",41531,84,43456.560000000005]
["02RO","So",41531,1,517.34]
["02RO","Vso",41531,5,2586.7000000000003]
["02RO","Vso",41531,26,13450.84]
["02RQ","Sbo",72853,81,31428.809999999998]
["02RS","Sbo",83280,159,61693.59]
["02RT","Sbo",32580,149,57813.49]
["02RU","Sbo",37663,117,45397.17]
["02RV","So",41531,44,22762.960000000003]
["02RV","Vso",41531,86,44491.240000000005]
["02RV","Vso",41531,7,3621.38]
["02SG","Sbo",30240,204,79154.039999999994]
["02SJ","Vso",82292,391,202279.94]
["02SJ","So",82292,31,16037.54]
["02SJ","Vso",82292,46,23797.640000000003]
["02SK","So",74127,160,82774.400000000009]
["02SK","Vso",74127,77,39835.18]
["02SO","Sbo",41008,148,57425.479999999996]
["02SP","Vso",41373,46,23797.640000000003]
["02SP","So",41373,19,9829.4600000000009]
["02SW","So",82292,115,59494.100000000006]
["02SW","Vso",82292,70,36213.800000000003]
["02SZ","So",75778,91,47077.94]
["02SZ","Vso",75778,34,17589.560000000001]
["02TL","Sbo",41008,159,61693.59]
["02VX","So",72464,85,43973.9]
["02VX","Vso",72464,124,64150.16]
["02WC","Sbo",41787,74,28712.739999999998]
["02WR","Sbo",40851,196,76049.959999999992]
["02WU","Sbo",41671,206,79930.06]
["02WW","Sbo",41008,65,25220.649999999998]
["02WY","Sbo",86971,98,38024.979999999996]
["02WZ","Sbo",41782,125,48501.25]
["02XF","So",42665,112,57942.080000000002]
["02XF","Vso",42665,133,68806.22]
["02XG","Sbo",40947,112,43457.119999999995]
["02XM","Vso",20151,100,51734]
["02XM","Vso",20151,87,45008.58]
["02YE","Sbo",40934,152,58977.52]
["02YJ","So",41805,116,60011.44]
["02YJ","Vso",41805,30,15520.2]
["02YL","Vso",95863,17,8794.7800000000007]
["02YL","Vso",95863,6,3104.04]
["02YL","Vso",95863,20,10346.800000000001]
["02YL","Vso",95863,64,33109.760000000002]
["02YL","Vso",95863,35,18106.900000000001]
["02YM","Vso",41414,199,102950.66]
["02YN","So",96240,179,{"$f":"D386*IF(B386=$G$9,WerkdrukbedragPerLeerlingBo,IF(B386=$G$10,WerkdrukbedragPerLeerlingSbo,IF(B386=$G$11,WerkdrukbedragPerLeerlingSo,IF(B386=$G$12,WerkdrukbedragPerLeerlingVso,0))))","v":92603.86}]
["02YN","Vso",96240,144,74496.960000000006]
["02YN","Vso",96240,4,2069.36]
["02YN","Vso",96240,219,113297.46]
["02YN","Vso",96240,96,49664.639999999999]
["02YN","Vso",96240,176,91051.840000000011]
["02YP","So",41388,82,42421.880000000005]
["02YP","Vso",41388,154,79670.36]
["02YR","So",41414,102,52768.68]
["02YR","So",41414,58,30005.72]
["02YR","So",41414,61,31557.74]
["02YR","So",41414,26,13450.84]
["02YT","So",41388,128,66219.520000000004]
["02YT","Vso",41388,143,73979.62000000001]
["02YU","Vso",98229,78,40352.520000000004]
["02ZF","Bo",41638,92,23797.640000000003]
["02ZW","Bo",40945,220,56907.4]
["02ZX","So",20233,244,126230.96]
["02ZX","Vso",20233,234,121057.56000000001]
["02ZY","Bo",41646,210,54320.700000000004]
["03AE","So",40631,96,49664.639999999999]
["03AE","Vso",40631,19,9829.4600000000009]
["03AF","Sbo",74531,85,32980.85]
["03AG","Bo",26158,199,51475.33]
["03AH","Bo",41167,123,31816.410000000003]
["03AI","Bo",77456,78,20176.260000000002]
["03AN","Bo",41785,43,11122.810000000001]
["03AP","Bo",41662,132,34144.44]
["03AZ","Bo",41646,141,36472.47]
["03BA","Bo",41493,70,18106.900000000001]
["03BI","Sbo",30117,94,36472.94]
["03BR","Bo",83280,116,30005.72]
["03BS","Bo",41565,183,47336.61]
["03BT","Bo",41630,73,18882.91]
["03BU","Bo",41500,68,17589.560000000001]
["03BV","Bo",41662,164,42421.880000000005]
["03BX","Bo",41401,148,38283.160000000003]
["03BY","Bo",41340,292,75531.64]
["03CG","Sbo",41008,96,37248.959999999999]
["03CJ","Bo",77533,124,32075.08]
["03CL","Bo",41841,62,16037.54]
["03CO","Bo",41632,81,20952.27]
["03CT","Bo",42610,116,30005.72]
["03CV","Bo",41438,62,16037.54]
["03DF","Bo",13683,61,15778.87]
["03DG","Bo",13683,45,11640.150000000001]
["03DH","Bo",41398,198,51216.66]
["03DJ","Bo",42765,53,13709.51]
["03DK","Bo",41371,104,26901.68]
["03DV","Bo",41401,152,39317.840000000004]
["03DW","Bo",41613,89,23021.63]
["03DX","Bo",41775,408,105537.36]
["03EE","Bo",40803,166,42939.22]
["03EH","Bo",41345,48,12416.16]
["03EI","Bo",13683,55,14226.85]
["03EJ","Bo",41630,31,8018.77]
["03ES","Bo",28601,110,28453.7]
["03EU","Bo",41488,214,55355.380000000005]
["03EV","Bo",41662,235,60787.450000000004]
["03FH","Bo",41455,134,34661.78]
["03FJ","Bo",41401,243,62856.810000000005]
["03FS","Bo",41443,154,39835.18]
["03FT","Bo",41571,339,87689.13]
["03FU","Bo",41816,176,45525.920000000006]
["03GD","Bo",41534,168,{"$f":"D450*IF(B450=$G$9,WerkdrukbedragPerLeerlingBo,IF(B450=$G$10,WerkdrukbedragPerLeerlingSbo,IF(B450=$G$11,WerkdrukbedragPerLeerlingSo,IF(B450=$G$12,WerkdrukbedragPerLeerlingVso,0))))","v":43456.560000000005}]
["03GE","Bo",74531,322,83291.740000000005]
["03GJ","Bo",41582,74,19141.580000000002]
["03GL","Bo",48348,56,14485.52]
["03GP","Bo",40517,30,7760.1]
["03GR","Bo",40655,234,60528.780000000006]
["03GR","Bo",40655,45,11640.150000000001]
["03GT","Bo",42604,78,20176.260000000002]
["03GW","Bo",83280,88,22762.960000000003]
["03HA","Bo",41228,501,129593.67000000001]
["03HB","Bo",42724,187,48371.29]
["03HC","Bo",76715,71,18365.57]
["03HD","Bo",40967,137,35437.79]
["03HE","Bo",22765,262,67771.540000000008]
["03HF","Bo",41506,243,62856.810000000005]
["03HG","Bo",50819,102,26384.34]
["03HH","Bo",41646,140,36213.800000000003]
["03HI","Bo",41646,86,22245.620000000003]
["03HK","Bo",41624,210,54320.700000000004]
["03HL","Bo",23961,293,75790.31]
["03HM","Bo",41632,132,34144.44]
["03HO","Bo",42607,72,18624.240000000002]
["03HP","Bo",24195,204,52768.68]
["03HQ","Bo",41632,184,47595.280000000006]
["03HR","Bo",42607,189,48888.630000000005]
["03HS","Bo",42607,61,15778.87]
["03HT","Sbo",41580,209,81094.09]
["03HU","Bo",24481,628,162444.76]
["03HV","Bo",41646,212,54838.04]
["03HV","Bo",41646,181,46819.270000000004]
["03HW","So",41805,87,45008.58]
["03HW","Vso",41805,41,21210.940000000002]
["03HY","Bo",24715,430,111228.1]
["03HZ","Bo",41424,46,11898.820000000002]
["03IA","Bo",42724,140,36213.800000000003]
["03IB","Bo",42604,36,9312.1200000000008]
["03IC","Bo",27910,242,62598.140000000007]
["03IH","Bo",25664,326,84326.42]
["03IJ","So",40631,79,40869.86]
["03IJ","Vso",40631,242,125196.28000000001]
["03IK","Bo",25833,367,94931.89]
["03IV","Bo",75597,271,70099.570000000007]
["03IW","Bo",41582,237,61304.79]
["03IX","Bo",69447,95,24573.65]
["03IY","Bo",41373,491,127006.97]
["03IZ","Bo",37663,162,41904.54]
["03JB","Bo",26977,111,28712.370000000003]
["03JC","Bo",41407,330,85361.1]
["03JD","Bo",40945,212,54838.04]
["03JE","Bo",41528,132,34144.44]
["03JH","Bo",74049,575,148735.25]
["03JI","Bo",76806,143,36989.810000000005]
["03JL","Bo",41516,174,45008.58]
["03JP","Bo",31017,339,87689.13]
["03JQ","Bo",23961,142,36731.14]
["03JS","Bo",28212,285,73720.950000000012]
["03JW","Bo",42540,115,29747.050000000003]
["03JX","Bo",42669,153,39576.51]
["03KA","Bo",77533,156,40352.520000000004]
["03KF","Bo",28849,439,113556.13]
["03KI","Bo",31017,174,45008.58]
["03KJ","Bo",41018,155,40093.850000000006]
["03KM","Bo",40894,133,34403.11]
["03KP","Bo",41261,92,23797.640000000003]
["03KR","Bo",42607,101,{"$f":"D514*IF(B514=$G$9,WerkdrukbedragPerLeerlingBo,IF(B514=$G$10,WerkdrukbedragPerLeerlingSbo,IF(B514=$G$11,WerkdrukbedragPerLeerlingSo,IF(B514=$G$12,WerkdrukbedragPerLeerlingVso,0))))","v":26125.670000000002}]
["03KS","Bo",76806,180,46560.600000000006]
["03KT","Bo",41632,112,28971.040000000001]
["03KV","Bo",29473,301,77859.67]
["03KW","Bo",29577,362,93638.540000000008]
["03KX","Bo",79874,166,42939.22]
["03LA","Bo",41023,215,55614.05]
["03LC","Bo",41052,76,19658.920000000002]
["03LD","Bo",41692,287,74238.290000000008]
["03LE","Bo",41692,203,52510.01]
["03LK","Bo",50129,268,69323.56]
["03LN","Bo",31189,418,108124.06000000001]
["03LO","Sbo",41373,178,69065.78]
["03LQ","Bo",31077,582,150545.94]
["03LR","Bo",41571,73,18882.91]
["03LS","Bo",68836,258,66736.86]
["03LT","Bo",47100,287,74238.290000000008]
["03LX","Bo",32099,613,158564.71000000002]
["03LY","Bo",32203,777,200986.59000000003]
["03MA","Bo",48348,103,26643.010000000002]
["03MF","Bo",35297,268,69323.56]
["03MH","Bo",73712,85,21986.95]
["03MI","Bo",41794,216,55872.72]
["03MJ","Bo",41534,86,22245.620000000003]
["03MK","Bo",40971,418,108124.06000000001]
["03ML","Bo",36831,329,85102.430000000008]
["03MO","Bo",40517,122,31557.74]
["03MQ","Bo",37663,90,23280.300000000003]
["03MR","Bo",41407,455,117694.85]
["03MT","Bo",37299,119,30781.730000000003]
["03MW","Bo",40517,110,28453.7]
["03MX","Bo",41516,248,64150.16]
["03NB","Bo",24597,306,79153.02]
["03NC","Bo",41373,387,100105.29000000001]
["03ND","So",41388,68,35179.120000000003]
["03NE","Bo",31017,354,91569.180000000008]
["03NF","Bo",37663,192,49664.639999999999]
["03NH","Bo",37299,45,11640.150000000001]
["03NI","Bo",40775,402,103985.34000000001]
["03NJ","Bo",40775,218,56390.060000000005]
["03NN","Bo",32060,234,60528.780000000006]
["03NO","Bo",78066,115,29747.050000000003]
["03NP","Bo",68836,182,47077.94]
["03NR","Bo",40803,46,11898.820000000002]
["03NT","Bo",41447,331,85619.77]
["03NU","Bo",41018,233,60270.11]
["03NW","Bo",41407,667,172532.89]
["03NY","Bo",40974,139,35955.130000000005]
["03NZ","Bo",40765,93,24056.31]
["03OA","Bo",34139,47,12157.490000000002]
["03OB","Bo",41506,205,53027.350000000006]
["03OC","Bo",27910,121,31299.070000000003]
["03OJ","Bo",39275,501,129593.67000000001]
["03OK","Bo",41018,214,55355.380000000005]
["03OM","Bo",41692,262,67771.540000000008]
["03ON","Bo",45000,79,20434.93]
["03OP","Bo",41373,138,35696.46]
["03OR","Bo",41646,156,40352.520000000004]
["03OT","Bo",41018,311,80446.37000000001]
["03OU","Bo",39912,342,88465.14]
["03PB","So",42665,148,76566.320000000007]
["03PC","Bo",71008,220,56907.4]
["03PD","Bo",41692,335,86654.450000000012]
["03PE","Sbo",42635,125,48501.25]
["03PE","Sbo",42635,144,{"$f":"D578*IF(B578=$G$9,WerkdrukbedragPerLeerlingBo,IF(B578=$G$10,WerkdrukbedragPerLeerlingSbo,IF(B578=$G$11,WerkdrukbedragPerLeerlingSo,IF(B578=$G$12,WerkdrukbedragPerLeerlingVso,0))))","v":55873.440000000002}]
["03PF","Bo",41516,314,81222.38]
["03PH","Bo",40969,330,85361.1]
["03PJ","Bo",31384,126,32592.420000000002]
["03PK","Bo",40672,90,23280.300000000003]
["03PL","Bo",31017,71,18365.57]
["03PM","Bo",40848,225,58200.75]
["03PN","Bo",40803,47,12157.490000000002]
["03PP","Bo",40557,153,39576.51]
["03PQ","Bo",40928,274,70875.58]
["03PS","Bo",40586,225,58200.75]
["03PV","Bo",41692,190,49147.3]
["03PW","Bo",41228,125,32333.750000000004]
["03PX","Bo",41090,185,47853.950000000004]
["03PY","Bo",20281,486,125713.62000000001]
["03QA","Bo",41563,313,80963.710000000006]
["03QB","Bo",40803,76,19658.920000000002]
["03QC","Bo",40517,70,18106.900000000001]
["03QD","Bo",41373,243,62856.810000000005]
["03QF","Bo",47920,85,21986.95]
["03QI","Bo",47920,194,50181.98]
["03QJ","Bo",47920,152,39317.840000000004]
["03QK","Bo",23961,53,13709.51]
["03QL","Bo",26158,113,29229.710000000003]
["03QN","Bo",73712,154,39835.18]
["03QO","Bo",48348,151,39059.170000000006]
["03QP","Bo",40662,90,23280.300000000003]
["03QQ","Bo",77235,192,49664.639999999999]
["03QR","Bo",41530,438,113297.46]
["03QS","Bo",42330,245,63374.15]
["03QT","Bo",41782,123,31816.410000000003]
["03QW","Bo",40517,119,30781.730000000003]
["03QY","Bo",42564,439,113556.13]
["03QZ","Bo",41797,243,62856.810000000005]
["03RA","Bo",40662,109,28195.030000000002]
["03RC","Bo",68836,109,28195.030000000002]
["03RD","Bo",41632,98,25349.66]
["03RE","Bo",41632,125,32333.750000000004]
["03RG","Bo",41506,136,35179.120000000003]
["03RH","So",43058,58,30005.72]
["03RH","Vso",43058,99,51216.66]
["03RK","Bo",43188,170,43973.9]
["03RL","Bo",40814,295,76307.650000000009]
["03RM","Vso",40631,221,114332.14000000001]
["03RN","Bo",43305,228,58976.76]
["03RO","Bo",41011,135,34920.450000000004]
["03RO","Bo",41011,88,22762.960000000003]
["03RP","Bo",23961,64,16554.88]
["03RQ","Bo",43383,308,79670.36]
["03RS","Bo",41797,218,56390.060000000005]
["03RT","Bo",41090,81,20952.27]
["03RV","Bo",44397,104,26901.68]
["03RW","Bo",40814,56,14485.52]
["03RX","Bo",45000,219,56648.73]
["03RY","Bo",45000,187,48371.29]
["03RZ","Bo",41551,241,62339.47]
["03SB","Bo",43825,167,43197.89]
["03SC","Bo",75219,71,18365.57]
["03SE","Bo",40803,122,31557.74]
["03SG","Bo",40803,29,7501.43]
["03SH","Bo",31384,69,17848.23]
["03SJ","Bo",40676,231,59752.770000000004]
["03SK","Bo",40557,180,46560.600000000006]
["03SL","Bo",45000,105,27160.350000000002]
["03SM","Bo",41000,128,{"$f":"D642*IF(B642=$G$9,WerkdrukbedragPerLeerlingBo,IF(B642=$G$10,WerkdrukbedragPerLeerlingSbo,IF(B642=$G$11,WerkdrukbedragPerLeerlingSo,IF(B642=$G$12,WerkdrukbedragPerLeerlingVso,0))))","v":33109.760000000002}]
["03SN","Bo",69447,203,52510.01]
["03SO","Bo",75597,140,36213.800000000003]
["03SP","Sbo",75597,87,33756.870000000003]
["03SR","Bo",41692,217,56131.390000000007]
["03ST","Bo",32631,251,64926.170000000006]
["03SV","Bo",41516,206,53286.020000000004]
["03SW","Bo",41020,173,44749.91]
["03SY","Bo",70002,179,46301.93]
["03TA","Bo",50844,101,26125.670000000002]
["03TB","Bo",71488,271,70099.570000000007]
["03TC","Bo",75388,214,55355.380000000005]
["03TD","Bo",46152,230,59494.100000000006]
["03TF","Bo",41840,714,184690.38]
["03TG","Bo",50844,162,41904.54]
["03TH","Bo",41340,107,27677.690000000002]
["03TJ","Bo",41646,206,53286.020000000004]
["03TL","Bo",41251,243,62856.810000000005]
["03TM","Bo",73919,239,61822.130000000005]
["03TN","Bo",41324,287,74238.290000000008]
["03TO","Bo",40775,129,33368.43]
["03TP","Bo",70002,173,44749.91]
["03TQ","Bo",41447,462,119505.54000000001]
["03TR","Bo",50844,304,78635.680000000008]
["03TS","Bo",79874,111,28712.370000000003]
["03TT","Bo",41023,210,54320.700000000004]
["03TU","Sbo",62077,138,53545.38]
["03TV","Vso",41008,311,160892.74000000002]
["03TV","Vso",41008,93,48112.62]
["03TV","Vso",41008,54,27936.36]
["03TV","Vso",41008,21,10864.140000000001]
["03TV","Vso",41008,73,37765.82]
["03TW","Bo",77533,166,42939.22]
["03TX","Bo",40888,51,13192.17]
["03TY","Bo",83280,164,42421.880000000005]
["03TZ","Bo",71956,140,36213.800000000003]
["03UA","Bo",41340,92,23797.640000000003]
["03UB","Bo",70002,341,88206.47]
["03UC","Bo",40712,151,39059.170000000006]
["03UE","Bo",43318,37,9570.7900000000009]
["03UG","Bo",40974,303,78377.010000000009]
["03UJ","Bo",68836,266,68806.22]
["03UL","Bo",30240,223,57683.41]
["03UM","Bo",74154,83,21469.61]
["03UN","Bo",46724,86,22245.620000000003]
["03UO","Sbo",41528,97,37636.97]
["03UQ","Bo",41223,134,34661.78]
["03UR","Bo",41223,230,59494.100000000006]
["03US","Bo",41020,178,46043.26]
["03UU","Bo",40278,123,31816.410000000003]
["03UW","Bo",47920,114,29488.38]
["03UY","Bo",47920,174,45008.58]
["03UZ","Bo",47920,177,45784.590000000004]
["03VA","Bo",47920,152,39317.840000000004]
["03VB","Bo",47920,327,84585.090000000011]
["03VC","Bo",41516,168,43456.560000000005]
["03VD","Bo",47959,152,39317.840000000004]
["03VE","Bo",47959,156,40352.520000000004]
["03VG","Bo",41223,190,49147.3]
["03VH","Bo",75597,157,40611.19]
["03VI","Bo",73712,118,30523.06]
["03VK","Bo",44397,342,88465.14]
["03VL","Bo",41000,71,18365.57]
["03VP","Bo",41645,338,87430.46]
["03VQ","Bo",40812,169,{"$f":"D706*IF(B706=$G$9,WerkdrukbedragPerLeerlingBo,IF(B706=$G$10,WerkdrukbedragPerLeerlingSbo,IF(B706=$G$11,WerkdrukbedragPerLeerlingSo,IF(B706=$G$12,WerkdrukbedragPerLeerlingVso,0))))","v":43715.23}]
["03VR","Bo",41090,388,100363.96]
["03VS","Bo",40775,199,51475.33]
["03VT","Bo",41340,160,41387.200000000004]
["03VV","Bo",55238,53,13709.51]
["03VW","Bo",47959,225,58200.75]
["03VX","Bo",43967,152,39317.840000000004]
["03VZ","Bo",47959,69,17848.23]
["03WD","Bo",83280,257,66478.19]
["03WE","Bo",41506,351,90793.170000000013]
["03WF","Bo",40278,119,30781.730000000003]
["03WG","Bo",40517,84,21728.280000000002]
["03WH","Bo",40676,236,61046.12]
["03WI","Bo",40894,94,24314.980000000003]
["03WK","Bo",41782,155,40093.850000000006]
["03WL","Bo",40974,220,56907.4]
["03WM","Bo",44201,161,41645.870000000003]
["03WN","Bo",41845,69,17848.23]
["03WT","Bo",40971,128,33109.760000000002]
["03WU","Bo",32073,75,19400.25]
["03WV","Bo",40959,98,25349.66]
["03WX","Bo",44201,454,117436.18000000001]
["03WY","Bo",49844,184,47595.280000000006]
["03XA","Bo",75219,284,73462.28]
["03XB","Bo",41530,318,82257.060000000012]
["03XC","Bo",41282,104,26901.68]
["03XE","Bo",30133,116,30005.72]
["03XH","Bo",25351,102,26384.34]
["03XI","Bo",50104,299,77342.33]
["03XJ","Bo",41018,206,53286.020000000004]
["03XK","So",50143,9,4656.0600000000004]
["03XK","Vso",50143,74,38283.160000000003]
["03XK","Vso",50143,114,58976.76]
["03XN","Bo",23961,212,54838.04]
["03XO","Bo",75597,323,83550.41]
["03XP","Bo",40517,122,31557.74]
["03XQ","Bo",41020,117,30264.390000000003]
["03XT","Bo",23961,51,13192.17]
["03XV","Bo",41645,294,76048.98000000001]
["03XW","Bo",41645,280,72427.600000000006]
["03XX","Bo",71749,253,65443.51]
["03XY","Bo",40712,158,40869.86]
["03XZ","Bo",50949,451,116660.17000000001]
["03YB","Bo",40941,82,21210.940000000002]
["03YC","Bo",37663,121,31299.070000000003]
["03YG","Bo",77235,130,33627.1]
["03YH","Bo",77533,90,23280.300000000003]
["03YI","Bo",41692,105,27160.350000000002]
["03YJ","Bo",53406,226,58459.420000000006]
["03YL","Bo",31384,239,61822.130000000005]
["03YM","Bo",70002,190,49147.3]
["03YN","Bo",40894,270,69840.900000000009]
["03YO","Bo",77975,97,25090.99]
["03YP","Bo",50819,41,10605.470000000001]
["03YS","Bo",68329,212,54838.04]
["03YW","Bo",47920,157,40611.19]
["03YY","Bo",30133,55,14226.85]
["03YZ","Bo",59516,94,24314.980000000003]
["03ZB","Bo",59750,144,37248.480000000003]
["03ZD","Bo",40945,129,33368.43]
["03ZE","Bo",59919,259,66995.53]
["03ZF","Bo",41646,116,30005.72]
["03ZH","Bo",60322,69,17848.23]
["03ZJ","Bo",60790,111,28712.370000000003]
["03ZN","Sbo",85600,64,{"$f":"D770*IF(B770=$G$9,WerkdrukbedragPerLeerlingBo,IF(B770=$G$10,WerkdrukbedragPerLeerlingSbo,IF(B770=$G$11,WerkdrukbedragPerLeerlingSo,IF(B770=$G$12,WerkdrukbedragPerLeerlingVso,0))))","v":24832.639999999999}]
["03ZV","Bo",42607,46,11898.820000000002]
["04AA","Bo",62818,238,61563.460000000006]
["04AD","So",62077,98,50699.32]
["04AD","So",62077,105,54320.700000000004]
["04AD","So",62077,20,10346.800000000001]
["04AJ","Bo",70033,101,26125.670000000002]
["04AK","So",41879,164,84843.760000000009]
["04AK","So",41879,111,57424.740000000005]
["04AM","Bo",70358,115,29747.050000000003]
["04AN","Vso",40631,120,62080.800000000003]
["04AW","Bo",41385,68,17589.560000000001]
["04AZ","Bo",41246,83,21469.61]
["04BD","Bo",55238,229,59235.43]
["04BF","So",62662,216,111745.44]
["04BK","Bo",72087,437,113038.79000000001]
["04BT","Bo",41246,160,41387.200000000004]
["04BX","Sbo",73114,190,73721.899999999994]
["04CN","Bo",41825,237,61304.79]
["04CT","Bo",40945,136,35179.120000000003]
["04CV","Sbo",76806,122,47337.22]
["04DA","Sbo",77651,234,90794.34]
["04DE","Bo",42607,119,30781.730000000003]
["04DE","Bo",42607,155,40093.850000000006]
["04DG","Bo",41419,80,20693.600000000002]
["04DR","Sbo",77975,132,51217.32]
["04DT","Bo",40945,132,34144.44]
["04DY","Sbo",30582,172,66737.72]
["04DZ","Bo",42723,392,101398.64]
["04EC","Bo",41246,223,57683.41]
["04ED","Bo",42744,89,23021.63]
["04EF","So",40530,93,48112.62]
["04EF","Vso",40530,83,42939.22]
["04EJ","So",83189,72,37248.480000000003]
["04EJ","So",83189,154,79670.36]
["04EJ","So",83189,46,23797.640000000003]
["04EN","Bo",41324,233,60270.11]
["04EP","So",83280,87,45008.58]
["04EP","Vso",83280,107,55355.380000000005]
["04EP","So",83280,75,38800.5]
["04EV","Bo",75219,116,30005.72]
["04EW","Sbo",84151,114,44233.14]
["04EY","Vso",40876,42,21728.280000000002]
["04EY","Vso",40876,80,41387.200000000004]
["04EY","So",40876,112,57942.080000000002]
["04EY","Vso",40876,149,77083.66]
["04EY","Vso",40876,27,13968.18]
["04EY","Vso",40876,47,24314.980000000003]
["04EY","So",40876,61,31557.74]
["04EY","So",40876,18,9312.1200000000008]
["04EY","Vso",40876,26,13450.84]
["04EY","Vso",40876,32,16554.88]
["04EY","Vso",40876,17,8794.7800000000007]
["04FB","Bo",84411,273,70616.91]
["04FC","Sbo",84463,64,24832.639999999999]
["04FD","Bo",84567,350,90534.5]
["04FE","Bo",23961,125,32333.750000000004]
["04FF","Bo",84827,282,72944.94]
["04FH","Bo",40888,53,13709.51]
["04FI","Bo",74531,179,46301.93]
["04FJ","Bo",78222,327,84585.090000000011]
["04FL","Sbo",42687,114,44233.14]
["04FM","Bo",85048,219,56648.73]
["04FP","Sbo",41202,47,18236.47]
["04FQ","Bo",48348,77,{"$f":"D834*IF(B834=$G$9,WerkdrukbedragPerLeerlingBo,IF(B834=$G$10,WerkdrukbedragPerLeerlingSbo,IF(B834=$G$11,WerkdrukbedragPerLeerlingSo,IF(B834=$G$12,WerkdrukbedragPerLeerlingVso,0))))","v":19917.59}]
["04FT","Bo",77456,88,22762.960000000003]
["04FV","Bo",31384,48,12416.16]
["04FX","Bo",41246,206,53286.020000000004]
["04GB","Bo",41191,157,40611.19]
["04GD","Bo",41856,69,17848.23]
["04GF","Bo",41435,50,12933.5]
["04GH","Bo",41488,505,130628.35]
["04GJ","So",42635,136,70358.240000000005]
["04GJ","Vso",42635,159,82257.060000000012]
["04GK","Bo",42610,127,32851.090000000004]
["04GX","Bo",40969,278,71910.260000000009]
["04HB","Bo",41842,78,20176.260000000002]
["04HC","Bo",41471,57,14744.19]
["04HM","Bo",41376,256,66219.520000000004]
["04HO","Bo",41558,80,20693.600000000002]
["04HS","Bo",42567,147,38024.490000000005]
["04HT","Bo",41638,84,21728.280000000002]
["04HU","Bo",41856,129,33368.43]
["04HW","Bo",41629,181,46819.270000000004]
["04HX","Bo",41617,222,57424.740000000005]
["04HY","Bo",41455,377,97518.590000000011]
["04HZ","Bo",41471,115,29747.050000000003]
["04IA","Bo",41434,83,21469.61]
["04IB","Bo",41871,147,38024.490000000005]
["04IM","Bo",32099,717,185466.39]
["04IM","Bo",32099,53,13709.51]
["04IP","Bo",41373,453,117177.51000000001]
["04IQ","Bo",40967,136,35179.120000000003]
["04IR","Bo",40788,40,10346.800000000001]
["04IT","Bo",40788,68,17589.560000000001]
["04IU","Bo",20970,323,83550.41]
["04IY","Bo",42656,64,16554.88]
["04JA","Bo",21464,260,67254.2]
["04JF","Bo",41239,177,45784.590000000004]
["04JI","Bo",42636,52,13450.84]
["04JJ","Bo",40794,34,8794.7800000000007]
["04JO","Bo",41845,153,39576.51]
["04JR","Bo",30582,218,56390.060000000005]
["04JS","Bo",23440,237,61304.79]
["04JU","Bo",41005,123,31816.410000000003]
["04JV","Bo",40557,440,113814.8]
["04JW","Bo",41005,84,21728.280000000002]
["04JX","Bo",40788,57,14744.19]
["04KC","Bo",80433,245,63374.15]
["04KD","Bo",25156,326,84326.42]
["04KI","Bo",40945,356,92086.52]
["04KI","Bo",40945,123,31816.410000000003]
["04KJ","Bo",42656,110,28453.7]
["04KM","Bo",41373,104,26901.68]
["04KN","Bo",42545,96,24832.32]
["04KU","Bo",40928,522,135025.74000000002]
["04KY","Bo",40788,70,18106.900000000001]
["04KZ","Bo",42656,71,18365.57]
["04LA","Bo",81316,151,39059.170000000006]
["04LB","Bo",41460,50,12933.5]
["04LD","Bo",41884,465,120281.55]
["04LG","Bo",42658,91,23538.97]
["04LI","Bo",41827,335,86654.450000000012]
["04LJ","Bo",42788,119,30781.730000000003]
["04LK","Bo",41001,49,12674.83]
["04LL","Bo",41551,176,45525.920000000006]
["04LM","Bo",32580,96,24832.32]
["04LN","Bo",20671,206,53286.020000000004]
["04LO","Bo",41532,158,{"$f":"D898*IF(B898=$G$9,WerkdrukbedragPerLeerlingBo,IF(B898=$G$10,WerkdrukbedragPerLeerlingSbo,IF(B898=$G$11,WerkdrukbedragPerLeerlingSo,IF(B898=$G$12,WerkdrukbedragPerLeerlingVso,0))))","v":40869.86}]
["04LP","Bo",83228,310,80187.700000000012]
["04LR","Bo",30330,74,19141.580000000002]
["04LV","Bo",41624,114,29488.38]
["04LX","Bo",30824,270,69840.900000000009]
["04LY","Bo",32073,162,41904.54]
["04MA","Bo",30967,63,16296.210000000001]
["04MB","Bo",31032,144,37248.480000000003]
["04MD","Bo",42632,453,117177.51000000001]
["04MF","Bo",31162,215,55614.05]
["04MG","Bo",31227,248,64150.16]
["04MJ","Bo",41534,235,60787.450000000004]
["04MK","Bo",79874,125,32333.750000000004]
["04ML","Bo",41645,385,99587.950000000012]
["04MN","Bo",31552,213,55096.710000000006]
["04MS","Bo",41419,145,37507.15]
["04MU","Bo",45969,56,14485.52]
["04MV","Bo",41439,161,41645.870000000003]
["04MY","Bo",32202,280,72427.600000000006]
["04MZ","Bo",80433,303,78377.010000000009]
["04NA","Bo",41385,41,10605.470000000001]
["04NB","Bo",41532,293,75790.31]
["04NC","Bo",40706,191,49405.97]
["04ND","Bo",78782,292,75531.64]
["04NH","Bo",41296,234,60528.780000000006]
["04NI","Bo",42604,20,5173.4000000000005]
["04NN","Bo",62662,216,55872.72]
["04NO","Bo",33034,194,50181.98]
["04NP","Bo",33151,232,60011.44]
["04NR","Bo",33424,59,15261.53]
["04NS","Bo",41324,288,74496.960000000006]
["04NT","Bo",41194,150,38800.5]
["04NU","Bo",23128,157,40611.19]
["04NV","Bo",41736,118,30523.06]
["04NW","Bo",33957,117,30264.390000000003]
["04OA","Bo",40517,170,43973.9]
["04OB","Bo",41621,79,20434.93]
["04OC","Bo",41396,136,35179.120000000003]
["04OE","Bo",45000,167,43197.89]
["04OF","Bo",85600,125,32333.750000000004]
["04OH","Bo",85255,195,50440.65]
["04OL","Bo",34893,211,54579.37]
["04OM","Bo",34919,409,105796.03000000001]
["04ON","Bo",34932,315,81481.05]
["04ON","Bo",34932,354,91569.180000000008]
["04OR","Bo",42632,348,90017.16]
["04OS","Bo",35218,220,56907.4]
["04OT","Bo",41582,81,20952.27]
["04OV","Bo",40950,136,35179.120000000003]
["04OW","Bo",79874,26,6725.42]
["04PA","Bo",40508,149,38541.83]
["04PC","Sbo",41194,113,43845.13]
["04PE","Bo",41286,109,28195.030000000002]
["04PF","Bo",36063,85,21986.95]
["04PH","Bo",41460,153,39576.51]
["04PI","Bo",36349,283,73203.61]
["04PJ","Bo",41532,104,26901.68]
["04PK","Bo",36479,387,100105.29000000001]
["04PL","Bo",41241,155,40093.850000000006]
["04PN","Bo",36739,237,61304.79]
["04PO","Bo",61751,52,13450.84]
["04PP","Bo",69877,180,46560.600000000006]
["04PQ","Bo",36778,94,24314.980000000003]
["04PR","Bo",36817,194,50181.98]
["04PS","Bo",85600,35,{"$f":"D962*IF(B962=$G$9,WerkdrukbedragPerLeerlingBo,IF(B962=$G$10,WerkdrukbedragPerLeerlingSbo,IF(B962=$G$11,WerkdrukbedragPerLeerlingSo,IF(B962=$G$12,WerkdrukbedragPerLeerlingVso,0))))","v":9053.4500000000007}]
["04PT","Bo",45000,22,5690.7400000000007]
["04PV","Bo",37038,180,46560.600000000006]
["04PW","Bo",42632,70,18106.900000000001]
["04PX","Bo",41424,315,81481.05]
["04PY","Bo",69877,90,23280.300000000003]
["04PZ","Bo",42658,71,18365.57]
["04QC","Bo",37545,472,122092.24]
["04QD","Bo",37571,279,72168.930000000008]
["04QE","Bo",40946,218,56390.060000000005]
["04QG","Bo",32631,395,102174.65000000001]
["04QH","Bo",40714,418,108124.06000000001]
["04QI","Bo",37857,305,78894.350000000006]
["04QL","Bo",41532,128,33109.760000000002]
["04QM","Bo",59555,256,66219.520000000004]
["04QN","Bo",92899,58,15002.86]
["04QP","Bo",38169,429,110969.43000000001]
["04QQ","Bo",41439,82,21210.940000000002]
["04QR","Bo",38351,173,44749.91]
["04QT","Bo",77338,371,95966.57]
["04QU","Bo",41270,92,23797.640000000003]
["04QV","Bo",42760,556,143820.52000000002]
["04QY","Bo",41645,154,39835.18]
["04RA","Bo",41632,245,63374.15]
["04RC","Bo",39001,113,29229.710000000003]
["04RF","Bo",41439,172,44491.240000000005]
["04RH","Bo",30582,344,88982.48000000001]
["04RI","Bo",39352,274,70875.58]
["04RJ","Bo",41787,178,46043.26]
["04RK","Bo",41282,229,59235.43]
["04RL","Bo",41827,272,70358.240000000005]
["04RM","Bo",39534,178,46043.26]
["04RP","Bo",44201,264,68288.88]
["04RQ","Bo",41194,210,54320.700000000004]
["04RS","Bo",41001,254,65702.180000000008]
["04RT","Bo",39859,240,62080.800000000003]
["04RU","Bo",40974,181,46819.270000000004]
["04RV","Bo",41194,264,68288.88]
["04RX","Bo",42632,78,20176.260000000002]
["04SB","Bo",32580,193,49923.310000000005]
["04SC","Bo",40340,218,56390.060000000005]
["04SG","Bo",40535,168,43456.560000000005]
["04SJ","Bo",41516,364,94155.88]
["04SK","Bo",45000,102,26384.34]
["04SL","Bo",40843,192,49664.639999999999]
["04SN","Bo",38001,45,11640.150000000001]
["04SO","Bo",40964,224,57942.080000000002]
["04SP","Bo",41645,42,10864.140000000001]
["04SR","Bo",41081,409,105796.03000000001]
["04ST","Bo",27770,133,34403.11]
["04SV","Bo",71008,272,70358.240000000005]
["04SW","Bo",31237,209,54062.030000000006]
["04SX","Bo",42754,72,18624.240000000002]
["04SY","Bo",40517,370,95707.900000000009]
["04TA","Bo",41588,99,25608.33]
["04TB","Bo",42604,48,12416.16]
["04TC","Bo",32631,53,13709.51]
["04TD","Bo",57266,431,111486.77]
["04TE","Bo",83280,136,35179.120000000003]
["04TF","Bo",40278,158,40869.86]
["04TG","Bo",32073,37,9570.7900000000009]
["04TH","Bo",40848,221,57166.070000000007]
["04TK","Bo",41239,266,68806.22]
["04TL","Bo",42540,41,10605.470000000001]
["04TL","Bo",42540,1,{"$f":"D1026*IF(B1026=$G$9,WerkdrukbedragPerLeerlingBo,IF(B1026=$G$10,WerkdrukbedragPerLeerlingSbo,IF(B1026=$G$11,WerkdrukbedragPerLeerlingSo,IF(B1026=$G$12,WerkdrukbedragPerLeerlingVso,0))))","v":258.67}]
["04TM","Bo",73919,100,25867]
["04TN","Bo",41337,99,25608.33]
["04TP","Sbo",41516,95,36860.949999999997]
["04TT","Bo",40774,381,98553.27]
["04TU","Bo",42616,264,68288.88]
["04TV","Bo",41270,40,10346.800000000001]
["04TW","Bo",41794,234,60528.780000000006]
["04TX","Bo",41396,36,9312.1200000000008]
["04UA","Bo",40794,59,15261.53]
["04UB","Bo",43824,299,77342.33]
["04UC","Bo",55238,246,63632.820000000007]
["04UD","Bo",71956,184,47595.280000000006]
["04UF","Bo",43967,224,57942.080000000002]
["04UG","Bo",40508,252,65184.840000000004]
["04UH","Bo",45969,121,31299.070000000003]
["04UI","Bo",44071,186,48112.62]
["04UK","Bo",44175,405,104761.35]
["04UL","Bo",44318,215,55614.05]
["04UN","Bo",40974,261,67512.87000000001]
["04UO","Bo",44201,102,26384.34]
["04UQ","Bo",40959,47,12157.490000000002]
["04UR","Bo",92951,58,15002.86]
["04US","Bo",85600,95,24573.65]
["04UT","Bo",47595,240,62080.800000000003]
["04UU","Bo",41439,92,23797.640000000003]
["04UV","Bo",76806,113,29229.710000000003]
["04UW","Bo",78782,278,71910.260000000009]
["04UZ","Bo",40947,330,85361.1]
["04VA","Bo",45189,214,55355.380000000005]
["04VC","Sbo",74049,72,27936.720000000001]
["04VD","Bo",43928,517,133732.39000000001]
["04VF","Bo",41595,196,50699.32]
["04VG","Bo",41282,155,40093.850000000006]
["04VH","Bo",73919,33,8536.11]
["04VI","Bo",41340,47,12157.490000000002]
["04VJ","Bo",37663,110,28453.7]
["04VK","Bo",41196,146,37765.82]
["04VL","Bo",45774,120,31040.400000000001]
["04VM","Bo",40803,192,49664.639999999999]
["04VN","Bo",45969,171,44232.57]
["04VO","Bo",41018,148,38283.160000000003]
["04VQ","Bo",41424,63,16296.210000000001]
["04VR","Bo",40969,190,49147.3]
["04VS","Bo",41018,54,13968.18]
["04VT","Bo",48348,145,37507.15]
["04VV","Bo",41239,53,13709.51]
["04VW","Bo",41787,182,47077.94]
["04VX","Bo",40848,163,42163.21]
["04VY","Bo",32177,148,38283.160000000003]
["04WC","Bo",41011,79,20434.93]
["04WD","Bo",41551,51,13192.17]
["04WG","Bo",41184,231,59752.770000000004]
["04WJ","Bo",32060,260,67254.2]
["04WL","Bo",47659,200,51734]
["04WM","Bo",47685,155,40093.850000000006]
["04WO","Bo",27910,184,47595.280000000006]
["04WQ","Bo",42724,74,19141.580000000002]
["04WR","Bo",41787,91,23538.97]
["04WS","Bo",40804,88,22762.960000000003]
["04WT","Bo",41978,231,59752.770000000004]
["04WU","Bo",71488,510,131921.70000000001]
["04WV","Bo",40974,348,90017.16]
["04WW","Bo",42607,134,34661.78]
["04WX","Bo",41011,260,{"$f":"D1090*IF(B1090=$G$9,WerkdrukbedragPerLeerlingBo,IF(B1090=$G$10,WerkdrukbedragPerLeerlingSbo,IF(B1090=$G$11,WerkdrukbedragPerLeerlingSo,IF(B1090=$G$12,WerkdrukbedragPerLeerlingVso,0))))","v":67254.2}]
["04XA","Bo",48933,213,55096.710000000006]
["04XB","Bo",41551,86,22245.620000000003]
["04XC","Bo",41090,262,67771.540000000008]
["04XD","Bo",40848,244,63115.48]
["04XH","Bo",40765,226,58459.420000000006]
["04XL","Bo",83280,487,125972.29000000001]
["04XS","Bo",50129,61,15778.87]
["04XT","Bo",41532,239,61822.130000000005]
["04XW","Bo",50129,131,33885.770000000004]
["04XX","Bo",40706,141,36472.47]
["04XZ","Bo",40706,82,21210.940000000002]
["04YG","Bo",50129,67,17330.89]
["04YJ","Bo",71956,346,89499.82]
["04YK","Vso",41008,51,26384.34]
["04YK","Vso",41008,79,40869.86]
["04YK","Vso",41008,70,36213.800000000003]
["04YK","Vso",41008,78,40352.520000000004]
["04YQ","Bo",53197,466,120540.22]
["04YR","Bo",53210,376,97259.920000000013]
["04YT","Bo",53262,284,73462.28]
["04YU","Bo",75375,249,64408.83]
["04YY","Bo",53730,447,115625.49]
["04YZ","Bo",40676,696,180034.32]
["04ZB","Bo",40662,97,25090.99]
["04ZF","Bo",40517,174,45008.58]
["04ZG","Bo",42148,158,40869.86]
["04ZI","Bo",41506,118,30523.06]
["04ZM","Bo",40676,380,98294.6]
["04ZO","Bo",40888,242,62598.140000000007]
["04ZS","Bo",41148,117,30264.390000000003]
["04ZT","Bo",20281,197,50957.990000000005]
["04ZV","Bo",42669,188,48629.960000000006]
["04ZW","Bo",40706,237,61304.79]
["04ZX","Bo",40662,123,31816.410000000003]
["05AF","Bo",41782,133,34403.11]
["05AI","Bo",41000,67,17330.89]
["05AO","Bo",40712,157,40611.19]
["05AT","Bo",40903,134,34661.78]
["05AU","Bo",41570,368,95190.560000000012]
["05AY","Bo",41239,41,10605.470000000001]
["05BB","Bo",42669,183,47336.61]
["05BC","Bo",85255,214,55355.380000000005]
["05BE","Bo",41023,169,43715.23]
["05BF","Bo",42683,54,13968.18]
["05BG","Bo",40765,155,40093.850000000006]
["05BH","Bo",73919,352,91051.840000000011]
["05BI","Bo",73919,191,49405.97]
["05BJ","Bo",41000,346,89499.82]
["05BK","Bo",70002,176,45525.920000000006]
["05BL","Bo",40765,153,39576.51]
["05BM","Bo",41364,150,38800.5]
["05BN","Bo",47959,120,31040.400000000001]
["05BO","Bo",60061,345,89241.150000000009]
["05BQ","Bo",40848,316,81739.72]
["05BR","Bo",50844,189,48888.630000000005]
["05BS","Bo",41000,43,11122.810000000001]
["05BT","Bo",41692,308,79670.36]
["05BU","Bo",77235,103,26643.010000000002]
["05BX","Bo",44201,70,18106.900000000001]
["05BY","Bo",41645,241,62339.47]
["05CB","Bo",40775,129,33368.43]
["05CC","Bo",23961,58,15002.86]
["05CD","Bo",40967,214,55355.380000000005]
["05CH","Bo",61829,461,{"$f":"D1154*IF(B1154=$G$9,WerkdrukbedragPerLeerlingBo,IF(B1154=$G$10,WerkdrukbedragPerLeerlingSbo,IF(B1154=$G$11,WerkdrukbedragPerLeerlingSo,IF(B1154=$G$12,WerkdrukbedragPerLeerlingVso,0))))","v":119246.87000000001}]
["05CJ","Bo",45000,33,8536.11]
["05CN","Bo",41228,236,61046.12]
["05CO","Bo",41228,70,18106.900000000001]
["05CP","Bo",42616,212,54838.04]
["05CS","Bo",75375,308,79670.36]
["05CT","Bo",41692,290,75014.3]
["05CX","Bo",75375,233,60270.11]
["05CZ","Bo",40662,98,25349.66]
["05DA","Bo",40967,120,31040.400000000001]
["05DB","Bo",45000,100,25867]
["05DC","Bo",40814,182,47077.94]
["05DD","Bo",31384,127,32851.090000000004]
["05DF","Bo",41692,178,46043.26]
["05DG","Bo",24597,644,166583.48000000001]
["05DH","Bo",73919,238,61563.460000000006]
["05DJ","Bo",41223,111,28712.370000000003]
["05DK","Bo",50844,183,47336.61]
["05DM","Bo",41447,140,36213.800000000003]
["05DN","Bo",50949,114,29488.38]
["05DO","Bo",40814,126,32592.420000000002]
["05DP","Bo",40814,167,43197.89]
["05DQ","Bo",45000,105,27160.350000000002]
["05DT","Bo",40257,284,73462.28]
["05DU","Bo",40257,335,86654.450000000012]
["05DV","Bo",41018,94,24314.980000000003]
["05DW","Bo",44397,239,61822.130000000005]
["05DX","Bo",77338,178,46043.26]
["05ED","Bo",78222,181,46819.270000000004]
["05EF","Bo",42616,392,101398.64]
["05EG","Bo",42616,160,41387.200000000004]
["05EH","Bo",31384,89,23021.63]
["05EJ","Bo",47920,142,36731.14]
["05EN","Bo",71008,246,63632.820000000007]
["05EO","Bo",68329,233,60270.11]
["05EP","Bo",75219,151,39059.170000000006]
["05ER","Bo",50819,168,43456.560000000005]
["05ES","Bo",50819,75,19400.25]
["05EV","Bo",42755,130,33627.1]
["05EY","Bo",41000,80,20693.600000000002]
["05EZ","Bo",42669,180,46560.600000000006]
["05FA","Bo",40888,80,20693.600000000002]
["05FG","Bo",31384,115,29747.050000000003]
["05FH","Bo",77533,125,32333.750000000004]
["05FK","Bo",40257,480,124161.60000000001]
["05FM","Bo",73919,192,49664.639999999999]
["05FP","Bo",40020,278,71910.260000000009]
["05FR","Bo",41023,226,58459.420000000006]
["05FS","Bo",27770,521,134767.07]
["05FU","Bo",83280,287,74238.290000000008]
["05FV","Bo",41148,157,40611.19]
["05FX","Bo",37663,205,53027.350000000006]
["05FZ","Bo",26977,173,44749.91]
["05GC","Bo",47920,104,26901.68]
["05GE","Bo",31384,70,18106.900000000001]
["05GF","Bo",43318,357,92345.19]
["05GH","Bo",43318,118,30523.06]
["05GJ","Bo",53444,239,61822.130000000005]
["05GK","Bo",48348,541,139940.47]
["05GL","Bo",50129,134,34661.78]
["05GM","Bo",40672,152,39317.840000000004]
["05GP","Bo",40672,263,68030.210000000006]
["05GQ","Bo",78222,136,35179.120000000003]
["05GR","Bo",31237,233,60270.11]
["05GT","Sbo",40557,164,{"$f":"D1218*IF(B1218=$G$9,WerkdrukbedragPerLeerlingBo,IF(B1218=$G$10,WerkdrukbedragPerLeerlingSbo,IF(B1218=$G$11,WerkdrukbedragPerLeerlingSo,IF(B1218=$G$12,WerkdrukbedragPerLeerlingVso,0))))","v":63633.64}]
["05GU","Bo",40557,204,52768.68]
["05GY","Bo",77533,375,97001.25]
["05HA","Bo",46385,402,103985.34000000001]
["05HC","Bo",20281,235,60787.450000000004]
["05HD","Bo",40928,376,97259.920000000013]
["05HF","Bo",40888,109,28195.030000000002]
["05HH","Bo",40712,188,48629.960000000006]
["05HJ","So",73906,155,80187.700000000012]
["05HJ","Vso",73906,504,260739.36000000002]
["05HL","Bo",40894,240,62080.800000000003]
["05HO","Bo",40814,110,28453.7]
["05HS","So",41312,41,21210.940000000002]
["05HS","Vso",41312,77,39835.18]
["05HU","Bo",40662,210,54320.700000000004]
["05HV","Bo",41516,275,71134.25]
["05HW","Bo",46724,112,28971.040000000001]
["05HZ","Bo",71749,62,16037.54]
["05IA","Bo",37663,248,64150.16]
["05IB","Bo",41023,230,59494.100000000006]
["05ID","Bo",40967,195,50440.65]
["05IE","Bo",47100,274,70875.58]
["05IF","Bo",75375,332,85878.44]
["05IH","Bo",75206,413,106830.71]
["05IJ","Bo",41782,51,13192.17]
["05IK","Bo",71749,49,12674.83]
["05IL","Bo",71749,81,20952.27]
["05IM","Bo",75388,337,87171.790000000008]
["05IQ","Bo",41364,303,78377.010000000009]
["05IS","Bo",75531,181,46819.270000000004]
["05IU","Bo",31237,232,60011.44]
["05IV","Bo",41645,242,62598.140000000007]
["05IW","Bo",40812,119,30781.730000000003]
["05IX","Bo",40812,153,39576.51]
["05IZ","Bo",74049,314,81222.38]
["05JA","Bo",74049,139,35955.130000000005]
["05JC","Bo",24597,213,55096.710000000006]
["05JE","Bo",48348,184,47595.280000000006]
["05JF","Bo",73919,101,26125.670000000002]
["05JG","Bo",40848,324,83809.08]
["05JH","Bo",41000,365,94414.55]
["05JI","Bo",40888,101,26125.670000000002]
["05JJ","Bo",41782,51,13192.17]
["05JK","Bo",55238,272,70358.240000000005]
["05JL","Bo",41506,159,41128.530000000006]
["05JM","Bo",40712,195,50440.65]
["05JN","Bo",76740,569,147183.23000000001]
["05JO","Bo",40581,305,78894.350000000006]
["05JP","Bo",83280,108,27936.36]
["05JQ","Bo",77052,235,60787.450000000004]
["05JR","Bo",77091,73,18882.91]
["05JT","Sbo",31384,104,40353.040000000001]
["05JU","Bo",28563,306,79153.02]
["05JV","Bo",41506,495,128041.65000000001]
["05JW","Bo",42616,63,16296.210000000001]
["05JX","Bo",40967,274,70875.58]
["05JY","Bo",50819,284,73462.28]
["05JZ","Bo",75375,103,26643.010000000002]
["05KA","Bo",41000,234,60528.780000000006]
["05KB","Bo",45000,141,36472.47]
["05KH","Bo",40662,144,37248.480000000003]
["05KK","Bo",75219,36,9312.1200000000008]
["05KL","Bo",74049,230,59494.100000000006]
["05KP","Bo",41373,148,38283.160000000003]
["05KQ","Bo",40517,90,{"$f":"D1282*IF(B1282=$G$9,WerkdrukbedragPerLeerlingBo,IF(B1282=$G$10,WerkdrukbedragPerLeerlingSbo,IF(B1282=$G$11,WerkdrukbedragPerLeerlingSo,IF(B1282=$G$12,WerkdrukbedragPerLeerlingVso,0))))","v":23280.300000000003}]
["05KR","Bo",41645,195,50440.65]
["05KT","Bo",40894,75,19400.25]
["05KU","Bo",41358,76,19658.920000000002]
["05KW","Bo",41358,101,26125.670000000002]
["05KX","Bo",41551,40,10346.800000000001]
["05LB","Bo",42607,135,34920.450000000004]
["05LC","Bo",42656,213,55096.710000000006]
["05LL","Bo",40378,421,108900.07]
["05LN","Bo",40775,270,69840.900000000009]
["05LP","Bo",41385,273,70616.91]
["05LQ","Bo",40946,133,34403.11]
["05LR","Bo",41787,50,12933.5]
["05LS","Bo",42656,95,24573.65]
["05LU","Bo",42604,101,26125.670000000002]
["05LV","Bo",40812,260,67254.2]
["05LW","So",40631,125,64667.500000000007]
["05LX","Bo",41646,209,54062.030000000006]
["05LY","Bo",40946,67,17330.89]
["05LZ","Bo",81433,118,30523.06]
["05MA","Bo",41282,131,33885.770000000004]
["05MC","Bo",41138,211,54579.37]
["05MD","Bo",85255,221,57166.070000000007]
["05ME","Bo",81979,274,70875.58]
["05MF","Vso",40631,107,55355.380000000005]
["05MG","Bo",82526,96,24832.32]
["05MH","Bo",41845,43,11122.810000000001]
["05MI","Bo",40712,173,44749.91]
["05MJ","Bo",41487,156,40352.520000000004]
["05MK","Bo",40934,124,32075.08]
["05ML","Bo",26158,101,26125.670000000002]
["05MM","Bo",41487,203,52510.01]
["05MQ","Bo",42632,56,14485.52]
["05MT","Bo",41138,181,46819.270000000004]
["05MU","Bo",41570,175,45267.25]
["05MX","Bo",83149,83,21469.61]
["05MY","Bo",40681,60,15520.2]
["05NA","Bo",42744,105,27160.350000000002]
["05NI","Bo",83786,242,62598.140000000007]
["05NJ","Bo",41039,133,34403.11]
["05NM","Bo",41239,52,13450.84]
["05NN","Bo",41196,41,10605.470000000001]
["05NO","Bo",42587,134,34661.78]
["05NP","Bo",83579,215,55614.05]
["05NQ","Bo",32073,226,58459.420000000006]
["05NS","Bo",84046,232,60011.44]
["05NT","Bo",24844,297,76824.990000000005]
["05NU","Bo",41621,180,46560.600000000006]
["05NW","Bo",84215,100,25867]
["05NY","Bo",84332,61,15778.87]
["05OC","Bo",32073,94,24314.980000000003]
["05OD","Bo",41052,57,14744.19]
["05OF","Bo",41439,401,103726.67000000001]
["05OJ","Bo",27910,170,43973.9]
["05OK","Bo",84787,103,26643.010000000002]
["05OL","Bo",70176,252,65184.840000000004]
["05OM","Bo",41001,103,26643.010000000002]
["05OM","Bo",41001,131,33885.770000000004]
["05ON","Bo",42486,224,57942.080000000002]
["05OQ","Bo",42559,148,38283.160000000003]
["05OR","Bo",41571,145,37507.15]
["05OS","Bo",41424,159,41128.530000000006]
["05OU","Bo",40789,239,61822.130000000005]
["05OV","Bo",40788,63,16296.210000000001]
["05OW","Bo",42754,239,{"$f":"D1346*IF(B1346=$G$9,WerkdrukbedragPerLeerlingBo,IF(B1346=$G$10,WerkdrukbedragPerLeerlingSbo,IF(B1346=$G$11,WerkdrukbedragPerLeerlingSo,IF(B1346=$G$12,WerkdrukbedragPerLeerlingVso,0))))","v":61822.130000000005}]
["05OX","Sbo",41671,75,29100.75]
["05OY","Bo",41439,241,62339.47]
["05OZ","Bo",42607,64,16554.88]
["05PA","Bo",41473,173,44749.91]
["05PC","Bo",40974,111,28712.370000000003]
["05PD","Bo",42545,112,28971.040000000001]
["05PE","So",85775,55,28453.7]
["05PE","Vso",85775,84,43456.560000000005]
["05PF","Bo",41125,96,24832.32]
["05PH","Bo",41845,71,18365.57]
["05PJ","Bo",41424,95,24573.65]
["05PK","Bo",40342,80,20693.600000000002]
["05PM","Bo",41856,70,18106.900000000001]
["05PO","Bo",75753,74,19141.580000000002]
["05PQ","Bo",42744,35,9053.4500000000007]
["05PR","Bo",41651,217,56131.390000000007]
["05PS","Bo",41651,38,9829.4600000000009]
["05PX","Bo",42540,105,27160.350000000002]
["05PZ","So",86971,129,66736.86]
["05PZ","Vso",86971,71,36731.14]
["05QA","Bo",41125,35,9053.4500000000007]
["05QB","Bo",41125,29,7501.43]
["05QD","Bo",41583,56,14485.52]
["05QE","Bo",41005,108,27936.36]
["05QF","Bo",41571,54,13968.18]
["05QH","Bo",42559,143,36989.810000000005]
["05QI","Bo",41194,121,31299.070000000003]
["05QJ","Bo",27067,100,25867]
["05QM","Bo",41528,185,47853.950000000004]
["05QN","Bo",42744,97,25090.99]
["05QO","Bo",41787,65,16813.55]
["05QP","Bo",41138,77,19917.59]
["05QS","Bo",41845,115,29747.050000000003]
["05QT","Bo",41439,260,67254.2]
["05QU","Bo",42632,71,18365.57]
["05QV","Bo",41827,121,31299.070000000003]
["05QW","Bo",40788,35,9053.4500000000007]
["05QX","Bo",41194,167,43197.89]
["05RB","Bo",24844,53,13709.51]
["05RC","Bo",32073,198,51216.66]
["05RD","Bo",32073,47,12157.490000000002]
["05RE","Bo",41845,165,42680.55]
["05RG","Bo",41534,90,23280.300000000003]
["05RH","Bo",40974,144,37248.480000000003]
["05RK","Bo",41138,94,24314.980000000003]
["05RL","Bo",89012,147,38024.490000000005]
["05RM","Bo",41385,65,16813.55]
["05RN","Bo",41196,90,23280.300000000003]
["05RO","Bo",41154,197,50957.990000000005]
["05RR","Bo",42656,39,10088.130000000001]
["05RS","Bo",42540,62,16037.54]
["05RT","Bo",89571,139,35955.130000000005]
["05RV","Bo",41251,288,74496.960000000006]
["05RW","Bo",41827,226,58459.420000000006]
["05RX","Bo",42545,96,24832.32]
["05RY","Bo",42540,168,43456.560000000005]
["05RZ","Bo",41845,92,23797.640000000003]
["05SB","Bo",42632,80,20693.600000000002]
["05SC","Bo",40712,273,70616.91]
["05SE","Bo",41196,113,29229.710000000003]
["05SF","Bo",41127,104,26901.68]
["05SG","Bo",42794,185,47853.950000000004]
["05SI","Bo",41439,114,29488.38]
["05SJ","Bo",90169,232,{"$f":"D1410*IF(B1410=$G$9,WerkdrukbedragPerLeerlingBo,IF(B1410=$G$10,WerkdrukbedragPerLeerlingSbo,IF(B1410=$G$11,WerkdrukbedragPerLeerlingSo,IF(B1410=$G$12,WerkdrukbedragPerLeerlingVso,0))))","v":60011.44}]
["05SK","Bo",41127,187,48371.29]
["05SL","Bo",40894,86,22245.620000000003]
["05SO","Bo",41621,228,58976.76]
["05SP","Bo",90351,61,15778.87]
["05SR","Bo",74531,419,108382.73000000001]
["05SW","Bo",41646,275,71134.25]
["05SX","Bo",41196,74,19141.580000000002]
["05SY","Bo",41845,89,23021.63]
["05SZ","Bo",42607,97,25090.99]
["05TB","Bo",41439,182,47077.94]
["05TE","Bo",41358,47,12157.490000000002]
["05TF","Bo",91079,81,20952.27]
["05TG","Bo",91118,552,142785.84]
["05TH","Bo",41385,66,17072.22]
["05TI","Bo",42632,219,56648.73]
["05TL","Bo",41358,250,64667.500000000007]
["05TM","Bo",41385,70,18106.900000000001]
["05TN","Bo",32073,48,12416.16]
["05TO","Bo",41261,128,33109.760000000002]
["05TR","Bo",41646,193,49923.310000000005]
["05TS","Bo",32073,73,18882.91]
["05TT","Bo",40959,75,19400.25]
["05TU","Bo",41473,67,17330.89]
["05TV","Bo",41018,284,73462.28]
["05TW","Bo",92210,143,36989.810000000005]
["05TY","Bo",41270,180,46560.600000000006]
["05TZ","Bo",45969,89,23021.63]
["05UE","Bo",92626,75,19400.25]
["05UF","Bo",92639,112,28971.040000000001]
["05UG","Bo",41261,42,10864.140000000001]
["05UK","Bo",41787,40,10346.800000000001]
["05UL","Bo",40788,60,15520.2]
["05UM","Bo",92899,93,24056.31]
["05UN","Bo",41251,176,45525.920000000006]
["05UO","Bo",41473,188,48629.960000000006]
["05UR","Bo",41571,93,24056.31]
["05US","Bo",41125,76,19658.920000000002]
["05UT","Bo",41845,206,53286.020000000004]
["05UU","Bo",41261,132,34144.44]
["05UW","Bo",41419,92,23797.640000000003]
["05UX","Bo",41582,120,31040.400000000001]
["05UY","Bo",42604,163,42163.21]
["05VA","Bo",93445,147,38024.490000000005]
["05VC","Bo",92951,57,14744.19]
["05VD","Bo",41125,72,18624.240000000002]
["05VG","Bo",41194,139,35955.130000000005]
["05VJ","Bo",40959,121,31299.070000000003]
["05VK","Bo",41845,122,31557.74]
["05VL","Bo",41570,195,50440.65]
["05VM","Bo",42658,98,25349.66]
["05VO","Bo",41226,296,76566.320000000007]
["05VO","Bo",41226,57,14744.19]
["05VP","Bo",94459,250,64667.500000000007]
["05VR","Bo",95148,294,76048.98000000001]
["05VS","Bo",95395,79,20434.93]
["05VT","Bo",95421,221,57166.070000000007]
["05VU","Bo",95655,384,99329.279999999999]
["05VV","Bo",95681,440,113814.8]
["05VW","Bo",95694,872,225560.24000000002]
["05VX","Bo",46879,1746,451637.82]
["05VY","Bo",95746,297,76824.990000000005]
["05WB","Bo",95785,468,121057.56000000001]
["05WD","Bo",95954,300,77601]
["05WG","Bo",96266,240,{"$f":"D1474*IF(B1474=$G$9,WerkdrukbedragPerLeerlingBo,IF(B1474=$G$10,WerkdrukbedragPerLeerlingSbo,IF(B1474=$G$11,WerkdrukbedragPerLeerlingSo,IF(B1474=$G$12,WerkdrukbedragPerLeerlingVso,0))))","v":62080.800000000003}]
["05WH","Bo",41515,350,90534.5]
["05WI","Bo",96292,236,61046.12]
["05WJ","Bo",96409,243,62856.810000000005]
["05WK","Bo",41376,240,62080.800000000003]
["05WL","Bo",96864,77,19917.59]
["05WM","Bo",97137,212,54838.04]
["05WN","Bo",41547,229,59235.43]
["05WR","Bo",31019,194,50181.98]
["05WS","Bo",98255,140,36213.800000000003]
["05WT","Bo",98398,102,26384.34]
["05WU","Bo",98463,241,62339.47]
["05WV","Bo",98489,218,56390.060000000005]
["05WZ","Bo",41439,53,13709.51]
["05XA","So",41448,96,49664.639999999999]
["05XA","So",41448,63,32592.420000000002]
["05XA","So",41448,34,17589.560000000001]
["05XB","Bo",41845,123,31816.410000000003]
["05XC","Bo",41358,142,36731.14]
["05XD","Bo",41845,73,18882.91]
["05XE","Bo",41261,158,40869.86]
["05XF","Bo",41358,150,38800.5]
["05XH","Bo",42604,28,7242.76]
["05XI","Bo",42604,78,20176.260000000002]
["05XQ","Bo",41827,111,28712.370000000003]
["05XR","Bo",41460,63,16296.210000000001]
["05XW","Bo",41491,200,51734]
["05XX","Bo",41371,88,22762.960000000003]
["05XZ","Bo",41455,180,46560.600000000006]
["05YA","Bo",41496,67,17330.89]
["05YC","Bo",41692,353,91310.510000000009]
["05YD","Bo",41413,231,59752.770000000004]
["05YE","Bo",41362,228,58976.76]
["05YK","Bo",42658,171,44232.57]
["05YL","Bo",41282,64,16554.88]
["05YM","Sbo",47595,121,46949.21]
["05YQ","Bo",41778,72,18624.240000000002]
["05YS","Bo",41662,403,104244.01000000001]
["05YT","Bo",42669,236,61046.12]
["05YW","Bo",32177,130,33627.1]
["05YX","Vso",62077,133,68806.22]
["05YX","Vso",62077,197,101915.98000000001]
["05YX","Vso",62077,8,4138.72]
["05YX","Vso",62077,59,30523.06]
["05YX","So",62077,24,12416.16]
["05YX","Vso",62077,9,4656.0600000000004]
["05YX","Vso",62077,9,4656.0600000000004]
["05YX","Vso",62077,15,7760.1]
["05YX","Vso",62077,13,6725.42]
["05YX","Vso",62077,14,7242.76]
["05YX","Vso",62077,68,35179.120000000003]
["05ZE","Bo",41630,70,18106.900000000001]
["05ZF","Bo",41362,345,89241.150000000009]
["05ZG","Bo",75388,121,31299.070000000003]
["05ZH","Bo",41629,58,15002.86]
["05ZI","Bo",41421,183,47336.61]
["05ZN","Sbo",41008,124,48113.24]
["05ZQ","Bo",42610,72,18624.240000000002]
["05ZR","Bo",41340,288,74496.960000000006]
["05ZS","Bo",41376,211,54579.37]
["05ZT","Bo",41013,218,56390.060000000005]
["05ZU","Bo",41398,121,31299.070000000003]
["05ZW","Bo",41496,193,49923.310000000005]
["05ZX","Bo",41860,109,28195.030000000002]
["05ZY","Bo",41638,93,{"$f":"D1538*IF(B1538=$G$9,WerkdrukbedragPerLeerlingBo,IF(B1538=$G$10,WerkdrukbedragPerLeerlingSbo,IF(B1538=$G$11,WerkdrukbedragPerLeerlingSo,IF(B1538=$G$12,WerkdrukbedragPerLeerlingVso,0))))","v":24056.31}]
["05ZZ","Bo",77235,108,27936.36]
["06AF","Bo",77456,179,46301.93]
["06AG","Bo",50949,118,30523.06]
["06AI","Bo",41778,171,44232.57]
["06AL","Bo",13683,54,13968.18]
["06AM","Bo",28601,189,48888.630000000005]
["06AN","Bo",47959,276,71392.92]
["06AO","Bo",13683,43,11122.810000000001]
["06AP","Bo",41421,121,31299.070000000003]
["06AQ","Bo",11711,83,21469.61]
["06AY","Bo",41580,433,112004.11]
["06AZ","Bo",41401,91,23538.97]
["06BA","Bo",83280,366,94673.22]
["06BB","Bo",41869,330,85361.1]
["06BC","Bo",42486,221,57166.070000000007]
["06BD","Bo",41471,11,2845.3700000000003]
["06BE","Bo",41455,140,36213.800000000003]
["06BG","Bo",41775,658,170204.86000000002]
["06BH","Bo",13662,69,17848.23]
["06BM","Bo",13662,123,31816.410000000003]
["06BO","Bo",41376,183,47336.61]
["06BP","Bo",41571,80,20693.600000000002]
["06BQ","Bo",41633,334,86395.78]
["06BR","Bo",41630,120,31040.400000000001]
["06BV","Bo",77338,130,33627.1]
["06BX","Bo",41633,73,18882.91]
["06BY","Bo",23128,95,24573.65]
["06CA","Bo",41362,457,118212.19]
["06CI","Bo",45000,202,52251.340000000004]
["06CK","Bo",41516,236,61046.12]
["06CN","Bo",41613,87,22504.29]
["06CO","Bo",41844,164,42421.880000000005]
["06CP","Bo",41501,67,17330.89]
["06CQ","Bo",83280,224,57942.080000000002]
["06CS","Bo",40971,319,82515.73000000001]
["06CT","Bo",41413,22,5690.7400000000007]
["06CX","Bo",41633,271,70099.570000000007]
["06CY","Bo",41455,327,84585.090000000011]
["06CZ","Bo",41471,214,55355.380000000005]
["06DD","Bo",13683,77,19917.59]
["06DE","Bo",41813,203,52510.01]
["06DG","Bo",41613,154,39835.18]
["06DJ","Bo",41502,145,37507.15]
["06DM","Bo",77338,218,56390.060000000005]
["06DN","Bo",20243,280,72427.600000000006]
["06DO","Bo",41454,435,112521.45000000001]
["06DV","Bo",41473,204,52768.68]
["06DW","Bo",41228,110,28453.7]
["06DX","Bo",41138,118,30523.06]
["06DY","Bo",41534,110,28453.7]
["06DZ","Bo",50819,301,77859.67]
["06EA","Bo",23545,163,42163.21]
["06EB","Bo",42607,98,25349.66]
["06EC","Bo",42607,184,47595.280000000006]
["06ED","Bo",41582,100,25867]
["06EE","Bo",42724,253,65443.51]
["06EF","Bo",23948,231,59752.770000000004]
["06EH","Bo",41978,366,94673.22]
["06EI","Bo",24065,107,27677.690000000002]
["06EJ","Bo",40681,189,48888.630000000005]
["06EK","Bo",42607,126,32592.420000000002]
["06EL","Bo",41270,115,29747.050000000003]
["06EM","Bo",41632,142,36731.14]
["06EN","Bo",42607,66,{"$f":"D1602*IF(B1602=$G$9,WerkdrukbedragPerLeerlingBo,IF(B1602=$G$10,WerkdrukbedragPerLeerlingSbo,IF(B1602=$G$11,WerkdrukbedragPerLeerlingSo,IF(B1602=$G$12,WerkdrukbedragPerLeerlingVso,0))))","v":17072.22}]
["06EO","Bo",42607,204,52768.68]
["06EP","Bo",41632,136,35179.120000000003]
["06EQ","Bo",42658,174,45008.58]
["06ES","Bo",42570,127,32851.090000000004]
["06ET","Bo",42570,141,36472.47]
["06EU","Bo",41582,61,15778.87]
["06EY","Bo",42607,92,23797.640000000003]
["06FA","Bo",25196,189,48888.630000000005]
["06FB","Bo",41396,74,19141.580000000002]
["06FF","Bo",26158,277,71651.590000000011]
["06FI","Bo",26626,338,87430.46]
["06FJ","Bo",42724,105,27160.350000000002]
["06FK","Bo",83280,285,73720.950000000012]
["06FM","Bo",26977,248,64150.16]
["06FO","Bo",41528,275,71134.25]
["06FR","Bo",27237,59,15261.53]
["06FT","Bo",40278,249,64408.83]
["06FU","Bo",40974,73,18882.91]
["06FV","Bo",76806,174,45008.58]
["06FW","Bo",41018,410,106054.70000000001]
["06FY","Bo",40765,309,79929.03]
["06GD","Bo",41530,111,28712.370000000003]
["06GE","Bo",28212,256,66219.520000000004]
["06GH","Bo",31017,270,69840.900000000009]
["06GK","Bo",81316,376,97259.920000000013]
["06GL","Bo",42540,169,43715.23]
["06GN","Bo",77195,431,111486.77]
["06GP","Bo",28849,709,183397.03]
["06GR","Bo",42669,212,54838.04]
["06GS","Bo",40888,115,29747.050000000003]
["06GU","Bo",40945,162,41904.54]
["06GV","Bo",41534,118,30523.06]
["06GW","Bo",41242,274,70875.58]
["06HC","Bo",41516,207,53544.69]
["06HD","Bo",41125,339,87689.13]
["06HE","Bo",50129,284,73462.28]
["06HG","Bo",31384,173,44749.91]
["06HI","Bo",31657,349,90275.83]
["06HJ","Bo",42607,52,13450.84]
["06HK","Bo",40971,321,83033.070000000007]
["06HL","Bo",40557,231,59752.770000000004]
["06HM","Bo",31969,388,100363.96]
["06HN","Bo",40517,188,48629.960000000006]
["06HO","Bo",32060,313,80963.710000000006]
["06HP","Bo",32073,113,29229.710000000003]
["06HT","Bo",32515,218,56390.060000000005]
["06HU","Bo",73712,50,12933.5]
["06HV","Bo",42616,120,31040.400000000001]
["06HW","Bo",40971,459,118729.53000000001]
["06HZ","Bo",32073,146,37765.82]
["06IA","Bo",40971,233,60270.11]
["06IC","Sbo",41223,97,37636.97]
["06IC","Sbo",41223,84,32592.84]
["06IE","Bo",43967,167,43197.89]
["06IH","Bo",40517,286,73979.62000000001]
["06IK","Bo",32060,423,109417.41]
["06IL","Bo",40775,195,50440.65]
["06IN","Bo",27910,64,16554.88]
["06IP","Bo",37663,44,11381.480000000001]
["06IR","Bo",44201,188,48629.960000000006]
["06IS","Bo",31017,523,135284.41]
["06IT","Bo",41407,522,135025.74000000002]
["06IU","Bo",38144,221,57166.070000000007]
["06IW","Bo",38222,167,{"$f":"D1666*IF(B1666=$G$9,WerkdrukbedragPerLeerlingBo,IF(B1666=$G$10,WerkdrukbedragPerLeerlingSbo,IF(B1666=$G$11,WerkdrukbedragPerLeerlingSo,IF(B1666=$G$12,WerkdrukbedragPerLeerlingVso,0))))","v":43197.89}]
["06IX","Bo",40745,226,58459.420000000006]
["06IY","Bo",40903,150,38800.5]
["06IZ","Bo",41018,184,47595.280000000006]
["06JC","Bo",68836,290,75014.3]
["06JD","Bo",41340,161,41645.870000000003]
["06JE","Bo",42607,71,18365.57]
["06JF","Bo",40974,307,79411.69]
["06JG","Bo",40765,177,45784.590000000004]
["06JL","Bo",40378,212,54838.04]
["06JN","Bo",71008,327,84585.090000000011]
["06JO","Bo",41692,84,21728.280000000002]
["06JP","Bo",40419,721,186501.07]
["06JQ","Bo",31017,165,42680.55]
["06JS","Bo",40987,244,63115.48]
["06JT","Bo",41228,462,119505.54000000001]
["06JV","Bo",40887,219,56648.73]
["06JW","Bo",42545,87,22504.29]
["06JY","Bo",40894,95,24573.65]
["06JZ","Bo",41692,226,58459.420000000006]
["06KA","Bo",20281,253,65443.51]
["06KB","Bo",41782,235,60787.450000000004]
["06KC","Bo",44397,122,31557.74]
["06KD","Bo",41148,114,29488.38]
["06KE","Bo",42148,323,83550.41]
["06KF","Bo",71488,205,53027.350000000006]
["06KG","Bo",42486,109,28195.030000000002]
["06KH","Bo",41506,306,79153.02]
["06KK","Bo",42616,144,37248.480000000003]
["06KL","Bo",42656,169,43715.23]
["06KM","Bo",42980,282,72944.94]
["06KN","Bo",30133,383,99070.61]
["06KO","Bo",77975,257,66478.19]
["06KO","Bo",77975,51,13192.17]
["06KQ","Bo",43175,205,53027.350000000006]
["06KS","Bo",41011,145,37507.15]
["06KT","Bo",41797,100,25867]
["06KU","Bo",41646,204,52768.68]
["06KV","Bo",41090,608,157271.36000000002]
["06KW","Bo",41551,214,55355.380000000005]
["06KY","Bo",74049,73,18882.91]
["06LA","Bo",42541,418,108124.06000000001]
["06LB","Bo",75597,480,124161.60000000001]
["06LC","Bo",40557,154,39835.18]
["06LD","Bo",40803,87,22504.29]
["06LF","Bo",75375,284,73462.28]
["06LG","Bo",40888,94,24314.980000000003]
["06LH","Bo",45000,59,15261.53]
["06LI","Bo",77975,193,49923.310000000005]
["06LJ","Bo",32631,323,83550.41]
["06LL","Bo",70002,229,59235.43]
["06LM","Bo",71488,196,50699.32]
["06LO","Bo",41797,89,23021.63]
["06LP","Bo",46243,237,61304.79]
["06LQ","Bo",31384,231,59752.770000000004]
["06LR","Bo",41632,95,24573.65]
["06LT","Bo",73712,218,56390.060000000005]
["06LU","Bo",41447,311,80446.37000000001]
["06LV","Bo",32073,41,10605.470000000001]
["06LW","Bo",40888,134,34661.78]
["06LX","Bo",58761,177,45784.590000000004]
["06LY","Bo",26977,523,135284.41]
["06LZ","Bo",41782,154,39835.18]
["06MA","Bo",31237,260,67254.2]
["06MC","Bo",83280,236,{"$f":"D1730*IF(B1730=$G$9,WerkdrukbedragPerLeerlingBo,IF(B1730=$G$10,WerkdrukbedragPerLeerlingSbo,IF(B1730=$G$11,WerkdrukbedragPerLeerlingSo,IF(B1730=$G$12,WerkdrukbedragPerLeerlingVso,0))))","v":61046.12}]
["06MD","Bo",75375,186,48112.62]
["06ME","Bo",41223,243,62856.810000000005]
["06MF","Bo",30240,275,71134.25]
["06MH","Bo",41020,261,67512.87000000001]
["06MI","Bo",73712,177,45784.590000000004]
["06MJ","Bo",40278,100,25867]
["06MM","Bo",47920,374,96742.58]
["06MQ","Bo",41359,207,53544.69]
["06MS","Bo",41506,122,31557.74]
["06MU","Bo",40888,167,43197.89]
["06MV","Bo",40928,275,71134.25]
["06MW","Bo",41845,163,42163.21]
["06MY","Bo",41624,119,30781.730000000003]
["06NB","Bo",42607,88,22762.960000000003]
["06NC","Bo",50949,303,78377.010000000009]
["06NE","Bo",76806,183,47336.61]
["06NG","Bo",49844,199,51475.33]
["06NH","Bo",41558,190,49147.3]
["06NI","Bo",41282,60,15520.2]
["06NJ","Bo",40945,148,38283.160000000003]
["06NL","Bo",25351,222,57424.740000000005]
["06NM","Bo",41018,63,16296.210000000001]
["06NN","Bo",75753,724,187277.08000000002]
["06NO","Bo",74531,607,157012.69]
["06NR","Bo",50299,175,45267.25]
["06NS","Bo",41506,217,56131.390000000007]
["06NU","Bo",40342,90,23280.300000000003]
["06NX","Bo",50988,281,72686.27]
["06NY","Bo",41396,136,35179.120000000003]
["06NZ","Bo",20183,61,15778.87]
["06OA","Bo",75375,58,15002.86]
["06OD","Bo",77533,81,20952.27]
["06OF","Bo",30240,210,54320.700000000004]
["06OH","Bo",71749,127,32851.090000000004]
["06OJ","Bo",41373,90,23280.300000000003]
["06OK","Bo",41340,113,29229.710000000003]
["06OM","Bo",31657,370,95707.900000000009]
["06OP","Bo",40928,371,95966.57]
["06OQ","Bo",68329,217,56131.390000000007]
["06OR","Bo",47920,132,34144.44]
["06OS","Bo",57969,220,56907.4]
["06OT","Bo",41646,108,27936.36]
["06OU","Bo",59451,212,54838.04]
["06OW","Bo",41239,159,41128.530000000006]
["06OY","Bo",77195,651,168394.17]
["06OZ","Bo",59984,232,60011.44]
["06PB","Bo",70033,182,47077.94]
["06PC","Bo",62662,325,84067.75]
["06PD","Bo",41860,157,40611.19]
["06PE","Bo",43318,206,53286.020000000004]
["06PF","Bo",42486,205,53027.350000000006]
["06PG","Bo",41000,196,50699.32]
["06PH","Bo",41595,381,98553.27]
["06PI","Bo",42545,88,22762.960000000003]
["06PL","Bo",41286,49,12674.83]
["06PM","Bo",42794,302,78118.340000000011]
["06PN","Bo",60686,83,21469.61]
["06PO","Bo",77456,189,48888.630000000005]
["06PP","Bo",42616,159,41128.530000000006]
["06PQ","Bo",41571,70,18106.900000000001]
["06PR","Bo",42774,318,82257.060000000012]
["06PS","Bo",60829,109,28195.030000000002]
["06PT","Bo",75219,199,51475.33]
["06PV","Bo",77456,192,{"$f":"D1794*IF(B1794=$G$9,WerkdrukbedragPerLeerlingBo,IF(B1794=$G$10,WerkdrukbedragPerLeerlingSbo,IF(B1794=$G$11,WerkdrukbedragPerLeerlingSo,IF(B1794=$G$12,WerkdrukbedragPerLeerlingVso,0))))","v":49664.639999999999}]
["06PZ","Bo",42754,156,40352.520000000004]
["06QB","Bo",41000,124,32075.08]
["06QC","Bo",40950,300,77601]
["06QE","Bo",24844,115,29747.050000000003]
["06QF","Bo",77235,176,45525.920000000006]
["06QH","Bo",45000,140,36213.800000000003]
["06QI","Bo",40894,75,19400.25]
["06QJ","Bo",40342,146,37765.82]
["06QK","Bo",41000,225,58200.75]
["06QM","Bo",42656,98,25349.66]
["06QN","Bo",41385,223,57683.41]
["06QO","Bo",40789,67,17330.89]
["06QP","Bo",42754,90,23280.300000000003]
["06QQ","Bo",40888,94,24314.980000000003]
["06QR","Bo",40894,99,25608.33]
["06QS","Bo",40894,188,48629.960000000006]
["06QT","Bo",41571,259,66995.53]
["06QV","Bo",41571,157,40611.19]
["06QY","Bo",94433,222,57424.740000000005]
["06QZ","Bo",41296,211,54579.37]
["06RA","Bo",40530,107,27677.690000000002]
["06RD","Bo",41296,207,53544.69]
["06RE","Bo",61960,262,67771.540000000008]
["06RF","Bo",77456,325,84067.75]
["06RG","Bo",77456,132,34144.44]
["06RJ","So",62181,87,45008.58]
["06RJ","Vso",62181,105,54320.700000000004]
["06RL","Bo",62571,85,21986.95]
["06RM","Bo",62584,480,124161.60000000001]
["06RN","Bo",41595,192,49664.639999999999]
["06RP","Bo",68836,205,53027.350000000006]
["06RQ","Bo",41000,247,63891.490000000005]
["06RR","Bo",63039,228,58976.76]
["06RS","Bo",69877,91,23538.97]
["06RT","Bo",63091,93,24056.31]
["06RU","Bo",41632,153,39576.51]
["06RV","Sbo",74531,49,19012.489999999998]
["06RW","Bo",32580,335,86654.450000000012]
["06RX","Bo",50129,71,18365.57]
["06RY","Bo",41127,93,24056.31]
["06RZ","Bo",85600,141,36472.47]
["06SB","Bo",50949,258,66736.86]
["06SC","Bo",41000,161,41645.870000000003]
["06SE","Bo",42607,85,21986.95]
["06SF","Bo",40888,87,22504.29]
["06SG","Bo",40342,108,27936.36]
["06SI","Bo",45000,122,31557.74]
["06SJ","Bo",69643,152,39317.840000000004]
["06SK","Bo",77533,127,32851.090000000004]
["06SL","Bo",41506,251,64926.170000000006]
["06SM","Bo",40888,97,25090.99]
["06SN","Bo",41039,96,24832.32]
["06SO","Bo",69799,215,55614.05]
["06SQ","Bo",45000,167,43197.89]
["06ST","Bo",42656,37,9570.7900000000009]
["06SV","So",41414,59,30523.06]
["06SV","So",41414,55,28453.7]
["06SV","So",41414,31,16037.54]
["06SW","Bo",41340,134,34661.78]
["06SY","Bo",41506,84,21728.280000000002]
["06SZ","Bo",70280,138,35696.46]
["06TA","Bo",41138,111,28712.370000000003]
["06TC","Bo",41039,110,28453.7]
["06TD","Bo",73919,98,{"$f":"D1858*IF(B1858=$G$9,WerkdrukbedragPerLeerlingBo,IF(B1858=$G$10,WerkdrukbedragPerLeerlingSbo,IF(B1858=$G$11,WerkdrukbedragPerLeerlingSo,IF(B1858=$G$12,WerkdrukbedragPerLeerlingVso,0))))","v":25349.66}]
["06TF","Bo",44201,112,28971.040000000001]
["06TH","Bo",75375,62,16037.54]
["06TK","Bo",70644,179,46301.93]
["06TL","Bo",41012,166,42939.22]
["06TM","Bo",75375,79,20434.93]
["06TN","Bo",40894,164,42421.880000000005]
["06TP","Bo",42658,114,29488.38]
["06TR","Bo",68836,98,25349.66]
["06TT","Bo",41246,205,53027.350000000006]
["06TU","Bo",71242,215,55614.05]
["06TX","Bo",77975,121,31299.070000000003]
["06UB","Bo",41000,88,22762.960000000003]
["06UC","Bo",77456,79,20434.93]
["06UD","Bo",71502,227,58718.090000000004]
["06UE","Bo",71515,124,32075.08]
["06UF","Bo",41246,176,45525.920000000006]
["06UG","Bo",47920,53,13709.51]
["06UI","Bo",41787,73,18882.91]
["06UJ","Sbo",77195,160,62081.599999999999]
["06UJ","Sbo",77195,206,79930.06]
["06UK","Bo",41246,188,48629.960000000006]
["06UL","Bo",71749,144,37248.480000000003]
["06UN","Bo",41385,87,22504.29]
["06UQ","Bo",61960,182,47077.94]
["06UT","Bo",41359,324,83809.08]
["06UW","Bo",72100,443,114590.81000000001]
["06UX","Bo",40946,190,49147.3]
["06UZ","Bo",41242,198,51216.66]
["06VA","Bo",41340,88,22762.960000000003]
["06VC","Bo",40888,49,12674.83]
["06VD","Bo",72386,132,34144.44]
["06VF","Bo",40894,59,15261.53]
["06VJ","Bo",42724,147,38024.490000000005]
["06VL","Bo",77235,151,39059.170000000006]
["06VN","Bo",41386,232,60011.44]
["06VO","Bo",48348,59,15261.53]
["06VP","Bo",40980,109,28195.030000000002]
["06VU","Bo",31384,169,43715.23]
["06VV","Bo",44201,117,30264.390000000003]
["06VW","Bo",48348,48,12416.16]
["06VX","Bo",41223,164,42421.880000000005]
["06VY","Bo",50819,105,27160.350000000002]
["06WB","Bo",73556,362,93638.540000000008]
["06WC","Bo",40971,268,69323.56]
["06WD","Bo",40557,288,74496.960000000006]
["06WF","Bo",44397,156,40352.520000000004]
["06WH","Bo",41228,108,27936.36]
["06WI","Bo",77338,207,53544.69]
["06WJ","Bo",74154,52,13450.84]
["06WL","Bo",41516,326,84326.42]
["06WM","Bo",25351,83,21469.61]
["06WN","Bo",41239,157,40611.19]
["06WO","Bo",31384,111,28712.370000000003]
["06WS","Bo",77338,97,25090.99]
["06WT","Bo",40971,215,55614.05]
["06WU","Bo",83228,92,23797.640000000003]
["06WV","Bo",31017,117,30264.390000000003]
["06WW","Bo",42669,195,50440.65]
["06WX","Bo",74609,171,44232.57]
["06WZ","Bo",48348,46,11898.820000000002]
["06XB","Bo",48348,74,19141.580000000002]
["06XC","Bo",40848,153,39576.51]
["06XD","Bo",41223,145,37507.15]
["06XE","Bo",40803,37,{"$f":"D1922*IF(B1922=$G$9,WerkdrukbedragPerLeerlingBo,IF(B1922=$G$10,WerkdrukbedragPerLeerlingSbo,IF(B1922=$G$11,WerkdrukbedragPerLeerlingSo,IF(B1922=$G$12,WerkdrukbedragPerLeerlingVso,0))))","v":9570.7900000000009}]
["06XF","Bo",41506,88,22762.960000000003]
["06XI","Bo",41407,316,81739.72]
["06XJ","Bo",75064,372,96225.24]
["06XM","Bo",43305,42,10864.140000000001]
["06XO","Bo",48348,90,23280.300000000003]
["06XP","Bo",73191,60,15520.2]
["06XQ","Bo",61960,306,79153.02]
["06XR","Bo",41246,265,68547.55]
["06XU","Bo",75388,401,103726.67000000001]
["06XW","Bo",75688,250,64667.500000000007]
["06XX","Bo",40959,92,23797.640000000003]
["06YA","Bo",41194,151,39059.170000000006]
["06YB","Bo",48101,173,44749.91]
["06YD","Bo",45000,55,14226.85]
["06YE","Bo",38001,389,100622.63]
["06YF","Bo",41013,412,106572.04000000001]
["06YI","Bo",40814,58,15002.86]
["06YJ","Bo",76585,201,51992.670000000006]
["06YK","Bo",42724,309,79929.03]
["06YL","Bo",40662,134,34661.78]
["06YM","Bo",76663,208,53803.360000000001]
["06YN","Bo",76806,160,41387.200000000004]
["06YO","Bo",71956,197,50957.990000000005]
["06YP","Bo",76910,139,35955.130000000005]
["06YQ","Bo",42148,92,23797.640000000003]
["06YR","Bo",41270,114,29488.38]
["06YT","Bo",31237,164,42421.880000000005]
["06YU","Bo",50949,44,11381.480000000001]
["06YV","Bo",38001,56,14485.52]
["06YX","Bo",76806,135,34920.450000000004]
["06YY","Bo",40888,93,24056.31]
["06YZ","Bo",40894,133,34403.11]
["06ZA","Bo",41460,215,55614.05]
["06ZB","Bo",41340,124,32075.08]
["06ZC","Bo",41340,300,77601]
["06ZF","Bo",40803,91,23538.97]
["06ZH","Bo",41460,215,55614.05]
["06ZK","Bo",77456,214,55355.380000000005]
["06ZL","Bo",41787,50,12933.5]
["06ZN","Bo",71488,439,113556.13]
["06ZO","Bo",46724,95,24573.65]
["06ZQ","Sbo",77690,125,48501.25]
["06ZR","Bo",37663,61,15778.87]
["06ZS","Bo",41233,56,14485.52]
["06ZT","Bo",40894,145,37507.15]
["06ZV","Bo",42683,48,12416.16]
["06ZX","Bo",41012,58,15002.86]
["06ZY","Bo",41052,55,14226.85]
["06ZZ","Bo",78184,376,97259.920000000013]
["07AA","Bo",78197,114,29488.38]
["07AB","Bo",40676,87,22504.29]
["07AD","Bo",78457,72,18624.240000000002]
["07AE","Bo",42632,159,41128.530000000006]
["07AF","Bo",41638,204,52768.68]
["07AH","Bo",41012,304,78635.680000000008]
["07AI","Bo",23128,131,33885.770000000004]
["07AJ","Bo",41324,183,47336.61]
["07AK","Bo",40928,203,52510.01]
["07AL","Bo",79003,214,55355.380000000005]
["07AM","Bo",79016,218,56390.060000000005]
["07AO","Bo",75375,72,18624.240000000002]
["07AP","Bo",75375,69,17848.23]
["07AR","Bo",79874,56,14485.52]
["07AU","Bo",32073,137,{"$f":"D1986*IF(B1986=$G$9,WerkdrukbedragPerLeerlingBo,IF(B1986=$G$10,WerkdrukbedragPerLeerlingSbo,IF(B1986=$G$11,WerkdrukbedragPerLeerlingSo,IF(B1986=$G$12,WerkdrukbedragPerLeerlingVso,0))))","v":35437.79}]
["07AV","Bo",28563,119,30781.730000000003]
["07AZ","Bo",79874,116,30005.72]
["07BC","Bo",79835,224,57942.080000000002]
["07BF","Bo",79952,161,41645.870000000003]
["07BH","Bo",31657,181,46819.270000000004]
["07BH","Bo",31657,130,33627.1]
["07BI","Bo",75375,68,17589.560000000001]
["07BJ","Bo",40894,161,41645.870000000003]
["07BK","Bo",46724,78,20176.260000000002]
["07BL","Bo",77338,107,27677.690000000002]
["07BN","Bo",41127,194,50181.98]
["07BO","Bo",41692,145,37507.15]
["07BP","Bo",40517,81,20952.27]
["07BR","Bo",31017,276,71392.92]
["07BS","Bo",50129,52,13450.84]
["07BT","Bo",50844,75,19400.25]
["07BU","Bo",75597,242,62598.140000000007]
["07BV","Bo",83280,81,20952.27]
["07BW","Bo",41228,425,109934.75]
["07BX","Bo",24844,90,23280.300000000003]
["07BZ","Bo",41583,106,27419.02]
["07CA","Bo",29810,186,48112.62]
["07CB","Bo",42632,111,28712.370000000003]
["07CC","Bo",41246,296,76566.320000000007]
["07CF","Bo",23961,84,21728.280000000002]
["07CI","Bo",47959,54,13968.18]
["07CJ","Bo",40971,386,99846.62000000001]
["07CK","Bo",41340,230,59494.100000000006]
["07CL","Bo",69447,138,35696.46]
["07CM","Bo",41634,165,42680.55]
["07CN","Bo",81902,194,50181.98]
["07CO","Bo",81967,130,33627.1]
["07CP","Bo",41246,260,67254.2]
["07CQ","Bo",20281,403,104244.01000000001]
["07CT","Bo",32631,85,21986.95]
["07CW","Bo",71749,55,14226.85]
["07CX","Bo",77456,187,48371.29]
["07CY","Bo",40848,84,21728.280000000002]
["07DA","Bo",44201,150,38800.5]
["07DB","Bo",29810,200,51734]
["07DD","Bo",40959,62,16037.54]
["07DE","Bo",44397,107,27677.690000000002]
["07DF","Bo",44397,180,46560.600000000006]
["07DG","Bo",82591,210,54320.700000000004]
["07DH","Bo",40278,71,18365.57]
["07DI","Bo",82747,140,36213.800000000003]
["07DJ","Bo",48101,318,82257.060000000012]
["07DK","Bo",82786,82,21210.940000000002]
["07DL","Bo",41616,229,59235.43]
["07DM","Bo",82838,190,49147.3]
["07DN","Bo",50819,82,21210.940000000002]
["07DP","Bo",20281,553,143044.51]
["07DQ","Bo",82981,241,62339.47]
["07DZ","Bo",83267,149,38541.83]
["07EC","Bo",40676,469,121316.23000000001]
["07ED","Bo",41270,105,27160.350000000002]
["07EE","Bo",41582,96,24832.32]
["07EF","Bo",75219,180,46560.600000000006]
["07EG","Bo",23961,266,68806.22]
["07EI","Bo",41794,616,159340.72]
["07EJ","Bo",38001,95,24573.65]
["07EK","Bo",83579,90,23280.300000000003]
["07EM","Bo",41571,66,17072.22]
["07EN","Bo",41343,137,{"$f":"D2050*IF(B2050=$G$9,WerkdrukbedragPerLeerlingBo,IF(B2050=$G$10,WerkdrukbedragPerLeerlingSbo,IF(B2050=$G$11,WerkdrukbedragPerLeerlingSo,IF(B2050=$G$12,WerkdrukbedragPerLeerlingVso,0))))","v":35437.79}]
["07EP","Bo",89155,69,17848.23]
["07EQ","Bo",42600,162,41904.54]
["07ER","Bo",50819,94,24314.980000000003]
["07ET","Bo",84489,143,36989.810000000005]
["07EX","Bo",84801,390,100881.3]
["07FA","Bo",37299,86,22245.620000000003]
["07FD","Bo",40980,266,68806.22]
["07FE","Bo",41438,139,35955.130000000005]
["07FF","Sbo",85321,404,156756.04]
["07FI","Bo",37663,309,79929.03]
["07FJ","Bo",40706,98,25349.66]
["07FK","Bo",41501,133,34403.11]
["07FL","Bo",41860,163,42163.21]
["07FM","Bo",41662,316,81739.72]
["07FU","Bo",41343,178,46043.26]
["07FU","Bo",41343,33,8536.11]
["07FY","Bo",41488,222,57424.740000000005]
["07FZ","Bo",41638,143,36989.810000000005]
["07GB","Bo",41633,122,31557.74]
["07GC","Bo",41633,349,90275.83]
["07GD","Bo",41471,242,62598.140000000007]
["07GE","Bo",41812,91,23538.97]
["07GT","Bo",41500,158,40869.86]
["07GU","Bo",41860,164,42421.880000000005]
["07GY","Bo",41662,235,60787.450000000004]
["07HL","Bo",40967,266,68806.22]
["07HN","Bo",46697,172,44491.240000000005]
["07HO","Bo",40788,89,23021.63]
["07HP","Bo",42545,93,24056.31]
["07HQ","Bo",81316,159,41128.530000000006]
["07HV","Bo",41782,265,68547.55]
["07HX","Bo",42604,94,24314.980000000003]
["07IA","Bo",42724,142,36731.14]
["07IC","So",41531,99,51216.66]
["07IC","Vso",41531,83,42939.22]
["07IH","Bo",30582,210,54320.700000000004]
["07IJ","Bo",42545,138,35696.46]
["07IK","Bo",24207,199,51475.33]
["07IL","Bo",42656,84,21728.280000000002]
["07IM","Bo",41571,124,32075.08]
["07IP","Bo",40788,125,32333.750000000004]
["07IQ","Vso",24922,59,30523.06]
["07IQ","Vso",24922,22,11381.480000000001]
["07IQ","Vso",24922,40,20693.600000000002]
["07IQ","Vso",24922,39,20176.260000000002]
["07IQ","Vso",24922,56,28971.040000000001]
["07IQ","Vso",24922,101,52251.340000000004]
["07IQ","Vso",24922,83,42939.22]
["07IQ","Vso",24922,263,136060.42000000001]
["07IQ","Vso",24922,87,45008.58]
["07IQ","Vso",24922,13,6725.42]
["07IT","So",30742,46,23797.640000000003]
["07IT","Vso",30742,76,39317.840000000004]
["07IT","So",30742,13,6725.42]
["07IV","Bo",40945,405,104761.35]
["07IX","Bo",40020,635,164255.45000000001]
["07IY","Bo",27067,150,38800.5]
["07IZ","Bo",27340,60,15520.2]
["07JC","Bo",41239,188,48629.960000000006]
["07JE","Bo",41039,237,61304.79]
["07JG","Bo",24597,360,93121.200000000012]
["07JH","Bo",41023,231,59752.770000000004]
["07JK","Bo",28614,244,63115.48]
["07JM","Bo",41439,265,{"$f":"D2114*IF(B2114=$G$9,WerkdrukbedragPerLeerlingBo,IF(B2114=$G$10,WerkdrukbedragPerLeerlingSbo,IF(B2114=$G$11,WerkdrukbedragPerLeerlingSo,IF(B2114=$G$12,WerkdrukbedragPerLeerlingVso,0))))","v":68547.55}]
["07JN","Bo",29823,284,73462.28]
["07JQ","Bo",40788,146,37765.82]
["07JR","Bo",41582,150,38800.5]
["07JU","Bo",41570,234,60528.780000000006]
["07JV","Bo",30889,81,20952.27]
["07JX","Bo",40342,132,34144.44]
["07KA","Bo",41270,230,59494.100000000006]
["07KB","Bo",31890,163,42163.21]
["07KC","Bo",41396,172,44491.240000000005]
["07KD","Bo",32072,468,121057.56000000001]
["07KE","Bo",30235,355,91827.85]
["07KF","Bo",41439,140,36213.800000000003]
["07KG","Bo",92951,156,40352.520000000004]
["07KH","Bo",41286,182,47077.94]
["07KI","Bo",32631,86,22245.620000000003]
["07KJ","Bo",40967,188,48629.960000000006]
["07KK","Bo",42607,51,13192.17]
["07KL","Bo",32813,150,38800.5]
["07KN","Bo",33268,213,55096.710000000006]
["07KO","Bo",41624,101,26125.670000000002]
["07KQ","Bo",23128,189,48888.630000000005]
["07KQ","Bo",23128,54,13968.18]
["07KR","Bo",33645,276,71392.92]
["07KS","Bo",41736,151,39059.170000000006]
["07KT","Bo",33853,145,37507.15]
["07KU","Bo",41624,135,34920.450000000004]
["07KV","Bo",34139,501,129593.67000000001]
["07KX","Bo",31384,184,47595.280000000006]
["07KY","Bo",34646,200,51734]
["07KZ","Bo",41439,78,20176.260000000002]
["07LA","Bo",41487,405,104761.35]
["07LB","Bo",41196,62,16037.54]
["07LC","Bo",41011,121,31299.070000000003]
["07LD","Bo",35504,270,69840.900000000009]
["07LF","Bo",40788,93,24056.31]
["07LH","Bo",40508,208,53803.360000000001]
["07LI","Bo",41233,143,36989.810000000005]
["07LK","Bo",36336,159,41128.530000000006]
["07LM","Bo",36440,179,46301.93]
["07LN","Bo",36479,337,87171.790000000008]
["07LO","Bo",41012,101,26125.670000000002]
["07LP","Bo",41646,109,28195.030000000002]
["07LR","Bo",30133,68,17589.560000000001]
["07LS","Bo",42724,369,95449.23000000001]
["07LT","Bo",40508,430,111228.1]
["07LU","Bo",41558,83,21469.61]
["07LV","Bo",42656,106,27419.02]
["07LW","Bo",37428,379,98035.930000000008]
["07LX","Bo",42759,210,54320.700000000004]
["07LY","Bo",20281,253,65443.51]
["07LZ","Bo",41454,179,46301.93]
["07MB","Bo",41286,220,56907.4]
["07MC","Bo",41358,226,58459.420000000006]
["07MD","Bo",77338,70,18106.900000000001]
["07ME","Bo",40789,91,23538.97]
["07MF","Bo",38650,255,65960.850000000006]
["07MG","Bo",42656,147,38024.490000000005]
["07MH","Bo",41646,154,39835.18]
["07MI","Sbo",41414,97,37636.97]
["07MJ","Bo",41424,181,46819.270000000004]
["07MK","Bo",30582,264,68288.88]
["07ML","Bo",39352,145,37507.15]
["07MN","Bo",44201,267,69064.89]
["07MQ","Bo",40301,396,{"$f":"D2178*IF(B2178=$G$9,WerkdrukbedragPerLeerlingBo,IF(B2178=$G$10,WerkdrukbedragPerLeerlingSbo,IF(B2178=$G$11,WerkdrukbedragPerLeerlingSo,IF(B2178=$G$12,WerkdrukbedragPerLeerlingVso,0))))","v":102433.32}]
["07MR","Bo",41583,103,26643.010000000002]
["07MV","Bo",71008,203,52510.01]
["07MX","Bo",40517,341,88206.47]
["07MY","Bo",41005,87,22504.29]
["07NA","Bo",83280,265,68547.55]
["07NB","Bo",57266,206,53286.020000000004]
["07ND","Bo",48101,280,72427.600000000006]
["07NE","Bo",43005,198,51216.66]
["07NF","Bo",42148,291,75272.97]
["07NG","Bo",40959,86,22245.620000000003]
["07NH","Bo",41794,212,54838.04]
["07NI","Bo",41127,100,25867]
["07NJ","Bo",40712,199,51475.33]
["07NK","Bo",43967,220,56907.4]
["07NM","Bo",42632,71,18365.57]
["07NN","Bo",32073,187,48371.29]
["07NP","Bo",44201,288,74496.960000000006]
["07NQ","Bo",44318,253,65443.51]
["07NR","Bo",40947,275,71134.25]
["07NS","Bo",40888,177,45784.590000000004]
["07NT","Bo",45059,286,73979.62000000001]
["07NU","Bo",40557,224,57942.080000000002]
["07NW","Bo",41270,68,17589.560000000001]
["07NY","Bo",41551,151,39059.170000000006]
["07NZ","Bo",42632,72,18624.240000000002]
["07OA","Bo",41782,130,33627.1]
["07OB","Bo",43928,354,91569.180000000008]
["07OC","Bo",45969,221,57166.070000000007]
["07OD","Bo",40794,96,24832.32]
["07OE","Bo",46021,211,54579.37]
["07OH","Bo",41194,127,32851.090000000004]
["07OJ","Bo",40848,166,42939.22]
["07OK","Bo",46697,163,42163.21]
["07OL","Bo",46723,187,48371.29]
["07OM","Bo",41787,88,22762.960000000003]
["07OQ","Bo",41338,312,80705.040000000008]
["07OT","Bo",41000,245,63374.15]
["07OV","Bo",41184,391,101139.97]
["07OW","Bo",47867,252,65184.840000000004]
["07OX","Bo",47932,246,63632.820000000007]
["07OY","Bo",41551,205,53027.350000000006]
["07OZ","Bo",41440,172,44491.240000000005]
["07PA","Bo",45000,34,8794.7800000000007]
["07PD","Bo",41011,81,20952.27]
["07PE","Bo",42570,98,25349.66]
["07PF","Bo",41782,235,60787.450000000004]
["07PH","Bo",49180,218,56390.060000000005]
["07PI","Bo",40765,135,34920.450000000004]
["07PJ","Bo",41407,449,116142.83]
["07PM","Bo",50129,241,62339.47]
["07PP","Bo",41532,79,20434.93]
["07PR","Bo",41000,117,30264.390000000003]
["07PV","Bo",41000,154,39835.18]
["07PW","Bo",40557,226,58459.420000000006]
["07QB","Bo",77235,239,61822.130000000005]
["07QF","Bo",75375,276,71392.92]
["07QK","Bo",45000,134,34661.78]
["07QM","Bo",45000,342,88465.14]
["07QO","Bo",40888,48,12416.16]
["07QP","Bo",42486,115,29747.050000000003]
["07QQ","Bo",55238,257,66478.19]
["07QS","Bo",40712,302,78118.340000000011]
["07QU","Bo",40676,131,33885.770000000004]
["07QV","Bo",41000,99,{"$f":"D2242*IF(B2242=$G$9,WerkdrukbedragPerLeerlingBo,IF(B2242=$G$10,WerkdrukbedragPerLeerlingSbo,IF(B2242=$G$11,WerkdrukbedragPerLeerlingSo,IF(B2242=$G$12,WerkdrukbedragPerLeerlingVso,0))))","v":25608.33}]
["07QW","Bo",40775,296,76566.320000000007]
["07QZ","Bo",40982,216,55872.72]
["07RC","Bo",58826,227,58718.090000000004]
["07RE","Bo",41506,184,47595.280000000006]
["07RF","Bo",40775,85,21986.95]
["07RG","Bo",40775,275,71134.25]
["07RH","Bo",40775,180,46560.600000000006]
["07RI","Bo",48348,180,46560.600000000006]
["07RJ","Bo",40888,163,42163.21]
["07RK","Bo",70002,229,59235.43]
["07RL","Bo",73919,399,103209.33]
["07RM","Bo",68836,139,35955.130000000005]
["07RO","Bo",41692,518,133991.06]
["07RQ","Bo",42538,263,68030.210000000006]
["07RS","Bo",41154,356,92086.52]
["07RV","Bo",20671,391,101139.97]
["07RY","Bo",75375,199,51475.33]
["07RZ","Bo",48348,41,10605.470000000001]
["07SC","Bo",41012,237,61304.79]
["07SE","Bo",41692,203,52510.01]
["07SG","Bo",40967,378,97777.260000000009]
["07SH","Bo",41228,383,99070.61]
["07SI","Bo",77235,165,42680.55]
["07SL","Bo",48348,135,34920.450000000004]
["07SM","Bo",41223,224,57942.080000000002]
["07SN","Bo",77338,463,119764.21]
["07SO","Bo",40257,238,61563.460000000006]
["07SP","Bo",20281,580,150028.6]
["07SQ","Bo",42616,178,46043.26]
["07ST","Bo",40765,233,60270.11]
["07SY","Bo",42616,121,31299.070000000003]
["07SZ","Bo",50844,297,76824.990000000005]
["07TA","Bo",75375,394,101915.98000000001]
["07TB","Bo",40974,105,27160.350000000002]
["07TC","Bo",75375,124,32075.08]
["07TE","Bo",55238,232,60011.44]
["07TH","Bo",40974,487,125972.29000000001]
["07TJ","Bo",27770,401,103726.67000000001]
["07TJ","Bo",27770,168,43456.560000000005]
["07TK","Bo",41023,397,102691.99]
["07TM","Bo",40812,183,47336.61]
["07TN","Bo",41251,282,72944.94]
["07TO","Bo",75597,391,101139.97]
["07TP","Bo",71956,221,57166.070000000007]
["07TR","Bo",40517,293,75790.31]
["07TT","Bo",26977,284,73462.28]
["07TV","Bo",41794,203,52510.01]
["07TX","Bo",41506,104,26901.68]
["07TY","Bo",41407,106,27419.02]
["07TZ","Bo",43318,166,42939.22]
["07UA","Bo",41148,146,37765.82]
["07UC","Bo",45000,50,12933.5]
["07UD","Bo",40672,216,55872.72]
["07UF","Bo",74049,505,130628.35]
["07UG","Bo",40950,191,49405.97]
["07UH","Bo",41516,350,90534.5]
["07UK","Bo",40987,278,71910.260000000009]
["07UN","Bo",48348,217,56131.390000000007]
["07UO","Bo",40928,253,65443.51]
["07UQ","Bo",73724,420,108641.40000000001]
["07UR","Bo",40974,281,72686.27]
["07US","Bo",40712,305,78894.350000000006]
["07UU","Bo",30240,193,49923.310000000005]
["07UV","Bo",28563,234,{"$f":"D2306*IF(B2306=$G$9,WerkdrukbedragPerLeerlingBo,IF(B2306=$G$10,WerkdrukbedragPerLeerlingSbo,IF(B2306=$G$11,WerkdrukbedragPerLeerlingSo,IF(B2306=$G$12,WerkdrukbedragPerLeerlingVso,0))))","v":60528.780000000006}]
["07UX","Bo",31657,398,102950.66]
["07UY","Bo",41530,359,92862.53]
["07VA","Bo",40662,167,43197.89]
["07VC","Bo",40814,340,87947.8]
["07VD","Bo",37663,156,40352.520000000004]
["07VE","Bo",41407,194,50181.98]
["07VH","Bo",40888,30,7760.1]
["07VI","Bo",75375,343,88723.810000000012]
["07VK","Bo",75531,370,95707.900000000009]
["07VM","Bo",31237,276,71392.92]
["07VO","Bo",55238,214,55355.380000000005]
["07VP","Bo",48348,380,98294.6]
["07VS","Bo",83280,398,102950.66]
["07VT","Bo",41000,189,48888.630000000005]
["07VU","Bo",41000,242,62598.140000000007]
["07VV","Bo",40712,167,43197.89]
["07VW","Bo",77052,216,55872.72]
["07VX","Bo",31384,198,51216.66]
["07VZ","Bo",41000,145,37507.15]
["07WD","So",41200,127,65702.180000000008]
["07WD","So",41200,115,59494.100000000006]
["07WF","Bo",78222,347,89758.49]
["07WG","Bo",25351,153,39576.51]
["07WK","Bo",50844,143,36989.810000000005]
["07WM","Bo",75375,110,28453.7]
["07WN","Bo",41358,165,42680.55]
["07WO","Bo",41052,106,27419.02]
["07WP","Bo",41358,50,12933.5]
["07WQ","Bo",41261,61,15778.87]
["07WT","Bo",41053,805,208229.35]
["07WV","Bo",41373,164,42421.880000000005]
["07WX","Bo",41242,194,50181.98]
["07WY","Bo",42683,585,151321.95000000001]
["07WZ","Bo",81030,81,20952.27]
["07XB","Bo",41005,73,18882.91]
["07XC","Bo",81810,240,62080.800000000003]
["07XG","Bo",85255,180,46560.600000000006]
["07XH","Bo",42570,186,48112.62]
["07XI","Bo",41487,200,51734]
["07XL","Bo",41127,134,34661.78]
["07XM","Bo",41487,141,36472.47]
["07XN","Bo",41845,71,18365.57]
["07XO","Bo",41534,315,81481.05]
["07XP","Bo",82785,211,54579.37]
["07XQ","Bo",41138,121,31299.070000000003]
["07XS","Bo",83019,106,27419.02]
["07XV","Bo",40517,182,47077.94]
["07XX","Bo",83656,281,72686.27]
["07XY","Bo",42596,97,25090.99]
["07YA","Bo",42540,102,26384.34]
["07YC","Bo",83579,282,72944.94]
["07YD","Bo",41621,202,52251.340000000004]
["07YE","Bo",84046,86,22245.620000000003]
["07YK","Bo",41005,105,27160.350000000002]
["07YM","Bo",42632,74,19141.580000000002]
["07YN","Bo",41127,354,91569.180000000008]
["07YO","Bo",70176,232,60011.44]
["07YP","Bo",42559,173,44749.91]
["07YQ","Bo",41571,191,49405.97]
["07YR","Bo",24844,85,21986.95]
["07YS","Bo",41583,105,27160.350000000002]
["07YW","Bo",41343,177,45784.590000000004]
["07YY","Bo",41127,146,37765.82]
["07YZ","Bo",85600,186,{"$f":"D2370*IF(B2370=$G$9,WerkdrukbedragPerLeerlingBo,IF(B2370=$G$10,WerkdrukbedragPerLeerlingSbo,IF(B2370=$G$11,WerkdrukbedragPerLeerlingSo,IF(B2370=$G$12,WerkdrukbedragPerLeerlingVso,0))))","v":48112.62}]
["07ZB","Bo",41460,125,32333.750000000004]
["07ZC","Bo",74531,374,96742.58]
["07ZE","Bo",86464,63,16296.210000000001]
["07ZG","Bo",35466,149,38541.83]
["07ZH","Bo",86802,115,29747.050000000003]
["07ZJ","Bo",42759,68,17589.560000000001]
["07ZL","Bo",87205,173,44749.91]
["07ZN","Bo",42653,53,13709.51]
["07ZO","Bo",41261,105,27160.350000000002]
["07ZP","Bo",41528,190,49147.3]
["07ZQ","Bo",41286,163,42163.21]
["07ZS","Bo",41558,137,35437.79]
["07ZT","Bo",87920,83,21469.61]
["07ZU","Bo",87998,172,44491.240000000005]
["07ZX","Bo",88674,148,38283.160000000003]
["07ZY","Bo",41239,232,60011.44]
["07ZZ","Bo",42724,190,49147.3]
["08AB","Bo",42754,159,41128.530000000006]
["08AD","Bo",89155,211,54579.37]
["08AE","Bo",29810,356,92086.52]
["08AF","Bo",41571,122,31557.74]
["08AG","Bo",41282,120,31040.400000000001]
["08AI","Bo",41571,63,16296.210000000001]
["08AK","Bo",41621,159,41128.530000000006]
["08AL","Bo",40946,46,11898.820000000002]
["08AM","Bo",31075,392,101398.64]
["08AO","Bo",74531,169,43715.23]
["08AP","Bo",90637,265,68547.55]
["08AS","Bo",41558,170,43973.9]
["08AU","Bo",41011,99,25608.33]
["08AV","Bo",91456,146,37765.82]
["08AW","Bo",41127,195,50440.65]
["08AX","Bo",42754,102,26384.34]
["08AY","Bo",41261,56,14485.52]
["08AZ","Bo",41261,37,9570.7900000000009]
["08BC","Bo",41424,98,25349.66]
["08BD","Bo",40862,112,28971.040000000001]
["08BF","Bo",92067,529,136836.43000000002]
["08BH","Bo",30673,219,56648.73]
["08BI","Bo",40789,134,34661.78]
["08BJ","Bo",92626,189,48888.630000000005]
["08BK","Bo",41239,355,91827.85]
["08BL","Bo",41261,66,17072.22]
["08BM","Bo",41472,143,36989.810000000005]
["08BO","Bo",41261,127,32851.090000000004]
["08BP","Bo",41787,66,17072.22]
["08BQ","Bo",41787,56,14485.52]
["08BS","Bo",41358,132,34144.44]
["08BU","Bo",41154,166,42939.22]
["08BV","Bo",41571,77,19917.59]
["08BW","Bo",41261,98,25349.66]
["08BY","Bo",41261,91,23538.97]
["08BZ","Bo",94251,391,101139.97]
["08CA","Bo",40586,424,109676.08]
["08CB","Bo",94433,468,121057.56000000001]
["08CC","Bo",41856,61,15778.87]
["08CD","Bo",94771,266,68806.22]
["08CE","Bo",94797,240,62080.800000000003]
["08CF","Bo",95135,407,105278.69]
["08CG","Sbo",62129,50,19400.5]
["08CI","Bo",41515,374,96742.58]
["08CJ","Bo",96617,297,76824.990000000005]
["08CK","Bo",41548,330,85361.1]
["08CL","Bo",97176,236,{"$f":"D2434*IF(B2434=$G$9,WerkdrukbedragPerLeerlingBo,IF(B2434=$G$10,WerkdrukbedragPerLeerlingSbo,IF(B2434=$G$11,WerkdrukbedragPerLeerlingSo,IF(B2434=$G$12,WerkdrukbedragPerLeerlingVso,0))))","v":61046.12}]
["08CM","Bo",61960,214,55355.380000000005]
["08CM","Bo",61960,178,46043.26]
["08CN","Bo",97358,236,61046.12]
["08CO","Bo",29810,174,45008.58]
["08CP","Bo",41611,589,152356.63]
["08CQ","Bo",98190,245,63374.15]
["08CT","Bo",41052,63,16296.210000000001]
["08CW","Bo",99672,81,20952.27]
["08CX","Bo",99711,172,44491.240000000005]
["08CY","Bo",41787,163,42163.21]
["08DC","Bo",13878,45,11640.150000000001]
["08DD","Bo",41613,54,13968.18]
["08DE","Bo",41633,78,20176.260000000002]
["08DF","Bo",41574,252,65184.840000000004]
["08DF","Bo",41574,35,9053.4500000000007]
["08DH","Bo",41785,183,47336.61]
["08DI","Bo",41638,114,29488.38]
["08DJ","Bo",41471,135,34920.450000000004]
["08DM","Bo",41860,420,108641.40000000001]
["08DN","Bo",41413,45,11640.150000000001]
["08DV","Bo",41011,44,11381.480000000001]
["08DX","Bo",40803,144,37248.480000000003]
["08DZ","Bo",41662,242,62598.140000000007]
["08EA","Bo",41785,47,12157.490000000002]
["08EC","Bo",77975,14,3621.38]
["08EE","Bo",41435,528,136577.76]
["08EM","Bo",41481,119,30781.730000000003]
["08EN","Bo",41481,188,48629.960000000006]
["08EO","Bo",41496,298,77083.66]
["08EP","Bo",41630,1,258.67]
["08ER","Bo",41629,66,17072.22]
["08EU","Bo",41401,127,32851.090000000004]
["08EV","Bo",41443,139,35955.130000000005]
["08EW","Bo",41595,327,84585.090000000011]
["08EY","Bo",41530,315,81481.05]
["08EZ","Bo",41899,98,25349.66]
["08FA","Bo",41371,92,23797.640000000003]
["08FC","Bo",41538,123,31816.410000000003]
["08FE","Bo",41376,96,24832.32]
["08FE","Bo",41376,125,32333.750000000004]
["08FF","Bo",41401,364,94155.88]
["08FG","Bo",41638,53,13709.51]
["08FH","Bo",77235,152,39317.840000000004]
["08FI","Bo",41856,78,20176.260000000002]
["08FJ","Bo",41557,108,27936.36]
["08FQ","Bo",28601,139,35955.130000000005]
["08FS","Bo",41488,151,39059.170000000006]
["08FU","Bo",41398,330,85361.1]
["08FW","Bo",13683,118,30523.06]
["08FX","Bo",41856,119,30781.730000000003]
["08GE","Bo",41595,247,63891.490000000005]
["08GF","Bo",41401,215,55614.05]
["08GH","Bo",41496,253,65443.51]
["08GN","Bo",41775,168,43456.560000000005]
["08GQ","Bo",41780,109,28195.030000000002]
["08GW","Bo",28601,92,23797.640000000003]
["08GX","Bo",78222,266,68806.22]
["08GY","Bo",41443,265,68547.55]
["08GZ","Bo",41571,110,28453.7]
["08HA","Bo",42623,258,66736.86]
["08HD","Bo",41633,241,62339.47]
["08HK","Bo",41633,78,20176.260000000002]
["08HM","Bo",41538,90,23280.300000000003]
["08HN","Bo",41544,171,{"$f":"D2498*IF(B2498=$G$9,WerkdrukbedragPerLeerlingBo,IF(B2498=$G$10,WerkdrukbedragPerLeerlingSbo,IF(B2498=$G$11,WerkdrukbedragPerLeerlingSo,IF(B2498=$G$12,WerkdrukbedragPerLeerlingVso,0))))","v":44232.57}]
["08HP","Bo",41400,334,86395.78]
["08HQ","Bo",41557,257,66478.19]
["08IB","Bo",41574,188,48629.960000000006]
["08IC","Bo",41613,131,33885.770000000004]
["08IE","Bo",41638,212,54838.04]
["08IF","Bo",41565,89,23021.63]
["08IH","Bo",13682,403,104244.01000000001]
["08IN","Bo",41401,183,47336.61]
["08IR","Bo",75388,635,164255.45000000001]
["08IS","Bo",42538,128,33109.760000000002]
["08IT","Bo",41792,276,71392.92]
["08IV","Bo",41502,66,17072.22]
["08IW","Bo",41191,77,19917.59]
["08JC","Bo",20243,270,69840.900000000009]
["08JE","Bo",41860,145,37507.15]
["08JF","Bo",22622,417,107865.39]
["08JH","Bo",42607,376,97259.920000000013]
["08JJ","Bo",23961,47,12157.490000000002]
["08JL","Bo",25196,277,71651.590000000011]
["08JM","Bo",41651,65,16813.55]
["08JO","Bo",26158,489,126489.63]
["08JP","Bo",41582,185,47853.950000000004]
["08JS","Bo",40662,318,82257.060000000012]
["08JT","Bo",41407,158,40869.86]
["08JU","Bo",41528,268,69323.56]
["08JV","Bo",41001,279,72168.930000000008]
["08JW","Bo",40803,162,41904.54]
["08JY","Bo",77235,488,126230.96]
["08JZ","Bo",41376,323,83550.41]
["08KA","Bo",40765,129,33368.43]
["08KC","Bo",27770,234,60528.780000000006]
["08KD","Bo",40967,397,102691.99]
["08KE","Bo",40812,53,13709.51]
["08KF","Bo",31017,84,21728.280000000002]
["08KH","Bo",41530,222,57424.740000000005]
["08KI","Bo",31017,219,56648.73]
["08KJ","Bo",42540,289,74755.63]
["08KK","Bo",77195,178,46043.26]
["08KN","Bo",42669,76,19658.920000000002]
["08KO","Bo",41242,229,59235.43]
["08KP","Bo",75753,85,21986.95]
["08KQ","Bo",41692,191,49405.97]
["08KR","Bo",27770,138,35696.46]
["08KT","Bo",40987,246,63632.820000000007]
["08KU","Bo",31384,137,35437.79]
["08KV","Bo",31657,121,31299.070000000003]
["08KX","Bo",40557,112,28971.040000000001]
["08LA","Bo",32060,65,16813.55]
["08LC","Bo",30240,401,103726.67000000001]
["08LE","Bo",35466,730,188829.1]
["08LH","Bo",43967,220,56907.4]
["08LJ","Bo",41516,212,54838.04]
["08LL","Bo",27910,240,62080.800000000003]
["08LM","Bo",37663,203,52510.01]
["08LQ","Bo",44201,344,88982.48000000001]
["08LR","Bo",41582,259,66995.53]
["08LS","Bo",41407,396,102433.32]
["08LV","Bo",40903,194,50181.98]
["08LY","Bo",41340,197,50957.990000000005]
["08LZ","Bo",40789,133,34403.11]
["08MB","Bo",41797,127,32851.090000000004]
["08MD","Bo",41692,168,43456.560000000005]
["08ME","Bo",40987,278,71910.260000000009]
["08MF","Bo",40848,310,{"$f":"D2562*IF(B2562=$G$9,WerkdrukbedragPerLeerlingBo,IF(B2562=$G$10,WerkdrukbedragPerLeerlingSbo,IF(B2562=$G$11,WerkdrukbedragPerLeerlingSo,IF(B2562=$G$12,WerkdrukbedragPerLeerlingVso,0))))","v":80187.700000000012}]
["08MJ","Bo",41782,127,32851.090000000004]
["08MK","Bo",44397,142,36731.14]
["08MN","Bo",42486,161,41645.870000000003]
["08MO","Bo",77975,193,49923.310000000005]
["08MQ","Bo",43305,49,12674.83]
["08MR","Bo",41090,41,10605.470000000001]
["08MS","Bo",75219,111,28712.370000000003]
["08MU","Bo",41516,250,64667.500000000007]
["08MV","Bo",74049,230,59494.100000000006]
["08MW","Bo",41516,292,75531.64]
["08MX","Bo",71956,112,28971.040000000001]
["08MY","Bo",75375,175,45267.25]
["08NA","Bo",40803,38,9829.4600000000009]
["08NB","Bo",40894,316,81739.72]
["08NC","Bo",25351,205,53027.350000000006]
["08ND","Bo",77975,80,20693.600000000002]
["08NF","Bo",20281,307,79411.69]
["08NH","Bo",46724,137,35437.79]
["08NI","Bo",41447,492,127265.64000000001]
["08NJ","Bo",26977,403,104244.01000000001]
["08NL","Bo",75753,170,43973.9]
["08NM","Bo",41223,76,19658.920000000002]
["08NN","Bo",41223,142,36731.14]
["08NO","Bo",41228,406,105020.02]
["08NP","Bo",73919,383,99070.61]
["08NU","Bo",30320,201,51992.670000000006]
["08NV","Bo",40888,308,79670.36]
["08NW","Bo",41845,147,38024.490000000005]
["08NX","Bo",27910,308,79670.36]
["08NZ","Bo",48101,652,168652.84]
["08OD","Bo",42754,254,65702.180000000008]
["08OF","Bo",50195,536,138647.12]
["08OM","Bo",75375,351,90793.170000000013]
["08ON","Bo",50819,92,23797.640000000003]
["08OQ","Bo",79874,84,21728.280000000002]
["08OS","Bo",23961,231,59752.770000000004]
["08OU","Bo",40894,121,31299.070000000003]
["08OW","Bo",43318,137,35437.79]
["08OX","Bo",41286,140,36213.800000000003]
["08OY","Bo",77456,225,58200.75]
["08OZ","Bo",61661,136,35179.120000000003]
["08PB","Bo",74154,234,60528.780000000006]
["08PE","Bo",75753,255,65960.850000000006]
["08PF","Bo",40946,191,49405.97]
["08PH","Bo",41005,149,38541.83]
["08PI","Bo",42656,171,44232.57]
["08PJ","Bo",41001,251,64926.170000000006]
["08PK","Bo",45000,37,9570.7900000000009]
["08PM","Bo",45000,157,40611.19]
["08PO","Bo",41020,199,51475.33]
["08PP","Bo",32073,235,60787.450000000004]
["08PQ","So",83189,105,54320.700000000004]
["08PQ","Vso",83189,175,90534.5]
["08PQ","So",83189,73,37765.82]
["08PR","Bo",41196,56,14485.52]
["08PV","Bo",40712,219,56648.73]
["08PW","Bo",48348,94,24314.980000000003]
["08PY","Bo",31384,50,12933.5]
["08QB","Bo",20281,399,103209.33]
["08QG","Bo",48348,109,28195.030000000002]
["08QH","Bo",85255,155,40093.850000000006]
["08QM","Bo",41782,37,9570.7900000000009]
["08QN","Bo",83280,256,66219.520000000004]
["08QO","Bo",41373,325,{"$f":"D2626*IF(B2626=$G$9,WerkdrukbedragPerLeerlingBo,IF(B2626=$G$10,WerkdrukbedragPerLeerlingSbo,IF(B2626=$G$11,WerkdrukbedragPerLeerlingSo,IF(B2626=$G$12,WerkdrukbedragPerLeerlingVso,0))))","v":84067.75}]
["08QP","Bo",40848,154,39835.18]
["08QS","Bo",83280,264,68288.88]
["08QU","Bo",41516,354,91569.180000000008]
["08QW","Bo",83280,253,65443.51]
["08QX","Bo",31384,100,25867]
["08RA","Bo",37663,130,33627.1]
["08RC","Bo",74973,395,102174.65000000001]
["08RD","Bo",41516,238,61563.460000000006]
["08RK","Bo",75974,224,57942.080000000002]
["08RL","Bo",41787,362,93638.540000000008]
["08RM","Bo",76715,414,107089.38]
["08RN","Bo",50949,313,80963.710000000006]
["08RO","Bo",76793,403,104244.01000000001]
["08RP","Bo",41530,178,46043.26]
["08RQ","Bo",41632,233,60270.11]
["08RR","Bo",46724,83,21469.61]
["08RU","Bo",32060,334,86395.78]
["08SE","Bo",41359,140,36213.800000000003]
["08SL","Bo",71749,106,27419.02]
["08SP","Bo",22725,329,85102.430000000008]
["08SQ","Bo",75753,286,73979.62000000001]
["08SR","Sbo",42687,168,65185.68]
["08ST","So",42665,47,24314.980000000003]
["08ST","Vso",42665,53,27419.02]
["08SV","Bo",41571,124,32075.08]
["08SW","Bo",41780,186,48112.62]
["08SX","Bo",41191,164,42421.880000000005]
["08SY","Bo",41435,81,20952.27]
["08SY","Bo",41435,67,17330.89]
["08TE","Bo",30010,313,80963.710000000006]
["08TI","Bo",41638,71,18365.57]
["08TJ","Bo",23128,163,42163.21]
["08TK","Bo",41191,152,39317.840000000004]
["08TL","Bo",41812,108,27936.36]
["08TM","Bo",41829,428,110710.76000000001]
["08TN","Bo",23128,232,60011.44]
["08TO","Bo",41500,221,57166.070000000007]
["08TV","Bo",41020,263,68030.210000000006]
["08UA","Bo",41638,95,24573.65]
["08UC","Bo",42669,210,54320.700000000004]
["08UD","Bo",41574,123,31816.410000000003]
["08UJ","Bo",40788,33,8536.11]
["08UN","Bo",41558,183,47336.61]
["08UO","Bo",22725,319,82515.73000000001]
["08UP","Bo",23128,127,32851.090000000004]
["08US","Bo",23674,151,39059.170000000006]
["08UT","Bo",24844,136,35179.120000000003]
["08UU","Bo",80433,421,108900.07]
["08UW","Bo",27067,118,30523.06]
["08UX","Bo",42669,320,82774.400000000009]
["08UY","Bo",74531,301,77859.67]
["08VA","Bo",28614,237,61304.79]
["08VB","Bo",29056,260,67254.2]
["08VC","Bo",45000,212,54838.04]
["08VE","Bo",27910,173,44749.91]
["08VG","Bo",41483,260,67254.2]
["08VH","Bo",41624,156,40352.520000000004]
["08VI","Bo",41736,162,41904.54]
["08VK","Bo",41487,225,58200.75]
["08VL","Bo",40959,119,30781.730000000003]
["08VM","Bo",40508,256,66219.520000000004]
["08VN","Bo",47595,225,58200.75]
["08VO","Bo",40775,230,59494.100000000006]
["08VP","Bo",36479,405,{"$f":"D2690*IF(B2690=$G$9,WerkdrukbedragPerLeerlingBo,IF(B2690=$G$10,WerkdrukbedragPerLeerlingSbo,IF(B2690=$G$11,WerkdrukbedragPerLeerlingSo,IF(B2690=$G$12,WerkdrukbedragPerLeerlingVso,0))))","v":104761.35}]
["08VQ","Bo",41558,102,26384.34]
["08VR","Bo",20281,224,57942.080000000002]
["08VS","Bo",41624,140,36213.800000000003]
["08VT","Bo",41460,352,91051.840000000011]
["08VV","Bo",20671,77,19917.59]
["08VW","Bo",38819,131,33885.770000000004]
["08VY","Bo",41886,121,31299.070000000003]
["08VZ","Bo",41424,195,50440.65]
["08WB","Bo",40712,223,57683.41]
["08WC","Bo",30582,263,68030.210000000006]
["08WD","Bo",39352,242,62598.140000000007]
["08WF","Bo",41583,141,36472.47]
["08WG","Bo",41787,253,65443.51]
["08WG","Bo",41787,71,18365.57]
["08WH","Bo",31237,179,46301.93]
["08WK","Bo",40278,181,46819.270000000004]
["08WK","Bo",40278,136,35179.120000000003]
["08WM","Bo",37949,58,15002.86]
["08WO","Bo",41337,103,26643.010000000002]
["08WQ","Bo",48101,543,140457.81]
["08WR","Bo",43967,500,129335.00000000001]
["08WS","Bo",40508,217,56131.390000000007]
["08WT","Bo",41338,248,64150.16]
["08WU","Bo",44201,124,32075.08]
["08WV","Bo",44318,143,36989.810000000005]
["08WW","Bo",41407,305,78894.350000000006]
["08WY","Bo",40517,363,93897.21]
["08XB","Bo",43928,274,70875.58]
["08XC","Bo",40941,321,83033.070000000007]
["08XD","Bo",41138,79,20434.93]
["08XF","Bo",46060,202,52251.340000000004]
["08XG","Bo",41621,330,85361.1]
["08XH","Bo",40848,488,126230.96]
["08XI","Bo",46723,368,95190.560000000012]
["08XJ","Bo",47867,228,58976.76]
["08XL","Bo",45000,60,15520.2]
["08XM","Bo",48348,110,28453.7]
["08XR","Bo",41251,338,87430.46]
["08XS","Bo",40557,213,55096.710000000006]
["08XT","Bo",70002,271,70099.570000000007]
["08XV","Bo",77235,295,76307.650000000009]
["08YA","Bo",55238,156,40352.520000000004]
["08YB","Bo",55303,442,114332.14000000001]
["08YE","Bo",40676,230,59494.100000000006]
["08YI","Bo",40982,272,70358.240000000005]
["08YK","Bo",40775,192,49664.639999999999]
["08YM","Bo",41154,340,87947.8]
["08YN","Bo",41251,391,101139.97]
["08YO","Bo",41251,452,116918.84000000001]
["08YP","Bo",40967,385,99587.950000000012]
["08YR","Bo",50819,271,70099.570000000007]
["08YS","Bo",25351,94,24314.980000000003]
["08YT","Bo",55238,200,51734]
["08YU","Bo",24597,535,138388.45000000001]
["08YV","Bo",41223,348,90017.16]
["08YZ","Bo",71749,192,49664.639999999999]
["08ZB","Bo",68836,119,30781.730000000003]
["08ZC","Bo",42616,194,50181.98]
["08ZD","Bo",55238,193,49923.310000000005]
["08ZE","Bo",41023,187,48371.29]
["08ZG","Bo",40557,166,42939.22]
["08ZI","Bo",71956,339,87689.13]
["08ZK","Bo",40765,263,68030.210000000006]
["08ZL","Bo",41506,223,{"$f":"D2754*IF(B2754=$G$9,WerkdrukbedragPerLeerlingBo,IF(B2754=$G$10,WerkdrukbedragPerLeerlingSbo,IF(B2754=$G$11,WerkdrukbedragPerLeerlingSo,IF(B2754=$G$12,WerkdrukbedragPerLeerlingVso,0))))","v":57683.41}]
["08ZN","Bo",41148,212,54838.04]
["08ZO","Bo",48348,118,30523.06]
["08ZP","So",21657,208,107606.72]
["08ZP","So",21657,150,77601]
["08ZP","Vso",21657,257,132956.38]
["08ZP","So",21657,291,150545.94]
["08ZP","So",21657,112,57942.080000000002]
["08ZP","So",21657,86,44491.240000000005]
["08ZS","Bo",77533,282,72944.94]
["08ZT","Bo",48348,217,56131.390000000007]
["08ZU","Bo",20281,333,86137.11]
["08ZV","Bo",40712,303,78377.010000000009]
["08ZW","Bo",40557,204,52768.68]
["08ZX","Bo",73919,347,89758.49]
["09AA","Bo",40814,273,70616.91]
["09AB","Bo",28563,320,82774.400000000009]
["09AC","Bo",31657,230,59494.100000000006]
["09AE","Bo",74426,449,116142.83]
["09AF","Bo",71008,278,71910.260000000009]
["09AG","Bo",22725,118,30523.06]
["09AH","Bo",74868,483,124937.61]
["09AI","Bo",37663,56,14485.52]
["09AJ","Bo",32060,121,31299.070000000003]
["09AK","Bo",75375,168,43456.560000000005]
["09AM","Bo",75531,203,52510.01]
["09AO","Bo",55238,360,93121.200000000012]
["09AP","Bo",41000,398,102950.66]
["09AR","Bo",40712,112,28971.040000000001]
["09AS","Bo",77533,255,65960.850000000006]
["09AT","Bo",50819,451,116660.17000000001]
["09AU","Bo",41506,78,20176.260000000002]
["09AW","Bo",57266,391,101139.97]
["09AY","Bo",77338,201,51992.670000000006]
["09AZ","Bo",78222,261,67512.87000000001]
["09BA","Bo",41516,318,82257.060000000012]
["09BB","Bo",75219,328,84843.760000000009]
["09BC","Bo",60997,157,40611.19]
["09BD","Bo",40517,233,60270.11]
["09BE","Bo",41358,215,55614.05]
["09BH","Bo",40775,286,73979.62000000001]
["09BJ","Bo",41242,180,46560.600000000006]
["09BK","Bo",41337,218,56390.060000000005]
["09BL","Bo",41261,253,65443.51]
["09BO","Bo",41194,175,45267.25]
["09BP","Bo",82785,396,102433.32]
["09BR","Bo",83149,226,58459.420000000006]
["09BS","Bo",42744,350,90534.5]
["09BT","Bo",83579,183,47336.61]
["09BV","Bo",42754,154,39835.18]
["09BX","Bo",41439,219,56648.73]
["09BY","Bo",41194,214,55355.380000000005]
["09CA","Bo",41473,208,53803.360000000001]
["09CB","Bo",41473,365,94414.55]
["09CD","Bo",41460,173,44749.91]
["09CE","Bo",85476,184,47595.280000000006]
["09CH","Bo",42545,79,20434.93]
["09CJ","Bo",41782,96,24832.32]
["09CL","Bo",41251,194,50181.98]
["09CO","Bo",75753,217,56131.390000000007]
["09CP","Bo",41898,103,26643.010000000002]
["09CR","Bo",42759,99,25608.33]
["09CS","Bo",41845,135,34920.450000000004]
["09CT","Bo",40788,137,35437.79]
["09CU","Bo",90169,210,{"$f":"D2818*IF(B2818=$G$9,WerkdrukbedragPerLeerlingBo,IF(B2818=$G$10,WerkdrukbedragPerLeerlingSbo,IF(B2818=$G$11,WerkdrukbedragPerLeerlingSo,IF(B2818=$G$12,WerkdrukbedragPerLeerlingVso,0))))","v":54320.700000000004}]
["09CV","Bo",47595,366,94673.22]
["09CW","Bo",74531,333,86137.11]
["09CY","Bo",40794,201,51992.670000000006]
["09CZ","Bo",30673,305,78894.350000000006]
["09DB","Bo",41845,161,41645.870000000003]
["09DC","Bo",41011,154,39835.18]
["09DD","Bo",94433,501,129593.67000000001]
["09DE","Bo",40637,219,56648.73]
["09DF","Bo",41296,600,155202]
["09DH","Bo",61960,540,139681.80000000002]
["09DI","Bo",97358,223,57683.41]
["09DL","Bo",41787,392,101398.64]
["09DN","Bo",13878,32,8277.44]
["09DO","Bo",41613,132,34144.44]
["09DP","Bo",41574,54,13968.18]
["09DQ","Bo",41443,137,35437.79]
["09DS","Bo",41434,208,53803.360000000001]
["09DT","Bo",41362,309,79929.03]
["09DV","Bo",41530,97,25090.99]
["09DW","Bo",42567,154,39835.18]
["09EB","Sbo",74531,101,39189.01]
["09ED","Bo",41693,51,13192.17]
["09EE","Bo",41582,153,39576.51]
["09EG","Bo",42623,40,10346.800000000001]
["09EI","Bo",41435,63,16296.210000000001]
["09ES","Bo",41434,75,19400.25]
["09ET","Bo",41662,121,31299.070000000003]
["09EU","Bo",41613,80,20693.600000000002]
["09EV","Bo",41816,102,26384.34]
["09EZ","Bo",41443,255,65960.850000000006]
["09FB","Bo",41530,197,50957.990000000005]
["09FC","Bo",41899,104,26901.68]
["09FD","Bo",41444,242,62598.140000000007]
["09FE","Bo",41371,152,39317.840000000004]
["09FF","Bo",41538,159,41128.530000000006]
["09FH","Bo",41785,91,23538.97]
["09FM","Bo",41856,27,6984.09]
["09FN","Bo",41851,82,21210.940000000002]
["09FN","Bo",41851,27,6984.09]
["09FO","Bo",41557,79,20434.93]
["09FV","Bo",11711,209,54062.030000000006]
["09FW","Bo",41491,158,40869.86]
["09FX","Bo",41471,484,125196.28000000001]
["09FY","Bo",83280,361,93379.87000000001]
["09GA","Bo",41566,301,77859.67]
["09GB","Bo",13683,215,55614.05]
["09GJ","Bo",41496,281,72686.27]
["09GK","Bo",41502,212,54838.04]
["09GM","Bo",41349,562,145372.54]
["09GN","Bo",41502,75,19400.25]
["09GQ","Bo",41775,155,40093.850000000006]
["09GT","Bo",41421,178,46043.26]
["09HB","Bo",41571,57,14744.19]
["09HC","Bo",41638,92,23797.640000000003]
["09HC","Bo",41638,48,12416.16]
["09HF","Bo",11711,144,37248.480000000003]
["09HG","Bo",41895,28,7242.76]
["09HH","Bo",41630,113,29229.710000000003]
["09HI","Bo",75388,95,24573.65]
["09HP","Bo",41191,105,27160.350000000002]
["09HT","Bo",41538,61,15778.87]
["09HW","Bo",41899,34,8794.7800000000007]
["09HX","Bo",41400,261,67512.87000000001]
["09HY","Bo",41557,138,{"$f":"D2882*IF(B2882=$G$9,WerkdrukbedragPerLeerlingBo,IF(B2882=$G$10,WerkdrukbedragPerLeerlingSbo,IF(B2882=$G$11,WerkdrukbedragPerLeerlingSo,IF(B2882=$G$12,WerkdrukbedragPerLeerlingVso,0))))","v":35696.46}]
["09IE","Bo",41866,333,86137.11]
["09IF","Bo",41565,118,30523.06]
["09IH","Bo",13682,476,123126.92000000001]
["09IJ","Bo",41574,111,28712.370000000003]
["09IP","Bo",30015,189,48888.630000000005]
["09IQ","Bo",41434,379,98035.930000000008]
["09IR","Bo",40278,484,125196.28000000001]
["09IS","Bo",75388,65,16813.55]
["09IT","Bo",41792,191,49405.97]
["09IV","Bo",41502,63,16296.210000000001]
["09IW","Bo",41191,42,10864.140000000001]
["09JB","Bo",22725,165,42680.55]
["09JE","Bo",23337,293,75790.31]
["09JG","Bo",42607,157,40611.19]
["09JH","Bo",42724,210,54320.700000000004]
["09JI","Bo",23883,222,57424.740000000005]
["09JJ","Bo",42607,263,68030.210000000006]
["09JK","Bo",25196,218,56390.060000000005]
["09JL","Bo",41651,132,34144.44]
["09JN","Bo",26158,386,99846.62000000001]
["09JP","Bo",40971,227,58718.090000000004]
["09JQ","Bo",40662,226,58459.420000000006]
["09JT","Bo",41407,152,39317.840000000004]
["09JU","Bo",77235,277,71651.590000000011]
["09JV","Bo",41376,202,52251.340000000004]
["09JX","Bo",40812,142,36731.14]
["09JY","Bo",27770,182,47077.94]
["09JZ","Bo",40967,425,109934.75]
["09KA","Bo",40812,148,38283.160000000003]
["09KD","Bo",28849,395,102174.65000000001]
["09KF","Bo",41000,575,148735.25]
["09KG","Bo",41424,227,58718.090000000004]
["09KH","Bo",29785,218,56390.060000000005]
["09KK","Bo",40971,300,77601]
["09KL","Bo",40557,51,13192.17]
["09KN","Bo",40517,76,19658.920000000002]
["09KO","Bo",32073,168,43456.560000000005]
["09KQ","Bo",32580,197,50957.990000000005]
["09KS","Bo",35466,201,51992.670000000006]
["09KU","Bo",41223,292,75531.64]
["09KV","Bo",37299,211,54579.37]
["09KW","Bo",27910,114,29488.38]
["09KZ","Bo",41447,295,76307.650000000009]
["09LC","Bo",68836,116,30005.72]
["09LD","Bo",41340,169,43715.23]
["09LF","Bo",40706,419,108382.73000000001]
["09LJ","Bo",41692,190,49147.3]
["09LK","Bo",41282,86,22245.620000000003]
["09LL","Bo",41782,312,80705.040000000008]
["09LM","Bo",42148,355,91827.85]
["09LN","Bo",42486,210,54320.700000000004]
["09LO","Bo",41293,285,73720.950000000012]
["09LP","Bo",42683,411,106313.37000000001]
["09LQ","Bo",43305,247,63891.490000000005]
["09LR","Bo",41340,176,45525.920000000006]
["09LS","Bo",75219,285,73720.950000000012]
["09LU","Bo",41516,288,74496.960000000006]
["09LW","Bo",41516,217,56131.390000000007]
["09LZ","Bo",40378,296,76566.320000000007]
["09MF","Bo",40950,319,82515.73000000001]
["09MG","Bo",46724,200,51734]
["09MH","Bo",41447,339,87689.13]
["09MJ","Bo",41223,280,72427.600000000006]
["09MK","Bo",41223,84,{"$f":"D2946*IF(B2946=$G$9,WerkdrukbedragPerLeerlingBo,IF(B2946=$G$10,WerkdrukbedragPerLeerlingSbo,IF(B2946=$G$11,WerkdrukbedragPerLeerlingSo,IF(B2946=$G$12,WerkdrukbedragPerLeerlingVso,0))))","v":21728.280000000002}]
["09ML","Bo",41516,198,51216.66]
["09MN","Bo",48101,172,44491.240000000005]
["09MO","Bo",47920,215,55614.05]
["09MP","Bo",41039,294,76048.98000000001]
["09MQ","Bo",48622,299,77342.33]
["09MS","Bo",69669,207,53544.69]
["09MT","Bo",48101,245,63374.15]
["09MU","Bo",42148,272,70358.240000000005]
["09MX","Bo",42754,268,69323.56]
["09MY","Bo",75753,146,37765.82]
["09MZ","Bo",50195,204,52768.68]
["09NC","Bo",50819,364,94155.88]
["09ND","Bo",41000,111,28712.370000000003]
["09NG","Bo",79874,229,59235.43]
["09NH","Bo",59555,392,101398.64]
["09NJ","Bo",41860,186,48112.62]
["09NN","Bo",41296,212,54838.04]
["09NN","Bo",41296,211,54579.37]
["09NO","Bo",42604,181,46819.270000000004]
["09NT","Bo",41196,257,66478.19]
["09NW","Bo",78222,143,36989.810000000005]
["09NZ","Bo",41246,450,116401.5]
["09OA","Bo",42545,120,31040.400000000001]
["09OB","Bo",45000,259,66995.53]
["09OD","Bo",35466,230,59494.100000000006]
["09OE","Sbo",41879,69,26772.69]
["09OF","Bo",83280,187,48371.29]
["09OV","Bo",40020,200,51734]
["09PB","Bo",78222,179,46301.93]
["09PC","Sbo",73114,338,131147.38]
["09PD","Bo",73283,371,95966.57]
["09PE","Bo",75388,174,45008.58]
["09PF","Bo",74049,369,95449.23000000001]
["09PH","Bo",41246,119,30781.730000000003]
["09PI","Bo",41454,228,58976.76]
["09PJ","Bo",42754,92,23797.640000000003]
["09PM","Bo",73712,205,53027.350000000006]
["09PV","Bo",41632,299,77342.33]
["09PX","Bo",41340,597,154425.99000000002]
["09PZ","Bo",41528,198,51216.66]
["09PZ","Bo",41528,25,6466.75]
["09QA","Bo",62662,209,54062.030000000006]
["09QC","Bo",41012,138,35696.46]
["09QG","Bo",73919,214,55355.380000000005]
["09QJ","Bo",31384,142,36731.14]
["09QN","So",85255,48,24832.32]
["09QN","Vso",85255,52,26901.68]
["09QP","Bo",32073,81,20952.27]
["09QQ","Bo",41645,186,48112.62]
["09QR","Bo",61751,246,63632.820000000007]
["09QY","Bo",41633,234,60528.780000000006]
["09QZ","Bo",41435,188,48629.960000000006]
["09RA","Bo",42623,76,19658.920000000002]
["09RG","Bo",41435,397,102691.99]
["09RO","Bo",41862,39,10088.130000000001]
["09RP","Bo",41638,82,21210.940000000002]
["09RQ","Bo",41413,198,51216.66]
["09RR","Bo",41191,47,12157.490000000002]
["09RS","Bo",41812,50,12933.5]
["09RU","Bo",41500,135,34920.450000000004]
["09SF","Bo",42669,309,79929.03]
["09SG","Bo",23128,91,23538.97]
["09SQ","Bo",41286,226,58459.420000000006]
["09ST","Bo",22725,144,{"$f":"D3010*IF(B3010=$G$9,WerkdrukbedragPerLeerlingBo,IF(B3010=$G$10,WerkdrukbedragPerLeerlingSbo,IF(B3010=$G$11,WerkdrukbedragPerLeerlingSo,IF(B3010=$G$12,WerkdrukbedragPerLeerlingVso,0))))","v":37248.480000000003}]
["09SW","Bo",30582,236,61046.12]
["09SX","Bo",23674,220,56907.4]
["09SY","Bo",25351,85,21986.95]
["09TB","Bo",27910,268,69323.56]
["09TC","Bo",74531,160,41387.200000000004]
["09TE","Bo",29056,199,51475.33]
["09TG","Bo",29810,317,81998.39]
["09TH","Bo",41011,97,25090.99]
["09TI","Bo",27910,200,51734]
["09TJ","Bo",41483,224,57942.080000000002]
["09TM","Bo",23128,135,34920.450000000004]
["09TP","Bo",47595,301,77859.67]
["09TV","Bo",41624,348,90017.16]
["09TW","Bo",41460,200,51734]
["09TX","Bo",20671,104,26901.68]
["09TY","Bo",38819,193,49923.310000000005]
["09TZ","Bo",38910,413,106830.71]
["09UA","Bo",41886,154,39835.18]
["09UD","Bo",41419,295,76307.650000000009]
["09UE","Bo",40327,267,69064.89]
["09UG","Bo",61751,309,79929.03]
["09UH","Bo",41731,221,57166.070000000007]
["09UI","Bo",57266,243,62856.810000000005]
["09UJ","Bo",41239,242,62598.140000000007]
["09UK","Bo",37949,433,112004.11]
["09UL","Bo",42524,351,90793.170000000013]
["09UN","Bo",41337,241,62339.47]
["09UO","Bo",48101,399,103209.33]
["09UQ","Bo",40934,348,90017.16]
["09US","Bo",44201,284,73462.28]
["09UT","Bo",42759,56,14485.52]
["09UU","Bo",40517,311,80446.37000000001]
["09UW","Bo",41278,150,38800.5]
["09UY","Bo",41621,272,70358.240000000005]
["09VB","Bo",48101,248,64150.16]
["09VE","Bo",41251,210,54320.700000000004]
["09VH","Bo",77235,210,54320.700000000004]
["09VI","Bo",73191,437,113038.79000000001]
["09VJ","Bo",40888,238,61563.460000000006]
["09VO","Bo",55303,125,32333.750000000004]
["09VP","Bo",40712,340,87947.8]
["09VR","Bo",22725,661,170980.87000000002]
["09VU","Bo",40982,152,39317.840000000004]
["09VY","Bo",77195,127,32851.090000000004]
["09VZ","Bo",42538,298,77083.66]
["09WB","Bo",41154,120,31040.400000000001]
["09WD","Bo",41506,223,57683.41]
["09WE","Bo",40967,326,84326.42]
["09WF","Bo",20671,301,77859.67]
["09WH","Bo",25351,162,41904.54]
["09WL","Bo",41148,299,77342.33]
["09WM","Bo",40765,288,74496.960000000006]
["09WN","Bo",68836,349,90275.83]
["09WO","Bo",41023,222,57424.740000000005]
["09WP","Bo",41251,273,70616.91]
["09WS","Bo",40765,184,47595.280000000006]
["09WT","Bo",41407,409,105796.03000000001]
["09WU","Bo",41148,147,38024.490000000005]
["09WW","Bo",40987,244,63115.48]
["09WX","Bo",48348,83,21469.61]
["09WY","Bo",20281,143,36989.810000000005]
["09XA","Bo",40557,148,38283.160000000003]
["09XB","Bo",73919,224,57942.080000000002]
["09XC","Bo",41570,543,{"$f":"D3074*IF(B3074=$G$9,WerkdrukbedragPerLeerlingBo,IF(B3074=$G$10,WerkdrukbedragPerLeerlingSbo,IF(B3074=$G$11,WerkdrukbedragPerLeerlingSo,IF(B3074=$G$12,WerkdrukbedragPerLeerlingVso,0))))","v":140457.81}]
["09XD","Bo",40814,118,30523.06]
["09XF","Bo",74426,499,129076.33]
["09XH","Bo",75219,128,33109.760000000002]
["09XI","Bo",40950,88,22762.960000000003]
["09XJ","Bo",75375,74,19141.580000000002]
["09XL","Bo",41012,425,109934.75]
["09XO","Bo",40712,270,69840.900000000009]
["09XP","Bo",31384,135,34920.450000000004]
["09XR","Bo",41506,163,42163.21]
["09XS","Bo",77975,130,33627.1]
["09XW","Bo",40775,205,53027.350000000006]
["09XZ","Bo",42656,243,62856.810000000005]
["09YB","Bo",41337,244,63115.48]
["09YE","Bo",26158,308,79670.36]
["09YF","Bo",41194,166,42939.22]
["09YG","Bo",82785,153,39576.51]
["09YH","Bo",83149,297,76824.990000000005]
["09YI","Bo",42744,78,20176.260000000002]
["09YJ","Bo",84423,231,59752.770000000004]
["09YM","Bo",40706,196,50699.32]
["09YN","Bo",41337,188,48629.960000000006]
["09YO","Bo",47595,370,95707.900000000009]
["09YP","Bo",41782,199,51475.33]
["09YQ","Bo",40974,189,48888.630000000005]
["09YR","Bo",87920,353,91310.510000000009]
["09YS","Bo",41454,209,54062.030000000006]
["09YT","Bo",40720,221,57166.070000000007]
["09YU","Bo",41898,414,107089.38]
["09YW","Bo",29810,230,59494.100000000006]
["09YY","Bo",42759,244,63115.48]
["09YZ","Bo",40788,134,34661.78]
["09ZA","Bo",90169,71,18365.57]
["09ZD","Bo",92951,268,69323.56]
["09ZF","Bo",40637,426,110193.42000000001]
["09ZG","Bo",41296,379,98035.930000000008]
["09ZH","Bo",41672,392,101398.64]
["09ZI","Bo",81316,71,18365.57]
["09ZJ","Bo",41787,110,28453.7]
["09ZN","Bo",41557,42,10864.140000000001]
["09ZO","Bo",41638,70,18106.900000000001]
["09ZP","Bo",41434,208,53803.360000000001]
["09ZQ","Bo",41362,377,97518.590000000011]
["09ZS","Bo",41444,66,17072.22]
["09ZU","Bo",42567,185,47853.950000000004]
["09ZZ","Bo",41878,78,20176.260000000002]
["10AA","Bo",41693,45,11640.150000000001]
["10AB","Bo",41899,247,63891.490000000005]
["10AC","Bo",41582,206,53286.020000000004]
["10AD","Bo",42623,157,40611.19]
["10AE","Bo",41488,121,31299.070000000003]
["10AF","Bo",41398,236,61046.12]
["10AG","Bo",44397,160,41387.200000000004]
["10AH","Bo",41481,214,55355.380000000005]
["10AR","Bo",41500,421,108900.07]
["10AS","Bo",41662,63,16296.210000000001]
["10AV","Bo",41851,123,31816.410000000003]
["10AZ","Bo",41443,303,78377.010000000009]
["10BA","Bo",41595,568,146924.56]
["10BD","Bo",41538,52,13450.84]
["10BE","Bo",41376,191,49405.97]
["10BF","Bo",41785,27,6984.09]
["10BG","Bo",41613,135,34920.450000000004]
["10BG","Bo",41613,79,20434.93]
["10BH","Bo",41401,188,{"$f":"D3138*IF(B3138=$G$9,WerkdrukbedragPerLeerlingBo,IF(B3138=$G$10,WerkdrukbedragPerLeerlingSbo,IF(B3138=$G$11,WerkdrukbedragPerLeerlingSo,IF(B3138=$G$12,WerkdrukbedragPerLeerlingVso,0))))","v":48629.960000000006}]
["10BI","Bo",41638,109,28195.030000000002]
["10BJ","Bo",41856,77,19917.59]
["10BK","Bo",41851,214,55355.380000000005]
["10BP","Bo",41005,233,60270.11]
["10BR","Bo",42569,235,60787.450000000004]
["10BS","Bo",41630,66,17072.22]
["10BV","Bo",41471,123,31816.410000000003]
["10BZ","Bo",41633,135,34920.450000000004]
["10CF","Bo",41502,101,26125.670000000002]
["10CH","Bo",41349,333,86137.11]
["10CI","Bo",41502,266,68806.22]
["10CJ","Bo",41345,67,17330.89]
["10CO","Bo",41780,109,28195.030000000002]
["10CR","Bo",41527,115,29747.050000000003]
["10CS","Bo",41876,214,55355.380000000005]
["10CT","Bo",41785,131,33885.770000000004]
["10CU","Bo",41638,209,54062.030000000006]
["10CV","Bo",29810,200,51734]
["10CY","Bo",41630,65,16813.55]
["10DA","Bo",41376,217,56131.390000000007]
["10DC","Bo",41438,168,43456.560000000005]
["10DE","Bo",41492,187,48371.29]
["10DF","Bo",41868,280,72427.600000000006]
["10DG","Bo",23128,81,20952.27]
["10DH","Bo",41538,46,11898.820000000002]
["10DI","Bo",41544,104,26901.68]
["10DK","Bo",41899,82,21210.940000000002]
["10DL","Bo",41400,303,78377.010000000009]
["10DM","Bo",41557,186,48112.62]
["10DT","Bo",41613,73,18882.91]
["10DU","Bo",41565,85,21986.95]
["10DV","Bo",41488,415,107348.05]
["10DW","Bo",13682,292,75531.64]
["10DX","Bo",41574,155,40093.850000000006]
["10DY","Bo",41401,57,14744.19]
["10EC","Bo",41401,77,19917.59]
["10EE","Bo",42546,205,53027.350000000006]
["10EF","Bo",41611,336,86913.12000000001]
["10EG","Bo",40278,229,59235.43]
["10EH","Bo",41812,228,58976.76]
["10EJ","Bo",41371,215,55614.05]
["10EL","Bo",41557,67,17330.89]
["10ES","Bo",23337,207,53544.69]
["10EU","Bo",23883,272,70358.240000000005]
["10EW","Bo",41223,93,24056.31]
["10EY","Bo",41506,115,29747.050000000003]
["10EZ","Bo",40971,255,65960.850000000006]
["10FF","Bo",40967,249,64408.83]
["10FG","Bo",40812,129,33368.43]
["10FH","Bo",79874,332,85878.44]
["10FI","Bo",28563,332,85878.44]
["10FJ","Bo",41000,234,60528.780000000006]
["10FL","Bo",29785,206,53286.020000000004]
["10FM","Bo",30240,293,75790.31]
["10FN","Bo",31267,127,32851.090000000004]
["10FO","Bo",40020,250,64667.500000000007]
["10FQ","Bo",40517,325,84067.75]
["10FU","Bo",35466,180,46560.600000000006]
["10FW","Bo",41223,254,65702.180000000008]
["10FX","Bo",37299,93,24056.31]
["10FY","Bo",27910,193,49923.310000000005]
["10FZ","Bo",41373,647,167359.49000000002]
["10GA","Bo",41582,193,49923.310000000005]
["10GB","Bo",40903,254,{"$f":"D3202*IF(B3202=$G$9,WerkdrukbedragPerLeerlingBo,IF(B3202=$G$10,WerkdrukbedragPerLeerlingSbo,IF(B3202=$G$11,WerkdrukbedragPerLeerlingSo,IF(B3202=$G$12,WerkdrukbedragPerLeerlingVso,0))))","v":65702.180000000008}]
["10GD","Bo",68836,243,62856.810000000005]
["10GE","Bo",55303,466,120540.22]
["10GK","Bo",40928,357,92345.19]
["10GL","Bo",41692,215,55614.05]
["10GM","Bo",41282,161,41645.870000000003]
["10GP","Bo",42683,354,91569.180000000008]
["10GQ","Bo",43305,39,10088.130000000001]
["10GR","Bo",43318,187,48371.29]
["10GT","Bo",75219,140,36213.800000000003]
["10GZ","Bo",31384,310,80187.700000000012]
["10HA","Bo",42656,241,62339.47]
["10HB","Bo",40950,320,82774.400000000009]
["10HD","Bo",77338,225,58200.75]
["10HE","Bo",41223,192,49664.639999999999]
["10HF","Bo",41516,269,69582.23000000001]
["10HG","Bo",48101,178,46043.26]
["10HK","Bo",41558,183,47336.61]
["10HM","Bo",50195,144,37248.480000000003]
["10HN","Bo",79874,112,28971.040000000001]
["10HO","Bo",41506,360,93121.200000000012]
["10HR","Bo",41000,68,17589.560000000001]
["10HT","Bo",68836,295,76307.650000000009]
["10HU","Bo",83280,124,32075.08]
["10HV","Bo",75388,804,207970.68000000002]
["10HX","Bo",40581,178,46043.26]
["10HY","Bo",40969,286,73979.62000000001]
["10HZ","Bo",42545,313,80963.710000000006]
["10IC","Bo",41385,161,41645.870000000003]
["10ID","Bo",41571,104,26901.68]
["10IE","Bo",40946,205,53027.350000000006]
["10IJ","Bo",37949,353,91310.510000000009]
["10IK","Bo",40788,251,64926.170000000006]
["10IL","Bo",32073,135,34920.450000000004]
["10IM","Bo",41270,206,53286.020000000004]
["10IU","Bo",30240,264,68288.88]
["10IW","Bo",41241,162,41904.54]
["10IY","Bo",69877,111,28712.370000000003]
["10JF","Bo",78222,158,40869.86]
["10JH","Bo",20671,217,56131.390000000007]
["10JJ","Bo",77338,317,81998.39]
["10JK","Bo",40982,409,105796.03000000001]
["10JL","Bo",40672,409,105796.03000000001]
["10JM","Bo",42754,112,28971.040000000001]
["10JN","Bo",41454,313,80963.710000000006]
["10JO","Bo",73712,257,66478.19]
["10JP","Bo",41407,155,40093.850000000006]
["10JT","Bo",41787,197,50957.990000000005]
["10JT","Bo",41787,180,46560.600000000006]
["10JU","Bo",41582,291,75272.97]
["10JX","Bo",40967,154,39835.18]
["10KB","Bo",40020,171,44232.57]
["10KD","Bo",47959,116,30005.72]
["10KE","Bo",77456,392,101398.64]
["10KI","Bo",41506,159,41128.530000000006]
["10KN","Bo",32073,277,71651.590000000011]
["10KP","Bo",61751,192,49664.639999999999]
["10KQ","Bo",83696,292,75531.64]
["10KS","Bo",41340,201,51992.670000000006]
["10KT","Sbo",42687,65,25220.649999999998]
["10KW","Bo",41862,304,78635.680000000008]
["10KX","Bo",41435,72,18624.240000000002]
["10KZ","Bo",41693,47,12157.490000000002]
["10LI","Bo",30010,221,57166.070000000007]
["10LK","Bo",41862,169,{"$f":"D3266*IF(B3266=$G$9,WerkdrukbedragPerLeerlingBo,IF(B3266=$G$10,WerkdrukbedragPerLeerlingSbo,IF(B3266=$G$11,WerkdrukbedragPerLeerlingSo,IF(B3266=$G$12,WerkdrukbedragPerLeerlingVso,0))))","v":43715.23}]
["10LM","Bo",41413,178,46043.26]
["10LV","Bo",41492,81,20952.27]
["10LX","Bo",42669,90,23280.300000000003]
["10LY","Bo",23128,105,27160.350000000002]
["10MA","Bo",13662,151,39059.170000000006]
["10MB","Bo",41778,97,25090.99]
["10ME","Bo",41286,272,70358.240000000005]
["10MI","Bo",24844,542,140199.14000000001]
["10MM","Bo",42683,209,54062.030000000006]
["10MO","Bo",74531,259,66995.53]
["10MP","Bo",29056,210,54320.700000000004]
["10MR","Bo",29810,159,41128.530000000006]
["10MT","Bo",41011,45,11640.150000000001]
["10MV","Bo",41483,321,83033.070000000007]
["10MX","Bo",41138,298,77083.66]
["10MX","Bo",41138,63,16296.210000000001]
["10MY","Bo",47595,387,100105.29000000001]
["10MZ","Bo",40774,439,113556.13]
["10NA","Bo",41454,327,84585.090000000011]
["10NB","Bo",40946,223,57683.41]
["10NC","Bo",38910,215,55614.05]
["10NH","Bo",20281,253,65443.51]
["10NK","Bo",41731,127,32851.090000000004]
["10NL","Bo",37949,256,66219.520000000004]
["10NM","Bo",43928,393,101657.31000000001]
["10NN","Bo",40508,203,52510.01]
["10NO","Bo",40934,111,28712.370000000003]
["10NP","Bo",41338,343,88723.810000000012]
["10NS","Bo",40517,100,25867]
["10NW","Bo",41787,133,34403.11]
["10NY","Bo",32580,137,35437.79]
["10NZ","Bo",48348,210,54320.700000000004]
["10OA","Bo",41506,266,68806.22]
["10OC","Bo",50844,223,57683.41]
["10OD","Bo",41251,244,63115.48]
["10OE","Bo",70002,215,55614.05]
["10OF","Bo",40662,241,62339.47]
["10OK","Bo",40888,190,49147.3]
["10OL","So",41008,281,145372.54]
["10OP","Bo",40712,418,108124.06000000001]
["10OR","Bo",40775,183,47336.61]
["10OU","Bo",73919,472,122092.24]
["10OV","Bo",41530,228,58976.76]
["10OW","Bo",41023,163,42163.21]
["10OY","Bo",40967,239,61822.130000000005]
["10PA","Bo",55238,286,73979.62000000001]
["10PB","Bo",50819,223,57683.41]
["10PC","Bo",41148,340,87947.8]
["10PE","Bo",40557,258,66736.86]
["10PF","Bo",40517,68,17589.560000000001]
["10PG","Bo",40765,313,80963.710000000006]
["10PG","Bo",40765,56,14485.52]
["10PI","Bo",55303,588,152097.96000000002]
["10PM","Bo",40557,188,48629.960000000006]
["10PN","Bo",73919,162,41904.54]
["10PO","Bo",41570,67,17330.89]
["10PS","Bo",75219,269,69582.23000000001]
["10PT","Bo",40950,219,56648.73]
["10PW","Bo",40967,266,68806.22]
["10PX","Bo",55238,303,78377.010000000009]
["10PY","Bo",77052,229,59235.43]
["10PZ","Bo",31384,232,60011.44]
["10QA","Bo",77533,168,43456.560000000005]
["10QB","Bo",41506,74,{"$f":"D3330*IF(B3330=$G$9,WerkdrukbedragPerLeerlingBo,IF(B3330=$G$10,WerkdrukbedragPerLeerlingSbo,IF(B3330=$G$11,WerkdrukbedragPerLeerlingSo,IF(B3330=$G$12,WerkdrukbedragPerLeerlingVso,0))))","v":19141.580000000002}]
["10QC","Bo",77975,456,117953.52]
["10QE","Bo",70002,182,47077.94]
["10QF","Bo",40775,102,26384.34]
["10QL","Bo",42587,239,61822.130000000005]
["10QM","Bo",41194,165,42680.55]
["10QO","Bo",42744,59,15261.53]
["10QP","Bo",40843,174,45008.58]
["10QQ","Bo",84423,154,39835.18]
["10QR","Bo",84579,148,38283.160000000003]
["10QS","Bo",41194,303,78377.010000000009]
["10QX","Bo",47595,517,133732.39000000001]
["10QX","Bo",47595,108,27936.36]
["10QY","Bo",41396,192,49664.639999999999]
["10QZ","Bo",87920,169,43715.23]
["10RA","Bo",41454,384,99329.279999999999]
["10RC","Bo",89155,358,92603.86]
["10RD","Bo",85600,215,55614.05]
["10RE","Bo",42545,235,60787.450000000004]
["10RF","Bo",40681,361,93379.87000000001]
["10RG","Bo",41595,141,36472.47]
["10RH","Bo",92951,92,23797.640000000003]
["10RI","Bo",41337,238,61563.460000000006]
["10RJ","Bo",41011,85,21986.95]
["10RK","Bo",40637,521,134767.07]
["10RL","Bo",41672,396,102433.32]
["10RN","Bo",27910,132,34144.44]
["10RO","Bo",41011,263,68030.210000000006]
["10RR","Bo",41557,68,17589.560000000001]
["10RS","Bo",42561,79,20434.93]
["10RY","Bo",41895,42,10864.140000000001]
["10SG","Bo",41899,102,26384.34]
["10SH","Bo",41630,90,23280.300000000003]
["10SO","Bo",41481,159,41128.530000000006]
["10SO","Bo",41481,164,42421.880000000005]
["10SX","Bo",41886,413,106830.71]
["10SZ","Bo",41613,210,54320.700000000004]
["10TA","Bo",41851,133,34403.11]
["10TB","Bo",41816,95,24573.65]
["10TC","Bo",41401,48,12416.16]
["10TE","Bo",41785,44,11381.480000000001]
["10TH","Bo",41851,102,26384.34]
["10TO","Bo",41630,126,32592.420000000002]
["10TP","Bo",11711,53,13709.51]
["10TR","Bo",41471,212,54838.04]
["10TT","Bo",41633,171,44232.57]
["10UA","Bo",41386,137,35437.79]
["10UB","Bo",41349,197,50957.990000000005]
["10UD","Bo",41502,35,9053.4500000000007]
["10UF","Bo",41775,131,33885.770000000004]
["10UG","Bo",38001,348,90017.16]
["10UJ","Bo",41785,224,57942.080000000002]
["10UK","Bo",41638,124,32075.08]
["10UN","Bo",41895,219,56648.73]
["10UP","Bo",75388,203,52510.01]
["10UU","Bo",41438,109,28195.030000000002]
["10UV","Bo",41191,115,29747.050000000003]
["10UW","Bo",41492,175,45267.25]
["10UX","Bo",41868,9,2328.0300000000002]
["10UZ","Bo",41345,235,60787.450000000004]
["10VA","Bo",41899,286,73979.62000000001]
["10VB","Bo",13662,161,41645.870000000003]
["10VC","Bo",41566,110,28453.7]
["10VD","Bo",41447,115,29747.050000000003]
["10VH","Bo",41574,287,{"$f":"D3394*IF(B3394=$G$9,WerkdrukbedragPerLeerlingBo,IF(B3394=$G$10,WerkdrukbedragPerLeerlingSbo,IF(B3394=$G$11,WerkdrukbedragPerLeerlingSo,IF(B3394=$G$12,WerkdrukbedragPerLeerlingVso,0))))","v":74238.290000000008}]
["10VK","Bo",13682,184,47595.280000000006]
["10VM","Bo",41438,167,43197.89]
["10VP","Bo",41434,426,110193.42000000001]
["10VR","Bo",41611,32,8277.44]
["10VU","Bo",41191,186,48112.62]
["10VV","Bo",41557,107,27677.690000000002]
["10WF","Bo",26158,361,93379.87000000001]
["10WG","Bo",41506,332,85878.44]
["10WH","Bo",40971,214,55355.380000000005]
["10WI","Bo",26613,366,94673.22]
["10WN","Bo",40812,167,43197.89]
["10WO","Bo",28563,195,50440.65]
["10WQ","Bo",29785,80,20693.600000000002]
["10WT","Bo",40020,414,107089.38]
["10WU","Bo",40557,373,96483.91]
["10WW","Bo",32580,481,124420.27]
["10XB","Bo",42616,199,51475.33]
["10XC","Bo",41582,123,31816.410000000003]
["10XE","Bo",42653,246,63632.820000000007]
["10XF","Bo",55303,293,75790.31]
["10XJ","Bo",41407,423,109417.41]
["10XK","Bo",40928,191,49405.97]
["10XM","Bo",42683,373,96483.91]
["10XO","Bo",41340,304,78635.680000000008]
["10XP","Bo",75219,64,16554.88]
["10XR","Bo",44397,447,115625.49]
["10XS","Bo",40894,314,81222.38]
["10XU","Bo",42656,140,36213.800000000003]
["10XV","Bo",46724,339,87689.13]
["10YA","Bo",41052,79,20434.93]
["10YD","Bo",41000,65,16813.55]
["10YE","Bo",48348,336,86913.12000000001]
["10YF","Bo",75597,299,77342.33]
["10YG","Bo",75388,362,93638.540000000008]
["10YH","Bo",35466,90,23280.300000000003]
["10YI","Bo",41528,148,38283.160000000003]
["10YK","Bo",41532,251,64926.170000000006]
["10YO","Bo",41571,218,56390.060000000005]
["10YP","Bo",40946,443,114590.81000000001]
["10YQ","Bo",32073,119,30781.730000000003]
["10YR","Bo",45000,220,56907.4]
["10YS","Bo",41039,103,26643.010000000002]
["10YW","Bo",41241,203,52510.01]
["10YZ","Bo",40765,221,57166.070000000007]
["10ZF","Bo",20671,361,93379.87000000001]
["10ZI","Bo",40672,141,36472.47]
["10ZK","Bo",75597,314,81222.38]
["10ZM","Bo",41407,201,51992.670000000006]
["10ZN","Bo",75388,158,40869.86]
["10ZO","Bo",32177,167,43197.89]
["10ZO","Bo",32177,58,15002.86]
["10ZS","Bo",41582,110,28453.7]
["10ZT","Bo",40812,237,61304.79]
["10ZU","Bo",40967,129,33368.43]
["10ZW","Bo",47959,272,70358.240000000005]
["10ZY","Bo",28563,298,77083.66]
["10ZZ","Bo",41293,208,53803.360000000001]
["11AK","Bo",41899,34,8794.7800000000007]
["11AL","Bo",41862,185,47853.950000000004]
["11AM","Bo",42623,316,81739.72]
["11AO","Bo",41780,132,34144.44]
["11AQ","Bo",42542,447,115625.49]
["11AT","Bo",30010,212,54838.04]
["11AV","Bo",41862,247,{"$f":"D3458*IF(B3458=$G$9,WerkdrukbedragPerLeerlingBo,IF(B3458=$G$10,WerkdrukbedragPerLeerlingSbo,IF(B3458=$G$11,WerkdrukbedragPerLeerlingSo,IF(B3458=$G$12,WerkdrukbedragPerLeerlingVso,0))))","v":63891.490000000005}]
["11AY","Bo",41376,596,154167.32]
["11AZ","Bo",41672,350,90534.5]
["11BF","Bo",41492,232,60011.44]
["11BL","Bo",41813,314,81222.38]
["11BO","Bo",41286,144,37248.480000000003]
["11BP","Bo",41558,85,21986.95]
["11BQ","Bo",22725,263,68030.210000000006]
["11BS","Bo",23128,427,110452.09000000001]
["11BT","Bo",24844,114,29488.38]
["11BU","Bo",25351,162,41904.54]
["11BW","Bo",42683,380,98294.6]
["11BY","Bo",74531,208,53803.360000000001]
["11CA","Bo",29056,288,74496.960000000006]
["11CB","Bo",45000,122,31557.74]
["11CC","Bo",29810,131,33885.770000000004]
["11CD","Bo",41454,151,39059.170000000006]
["11CE","Bo",41127,235,60787.450000000004]
["11CF","Bo",85255,515,133215.05000000002]
["11CG","Bo",41337,317,81998.39]
["11CJ","Bo",40774,220,56907.4]
["11CK","Bo",42596,154,39835.18]
["11CM","Bo",77338,216,55872.72]
["11CO","Bo",41886,120,31040.400000000001]
["11CP","Bo",30582,216,55872.72]
["11CS","Bo",41731,235,60787.450000000004]
["11CT","Bo",42587,105,27160.350000000002]
["11CU","Bo",43928,189,48888.630000000005]
["11CV","Bo",40508,499,129076.33]
["11CY","Bo",42759,301,77859.67]
["11CZ","Bo",41551,155,40093.850000000006]
["11DA","Bo",40941,108,27936.36]
["11DE","Bo",31657,258,66736.86]
["11DG","Bo",48101,117,30264.390000000003]
["11DH","Bo",48348,89,23021.63]
["11DN","Bo",77235,94,24314.980000000003]
["11DO","Bo",53015,251,64926.170000000006]
["11DS","Bo",55303,440,113814.8]
["11DV","Bo",40775,138,35696.46]
["11DW","Bo",40982,161,41645.870000000003]
["11DX","Bo",73919,282,72944.94]
["11DZ","Bo",42538,62,16037.54]
["11ED","Bo",41148,244,63115.48]
["11EF","Bo",40557,213,55096.710000000006]
["11EI","Bo",40712,374,96742.58]
["11EL","Bo",31657,191,49405.97]
["11EM","Bo",22725,204,52768.68]
["11EN","Bo",75219,368,95190.560000000012]
["11EO","Bo",40950,203,52510.01]
["11ER","Bo",40967,222,57424.740000000005]
["11EU","Bo",77975,222,57424.740000000005]
["11EW","Bo",70002,161,41645.870000000003]
["11EY","Bo",42653,203,52510.01]
["11FA","Bo",42587,258,66736.86]
["11FB","Bo",83149,154,39835.18]
["11FC","Bo",40843,190,49147.3]
["11FD","Bo",84423,139,35955.130000000005]
["11FE","Bo",84579,151,39059.170000000006]
["11FG","Bo",41473,235,60787.450000000004]
["11FI","Bo",83579,152,39317.840000000004]
["11FK","Bo",41571,191,49405.97]
["11FL","Bo",41396,128,33109.760000000002]
["11FM","Bo",41898,177,45784.590000000004]
["11FO","Bo",85600,181,46819.270000000004]
["11FQ","Bo",41595,426,{"$f":"D3522*IF(B3522=$G$9,WerkdrukbedragPerLeerlingBo,IF(B3522=$G$10,WerkdrukbedragPerLeerlingSbo,IF(B3522=$G$11,WerkdrukbedragPerLeerlingSo,IF(B3522=$G$12,WerkdrukbedragPerLeerlingVso,0))))","v":110193.42000000001}]
["11FR","Bo",92951,201,51992.670000000006]
["11FW","Bo",41270,167,43197.89]
["11FX","Bo",41011,247,63891.490000000005]
["11FY","Bo",41544,200,51734]
["11FZ","Bo",41481,121,31299.070000000003]
["11GC","Bo",42561,142,36731.14]
["11GF","Bo",41613,116,30005.72]
["11GH","Bo",41444,318,82257.060000000012]
["11GK","Bo",41895,49,12674.83]
["11GM","Bo",41438,183,47336.61]
["11GR","Bo",41899,89,23021.63]
["11GS","Bo",41630,36,9312.1200000000008]
["11GT","Bo",41434,147,38024.490000000005]
["11GX","Bo",44397,196,50699.32]
["11HC","Bo",41500,256,66219.520000000004]
["11HD","Bo",41886,202,52251.340000000004]
["11HD","Bo",41886,109,28195.030000000002]
["11HH","Bo",41851,47,12157.490000000002]
["11HJ","Bo",41856,110,28453.7]
["11HK","Bo",41785,227,58718.090000000004]
["11HN","Bo",41421,130,33627.1]
["11HR","Bo",42569,272,70358.240000000005]
["11HS","Bo",41630,101,26125.670000000002]
["11HS","Bo",41630,44,11381.480000000001]
["11HT","Sbo",41545,219,84974.19]
["11HU","Bo",13662,116,30005.72]
["11HV","Bo",42504,216,55872.72]
["11HW","Bo",41491,25,6466.75]
["11HX","Sbo",41438,79,30652.79]
["11IF","Bo",41349,210,54320.700000000004]
["11IH","Bo",41856,160,41387.200000000004]
["11IJ","Bo",41637,239,61822.130000000005]
["11IP","Bo",29810,260,67254.2]
["11IP","Bo",29810,102,26384.34]
["11IQ","Bo",11711,310,80187.700000000012]
["11IR","Bo",42557,42,10864.140000000001]
["11IS","Bo",41630,64,16554.88]
["11IZ","Bo",41868,79,20434.93]
["11JA","Bo",23128,165,42680.55]
["11JD","Bo",41447,226,58459.420000000006]
["11JJ","Bo",41613,55,14226.85]
["11JK","Bo",41488,190,49147.3]
["11JQ","Bo",41191,148,38283.160000000003]
["11JR","Bo",40278,67,17330.89]
["11JU","Bo",41570,177,45784.590000000004]
["11JV","Bo",42653,267,69064.89]
["11JX","Bo",24533,259,66995.53]
["11KB","Bo",41506,95,24573.65]
["11KC","Bo",40971,410,106054.70000000001]
["11KG","Bo",40765,206,53286.020000000004]
["11KJ","Bo",41000,352,91051.840000000011]
["11KM","Bo",40557,252,65184.840000000004]
["11KN","Bo",32073,167,43197.89]
["11KO","Bo",32580,122,31557.74]
["11KQ","Bo",35466,380,98294.6]
["11KR","Bo",41223,205,53027.350000000006]
["11KS","Bo",27910,338,87430.46]
["11KW","Bo",40903,124,32075.08]
["11LE","Bo",40928,334,86395.78]
["11LF","Bo",41316,290,75014.3]
["11LG","Bo",48101,593,153391.31]
["11LH","Bo",29810,204,52768.68]
["11LI","Bo",42683,257,66478.19]
["11LJ","Bo",43318,202,{"$f":"D3586*IF(B3586=$G$9,WerkdrukbedragPerLeerlingBo,IF(B3586=$G$10,WerkdrukbedragPerLeerlingSbo,IF(B3586=$G$11,WerkdrukbedragPerLeerlingSo,IF(B3586=$G$12,WerkdrukbedragPerLeerlingVso,0))))","v":52251.340000000004}]
["11LK","Bo",75219,62,16037.54]
["11LL","Bo",41516,299,77342.33]
["11LO","Bo",46724,291,75272.97]
["11LP","Bo",42148,321,83033.070000000007]
["11LR","Bo",50195,239,61822.130000000005]
["11LS","Bo",41052,167,43197.89]
["11LT","Bo",48348,43,11122.810000000001]
["11LX","Bo",41532,272,70358.240000000005]
["11LY","Bo",81316,289,74755.63]
["11MA","Bo",41005,209,54062.030000000006]
["11MB","Bo",41005,147,38024.490000000005]
["11MC","Bo",41001,191,49405.97]
["11MD","Bo",45000,167,43197.89]
["11MG","Bo",71008,102,26384.34]
["11MI","Bo",31384,251,64926.170000000006]
["11MK","Bo",40765,202,52251.340000000004]
["11MN","Bo",41516,244,63115.48]
["11MO","Bo",44397,183,47336.61]
["11MP","Bo",37949,320,82774.400000000009]
["11MQ","Bo",74492,381,98553.27]
["11MR","Bo",75597,409,105796.03000000001]
["11MS","Bo",31017,250,64667.500000000007]
["11MW","Bo",77235,202,52251.340000000004]
["11MZ","Bo",41483,482,124678.94]
["11NE","Bo",28563,268,69323.56]
["11NH","Bo",41223,160,41387.200000000004]
["11NM","Bo",41693,207,53544.69]
["11NT","Bo",41413,75,19400.25]
["11NU","Bo",41376,63,16296.210000000001]
["11OA","Bo",42634,65,16813.55]
["11OA","Bo",42634,54,13968.18]
["11OA","Bo",42634,23,5949.4100000000008]
["11OB","Bo",41376,151,39059.170000000006]
["11OC","Bo",41527,143,36989.810000000005]
["11OD","Bo",41813,142,36731.14]
["11OE","Bo",41778,55,14226.85]
["11OH","Bo",41286,298,77083.66]
["11OJ","Bo",22725,235,60787.450000000004]
["11ON","Bo",25351,117,30264.390000000003]
["11OR","Bo",27910,168,43456.560000000005]
["11OS","Bo",74531,291,75272.97]
["11OT","Bo",28601,257,66478.19]
["11OU","Bo",29056,163,42163.21]
["11OW","Bo",41454,216,55872.72]
["11OX","Bo",85255,376,97259.920000000013]
["11PD","Bo",41127,349,90275.83]
["11PE","Bo",41886,193,49923.310000000005]
["11PJ","Bo",42587,188,48629.960000000006]
["11PL","Bo",40508,296,76566.320000000007]
["11PM","Bo",40934,236,61046.12]
["11PN","Bo",41338,442,114332.14000000001]
["11PP","Bo",40941,196,50699.32]
["11PS","Bo",31657,298,77083.66]
["11PT","Bo",32580,381,98553.27]
["11PW","Bo",48101,211,54579.37]
["11QB","Bo",52131,313,80963.710000000006]
["11QC","Bo",40662,145,37507.15]
["11QD","Bo",53015,194,50181.98]
["11QG","Bo",55238,135,34920.450000000004]
["11QH","Bo",22725,354,91569.180000000008]
["11QK","Bo",77975,253,65443.51]
["11QL","Bo",47920,212,54838.04]
["11QN","Bo",40662,75,19400.25]
["11QO","Bo",41148,178,{"$f":"D3650*IF(B3650=$G$9,WerkdrukbedragPerLeerlingBo,IF(B3650=$G$10,WerkdrukbedragPerLeerlingSbo,IF(B3650=$G$11,WerkdrukbedragPerLeerlingSo,IF(B3650=$G$12,WerkdrukbedragPerLeerlingVso,0))))","v":46043.26}]
["11QQ","Bo",72853,198,51216.66]
["11QT","Bo",75219,204,52768.68]
["11QU","Bo",75388,330,85361.1]
["11QV","Bo",41012,285,73720.950000000012]
["11QW","Bo",40967,357,92345.19]
["11QX","Bo",46385,217,56131.390000000007]
["11QY","Bo",70002,374,96742.58]
["11QZ","Bo",40775,236,61046.12]
["11RD","Bo",83149,175,45267.25]
["11RF","Bo",84579,97,25090.99]
["11RG","Bo",73919,391,101139.97]
["11RH","Bo",41293,176,45525.920000000006]
["11RI","Bo",41571,269,69582.23000000001]
["11RJ","Bo",41396,203,52510.01]
["11RK","Bo",89155,245,63374.15]
["11RL","Bo",85600,212,54838.04]
["11RO","Bo",41621,272,70358.240000000005]
["11RP","Bo",41672,246,63632.820000000007]
["11RR","Bo",41270,94,24314.980000000003]
["11RS","Bo",41011,191,49405.97]
["11RT","Bo",41544,343,88723.810000000012]
["11RU","Bo",41481,102,26384.34]
["11RW","Bo",42561,101,26125.670000000002]
["11RX","Bo",41345,105,27160.350000000002]
["11RY","Bo",41613,223,57683.41]
["11RZ","Bo",41560,387,100105.29000000001]
["11SI","Bo",41456,298,77083.66]
["11SJ","Bo",41869,206,53286.020000000004]
["11SK","Bo",41191,237,61304.79]
["11SO","Bo",41434,64,16554.88]
["11SX","Bo",41886,195,50440.65]
["11SY","Bo",41775,290,75014.3]
["11TC","Bo",41816,25,6466.75]
["11TD","Bo",41856,66,17072.22]
["11TI","Bo",41421,56,14485.52]
["11TN","Bo",41413,40,10346.800000000001]
["11TQ","Bo",41491,93,24056.31]
["11TR","Bo",41438,327,84585.090000000011]
["11TX","Bo",41386,234,60528.780000000006]
["11TY","Bo",41349,104,26901.68]
["11TZ","Bo",41856,117,30264.390000000003]
["11UA","Bo",41637,75,19400.25]
["11UB","Bo",41775,177,45784.590000000004]
["11UD","Bo",41876,130,33627.1]
["11UH","Bo",41376,168,43456.560000000005]
["11UJ","Bo",13683,66,17072.22]
["11UM","Bo",41492,141,36472.47]
["11UN","Bo",41868,65,16813.55]
["11UO","Bo",23128,198,51216.66]
["11UQ","Bo",13662,100,25867]
["11UQ","Bo",13662,55,14226.85]
["11UR","Bo",41566,45,11640.150000000001]
["11UY","Bo",41574,233,60270.11]
["11UZ","Bo",41613,101,26125.670000000002]
["11VA","Bo",41345,73,18882.91]
["11VF","Bo",42546,220,56907.4]
["11VJ","Bo",41570,191,49405.97]
["11VK","Bo",42653,208,53803.360000000001]
["11VM","Bo",24533,259,66995.53]
["11VN","Bo",41528,321,83033.070000000007]
["11VO","Bo",24845,100,25867]
["11VP","Bo",26158,165,42680.55]
["11VR","Bo",40971,434,112262.78000000001]
["11VU","Bo",40765,326,{"$f":"D3714*IF(B3714=$G$9,WerkdrukbedragPerLeerlingBo,IF(B3714=$G$10,WerkdrukbedragPerLeerlingSbo,IF(B3714=$G$11,WerkdrukbedragPerLeerlingSo,IF(B3714=$G$12,WerkdrukbedragPerLeerlingVso,0))))","v":84326.42}]
["11VV","Bo",28563,230,59494.100000000006]
["11VZ","Bo",32073,238,61563.460000000006]
["11WB","Bo",32177,217,56131.390000000007]
["11WC","Bo",32580,104,26901.68]
["11WD","Bo",41154,376,97259.920000000013]
["11WI","Bo",42616,182,47077.94]
["11WN","Bo",41233,203,52510.01]
["11WP","Bo",41407,591,152873.97]
["11WQ","Bo",41316,266,68806.22]
["11WU","Bo",75219,44,11381.480000000001]
["11WV","Bo",41716,154,39835.18]
["11WZ","Bo",41052,143,36989.810000000005]
["11XA","Bo",40540,423,109417.41]
["11XF","Bo",41571,276,71392.92]
["11XH","Bo",41005,179,46301.93]
["11XI","Bo",40946,245,63374.15]
["11XJ","Bo",41551,25,6466.75]
["11XK","Bo",31237,457,118212.19]
["11XL","Bo",41001,185,47853.950000000004]
["11XM","Bo",41551,180,46560.600000000006]
["11XQ","Bo",31384,132,34144.44]
["11XS","Bo",41516,208,53803.360000000001]
["11XT","Sbo",73114,174,67513.740000000005]
["11XU","Bo",40557,238,61563.460000000006]
["11XY","Bo",47959,196,50699.32]
["11XZ","Bo",40980,228,58976.76]
["11YA","Bo",75597,141,36472.47]
["11YE","Bo",41460,168,43456.560000000005]
["11YI","Bo",79874,80,20693.600000000002]
["11YJ","Bo",78782,282,72944.94]
["11YL","Bo",41364,211,54579.37]
["11YP","Bo",41293,220,56907.4]
["11YV","Bo",41899,264,68288.88]
["11YW","Bo",41693,128,33109.760000000002]
["11YX","Bo",41780,105,27160.350000000002]
["11ZC","Bo",41672,136,35179.120000000003]
["11ZE","Bo",40803,158,40869.86]
["11ZI","Bo",41492,151,39059.170000000006]
["11ZL","Bo",41813,232,60011.44]
["11ZM","Bo",41778,82,21210.940000000002]
["11ZP","Bo",41286,222,57424.740000000005]
["11ZQ","Bo",22725,602,155719.34]
["11ZU","Bo",25351,184,47595.280000000006]
["11ZW","Bo",42683,217,56131.390000000007]
["12AA","Bo",41454,175,45267.25]
["12AC","Bo",41337,188,48629.960000000006]
["12AE","Bo",41138,203,52510.01]
["12AF","Bo",42596,226,58459.420000000006]
["12AH","Bo",41127,171,44232.57]
["12AL","Bo",41731,248,64150.16]
["12AM","Bo",42587,260,67254.2]
["12AP","Bo",46385,305,78894.350000000006]
["12AQ","Bo",32580,162,41904.54]
["12AR","Bo",47100,487,125972.29000000001]
["12AT","Bo",48101,260,67254.2]
["12AU","Bo",30582,428,110710.76000000001]
["12AV","Bo",42540,390,100881.3]
["12AW","Bo",41506,226,58459.420000000006]
["12AY","Bo",52131,474,122609.58]
["12BF","Bo",73919,311,80446.37000000001]
["12BG","Bo",77975,186,48112.62]
["12BH","Bo",47920,85,21986.95]
["12BI","Bo",41148,221,57166.070000000007]
["12BO","Bo",75388,117,{"$f":"D3778*IF(B3778=$G$9,WerkdrukbedragPerLeerlingBo,IF(B3778=$G$10,WerkdrukbedragPerLeerlingSbo,IF(B3778=$G$11,WerkdrukbedragPerLeerlingSo,IF(B3778=$G$12,WerkdrukbedragPerLeerlingVso,0))))","v":30264.390000000003}]
["12BP","Bo",41012,376,97259.920000000013]
["12BR","Bo",46385,177,45784.590000000004]
["12BS","Bo",70002,156,40352.520000000004]
["12BT","Bo",74049,453,117177.51000000001]
["12BV","Bo",85255,348,90017.16]
["12BY","Bo",41571,184,47595.280000000006]
["12CC","Bo",41595,351,90793.170000000013]
["12CF","Bo",41270,139,35955.130000000005]
["12CJ","Bo",42561,294,76048.98000000001]
["12CK","Bo",41345,114,29488.38]
["12CL","Bo",41560,198,51216.66]
["12CN","Bo",10925,79,20434.93]
["12CO","Bo",41895,78,20176.260000000002]
["12CX","Bo",42623,89,23021.63]
["12DC","Bo",41851,186,48112.62]
["12DE","Bo",41535,430,111228.1]
["12DF","Bo",41496,289,74755.63]
["12DG","Bo",41851,52,13450.84]
["12DI","Bo",41461,317,81998.39]
["12DL","Bo",41421,32,8277.44]
["12DO","Bo",41413,119,30781.730000000003]
["12DS","Bo",41611,325,84067.75]
["12DU","Bo",41444,219,56648.73]
["12DV","Sbo",41693,130,50441.299999999996]
["12DX","Bo",41856,38,9829.4600000000009]
["12DY","Bo",41775,164,42421.880000000005]
["12EA","Bo",41876,301,77859.67]
["12EB","Bo",29810,168,43456.560000000005]
["12ED","Bo",13683,137,35437.79]
["12EF","Bo",41566,43,11122.810000000001]
["12EG","Bo",41735,335,86654.450000000012]
["12EI","Bo",41566,77,19917.59]
["12EJ","Bo",41613,179,46301.93]
["12EP","Sbo",41248,113,43845.13]
["12ER","Bo",41438,179,46301.93]
["12ES","Bo",41421,97,25090.99]
["12EV","Bo",42546,57,14744.19]
["12EX","Bo",41441,401,103726.67000000001]
["12EY","Bo",41812,59,15261.53]
["12EZ","Bo",43227,216,55872.72]
["12FB","Bo",42653,387,100105.29000000001]
["12FD","Bo",41001,513,132697.71000000002]
["12FD","Bo",41001,172,44491.240000000005]
["12FF","Bo",41528,356,92086.52]
["12FK","Sbo",40765,86,33368.86]
["12FL","Bo",41000,42,10864.140000000001]
["12FO","Bo",40557,181,46819.270000000004]
["12FR","Bo",32580,131,33885.770000000004]
["12FT","Bo",40934,190,49147.3]
["12FU","Bo",40947,380,98294.6]
["12FW","Bo",42616,172,44491.240000000005]
["12FX","Bo",38001,241,62339.47]
["12FY","Bo",42653,404,104502.68000000001]
["12FZ","Bo",42744,165,42680.55]
["12GA","Bo",82785,252,65184.840000000004]
["12GB","Bo",41233,182,47077.94]
["12GC","Bo",41407,64,16554.88]
["12GF","Bo",41716,329,85102.430000000008]
["12GH","Bo",40894,141,36472.47]
["12GJ","Bo",47595,235,60787.450000000004]
["12GN","Bo",80433,184,47595.280000000006]
["12GQ","Bo",41571,70,18106.900000000001]
["12GT","Bo",41551,42,10864.140000000001]
["12GU","Bo",31237,194,{"$f":"D3842*IF(B3842=$G$9,WerkdrukbedragPerLeerlingBo,IF(B3842=$G$10,WerkdrukbedragPerLeerlingSbo,IF(B3842=$G$11,WerkdrukbedragPerLeerlingSo,IF(B3842=$G$12,WerkdrukbedragPerLeerlingVso,0))))","v":50181.98}]
["12GW","Bo",41551,94,24314.980000000003]
["12GX","Bo",71008,124,32075.08]
["12GZ","Bo",31384,306,79153.02]
["12HB","Bo",40557,129,33368.43]
["12HC","Bo",73712,284,73462.28]
["12HG","Bo",40980,331,85619.77]
["12HK","Bo",41460,188,48629.960000000006]
["12HK","Bo",41460,64,16554.88]
["12HM","Bo",41483,223,57683.41]
["12HN","Bo",41483,219,56648.73]
["12HQ","Bo",78782,120,31040.400000000001]
["12HS","Bo",41364,228,58976.76]
["12HU","Bo",40950,71,18365.57]
["12HY","Bo",41899,84,21728.280000000002]
["12HZ","Bo",41871,303,78377.010000000009]
["12IC","Bo",41544,159,41128.530000000006]
["12ID","Bo",42709,336,86913.12000000001]
["12IF","Bo",41375,177,45784.590000000004]
["12IS","Bo",41492,91,23538.97]
["12IT","Bo",42634,95,24573.65]
["12IT","Bo",42634,28,7242.76]
["12IW","Bo",41496,562,145372.54]
["12IX","Bo",41813,109,28195.030000000002]
["12IY","Bo",41778,65,16813.55]
["12JD","Bo",23128,209,54062.030000000006]
["12JI","Bo",28601,427,110452.09000000001]
["12JJ","Bo",29810,628,162444.76]
["12JK","Bo",41337,253,65443.51]
["12JL","Bo",41138,231,59752.770000000004]
["12JQ","Bo",20281,342,88465.14]
["12JS","Bo",41731,68,17589.560000000001]
["12JT","Bo",42587,168,43456.560000000005]
["12JU","Bo",43928,476,123126.92000000001]
["12JW","Bo",45917,458,118470.86]
["12JX","Bo",46385,279,72168.930000000008]
["12JY","Bo",47100,212,54838.04]
["12KB","Bo",30582,377,97518.590000000011]
["12KD","Bo",41506,332,85878.44]
["12KE","Bo",50844,224,57942.080000000002]
["12KG","Bo",40662,301,77859.67]
["12KH","Bo",53015,268,69323.56]
["12KJ","Bo",55238,208,53803.360000000001]
["12KM","Bo",61751,116,30005.72]
["12KN","Bo",47920,146,37765.82]
["12KO","Bo",77975,209,54062.030000000006]
["12KP","Bo",72853,183,47336.61]
["12KS","Bo",75388,390,100881.3]
["12KT","Bo",41012,441,114073.47]
["12KU","Bo",40581,668,172791.56]
["12KZ","Bo",85255,289,74755.63]
["12LB","Bo",41293,179,46301.93]
["12LD","Bo",40862,136,35179.120000000003]
["12LF","Bo",41672,327,84585.090000000011]
["12LG","Bo",81316,177,45784.590000000004]
["12LH","Bo",41270,317,81998.39]
["12LJ","Bo",41481,86,22245.620000000003]
["12LL","Bo",42561,105,27160.350000000002]
["12LM","Bo",41345,76,19658.920000000002]
["12LO","Bo",10925,43,11122.810000000001]
["12LQ","Bo",41364,589,152356.63]
["12LT","Bo",41456,469,121316.23000000001]
["12LU","Bo",42554,263,68030.210000000006]
["12LV","Bo",41869,246,63632.820000000007]
["12LX","Bo",25351,181,{"$f":"D3906*IF(B3906=$G$9,WerkdrukbedragPerLeerlingBo,IF(B3906=$G$10,WerkdrukbedragPerLeerlingSbo,IF(B3906=$G$11,WerkdrukbedragPerLeerlingSo,IF(B3906=$G$12,WerkdrukbedragPerLeerlingVso,0))))","v":46819.270000000004}]
["12LZ","Bo",42623,144,37248.480000000003]
["12ME","Bo",41851,116,30005.72]
["12MF","Bo",41886,111,28712.370000000003]
["12MN","Bo",41444,125,32333.750000000004]
["12MP","Bo",41413,68,17589.560000000001]
["12MQ","Bo",13662,381,98553.27]
["12MR","Bo",42504,551,142527.17000000001]
["12MS","Bo",41438,139,35955.130000000005]
["12MT","Bo",41611,192,49664.639999999999]
["12MU","Bo",41816,57,14744.19]
["12MY","Bo",41571,134,34661.78]
["12MZ","Bo",41856,32,8277.44]
["12NE","Bo",41878,39,10088.130000000001]
["12NF","Bo",77235,215,55614.05]
["12NG","Bo",41444,111,28712.370000000003]
["12NI","Bo",41566,53,13709.51]
["12NK","Bo",41566,133,34403.11]
["12NL","Bo",41631,102,26384.34]
["12NN","Bo",41570,136,35179.120000000003]
["12NO","Bo",41447,242,62598.140000000007]
["12NS","Bo",41421,142,36731.14]
["12NS","Bo",41421,72,18624.240000000002]
["12NT","Bo",41492,250,64667.500000000007]
["12NU","Bo",41561,35,9053.4500000000007]
["12NX","Bo",41371,177,45784.590000000004]
["12OC","Bo",41812,55,14226.85]
["12OF","Bo",41516,338,87430.46]
["12OK","Bo",41528,340,87947.8]
["12ON","Bo",81316,233,60270.11]
["12OQ","Bo",31267,206,53286.020000000004]
["12OR","Bo",32073,332,85878.44]
["12OS","Bo",32177,136,35179.120000000003]
["12OT","Bo",32580,319,82515.73000000001]
["12OX","Bo",42616,106,27419.02]
["12OY","Bo",38001,228,58976.76]
["12OZ","Bo",42744,248,64150.16]
["12PA","Bo",82785,250,64667.500000000007]
["12PC","Bo",40874,333,86137.11]
["12PC","Bo",40874,152,39317.840000000004]
["12PF","Bo",47595,310,80187.700000000012]
["12PG","Bo",40540,228,58976.76]
["12PH","Bo",80433,194,50181.98]
["12PI","Bo",40508,386,99846.62000000001]
["12PI","Bo",40508,92,23797.640000000003]
["12PJ","Bo",41571,219,56648.73]
["12PK","Bo",40788,161,41645.870000000003]
["12PL","Bo",40946,165,42680.55]
["12PM","Bo",40114,175,45267.25]
["12PU","Bo",31017,107,27677.690000000002]
["12PV","Bo",75597,315,81481.05]
["12PX","Bo",40980,264,68288.88]
["12PY","Bo",75597,247,63891.490000000005]
["12QA","Bo",40950,171,44232.57]
["12QB","Vso",77690,165,85361.1]
["12QB","So",77690,81,41904.54]
["12QC","Bo",41419,419,108382.73000000001]
["12QD","Bo",41483,126,32592.420000000002]
["12QF","Bo",79874,87,22504.29]
["12QH","Bo",41138,261,67512.87000000001]
["12QI","Bo",40257,528,136577.76]
["12QK","Bo",40950,245,63374.15]
["12QN","So",83280,78,40352.520000000004]
["12QN","Vso",83280,112,57942.080000000002]
["12QO","Bo",83579,251,{"$f":"D3970*IF(B3970=$G$9,WerkdrukbedragPerLeerlingBo,IF(B3970=$G$10,WerkdrukbedragPerLeerlingSbo,IF(B3970=$G$11,WerkdrukbedragPerLeerlingSo,IF(B3970=$G$12,WerkdrukbedragPerLeerlingVso,0))))","v":64926.170000000006}]
["12QP","Bo",41899,90,23280.300000000003]
["12QQ","Bo",41871,183,47336.61]
["12QR","Bo",42761,121,31299.070000000003]
["12QU","Bo",30010,431,111486.77]
["12QX","Bo",40874,93,24056.31]
["12RC","Bo",41492,218,56390.060000000005]
["12RD","Bo",41582,145,37507.15]
["12RE","Bo",41376,92,23797.640000000003]
["12RF","Bo",41631,88,22762.960000000003]
["12RH","Bo",41813,120,31040.400000000001]
["12RI","Bo",41778,39,10088.130000000001]
["12RL","Bo",41286,220,56907.4]
["12RM","Bo",22725,270,69840.900000000009]
["12RO","Bo",23128,111,28712.370000000003]
["12RS","Bo",42683,161,41645.870000000003]
["12RU","Bo",28601,109,28195.030000000002]
["12RV","Bo",41337,234,60528.780000000006]
["12RW","Bo",41125,225,58200.75]
["12SE","Bo",41731,182,47077.94]
["12SK","Bo",47100,332,85878.44]
["12SL","Bo",40928,440,113814.8]
["12SL","Bo",40928,216,55872.72]
["12SM","Bo",48101,259,66995.53]
["12SP","Bo",41506,172,44491.240000000005]
["12SR","Bo",52131,214,55355.380000000005]
["12ST","Bo",40662,217,56131.390000000007]
["12SU","Bo",53015,372,96225.24]
["12SW","Bo",40888,439,113556.13]
["12SY","Bo",73919,233,60270.11]
["12TB","Bo",61751,77,19917.59]
["12TD","Bo",72853,369,95449.23000000001]
["12TE","Bo",75219,231,59752.770000000004]
["12TF","Bo",40581,383,99070.61]
["12TH","Bo",74049,301,77859.67]
["12TK","Bo",85600,149,38541.83]
["12TL","Bo",42545,136,35179.120000000003]
["12TM","Bo",81316,353,91310.510000000009]
["12TN","Bo",41544,162,41904.54]
["12TO","Bo",41345,77,19917.59]
["12TR","Bo",10925,344,88982.48000000001]
["12TS","Bo",41895,301,77859.67]
["12TT","Bo",41364,503,130111.01000000001]
["12TT","Bo",41364,21,5432.0700000000006]
["12TU","Bo",41438,183,47336.61]
["12TV","Bo",42554,41,10605.470000000001]
["12TX","Bo",41191,155,40093.850000000006]
["12TZ","Bo",41630,124,32075.08]
["12UA","Bo",41461,172,44491.240000000005]
["12UE","Bo",41570,106,27419.02]
["12UK","Sbo",41417,113,43845.13]
["12UM","Bo",11711,212,54838.04]
["12UO","Bo",41447,234,60528.780000000006]
["12UP","Bo",41444,165,42680.55]
["12UR","Bo",41413,187,48371.29]
["12UU","Bo",41438,105,27160.350000000002]
["12UV","Bo",41611,136,35179.120000000003]
["12UZ","Bo",42557,319,82515.73000000001]
["12VA","Bo",41571,292,75531.64]
["12VB","Bo",41637,119,30781.730000000003]
["12VC","Bo",41775,184,47595.280000000006]
["12VD","Bo",41856,38,9829.4600000000009]
["12VE","Bo",41191,73,18882.91]
["12VF","Bo",41878,96,24832.32]
["12VH","Bo",41444,49,{"$f":"D4034*IF(B4034=$G$9,WerkdrukbedragPerLeerlingBo,IF(B4034=$G$10,WerkdrukbedragPerLeerlingSbo,IF(B4034=$G$11,WerkdrukbedragPerLeerlingSo,IF(B4034=$G$12,WerkdrukbedragPerLeerlingVso,0))))","v":12674.83}]
["12VJ","Bo",41566,68,17589.560000000001]
["12VK","Bo",41735,120,31040.400000000001]
["12VM","Bo",41631,42,10864.140000000001]
["12VN","Bo",41613,195,50440.65]
["12VO","Bo",41570,253,65443.51]
["12VQ","Bo",41345,170,43973.9]
["12VS","Bo",41421,63,16296.210000000001]
["12VU","Bo",41492,58,15002.86]
["12VV","Bo",41561,72,18624.240000000002]
["12VW","Sbo",41645,141,54709.409999999996]
["12VX","Bo",41371,438,113297.46]
["12WB","Bo",41441,390,100881.3]
["12WD","Bo",41516,342,88465.14]
["12WE","Bo",41001,325,84067.75]
["12WF","Bo",24533,294,76048.98000000001]
["12WI","Bo",31267,188,48629.960000000006]
["12WJ","Bo",32177,261,67512.87000000001]
["12WK","Bo",41154,200,51734]
["12WL","Bo",40934,198,51216.66]
["12WM","Bo",40947,181,46819.270000000004]
["12WN","Bo",38001,113,29229.710000000003]
["12WO","Bo",42744,32,8277.44]
["12WS","Bo",41716,296,76566.320000000007]
["12WT","Bo",47595,378,97777.260000000009]
["12WU","Bo",40540,202,52251.340000000004]
["12WY","Bo",40788,127,32851.090000000004]
["12WZ","Bo",40946,244,63115.48]
["12XA","Bo",40114,143,36989.810000000005]
["12XD","Bo",40557,125,32333.750000000004]
["12XE","Bo",73712,118,30523.06]
["12XF","Bo",31017,495,128041.65000000001]
["12XG","Bo",75597,260,67254.2]
["12XI","Bo",40950,391,101139.97]
["12XL","Bo",40020,215,55614.05]
["12XM","Bo",79874,47,12157.490000000002]
["12XN","Bo",78782,285,73720.950000000012]
["12XO","Bo",40257,363,93897.21]
["12XQ","Bo",41516,185,47853.950000000004]
["12XR","Sbo",40278,232,90018.319999999992]
["12XS","Bo",74531,151,39059.170000000006]
["12XW","Bo",41871,106,27419.02]
["12XY","Bo",41816,31,8018.77]
["12YB","Bo",41375,281,72686.27]
["12YE","Bo",40803,344,88982.48000000001]
["12YF","Bo",41438,103,26643.010000000002]
["12YL","Bo",41631,243,62856.810000000005]
["12YM","Bo",41496,139,35955.130000000005]
["12YM","Bo",41496,108,27936.36]
["12YO","Bo",23128,196,50699.32]
["12YQ","Bo",25351,259,66995.53]
["12YU","Bo",41570,292,75531.64]
["12YV","Bo",41127,171,44232.57]
["12YY","Bo",42587,309,79929.03]
["12YZ","Bo",43928,200,51734]
["12ZA","Bo",41338,291,75272.97]
["12ZD","Bo",47100,229,59235.43]
["12ZE","Bo",41506,91,23538.97]
["12ZG","Bo",52131,231,59752.770000000004]
["12ZH","Bo",40662,74,19141.580000000002]
["12ZI","Bo",53015,211,54579.37]
["12ZJ","Bo",40888,71,18365.57]
["12ZL","Bo",73919,230,59494.100000000006]
["12ZN","Bo",61751,259,66995.53]
["12ZO","Bo",77975,388,{"$f":"D4098*IF(B4098=$G$9,WerkdrukbedragPerLeerlingBo,IF(B4098=$G$10,WerkdrukbedragPerLeerlingSbo,IF(B4098=$G$11,WerkdrukbedragPerLeerlingSo,IF(B4098=$G$12,WerkdrukbedragPerLeerlingVso,0))))","v":100363.96}]
["12ZQ","Bo",75219,432,111745.44]
["12ZR","Bo",74049,250,64667.500000000007]
["12ZS","Bo",81316,163,42163.21]
["12ZT","Bo",41396,135,34920.450000000004]
["12ZW","Bo",40862,34,8794.7800000000007]
["12ZX","Bo",42545,238,61563.460000000006]
["13AA","Bo",41629,500,129335.00000000001]
["13AE","Bo",41191,123,31816.410000000003]
["13AF","Bo",25351,81,20952.27]
["13AK","Bo",41570,124,32075.08]
["13AL","Bo",41851,375,97001.25]
["13AN","Bo",41496,371,95966.57]
["13AO","Bo",41461,330,85361.1]
["13AQ","Bo",41876,195,50440.65]
["13AR","Bo",41447,195,50440.65]
["13AS","Bo",41444,239,61822.130000000005]
["13AT","Bo",41413,84,21728.280000000002]
["13AY","Bo",41444,484,125196.28000000001]
["13AZ","Bo",42557,109,28195.030000000002]
["13AZ","Bo",42557,88,22762.960000000003]
["13BC","Bo",41775,240,62080.800000000003]
["13BD","Bo",41856,38,9829.4600000000009]
["13BE","Bo",41878,138,35696.46]
["13BF","Bo",77235,186,48112.62]
["13BG","Bo",41444,123,31816.410000000003]
["13BI","Bo",41566,73,18882.91]
["13BK","Bo",41566,168,43456.560000000005]
["13BL","Bo",41631,85,21986.95]
["13BM","Bo",41613,177,45784.590000000004]
["13BP","Bo",41248,293,75790.31]
["13BQ","Bo",42546,201,51992.670000000006]
["13BR","Bo",41421,55,14226.85]
["13BS","Bo",41421,197,50957.990000000005]
["13BT","Bo",41492,133,34403.11]
["13BU","Bo",41561,86,22245.620000000003]
["13BV","Bo",41371,286,73979.62000000001]
["13BW","Bo",41191,218,56390.060000000005]
["13BY","Bo",41560,291,75272.97]
["13BY","Bo",41560,177,45784.590000000004]
["13CC","Bo",24533,181,46819.270000000004]
["13CD","Bo",81316,129,33368.43]
["13CF","Bo",32177,188,48629.960000000006]
["13CG","Bo",41154,199,51475.33]
["13CH","Bo",40934,418,108124.06000000001]
["13CI","Bo",40947,173,44749.91]
["13CJ","Bo",38001,315,81481.05]
["13CK","Bo",40874,371,95966.57]
["13CL","Bo",41316,195,50440.65]
["13CM","Bo",43227,359,92862.53]
["13CN","Bo",41716,235,60787.450000000004]
["13CP","Bo",71008,199,51475.33]
["13CQ","Bo",41460,212,54838.04]
["13CT","Bo",41528,522,135025.74000000002]
["13CU","Bo",40508,214,55355.380000000005]
["13CV","Bo",40788,82,21210.940000000002]
["13CW","Bo",40114,139,35955.130000000005]
["13CY","Bo",70085,821,212368.07]
["13DD","Bo",41454,249,64408.83]
["13DH","Bo",40950,283,73203.61]
["13DK","Bo",40020,431,111486.77]
["13DM","Bo",74531,112,28971.040000000001]
["13DO","Bo",41241,127,32851.090000000004]
["13DR","Bo",41871,225,58200.75]
["13DS","Bo",41631,139,{"$f":"D4162*IF(B4162=$G$9,WerkdrukbedragPerLeerlingBo,IF(B4162=$G$10,WerkdrukbedragPerLeerlingSbo,IF(B4162=$G$11,WerkdrukbedragPerLeerlingSo,IF(B4162=$G$12,WerkdrukbedragPerLeerlingVso,0))))","v":35955.130000000005}]
["13DT","Bo",42761,86,22245.620000000003]
["13DW","Bo",30010,243,62856.810000000005]
["13EC","Bo",40803,213,55096.710000000006]
["13ED","Bo",41438,71,18365.57]
["13EH","Bo",41582,224,57942.080000000002]
["13EI","Bo",41631,51,13192.17]
["13EK","Bo",20281,807,208746.69]
["13EN","Bo",25351,78,20176.260000000002]
["13EQ","Bo",29810,319,82515.73000000001]
["13ER","Bo",41125,119,30781.730000000003]
["13ES","Bo",41570,186,48112.62]
["13EZ","Bo",47100,444,114849.48000000001]
["13FA","Bo",40928,221,57166.070000000007]
["13FF","Bo",53015,432,111745.44]
["13FI","Bo",61751,134,34661.78]
["13FK","Bo",72853,216,55872.72]
["13FM","Bo",81316,269,69582.23000000001]
["13FR","Bo",81316,63,16296.210000000001]
["13FU","Bo",10925,49,12674.83]
["13FW","Bo",41630,117,30264.390000000003]
["13GC","Bo",41386,188,48629.960000000006]
["13GD","Bo",11711,135,34920.450000000004]
["13GJ","Bo",41413,45,11640.150000000001]
["13GL","Bo",41567,377,97518.590000000011]
["13GN","Bo",41816,112,28971.040000000001]
["13GQ","Bo",42557,219,56648.73]
["13GU","Bo",41780,280,72427.600000000006]
["13GV","Bo",41856,26,6725.42]
["13GW","Bo",41444,52,13450.84]
["13HA","Bo",41631,62,16037.54]
["13HB","Bo",41613,172,44491.240000000005]
["13HC","Bo",41570,364,94155.88]
["13HD","Bo",41248,96,24832.32]
["13HE","Bo",42546,316,81739.72]
["13HI","Bo",41561,93,24056.31]
["13HJ","Bo",41371,133,34403.11]
["13HM","Bo",41441,379,98035.930000000008]
["13HN","Bo",43227,411,106313.37000000001]
["13HO","Sbo",40377,137,53157.369999999995]
["13HQ","Bo",32177,119,30781.730000000003]
["13HR","Bo",41154,295,76307.650000000009]
["13HT","Bo",38001,30,7760.1]
["13HU","Bo",40874,359,92862.53]
["13HX","Bo",41716,378,97777.260000000009]
["13HX","Bo",41716,245,63374.15]
["13HY","Bo",47595,221,57166.070000000007]
["13IC","Bo",41528,167,43197.89]
["13ID","Bo",40508,113,29229.710000000003]
["13IE","Bo",40788,200,51734]
["13IF","Bo",40114,105,27160.350000000002]
["13IK","Bo",41454,583,150804.61000000002]
["13IL","Bo",20281,232,60011.44]
["13IP","Bo",40950,191,49405.97]
["13IQ","Bo",41794,209,54062.030000000006]
["13IR","Bo",41419,300,77601]
["13IT","Sbo",40676,84,32592.84]
["13IU","Bo",40950,164,42421.880000000005]
["13IV","Bo",80095,208,53803.360000000001]
["13IZ","Bo",41241,355,91827.85]
["13JA","Bo",83579,193,49923.310000000005]
["13JH","Bo",41570,68,17589.560000000001]
["13JJ","Bo",41345,62,16037.54]
["13JJ","Bo",41345,78,20176.260000000002]
["13JJ","Bo",41345,92,{"$f":"D4226*IF(B4226=$G$9,WerkdrukbedragPerLeerlingBo,IF(B4226=$G$10,WerkdrukbedragPerLeerlingSbo,IF(B4226=$G$11,WerkdrukbedragPerLeerlingSo,IF(B4226=$G$12,WerkdrukbedragPerLeerlingVso,0))))","v":23797.640000000003}]
["13JK","Bo",41501,218,56390.060000000005]
["13JK","Bo",41501,35,9053.4500000000007]
["13JL","Bo",41241,160,41387.200000000004]
["13JM","Bo",41438,101,26125.670000000002]
["13JP","Bo",41492,51,13192.17]
["13JQ","Bo",42634,51,13192.17]
["13JR","Bo",41582,106,27419.02]
["13JS","Bo",41631,176,45525.920000000006]
["13JV","Bo",20281,441,114073.47]
["13JX","Bo",24844,595,153908.65000000002]
["13JY","Bo",25351,121,31299.070000000003]
["13KB","Bo",41125,240,62080.800000000003]
["13KD","Bo",41127,182,47077.94]
["13KG","Bo",42587,246,63632.820000000007]
["13KI","Bo",46385,291,75272.97]
["13KK","Bo",40928,128,33109.760000000002]
["13KM","Bo",41506,106,27419.02]
["13KN","Bo",40662,57,14744.19]
["13KQ","Bo",72853,177,45784.590000000004]
["13KR","Bo",75219,230,59494.100000000006]
["13KS","Bo",41396,319,82515.73000000001]
["13KT","Bo",85255,695,179775.65000000002]
["13KU","Bo",41125,184,47595.280000000006]
["13KV","Bo",40862,96,24832.32]
["13KW","Bo",42545,374,96742.58]
["13KX","Bo",81316,408,105537.36]
["13KZ","Bo",10925,53,13709.51]
["13LA","Bo",42554,48,12416.16]
["13LB","Bo",41630,91,23538.97]
["13LE","Bo",41570,218,56390.060000000005]
["13LF","Bo",41535,295,76307.650000000009]
["13LI","Bo",11711,212,54838.04]
["13LM","Bo",41567,584,151063.28]
["13LO","Bo",41816,60,15520.2]
["13LR","Bo",41693,116,30005.72]
["13LV","Bo",41637,61,15778.87]
["13LW","Bo",41775,156,40352.520000000004]
["13LY","Bo",41856,34,8794.7800000000007]
["13MB","Bo",41566,82,21210.940000000002]
["13MF","Bo",41580,434,112262.78000000001]
["13MG","Bo",41248,345,89241.150000000009]
["13MH","Sbo",41570,128,49665.279999999999]
["13MI","Bo",42546,198,51216.66]
["13MJ","Bo",41421,197,50957.990000000005]
["13MK","Bo",41421,83,21469.61]
["13MM","Bo",41561,98,25349.66]
["13MN","Bo",41371,214,55355.380000000005]
["13MO","Bo",41496,147,38024.490000000005]
["13MP","Bo",41560,310,80187.700000000012]
["13MR","Bo",40377,146,37765.82]
["13MS","Bo",81316,432,111745.44]
["13MT","Bo",32177,246,63632.820000000007]
["13MV","Bo",40934,226,58459.420000000006]
["13MX","Bo",40874,422,109158.74]
["13MY","Bo",43227,415,107348.05]
["13MZ","Bo",41716,264,68288.88]
["13NA","Bo",47595,272,70358.240000000005]
["13NB","Bo",71008,288,74496.960000000006]
["13NC","Bo",41460,101,26125.670000000002]
["13NG","Bo",40788,91,23538.97]
["13NH","Bo",40114,441,114073.47]
["13NI","Bo",70085,83,21469.61]
["13NP","Bo",77196,268,69323.56]
["13NV","Bo",80095,194,{"$f":"D4290*IF(B4290=$G$9,WerkdrukbedragPerLeerlingBo,IF(B4290=$G$10,WerkdrukbedragPerLeerlingSbo,IF(B4290=$G$11,WerkdrukbedragPerLeerlingSo,IF(B4290=$G$12,WerkdrukbedragPerLeerlingVso,0))))","v":50181.98}]
["13NX","Bo",74531,177,45784.590000000004]
["13NZ","Bo",41241,219,56648.73]
["13OA","Bo",83579,49,12674.83]
["13OD","Bo",41631,72,18624.240000000002]
["13OE","Bo",42761,248,64150.16]
["13OF","Bo",41816,290,75014.3]
["13OJ","Bo",42709,202,52251.340000000004]
["13OK","Bo",41570,107,27677.690000000002]
["13ON","Bo",41501,43,11122.810000000001]
["13OS","Bo",41582,172,44491.240000000005]
["13OW","Bo",20281,400,103468]
["13OY","Bo",24844,102,26384.34]
["13PA","Bo",28601,416,107606.72]
["13PG","Bo",45917,184,47595.280000000006]
["13PH","Bo",47100,211,54579.37]
["13PH","Bo",47100,166,42939.22]
["13PI","Bo",40928,242,62598.140000000007]
["13PK","Bo",61751,105,27160.350000000002]
["13PL","Bo",72853,212,54838.04]
["13PM","Sbo",75219,229,88854.29]
["13PP","Bo",41125,292,75531.64]
["13PQ","Bo",40862,110,28453.7]
["13PR","Bo",81316,212,54838.04]
["13PS","Bo",41629,147,38024.490000000005]
["13PV","Bo",41858,312,80705.040000000008]
["13QB","Bo",11711,322,83291.740000000005]
["13QD","Bo",41364,144,37248.480000000003]
["13QD","Bo",41364,97,25090.99]
["13QE","Bo",41617,420,108641.40000000001]
["13QG","Bo",41816,42,10864.140000000001]
["13QJ","Bo",41693,134,34661.78]
["13QL","Bo",41571,135,34920.450000000004]
["13QN","Bo",41775,396,102433.32]
["13QO","Bo",41780,347,89758.49]
["13QP","Bo",41856,129,33368.43]
["13QS","Bo",41566,171,44232.57]
["13QV","Bo",41631,149,38541.83]
["13QZ","Bo",41441,361,93379.87000000001]
["13RA","Bo",41248,203,52510.01]
["13RB","Bo",42709,235,60787.450000000004]
["13RD","Bo",41421,140,36213.800000000003]
["13RF","Bo",41561,66,17072.22]
["13RI","Bo",41560,201,51992.670000000006]
["13RO","Bo",41716,147,38024.490000000005]
["13RP","Bo",47595,211,54579.37]
["13RQ","Bo",71008,105,27160.350000000002]
["13RS","Bo",77195,328,84843.760000000009]
["13RU","Bo",70085,266,68806.22]
["13RX","Bo",41454,421,108900.07]
["13RY","Bo",20281,426,110193.42000000001]
["13RZ","Bo",77196,621,160634.07]
["13SB","Bo",41794,224,57942.080000000002]
["13SF","Bo",80095,380,98294.6]
["13SJ","Bo",41631,60,15520.2]
["13SN","Bo",42709,421,108900.07]
["13SP","Bo",41375,166,42939.22]
["13SQ","Bo",41345,59,15261.53]
["13ST","Bo",40803,93,24056.31]
["13SX","Bo",41631,212,54838.04]
["13TA","Bo",20281,409,105796.03000000001]
["13TB","Bo",24844,157,40611.19]
["13TG","Bo",45917,169,43715.23]
["13TJ","Bo",40662,145,37507.15]
["13TK","Bo",61751,57,{"$f":"D4354*IF(B4354=$G$9,WerkdrukbedragPerLeerlingBo,IF(B4354=$G$10,WerkdrukbedragPerLeerlingSbo,IF(B4354=$G$11,WerkdrukbedragPerLeerlingSo,IF(B4354=$G$12,WerkdrukbedragPerLeerlingVso,0))))","v":14744.19}]
["13TM","Bo",81316,484,125196.28000000001]
["13TN","Bo",40378,169,43715.23]
["13TP","Bo",85255,845,218576.15000000002]
["13TQ","Bo",41125,111,28712.370000000003]
["13TR","Bo",40862,190,49147.3]
["13TT","Bo",41629,163,42163.21]
["13TU","Bo",10925,42,10864.140000000001]
["13TX","Bo",28601,155,40093.850000000006]
["13TY","Bo",42761,199,51475.33]
["13UB","Bo",41386,305,78894.350000000006]
["13UC","Bo",11711,61,15778.87]
["13UD","Bo",41876,290,75014.3]
["13UE","Bo",41364,246,63632.820000000007]
["13UI","Bo",41522,336,86913.12000000001]
["13UJ","Bo",41401,263,68030.210000000006]
["13UL","Bo",42557,163,42163.21]
["13UO","Bo",41780,159,41128.530000000006]
["13UP","Bo",41856,31,8018.77]
["13UR","Bo",42561,243,62856.810000000005]
["13UW","Bo",41631,83,21469.61]
["13UX","Bo",41580,648,167618.16]
["13VC","Bo",41371,123,31816.410000000003]
["13VG","Bo",41444,74,19141.580000000002]
["13VH","Bo",81316,636,164514.12000000002]
["13VI","Bo",40934,126,32592.420000000002]
["13VN","Bo",41528,255,65960.850000000006]
["13VQ","Bo",20281,220,56907.4]
["13VR","Bo",77196,207,53544.69]
["13VS","Bo",41794,210,54320.700000000004]
["13VY","Bo",41816,29,7501.43]
["13WB","Bo",42709,316,81739.72]
["13WC","Bo",41570,166,42939.22]
["13WE","Bo",41345,204,52768.68]
["13WI","Bo",41582,45,11640.150000000001]
["13WM","Bo",20281,353,91310.510000000009]
["13WQ","Bo",45917,179,46301.93]
["13WR","Bo",47100,167,43197.89]
["13WS","Bo",40928,110,28453.7]
["13WU","Bo",41023,225,58200.75]
["13WV","Bo",72853,214,55355.380000000005]
["13WW","Bo",74049,346,89499.82]
["13WX","Bo",81316,211,54579.37]
["13WZ","Bo",41125,170,43973.9]
["13XA","Bo",40862,102,26384.34]
["13XE","Bo",42554,66,17072.22]
["13XF","Bo",41858,270,69840.900000000009]
["13XG","Bo",28601,162,41904.54]
["13XH","Bo",41570,308,79670.36]
["13XI","Bo",42761,234,60528.780000000006]
["13XJ","Bo",13662,344,88982.48000000001]
["13XL","Bo",41386,490,126748.3]
["13XM","Bo",11711,47,12157.490000000002]
["13XN","Bo",41876,219,56648.73]
["13XP","Bo",41617,134,34661.78]
["13XQ","Bo",41567,209,54062.030000000006]
["13XS","Bo",41522,232,60011.44]
["13XU","Bo",41574,218,56390.060000000005]
["13XW","Bo",42557,122,31557.74]
["13XW","Bo",42557,53,13709.51]
["13XW","Bo",42557,32,8277.44]
["13XX","Bo",41571,62,16037.54]
["13YA","Bo",41856,28,7242.76]
["13YD","Bo",41535,312,80705.040000000008]
["13YH","Bo",13839,55,{"$f":"D4418*IF(B4418=$G$9,WerkdrukbedragPerLeerlingBo,IF(B4418=$G$10,WerkdrukbedragPerLeerlingSbo,IF(B4418=$G$11,WerkdrukbedragPerLeerlingSo,IF(B4418=$G$12,WerkdrukbedragPerLeerlingVso,0))))","v":14226.85}]
["13YI","Bo",41631,189,48888.630000000005]
["13YL","Bo",41441,471,121833.57]
["13YM","Bo",41248,180,46560.600000000006]
["13YO","Bo",42709,310,80187.700000000012]
["13YQ","Bo",41371,251,64926.170000000006]
["13YR","Bo",41496,549,142009.83000000002]
["13YT","Bo",41444,53,13709.51]
["13YV","Bo",40934,347,89758.49]
["13YW","Bo",40874,123,31816.410000000003]
["13YX","Bo",43227,356,92086.52]
["13YZ","Bo",47595,167,43197.89]
["13YZ","Bo",47595,255,65960.850000000006]
["13ZB","Bo",42600,199,51475.33]
["13ZE","Bo",20281,219,56648.73]
["13ZF","Bo",76819,172,44491.240000000005]
["13ZG","Bo",77196,195,50440.65]
["13ZJ","Bo",80095,208,53803.360000000001]
["13ZL","Bo",41631,186,48112.62]
["13ZM","Bo",41816,169,43715.23]
["13ZN","Bo",41375,269,69582.23000000001]
["13ZO","Bo",41570,48,12416.16]
["13ZR","Bo",41780,197,50957.990000000005]
["13ZS","Bo",41639,260,67254.2]
["13ZW","Bo",41631,58,15002.86]
["13ZY","Bo",20281,643,166324.81]
["14AB","Bo",47100,204,52768.68]
["14AD","Bo",40662,48,12416.16]
["14AE","Bo",74049,189,48888.630000000005]
["14AG","Bo",85255,197,50957.990000000005]
["14AH","Bo",40862,44,11381.480000000001]
["14AI","Bo",81316,100,25867]
["14AK","Sbo",42552,76,29488.76]
["14AL","Bo",42554,144,37248.480000000003]
["14AS","Bo",42719,129,33368.43]
["14AZ","Bo",41567,163,42163.21]
["14BB","Bo",41522,520,134508.4]
["14BC","Bo",41401,168,43456.560000000005]
["14BD","Bo",41574,76,19658.920000000002]
["14BG","Bo",41571,116,30005.72]
["14BJ","Bo",41856,90,23280.300000000003]
["14BL","Bo",42561,177,45784.590000000004]
["14BO","Bo",41573,143,36989.810000000005]
["14BP","Bo",41735,76,19658.920000000002]
["14BQ","Bo",41631,120,31040.400000000001]
["14BT","Bo",41248,196,50699.32]
["14BV","Bo",42709,284,73462.28]
["14BW","Bo",42546,363,93897.21]
["14BZ","Bo",41444,227,58718.090000000004]
["14CA","Bo",40662,79,20434.93]
["14CG","Sbo",60985,62,24056.62]
["14CI","Bo",41407,594,153649.98000000001]
["14CK","Sbo",74154,154,59753.54]
["14CL","Bo",74531,449,116142.83]
["14CM","Bo",76819,197,50957.990000000005]
["14CR","Bo",80095,226,58459.420000000006]
["14CW","Bo",41816,21,5432.0700000000006]
["14CX","Bo",41375,77,19917.59]
["14CY","Bo",41345,59,15261.53]
["14DF","Bo",41496,322,83291.740000000005]
["14DG","Bo",95694,241,62339.47]
["14DI","Bo",47100,247,63891.490000000005]
["14DJ","Bo",40928,253,65443.51]
["14DK","Bo",41506,265,68547.55]
["14DL","Bo",40662,113,{"$f":"D4482*IF(B4482=$G$9,WerkdrukbedragPerLeerlingBo,IF(B4482=$G$10,WerkdrukbedragPerLeerlingSbo,IF(B4482=$G$11,WerkdrukbedragPerLeerlingSo,IF(B4482=$G$12,WerkdrukbedragPerLeerlingVso,0))))","v":29229.710000000003}]
["14DN","Bo",40378,298,77083.66]
["14DO","Bo",85255,466,120540.22]
["14DP","Bo",81316,159,41128.530000000006]
["14DS","Bo",41858,256,66219.520000000004]
["14DU","Bo",28601,194,50181.98]
["14DW","Bo",42761,115,29747.050000000003]
["14DZ","Bo",41545,172,44491.240000000005]
["14DZ","Bo",41545,101,26125.670000000002]
["14EB","Bo",41617,228,58976.76]
["14EC","Bo",41567,479,123902.93000000001]
["14EG","Bo",41574,111,28712.370000000003]
["14EJ","Bo",41775,146,37765.82]
["14EK","Bo",41780,283,73203.61]
["14EL","Bo",41856,96,24832.32]
["14EP","Bo",41573,179,46301.93]
["14EQ","Bo",41735,40,10346.800000000001]
["14ER","Bo",41631,162,41904.54]
["14ET","Bo",41580,358,92603.86]
["14EV","Bo",41248,239,61822.130000000005]
["14EW","Bo",41570,314,81222.38]
["14EX","Bo",42610,284,73462.28]
["14EZ","Bo",42546,100,25867]
["14FA","Bo",41444,355,91827.85]
["14FC","Bo",47595,195,50440.65]
["14FD","Bo",42600,115,29747.050000000003]
["14FE","Bo",41782,68,17589.560000000001]
["14FG","Bo",74531,74,19141.580000000002]
["14FH","Bo",76819,351,90793.170000000013]
["14FI","Bo",77196,166,42939.22]
["14FJ","Bo",40712,313,80963.710000000006]
["14FM","Bo",83228,380,98294.6]
["14FP","Bo",41816,85,21986.95]
["14FQ","Bo",41375,185,47853.950000000004]
["14FR","Bo",41570,370,95707.900000000009]
["14FS","Bo",41345,144,37248.480000000003]
["14FU","Bo",41639,219,56648.73]
["14FX","Bo",41582,128,33109.760000000002]
["14FY","Bo",41631,123,31816.410000000003]
["14GD","Bo",40928,150,38800.5]
["14GF","Bo",40662,91,23538.97]
["14GK","Bo",85255,529,136836.43000000002]
["14GL","Bo",81316,150,38800.5]
["14GN","Bo",41735,255,65960.850000000006]
["14GQ","Bo",42761,81,20952.27]
["14GR","Bo",42719,98,25349.66]
["14GU","Bo",41364,267,69064.89]
["14GV","Bo",41617,113,29229.710000000003]
["14GW","Bo",41567,210,54320.700000000004]
["14HA","Bo",41693,112,28971.040000000001]
["14HB","Bo",41775,579,149769.93000000002]
["14HC","Bo",41780,106,27419.02]
["14HD","Bo",41856,79,20434.93]
["14HE","Bo",42561,225,58200.75]
["14HJ","Bo",41735,67,17330.89]
["14HK","Bo",41631,78,20176.260000000002]
["14HM","Bo",41580,292,75531.64]
["14HO","Bo",41248,303,78377.010000000009]
["14HR","Bo",42709,369,95449.23000000001]
["14HS","Bo",41862,160,41387.200000000004]
["14HT","Bo",40662,62,16037.54]
["14HU","Bo",47595,223,57683.41]
["14HV","Bo",42600,281,72686.27]
["14HY","Bo",74531,347,89758.49]
["14HZ","Bo",76819,157,{"$f":"D4546*IF(B4546=$G$9,WerkdrukbedragPerLeerlingBo,IF(B4546=$G$10,WerkdrukbedragPerLeerlingSbo,IF(B4546=$G$11,WerkdrukbedragPerLeerlingSo,IF(B4546=$G$12,WerkdrukbedragPerLeerlingVso,0))))","v":40611.19}]
["14IA","Bo",77196,218,56390.060000000005]
["14IK","Bo",41816,93,24056.31]
["14IM","Bo",41780,184,47595.280000000006]
["14IP","Bo",42610,414,107089.38]
["14IS","Bo",41631,82,21210.940000000002]
["14IW","Bo",47100,378,97777.260000000009]
["14IX","Bo",40928,202,52251.340000000004]
["14IY","Bo",41506,253,65443.51]
["14JC","Bo",81316,203,52510.01]
["14JC","Bo",81316,257,66478.19]
["14JI","Bo",42719,362,93638.540000000008]
["14JK","Bo",41545,178,46043.26]
["14JR","Bo",41775,598,154684.66]
["14JW","Bo",41573,185,47853.950000000004]
["14JY","Bo",41735,39,10088.130000000001]
["14JZ","Bo",41631,37,9570.7900000000009]
["14KG","Bo",42594,293,75790.31]
["14KH","Bo",41444,62,16037.54]
["14KI","Bo",40662,146,37765.82]
["14KK","Bo",47595,283,73203.61]
["14KM","Bo",60985,94,24314.980000000003]
["14KN","Bo",41407,147,38024.490000000005]
["14KP","Bo",74531,184,47595.280000000006]
["14KQ","Bo",76819,132,34144.44]
["14KW","Bo",83228,405,104761.35]
["14KY","Bo",41631,281,72686.27]
["14LB","Bo",41639,351,90793.170000000013]
["14LG","Bo",41631,36,9312.1200000000008]
["14LL","Bo",40928,188,48629.960000000006]
["14LM","Bo",41506,498,128817.66]
["14LP","Bo",81316,393,101657.31000000001]
["14LQ","Bo",41858,222,57424.740000000005]
["14LR","Bo",41735,126,32592.420000000002]
["14LT","Bo",42761,99,25608.33]
["14LV","Bo",42719,179,46301.93]
["14LW","Bo",41386,389,100622.63]
["14LZ","Bo",41617,146,37765.82]
["14MH","Bo",42561,48,12416.16]
["14MK","Bo",41514,90,23280.300000000003]
["14ML","Bo",41573,120,31040.400000000001]
["14MM","Bo",42504,426,110193.42000000001]
["14MN","Bo",41735,124,32075.08]
["14MO","Bo",41631,38,9829.4600000000009]
["14MQ","Bo",41580,206,53286.020000000004]
["14MR","Bo",41441,375,97001.25]
["14MS","Bo",41570,426,110193.42000000001]
["14MT","Bo",42610,262,67771.540000000008]
["14MU","Bo",42709,363,93897.21]
["14MW","Bo",41444,121,31299.070000000003]
["14MX","Bo",40662,73,18882.91]
["14MY","So",41805,110,56907.4]
["14MY","Vso",41805,109,56390.060000000005]
["14NA","So",40631,86,44491.240000000005]
["14NA","Vso",40631,71,36731.14]
["14NB","Sbo",41514,216,83810.16]
["14OH","So",41417,47,24314.980000000003]
["14OH","Vso",41417,76,39317.840000000004]
["14OH","So",41417,29,15002.86]
["14OH","Vso",41417,27,13968.18]
["14OJ","Sbo",40876,217,84198.17]
["14OP","So",32216,165,85361.1]
["14OR","Vso",41414,158,81739.72]
["14OR","Vso",41414,24,12416.16]
["14OR","Vso",41414,57,{"$f":"D4610*IF(B4610=$G$9,WerkdrukbedragPerLeerlingBo,IF(B4610=$G$10,WerkdrukbedragPerLeerlingSbo,IF(B4610=$G$11,WerkdrukbedragPerLeerlingSo,IF(B4610=$G$12,WerkdrukbedragPerLeerlingVso,0))))","v":29488.38}]
["14OT","So",82292,78,40352.520000000004]
["14OT","Vso",82292,96,49664.639999999999]
["14PG","Vso",40631,323,167100.82]
["14PR","So",41312,31,16037.54]
["14PU","Bo",42600,176,45525.920000000006]
["14PZ","Bo",76819,215,55614.05]
["14QA","Bo",41419,238,61563.460000000006]
["14QC","Bo",41676,436,112780.12000000001]
["14QC","Bo",41676,182,47077.94]
["14QI","Bo",41631,111,28712.370000000003]
["14QJ","Bo",41375,267,69064.89]
["14QN","Bo",41850,139,35955.130000000005]
["14QQ","Bo",41631,44,11381.480000000001]
["14QR","Bo",41573,73,18882.91]
["14RB","So",41450,72,37248.480000000003]
["14RB","Vso",41450,129,66736.86]
["14RB","So",41450,78,40352.520000000004]
["14RD","Sbo",30010,52,20176.52]
["14RX","Sbo",42587,179,69453.789999999994]
["14RZ","Vso",62662,287,148476.58000000002]
["14SP","Sbo",41127,56,21728.559999999998]
["14UA","So",77690,77,39835.18]
["14UA","Vso",77690,148,76566.320000000007]
["14UA","So",77690,24,12416.16]
["14VI","Sbo",41340,86,33368.86]
["14VJ","Sbo",40378,131,50829.31]
["14VL","So",72905,106,54838.04]
["14VL","Vso",72905,104,53803.360000000001]
["14VM","Bo",74049,151,39059.170000000006]
["14VO","Sbo",40803,91,35308.909999999996]
["14VP","Sbo",46724,72,27936.720000000001]
["14VQ","Sbo",41008,70,27160.7]
["14VR","So",74803,146,75531.64]
["14VR","Vso",74803,159,82257.060000000012]
["14VU","Sbo",48348,141,54709.409999999996]
["14WQ","Sbo",40342,174,67513.740000000005]
["14WS","So",84202,95,49147.3]
["14WS","Vso",84202,156,80705.040000000008]
["14WT","So",40851,67,34661.78]
["14WT","Vso",40851,71,36731.14]
["14WU","Sbo",40851,169,65573.69]
["14WV","Sbo",85255,146,56649.46]
["14XB","Sbo",47595,108,41905.08]
["14XF","Vso",40631,244,126230.96]
["14XF","So",40631,100,51734]
["14XF","Vso",40631,30,15520.2]
["14XL","Bo",41858,185,47853.950000000004]
["14XM","Bo",41735,219,56648.73]
["14XR","Bo",42623,342,88465.14]
["14XU","Bo",41567,334,86395.78]
["14XW","Bo",41522,419,108382.73000000001]
["14XY","Bo",41693,50,12933.5]
["14YB","Bo",42561,135,34920.450000000004]
["14YF","Bo",41573,213,55096.710000000006]
["14YM","Bo",41570,177,45784.590000000004]
["14YP","Bo",41862,206,53286.020000000004]
["14YR","Bo",40662,336,86913.12000000001]
["14YS","Bo",41582,43,11122.810000000001]
["14YU","Bo",85255,365,94414.55]
["14YV","Bo",41646,406,105020.02]
["14YV","Bo",41646,127,32851.090000000004]
["14YX","Bo",40377,176,45525.920000000006]
["14YY","So",74803,54,27936.36]
["14YY","Vso",74803,43,{"$f":"D4674*IF(B4674=$G$9,WerkdrukbedragPerLeerlingBo,IF(B4674=$G$10,WerkdrukbedragPerLeerlingSbo,IF(B4674=$G$11,WerkdrukbedragPerLeerlingSo,IF(B4674=$G$12,WerkdrukbedragPerLeerlingVso,0))))","v":22245.620000000003}]
["14ZA","Bo",42616,75,19400.25]
["14ZB","Bo",42607,178,46043.26]
["14ZD","Bo",31280,327,84585.090000000011]
["14ZG","Bo",71749,316,81739.72]
["14ZJ","Bo",77195,401,103726.67000000001]
["14ZK","Bo",38235,102,26384.34]
["14ZL","Bo",40803,162,41904.54]
["14ZO","Bo",73191,43,11122.810000000001]
["14ZP","Bo",23961,105,27160.350000000002]
["14ZQ","Bo",77533,111,28712.370000000003]
["14ZS","Bo",32073,126,32592.420000000002]
["14ZV","Bo",71956,144,37248.480000000003]
["14ZW","Bo",40765,255,65960.850000000006]
["14ZY","Bo",41228,93,24056.31]
["14ZZ","Bo",42540,133,34403.11]
["15AB","Bo",48101,166,42939.22]
["15AH","Bo",41419,164,42421.880000000005]
["15AI","Bo",40676,93,24056.31]
["15AL","Bo",83228,303,78377.010000000009]
["15AN","Bo",41527,217,56131.390000000007]
["15AO","Bo",41631,151,39059.170000000006]
["15AP","Bo",41375,217,56131.390000000007]
["15AS","Bo",41780,59,15261.53]
["15AU","Bo",42610,245,63374.15]
["15AV","Bo",41850,64,16554.88]
["15AZ","Bo",41573,240,62080.800000000003]
["15BD","Bo",41419,139,35955.130000000005]
["15BG","Bo",40530,424,109676.08]
["15BI","Bo",40967,134,34661.78]
["15BO","Bo",41439,32,8277.44]
["15BP","Bo",40788,41,10605.470000000001]
["15BQ","Bo",41632,114,29488.38]
["15BR","Bo",40717,59,15261.53]
["15BR","Bo",40717,85,21986.95]
["15BT","Bo",41358,75,19400.25]
["15BU","Bo",41861,30,7760.1]
["15BV","Bo",41978,213,55096.710000000006]
["15BW","Bo",42836,356,92086.52]
["15BX","Bo",55238,285,73720.950000000012]
["15BY","Bo",50844,49,12674.83]
["15BZ","Bo",50844,196,50699.32]
["15CA","Bo",38001,52,13450.84]
["15CB","Bo",45722,266,68806.22]
["15CC","Bo",45917,331,85619.77]
["15CF","Bo",47438,72,18624.240000000002]
["15CG","Bo",13683,52,13450.84]
["15CK","Bo",40941,55,14226.85]
["15CM","Bo",44201,100,25867]
["15CO","Bo",40812,207,53544.69]
["15CP","Bo",62778,249,64408.83]
["15CQ","Bo",64169,162,41904.54]
["15CR","Bo",41731,176,45525.920000000006]
["15CS","Bo",75597,275,71134.25]
["15CT","Bo",40706,440,113814.8]
["15CU","Bo",40706,302,78118.340000000011]
["15CV","Bo",31384,500,129335.00000000001]
["15CX","Bo",41782,111,28712.370000000003]
["15CY","Bo",55238,197,50957.990000000005]
["15CZ","Bo",71488,340,87947.8]
["15DA","Bo",72242,216,55872.72]
["15DB","Bo",41407,482,124678.94]
["15DC","Bo",78222,127,32851.090000000004]
["15DD","Bo",40987,438,113297.46]
["15DF","Bo",77533,262,{"$f":"D4738*IF(B4738=$G$9,WerkdrukbedragPerLeerlingBo,IF(B4738=$G$10,WerkdrukbedragPerLeerlingSbo,IF(B4738=$G$11,WerkdrukbedragPerLeerlingSo,IF(B4738=$G$12,WerkdrukbedragPerLeerlingVso,0))))","v":67771.540000000008}]
["15DI","Bo",42669,91,23538.97]
["15DK","Bo",77195,140,36213.800000000003]
["15DL","Bo",45000,395,102174.65000000001]
["15DM","Bo",31384,318,82257.060000000012]
["15DP","Bo",89532,230,59494.100000000006]
["15DQ","Bo",41270,36,9312.1200000000008]
["15DS","Bo",41261,86,22245.620000000003]
["15DT","Bo",31384,117,30264.390000000003]
["15DU","Bo",41845,90,23280.300000000003]
["15DV","Bo",94316,139,35955.130000000005]
["15DW","Bo",40980,115,29747.050000000003]
["15DY","Bo",42754,47,12157.490000000002]
["15DZ","So",42558,105,54320.700000000004]
["15DZ","Vso",42558,91,47077.94]
["15ED","Bo",28601,147,38024.490000000005]
["15EF","Bo",42719,260,67254.2]
["15EI","Bo",41617,121,31299.070000000003]
["15EJ","Bo",41567,178,46043.26]
["15EP","Bo",41780,51,13192.17]
["15EQ","Bo",41535,184,47595.280000000006]
["15ET","Bo",41573,70,18106.900000000001]
["15EV","Bo",41631,35,9053.4500000000007]
["15EX","Bo",41580,305,78894.350000000006]
["15FC","Bo",41862,163,42163.21]
["15FD","Bo",40662,101,26125.670000000002]
["15FE","Bo",40377,246,63632.820000000007]
["15FH","Bo",40969,212,54838.04]
["15FJ","Bo",41845,120,31040.400000000001]
["15FK","Bo",41373,254,65702.180000000008]
["15FL","Bo",42600,175,45267.25]
["15FM","Bo",60985,223,57683.41]
["15FO","Bo",74531,154,39835.18]
["15FQ","Bo",40676,125,32333.750000000004]
["15FR","Bo",79874,146,37765.82]
["15FS","Bo",40350,324,83809.08]
["15FT","Bo",83228,117,30264.390000000003]
["15FU","Bo",83280,213,55096.710000000006]
["15FX","Bo",41375,270,69840.900000000009]
["15FZ","Bo",41780,54,13968.18]
["15GC","Bo",41573,93,24056.31]
["15GF","Bo",13622,40,10346.800000000001]
["15GH","Bo",41631,69,17848.23]
["15GL","Bo",40530,94,24314.980000000003]
["15GR","Bo",37233,225,58200.75]
["15GT","Bo",41978,218,56390.060000000005]
["15GV","Bo",50844,210,54320.700000000004]
["15GW","Sbo",29810,307,119119.06999999999]
["15GX","Bo",40812,146,37765.82]
["15GZ","Bo",40812,218,56390.060000000005]
["15HB","Bo",71488,246,63632.820000000007]
["15HH","Bo",82526,77,19917.59]
["15HJ","Bo",41850,196,50699.32]
["15HQ","Bo",42623,168,43456.560000000005]
["15HR","Bo",41545,175,45267.25]
["15HS","Bo",41617,53,13709.51]
["15HT","Bo",41567,302,78118.340000000011]
["15HV","Bo",41522,168,43456.560000000005]
["15HW","Bo",41574,115,29747.050000000003]
["15HY","Bo",41535,497,128558.99]
["15IB","Bo",41573,79,20434.93]
["15IC","Bo",42504,160,41387.200000000004]
["15IE","Bo",41441,427,110452.09000000001]
["15IF","Bo",41570,378,97777.260000000009]
["15IH","Bo",42610,157,{"$f":"D4802*IF(B4802=$G$9,WerkdrukbedragPerLeerlingBo,IF(B4802=$G$10,WerkdrukbedragPerLeerlingSbo,IF(B4802=$G$11,WerkdrukbedragPerLeerlingSo,IF(B4802=$G$12,WerkdrukbedragPerLeerlingVso,0))))","v":40611.19}]
["15IK","Bo",41862,234,60528.780000000006]
["15IL","Bo",40662,45,11640.150000000001]
["15IQ","Bo",41373,367,94931.89]
["15IR","Bo",60985,134,34661.78]
["15IU","Bo",41645,467,120798.89000000001]
["15IV","Bo",41419,186,48112.62]
["15IX","Bo",55238,160,41387.200000000004]
["15IY","Bo",41692,234,60528.780000000006]
["15JC","Bo",65287,205,53027.350000000006]
["15JD","Bo",41631,180,46560.600000000006]
["15JF","Bo",41792,537,138905.79]
["15JG","Bo",41780,81,20952.27]
["15JI","Bo",42610,166,42939.22]
["15JJ","Bo",41850,69,17848.23]
["15JN","Bo",13622,635,164255.45000000001]
["15JO","Bo",41631,151,39059.170000000006]
["15JS","Bo",40530,153,39576.51]
["15JT","Bo",41978,283,73203.61]
["15JU","Bo",40971,147,38024.490000000005]
["15JV","Bo",40928,276,71392.92]
["15JW","Bo",40812,128,33109.760000000002]
["15JZ","Bo",78222,512,132439.04000000001]
["15KA","Bo",74049,566,146407.22]
["15KD","Bo",82526,244,63115.48]
["15KE","Bo",41850,124,32075.08]
["15KG","Bo",41735,87,22504.29]
["15KH","So",41805,85,43973.9]
["15KH","Vso",41805,87,45008.58]
["15KI","Bo",42761,212,54838.04]
["15KJ","Bo",42719,252,65184.840000000004]
["15KL","Bo",41545,398,102950.66]
["15KN","Bo",41567,347,89758.49]
["15KQ","Bo",41574,76,19658.920000000002]
["15KT","Bo",41514,252,65184.840000000004]
["15KU","Bo",41573,172,44491.240000000005]
["15KV","Bo",42504,405,104761.35]
["15KW","Bo",41631,33,8536.11]
["15KX","Bo",42514,184,47595.280000000006]
["15LA","Bo",42610,127,32851.090000000004]
["15LC","Bo",41862,150,38800.5]
["15LE","Bo",40377,199,51475.33]
["15LG","Bo",41845,222,57424.740000000005]
["15LH","Bo",60985,313,80963.710000000006]
["15LL","Bo",40676,234,60528.780000000006]
["15LO","Sbo",41407,286,110970.86]
["15LQ","Bo",83228,298,77083.66]
["15LU","Bo",41631,56,14485.52]
["15LV","Bo",41792,189,48888.630000000005]
["15LX","Bo",41639,276,71392.92]
["15MD","Bo",41631,64,16554.88]
["15MH","Bo",40928,417,107865.39]
["15MK","Sbo",58761,186,72169.86]
["15ML","Bo",71488,361,93379.87000000001]
["15MN","Bo",74049,115,29747.050000000003]
["15MO","Bo",29810,135,34920.450000000004]
["15MP","Bo",77195,490,126748.3]
["15MR","So",42552,48,24832.32]
["15MR","Vso",42552,63,32592.420000000002]
["15MU","Bo",41390,149,38541.83]
["15MW","Bo",42761,310,80187.700000000012]
["15NA","Bo",41545,594,153649.98000000001]
["15NB","Bo",41617,49,12674.83]
["15ND","Bo",41522,195,50440.65]
["15NJ","Bo",42504,605,{"$f":"D4866*IF(B4866=$G$9,WerkdrukbedragPerLeerlingBo,IF(B4866=$G$10,WerkdrukbedragPerLeerlingSbo,IF(B4866=$G$11,WerkdrukbedragPerLeerlingSo,IF(B4866=$G$12,WerkdrukbedragPerLeerlingVso,0))))","v":156495.35}]
["15NM","Bo",41441,215,55614.05]
["15NR","Bo",40377,153,39576.51]
["15NR","Bo",40377,251,64926.170000000006]
["15NS","Bo",42653,279,72168.930000000008]
["15NU","Bo",75753,360,93121.200000000012]
["15NV","Bo",41419,178,46043.26]
["15NX","Bo",41226,8,2069.36]
["15NZ","Bo",80433,299,77342.33]
["15OF","Bo",41792,510,131921.70000000001]
["15OH","Bo",41639,212,54838.04]
["15OK","Bo",41573,232,60011.44]
["15OP","Bo",13622,168,43456.560000000005]
["15OQ","Bo",41631,78,20176.260000000002]
["15OR","Bo",41573,57,14744.19]
["15OU","Bo",40530,162,41904.54]
["15OV","Bo",40812,274,70875.58]
["15OY","Bo",60997,475,122868.25000000001]
["15OZ","Bo",71488,217,56131.390000000007]
["15PD","Bo",77195,169,43715.23]
["15PE","Bo",40377,160,41387.200000000004]
["15PG","Bo",42552,215,55614.05]
["15PJ","Bo",41390,119,30781.730000000003]
["15PJ","Bo",41390,204,52768.68]
["15PM","Bo",42719,205,53027.350000000006]
["15PO","Bo",41545,72,18624.240000000002]
["15PP","Bo",41617,144,37248.480000000003]
["15PV","Bo",41514,302,78118.340000000011]
["15PW","Bo",41573,99,25608.33]
["15PX","Bo",42504,112,28971.040000000001]
["15PZ","Bo",41441,170,43973.9]
["15QA","Bo",41570,288,74496.960000000006]
["15QD","Bo",40662,149,38541.83]
["15QG","Bo",60985,205,53027.350000000006]
["15QK","Bo",41419,407,105278.69]
["15QL","Bo",79874,191,49405.97]
["15QL","Bo",79874,115,29747.050000000003]
["15QM","Bo",41226,246,63632.820000000007]
["15QY","Bo",41573,54,13968.18]
["15RE","Bo",40812,239,61822.130000000005]
["15RG","Bo",41023,509,131663.03]
["15RJ","Bo",74049,108,27936.36]
["15RK","Bo",29810,134,34661.78]
["15RL","Bo",77195,327,84585.090000000011]
["15RM","Bo",40377,116,30005.72]
["15RP","Bo",41858,183,47336.61]
["15RT","Bo",42761,223,57683.41]
["15RZ","Bo",41522,96,24832.32]
["15SB","Bo",41853,640,165548.80000000002]
["15SF","Bo",41514,87,22504.29]
["15SG","Bo",41573,85,21986.95]
["15SH","Bo",42504,151,39059.170000000006]
["15SJ","Sbo",41676,267,103598.67]
["15SK","Bo",41570,385,99587.950000000012]
["15SM","Bo",41862,420,108641.40000000001]
["15SN","Bo",40662,81,20952.27]
["15SP","Bo",42653,463,119764.21]
["15SQ","Bo",60985,221,57166.070000000007]
["15SW","Bo",41419,200,51734]
["15SY","Bo",41167,176,45525.920000000006]
["15SZ","Bo",80433,186,48112.62]
["15TF","Bo",42610,134,34661.78]
["15TG","Bo",41850,262,67771.540000000008]
["15TJ","Bo",41573,52,13450.84]
["15TL","Bo",20281,220,{"$f":"D4930*IF(B4930=$G$9,WerkdrukbedragPerLeerlingBo,IF(B4930=$G$10,WerkdrukbedragPerLeerlingSbo,IF(B4930=$G$11,WerkdrukbedragPerLeerlingSo,IF(B4930=$G$12,WerkdrukbedragPerLeerlingVso,0))))","v":56907.4}]
["15TO","Bo",40378,260,67254.2]
["15TP","Bo",40812,131,33885.770000000004]
["15TT","Bo",71488,298,77083.66]
["15TV","Bo",29810,176,45525.920000000006]
["15UA","Bo",41858,239,61822.130000000005]
["15UB","Bo",41735,301,77859.67]
["15UC","Bo",41390,243,62856.810000000005]
["15UF","Bo",42623,121,31299.070000000003]
["15UJ","Bo",41853,717,185466.39]
["15UN","Bo",41573,88,22762.960000000003]
["15UO","Bo",42504,400,103468]
["15UP","Bo",42514,289,74755.63]
["15UT","Bo",40377,240,62080.800000000003]
["15UU","Bo",42653,192,49664.639999999999]
["15UV","Bo",40342,206,53286.020000000004]
["15UW","Bo",60985,130,33627.1]
["15UZ","Bo",41251,301,77859.67]
["15VA","Bo",75753,99,25608.33]
["15VC","Bo",76806,565,146148.55000000002]
["15VE","Bo",79874,208,53803.360000000001]
["15VF","Bo",40363,98,25349.66]
["15VF","Bo",40363,207,53544.69]
["15VH","Bo",80433,215,55614.05]
["15VL","Bo",41792,165,42680.55]
["15VM","Bo",41639,647,167359.49000000002]
["15VN","Bo",42610,186,48112.62]
["15VO","Bo",42546,78,20176.260000000002]
["15VU","Bo",20281,659,170463.53]
["15VY","Bo",40812,487,125972.29000000001]
["15VZ","Bo",41506,234,60528.780000000006]
["15WF","Bo",29810,150,38800.5]
["15WG","Bo",77195,769,198917.23]
["15WH","Bo",40377,222,57424.740000000005]
["15WJ","Bo",42558,272,70358.240000000005]
["15WK","Bo",42552,183,47336.61]
["15WQ","Bo",41853,300,77601]
["15WT","Bo",41514,217,56131.390000000007]
["15WU","Bo",41573,132,34144.44]
["15WV","Bo",42504,186,48112.62]
["15WW","Bo",42514,119,30781.730000000003]
["15WZ","Bo",31267,582,150545.94]
["15XA","Bo",40662,165,42680.55]
["15XB","Bo",40377,366,94673.22]
["15XC","Bo",42653,232,60011.44]
["15XD","Bo",40342,220,56907.4]
["15XE","Bo",69877,313,80963.710000000006]
["15XF","Bo",41251,164,42421.880000000005]
["15XI","Bo",76806,420,108641.40000000001]
["15XJ","Bo",79874,233,60270.11]
["15XK","Bo",41626,310,80187.700000000012]
["15XN","Bo",83280,389,100622.63]
["15XO","Bo",41527,482,124678.94]
["15XP","Bo",65287,240,62080.800000000003]
["15XT","Bo",41850,114,29488.38]
["15XW","Bo",13622,147,38024.490000000005]
["15XX","Bo",41573,46,11898.820000000002]
["15XZ","Bo",20281,138,35696.46]
["15YB","Bo",40530,185,47853.950000000004]
["15YD","Bo",41506,184,47595.280000000006]
["15YE","Bo",41023,169,43715.23]
["15YF","Bo",60997,285,73720.950000000012]
["15YF","Bo",60997,304,78635.680000000008]
["15YG","Bo",71488,202,52251.340000000004]
["15YJ","Bo",40377,185,{"$f":"D4994*IF(B4994=$G$9,WerkdrukbedragPerLeerlingBo,IF(B4994=$G$10,WerkdrukbedragPerLeerlingSbo,IF(B4994=$G$11,WerkdrukbedragPerLeerlingSo,IF(B4994=$G$12,WerkdrukbedragPerLeerlingVso,0))))","v":47853.950000000004}]
["15YO","Bo",41735,90,23280.300000000003]
["15YP","Bo",41390,403,104244.01000000001]
["15YR","Bo",42623,141,36472.47]
["15YR","Bo",42623,69,17848.23]
["15YU","Bo",41535,383,99070.61]
["15YY","Bo",42504,269,69582.23000000001]
["15ZB","Bo",41862,242,62598.140000000007]
["15ZC","Bo",40662,110,28453.7]
["15ZD","Bo",40377,97,25090.99]
["15ZE","Bo",40342,199,51475.33]
["15ZF","Bo",69877,174,45008.58]
["15ZH","Bo",75753,116,30005.72]
["15ZJ","Bo",76806,216,55872.72]
["15ZK","Bo",79874,217,56131.390000000007]
["15ZM","Bo",41407,151,39059.170000000006]
["15ZP","Bo",65287,43,11122.810000000001]
["15ZQ","Bo",41792,63,16296.210000000001]
["15ZW","Bo",13622,101,26125.670000000002]
["15ZX","Bo",41573,67,17330.89]
["15ZZ","Bo",20281,272,70358.240000000005]
["16AA","Bo",40530,343,88723.810000000012]
["16AA","Bo",40530,69,17848.23]
["16AB","Bo",40812,223,57683.41]
["16AD","Bo",41023,397,102691.99]
["16AF","Bo",77195,364,94155.88]
["16AH","Bo",10249,206,53286.020000000004]
["16AJ","Bo",42558,359,92862.53]
["16AK","Bo",42552,225,58200.75]
["16AP","Bo",42623,142,36731.14]
["16AR","Bo",41853,760,196589.2]
["16AU","Bo",42504,817,211333.39]
["16AY","Bo",40342,145,37507.15]
["16AZ","Bo",69877,469,121316.23000000001]
["16BA","Bo",41251,232,60011.44]
["16BC","Bo",55238,112,28971.040000000001]
["16BD","Bo",40558,78,20176.260000000002]
["16BE","Bo",40278,447,115625.49]
["16BH","Bo",65287,163,42163.21]
["16BL","Bo",41400,325,84067.75]
["16BL","Bo",41400,104,26901.68]
["16BO","Bo",24597,538,139164.46000000002]
["16BO","Bo",24597,208,53803.360000000001]
["16BR","Bo",40812,206,53286.020000000004]
["16BU","Bo",60997,240,62080.800000000003]
["16BX","Bo",10249,87,22504.29]
["16BZ","Bo",42558,165,42680.55]
["16CA","Bo",42552,181,46819.270000000004]
["16CB","Bo",41735,53,13709.51]
["16CC","Bo",41390,223,57683.41]
["16CF","Bo",42623,346,89499.82]
["16CH","Bo",41853,207,53544.69]
["16CI","Bo",41514,219,56648.73]
["16CN","Bo",69877,295,76307.650000000009]
["16CP","Bo",75753,523,135284.41]
["16CQ","Bo",76806,201,51992.670000000006]
["16CZ","Bo",41573,79,20434.93]
["16DA","Bo",20281,414,107089.38]
["16DB","Bo",24597,289,74755.63]
["16DD","Bo",40530,338,87430.46]
["16DE","Bo",41506,119,30781.730000000003]
["16DF","Bo",41023,196,50699.32]
["16DG","Bo",60997,348,90017.16]
["16DH","Bo",77195,170,43973.9]
["16DI","Bo",40377,186,{"$f":"D5058*IF(B5058=$G$9,WerkdrukbedragPerLeerlingBo,IF(B5058=$G$10,WerkdrukbedragPerLeerlingSbo,IF(B5058=$G$11,WerkdrukbedragPerLeerlingSo,IF(B5058=$G$12,WerkdrukbedragPerLeerlingVso,0))))","v":48112.62}]
["16DJ","Bo",10249,109,28195.030000000002]
["16DK","Bo",41850,153,39576.51]
["16DM","Bo",42552,165,42680.55]
["16DS","Bo",41853,430,111228.1]
["16DV","Bo",41862,199,51475.33]
["16DW","Bo",40342,328,84843.760000000009]
["16DX","Bo",69877,119,30781.730000000003]
["16DY","Bo",41251,433,112004.11]
["16DZ","Bo",76806,291,75272.97]
["16EA","Bo",40144,251,64926.170000000006]
["16EB","Bo",40517,279,72168.930000000008]
["16EC","Bo",80433,191,49405.97]
["16EJ","Bo",41400,171,44232.57]
["16EL","Bo",24597,262,67771.540000000008]
["16EN","Bo",40530,295,76307.650000000009]
["16EO","Bo",41506,220,56907.4]
["16EP","Bo",41023,444,114849.48000000001]
["16EQ","Bo",60997,183,47336.61]
["16FI","Bo",69877,243,62856.810000000005]
["16FK","Bo",76806,151,39059.170000000006]
["16FL","Bo",40517,114,29488.38]
["16FR","Bo",13622,101,26125.670000000002]
["16FS","Bo",20281,286,73979.62000000001]
["16FT","Bo",24597,281,72686.27]
["16FU","Bo",41506,137,35437.79]
["16FV","Bo",41023,189,48888.630000000005]
["16FW","Bo",60997,263,68030.210000000006]
["16GB","Bo",42552,452,116918.84000000001]
["16GD","Bo",41390,453,117177.51000000001]
["16GK","Bo",41853,289,74755.63]
["16GL","Bo",41514,393,101657.31000000001]
["16GN","Bo",41772,424,109676.08]
["16GQ","Bo",69877,158,40869.86]
["16GT","Bo",76806,385,99587.950000000012]
["16GU","Bo",40278,319,82515.73000000001]
["16GV","Bo",85255,337,87171.790000000008]
["16GW","Sbo",41527,120,46561.2]
["16HB","Bo",13622,261,67512.87000000001]
["16HC","Bo",24597,730,188829.1]
["16HE","Bo",41506,235,60787.450000000004]
["16HF","Bo",41023,357,92345.19]
["16HI","Bo",10249,75,19400.25]
["16HJ","Bo",41850,282,72944.94]
["16HK","Bo",42558,178,46043.26]
["16HL","Bo",42552,209,54062.030000000006]
["16HM","Bo",41735,108,27936.36]
["16HN","Bo",41390,437,113038.79000000001]
["16HS","Bo",41853,469,121316.23000000001]
["16HT","Bo",41514,396,102433.32]
["16HU","Bo",42514,476,123126.92000000001]
["16HV","Bo",41772,296,76566.320000000007]
["16IA","Bo",76806,257,66478.19]
["16IB","Bo",40278,81,20952.27]
["16IC","Bo",85255,351,90793.170000000013]
["16IE","Bo",65287,427,110452.09000000001]
["16IJ","Bo",41400,269,69582.23000000001]
["16IK","Bo",13622,145,37507.15]
["16IL","Bo",24597,216,55872.72]
["16IP","Bo",41023,339,87689.13]
["16IQ","Bo",60997,159,41128.530000000006]
["16IR","Bo",40377,201,51992.670000000006]
["16IV","Bo",42552,384,99329.279999999999]
["16JB","Bo",41853,414,107089.38]
["16JC","Bo",41775,162,{"$f":"D5122*IF(B5122=$G$9,WerkdrukbedragPerLeerlingBo,IF(B5122=$G$10,WerkdrukbedragPerLeerlingSbo,IF(B5122=$G$11,WerkdrukbedragPerLeerlingSo,IF(B5122=$G$12,WerkdrukbedragPerLeerlingVso,0))))","v":41904.54}]
["16JI","Bo",40342,148,38283.160000000003]
["16JP","Bo",41400,166,42939.22]
["16JV","Bo",60997,318,82257.060000000012]
["16JW","Bo",40377,213,55096.710000000006]
["16JY","Bo",41850,256,66219.520000000004]
["16KA","Bo",42552,163,42163.21]
["16KB","Bo",41390,409,105796.03000000001]
["16KE","Bo",42623,364,94155.88]
["16KG","Bo",41853,222,57424.740000000005]
["16KH","Sbo",41514,132,51217.32]
["16KI","So",41852,110,56907.4]
["16KI","So",41852,48,24832.32]
["16KI","Vso",41852,79,40869.86]
["16KJ","Bo",42514,293,75790.31]
["16KK","Bo",41676,233,60270.11]
["16KL","Bo",41772,312,80705.040000000008]
["16KR","Bo",13622,179,46301.93]
["16KS","Bo",24597,342,88465.14]
["16KS","Bo",24597,110,28453.7]
["16KV","Bo",41023,75,19400.25]
["16KW","Bo",60997,236,61046.12]
["16KZ","Bo",41850,187,48371.29]
["16LE","Bo",42623,127,32851.090000000004]
["16LF","Bo",41853,150,38800.5]
["16LH","Sbo",41852,19,7372.19]
["16LI","Bo",42514,74,19141.580000000002]
["16LO","So",74154,133,68806.22]
["16LO","Vso",74154,74,38283.160000000003]
["16LO","Vso",74154,58,30005.72]
["16LQ","Bo",85255,289,74755.63]
["16LV","Bo",13622,358,92603.86]
["16LX","Bo",41023,134,34661.78]
["16MA","Bo",10249,283,73203.61]
["16MB","Bo",41850,173,44749.91]
["16MC","Bo",42558,368,95190.560000000012]
["16MD","Bo",42552,250,64667.500000000007]
["16MI","Bo",42623,186,48112.62]
["16ML","Bo",41676,241,62339.47]
["16MO","Bo",85255,258,66736.86]
["16MW","Bo",41023,77,19917.59]
["16MX","Bo",60997,237,61304.79]
["16NB","Bo",42552,636,164514.12000000002]
["16NC","Bo",41565,283,73203.61]
["16ND","Bo",41390,367,94931.89]
["16NG","Bo",41853,414,107089.38]
["16NG","Bo",41853,166,42939.22]
["16NM","Bo",41400,700,181069]
["16NN","Bo",13622,101,26125.670000000002]
["16NR","Bo",10249,382,98811.94]
["16NS","Bo",41850,278,71910.260000000009]
["16NU","Bo",42552,187,48371.29]
["16NV","Bo",41565,128,33109.760000000002]
["16NZ","Sbo",41444,79,30652.79]
["16OC","Bo",41676,400,103468]
["16OH","Sbo",41154,102,39577.019999999997]
["16OJ","Vso",41208,93,48112.62]
["16OJ","Vso",41208,101,52251.340000000004]
["16OJ","Vso",41208,130,67254.2]
["16OU","Sbo",40876,139,53933.39]
["16OY","Sbo",73712,154,59753.54]
["16PB","So",41516,97,50181.98]
["16PB","Vso",41516,85,43973.9]
["16PD","Sbo",41018,86,33368.86]
["16QF","Vso",40631,119,{"$f":"D5186*IF(B5186=$G$9,WerkdrukbedragPerLeerlingBo,IF(B5186=$G$10,WerkdrukbedragPerLeerlingSbo,IF(B5186=$G$11,WerkdrukbedragPerLeerlingSo,IF(B5186=$G$12,WerkdrukbedragPerLeerlingVso,0))))","v":61563.460000000006}]
["16QI","Sbo",62662,122,47337.22]
["16QL","Vso",40367,354,183138.36000000002]
["16QL","Vso",40367,72,37248.480000000003]
["16QX","So",41414,40,20693.600000000002]
["16QX","Vso",41414,78,40352.520000000004]
["16RC","Sbo",70176,98,38024.979999999996]
["16SM","Sbo",24597,120,46561.2]
["16SO","So",72905,104,53803.360000000001]
["16SO","Vso",72905,67,34661.78]
["16TH","Sbo",40662,119,46173.19]
["16TL","So",41671,59,30523.06]
["16TL","Vso",41671,73,37765.82]
["16TL","So",41671,27,13968.18]
["16TL","Vso",41671,31,16037.54]
["16TL","So",41671,32,16554.88]
["16UB","Bo",41850,204,52768.68]
["16UC","Bo",42558,88,22762.960000000003]
["16UD","Bo",42552,137,35437.79]
["16UE","Bo",41565,193,49923.310000000005]
["16UG","Bo",42510,251,64926.170000000006]
["16UJ","Bo",42514,236,61046.12]
["16UK","Bo",41676,250,64667.500000000007]
["16UM","Bo",41223,229,59235.43]
["16UN","Bo",41373,144,37248.480000000003]
["16UO","Bo",77195,223,57683.41]
["16UP","Bo",48348,182,47077.94]
["16UQ","Bo",37299,118,30523.06]
["16US","Bo",41558,80,20693.600000000002]
["16UU","Bo",41223,309,79929.03]
["16UV","Bo",41516,245,63374.15]
["16UW","Bo",47595,252,65184.840000000004]
["16UZ","Bo",41000,448,115884.16]
["16VG","So",20281,80,41387.200000000004]
["16VH","Bo",34230,424,109676.08]
["16VR","Bo",40941,249,64408.83]
["16VT","Bo",40888,234,60528.780000000006]
["16VU","Bo",41373,175,45267.25]
["16VV","Bo",65768,122,31557.74]
["16WB","Bo",40987,206,53286.020000000004]
["16WG","Bo",83864,170,43973.9]
["16WH","Bo",70176,343,88723.810000000012]
["16WI","Bo",42596,306,79153.02]
["16WL","Bo",99594,130,33627.1]
["16WN","Bo",10249,73,18882.91]
["16WQ","Bo",41565,145,37507.15]
["16WT","Bo",41853,471,121833.57]
["16WT","Bo",41853,147,38024.490000000005]
["16WU","Bo",42514,638,165031.46000000002]
["16WW","Bo",41772,97,25090.99]
["16WZ","Bo",47595,439,113556.13]
["16XC","Bo",85255,237,61304.79]
["16XK","Bo",71008,184,47595.280000000006]
["16XM","Bo",83864,297,76824.990000000005]
["16XN","Bo",70176,410,106054.70000000001]
["16XP","Bo",99594,270,69840.900000000009]
["16XQ","Bo",10249,199,51475.33]
["16XS","Bo",42552,263,68030.210000000006]
["16XT","Bo",41565,107,27677.690000000002]
["16XY","Bo",42514,399,103209.33]
["16XY","Bo",42514,64,16554.88]
["16YA","Bo",41772,652,168652.84]
["16YB","Bo",47595,192,49664.639999999999]
["16YE","Bo",41251,183,47336.61]
["16YF","Bo",40967,170,{"$f":"D5250*IF(B5250=$G$9,WerkdrukbedragPerLeerlingBo,IF(B5250=$G$10,WerkdrukbedragPerLeerlingSbo,IF(B5250=$G$11,WerkdrukbedragPerLeerlingSo,IF(B5250=$G$12,WerkdrukbedragPerLeerlingVso,0))))","v":43973.9}]
["16YG","Bo",83864,396,102433.32]
["16YK","Bo",10249,81,20952.27]
["16YM","Bo",42552,154,39835.18]
["16YQ","Bo",41853,144,37248.480000000003]
["16YS","Bo",41676,173,44749.91]
["16YS","Bo",41676,166,42939.22]
["16YT","Bo",41772,104,26901.68]
["16YU","Bo",47595,223,57683.41]
["16YW","Bo",24597,235,60787.450000000004]
["16YX","Bo",40967,459,118729.53000000001]
["16YZ","Bo",99594,221,57166.070000000007]
["16ZB","Bo",41850,377,97518.590000000011]
["16ZC","Bo",42552,187,48371.29]
["16ZD","Bo",41565,103,26643.010000000002]
["16ZF","Bo",41853,388,100363.96]
["16ZG","Bo",41676,176,45525.920000000006]
["16ZJ","Bo",74154,288,74496.960000000006]
["16ZM","Bo",24597,218,56390.060000000005]
["16ZO","Bo",40967,387,100105.29000000001]
["16ZP","Bo",70176,310,80187.700000000012]
["16ZQ","Bo",10249,86,22245.620000000003]
["16ZS","Bo",42552,190,49147.3]
["16ZT","Bo",41565,146,37765.82]
["16ZX","Bo",41676,92,23797.640000000003]
["16ZY","Bo",41772,75,19400.25]
["16ZY","Bo",41772,264,68288.88]
["16ZZ","Bo",74154,150,38800.5]
["17AB","Bo",24597,306,79153.02]
["17AC","Bo",41023,533,137871.11000000002]
["17AE","Bo",10249,145,37507.15]
["17AH","Bo",42510,246,63632.820000000007]
["17AM","Bo",74154,77,19917.59]
["17AP","Bo",24597,340,87947.8]
["17AV","Bo",41676,199,51475.33]
["17BB","Bo",41023,160,41387.200000000004]
["17BC","Bo",10249,97,25090.99]
["17BH","Bo",74154,134,34661.78]
["17BL","Bo",10249,91,23538.97]
["17BP","Bo",41676,24,6208.08]
["17BT","Bo",41400,402,103985.34000000001]
["17BU","Bo",10249,122,31557.74]
["17BW","Bo",42510,469,121316.23000000001]
["17BY","Bo",74154,110,28453.7]
["17CA","Bo",41400,636,164514.12000000002]
["17CB","Bo",24597,346,89499.82]
["17CI","Bo",74154,236,61046.12]
["17CJ","Bo",82526,137,35437.79]
["17CL","Bo",41400,335,86654.450000000012]
["17CM","Bo",24597,502,129852.34000000001]
["17CN","Bo",10249,36,9312.1200000000008]
["17CT","Bo",74154,69,17848.23]
["17CU","Bo",82526,276,71392.92]
["17CV","Bo",41400,459,118729.53000000001]
["17CW","Bo",10249,41,10605.470000000001]
["17CY","Bo",42510,116,30005.72]
["17DA","Bo",41676,77,19917.59]
["17DA","Bo",41676,78,20176.260000000002]
["17DC","Bo",82526,228,58976.76]
["17DF","Bo",24597,186,48112.62]
["17DG","Bo",10249,210,54320.700000000004]
["17DI","Bo",42510,351,90793.170000000013]
["17DK","Bo",41676,192,49664.639999999999]
["17DP","Bo",24597,655,169428.85]
["17DQ","Bo",10249,310,{"$f":"D5314*IF(B5314=$G$9,WerkdrukbedragPerLeerlingBo,IF(B5314=$G$10,WerkdrukbedragPerLeerlingSbo,IF(B5314=$G$11,WerkdrukbedragPerLeerlingSo,IF(B5314=$G$12,WerkdrukbedragPerLeerlingVso,0))))","v":80187.700000000012}]
["17DR","Bo",41565,171,44232.57]
["17DV","Bo",41676,342,88465.14]
["17DW","Bo",74154,357,92345.19]
["17DX","Bo",82526,333,86137.11]
["17DZ","Bo",41400,353,91310.510000000009]
["17EA","Bo",24597,510,131921.70000000001]
["17EB","Bo",41565,162,41904.54]
["17EC","Bo",42510,427,110452.09000000001]
["17EF","Bo",74154,314,81222.38]
["17EG","Bo",82526,92,23797.640000000003]
["17EH","Bo",41400,281,72686.27]
["17EJ","Bo",10249,92,23797.640000000003]
["17EK","Bo",41572,158,40869.86]
["17EK","Bo",41572,133,34403.11]
["17EL","Bo",41565,103,26643.010000000002]
["17EO","Bo",41775,222,57424.740000000005]
["17EP","Bo",74154,111,28712.370000000003]
["17EQ","Bo",82526,269,69582.23000000001]
["17ER","Bo",41400,186,48112.62]
["17ES","Bo",24597,353,91310.510000000009]
["17EU","Bo",41572,231,59752.770000000004]
["17EV","Bo",41565,518,133991.06]
["17EW","Bo",42510,233,60270.11]
["17EZ","Bo",74154,146,37765.82]
["17FA","Bo",82526,214,55355.380000000005]
["17FC","Bo",24597,294,76048.98000000001]
["17FE","Bo",41572,313,80963.710000000006]
["17FF","Bo",41565,112,28971.040000000001]
["17FG","Bo",42510,452,116918.84000000001]
["17FH","Bo",41775,585,151321.95000000001]
["17FI","Sbo",41676,166,64409.659999999996]
["17FJ","Bo",74154,268,69323.56]
["17FK","Bo",82526,205,53027.350000000006]
["17FL","Bo",41400,209,54062.030000000006]
["17FL","Bo",41400,99,25608.33]
["17FN","Bo",41572,201,51992.670000000006]
["17FR","Bo",74154,150,38800.5]
["17FU","Bo",10249,89,23021.63]
["17FV","Bo",41572,292,75531.64]
["17FW","Bo",41565,255,65960.850000000006]
["17FY","Bo",41775,303,78377.010000000009]
["17GQ","Vso",44813,144,74496.960000000006]
["17GQ","So",44813,45,23280.300000000003]
["17GU","Bo",82526,218,56390.060000000005]
["17GW","Vso",54679,57,29488.38]
["17GW","So",54679,145,75014.3]
["17GW","So",54679,164,84843.760000000009]
["17GW","So",54679,66,34144.44]
["17GW","So",54679,40,20693.600000000002]
["17GW","Vso",54679,101,52251.340000000004]
["17GW","So",54679,143,73979.62000000001]
["17GW","So",54679,134,69323.56]
["17GW","So",54679,187,96742.58]
["17GW","So",54679,178,92086.52]
["17GW","So",54679,67,34661.78]
["17GW","So",54679,153,79153.02]
["17GW","So",54679,75,38800.5]
["17GW","So",54679,256,132439.04000000001]
["17GW","So",54679,100,51734]
["17GW","Vso",54679,57,29488.38]
["17GW","So",54679,32,16554.88]
["17GW","Vso",54679,26,13450.84]
["17GW","So",54679,40,20693.600000000002]
["17GW","Vso",54679,18,{"$f":"D5378*IF(B5378=$G$9,WerkdrukbedragPerLeerlingBo,IF(B5378=$G$10,WerkdrukbedragPerLeerlingSbo,IF(B5378=$G$11,WerkdrukbedragPerLeerlingSo,IF(B5378=$G$12,WerkdrukbedragPerLeerlingVso,0))))","v":9312.1200000000008}]
["17GW","Vso",54679,111,57424.740000000005]
["17GW","Vso",54679,70,36213.800000000003]
["17GW","Vso",54679,28,14485.52]
["17GW","So",54679,56,28971.040000000001]
["17GW","Vso",54679,40,20693.600000000002]
["17GW","So",54679,213,110193.42000000001]
["17GW","So",54679,138,71392.92]
["17GW","So",54679,99,51216.66]
["17GW","Vso",54679,126,65184.840000000004]
["17GW","Vso",54679,72,37248.480000000003]
["17GW","So",54679,82,42421.880000000005]
["17GW","Vso",54679,16,8277.44]
["17GW","So",54679,14,7242.76]
["17GW","Vso",54679,12,6208.08]
["17GW","So",54679,63,32592.420000000002]
["17GW","Vso",54679,10,5173.4000000000005]
["17GW","So",54679,18,9312.1200000000008]
["17GW","Vso",54679,45,23280.300000000003]
["17GW","So",54679,35,18106.900000000001]
["17GW","So",54679,11,5690.7400000000007]
["17GW","Vso",54679,5,2586.7000000000003]
["17IP","So",41008,46,23797.640000000003]
["17IQ","Sbo",77338,102,39577.019999999997]
["17IY","Sbo",41338,49,19012.489999999998]
["17JD","Bo",10249,62,16037.54]
["17JE","Bo",41572,305,78894.350000000006]
["17JG","Bo",42510,490,126748.3]
["17JG","Bo",42510,210,54320.700000000004]
["17JH","Bo",41775,273,70616.91]
["17JJ","Vso",21712,155,80187.700000000012]
["17JJ","Vso",21712,124,64150.16]
["17JJ","Vso",21712,9,4656.0600000000004]
["17JL","Bo",42540,98,25349.66]
["17JM","Bo",40803,232,60011.44]
["17JN","Bo",40959,167,43197.89]
["17JP","Bo",41797,70,18106.900000000001]
["17JV","Bo",41472,359,92862.53]
["17JX","Bo",31237,104,26901.68]
["17KB","Bo",23961,371,95966.57]
["17KC","Bo",65287,148,38283.160000000003]
["17KD","Bo",65430,234,60528.780000000006]
["17KG","Bo",40928,679,175636.93000000002]
["17KI","Bo",40775,134,34661.78]
["17KJ","Bo",29810,476,123126.92000000001]
["17KM","Bo",10249,74,19141.580000000002]
["17KU","Bo",41797,223,57683.41]
["17KV","Sbo",75597,94,36472.94]
["17KW","Bo",82526,228,58976.76]
["17KZ","Bo",41248,100,25867]
["17LB","Bo",41338,282,72944.94]
["17LE","Bo",65287,407,105278.69]
["17LF","Bo",48101,319,82515.73000000001]
["17LH","Bo",83280,241,62339.47]
["17LI","Bo",40775,107,27677.690000000002]
["17LM","Bo",41565,92,23797.640000000003]
["17LO","Bo",41775,405,104761.35]
["17LQ","Bo",42540,172,44491.240000000005]
["17LT","Bo",82526,131,33885.770000000004]
["17LU","Bo",24597,183,47336.61]
["17LV","So",41373,93,48112.62]
["17LV","Vso",41373,50,25867]
["17LW","Bo",41248,365,94414.55]
["17LX","Bo",41338,385,99587.950000000012]
["17LY","Bo",65287,184,{"$f":"D5442*IF(B5442=$G$9,WerkdrukbedragPerLeerlingBo,IF(B5442=$G$10,WerkdrukbedragPerLeerlingSbo,IF(B5442=$G$11,WerkdrukbedragPerLeerlingSo,IF(B5442=$G$12,WerkdrukbedragPerLeerlingVso,0))))","v":47595.280000000006}]
["17MC","Bo",41572,458,118470.86]
["17MD","Bo",41616,110,28453.7]
["17MF","Bo",42510,222,57424.740000000005]
["17MH","Bo",41676,170,43973.9]
["17MI","Bo",42540,195,50440.65]
["17MJ","Bo",57266,241,62339.47]
["17MJ","Bo",57266,209,54062.030000000006]
["17MK","Bo",82526,172,44491.240000000005]
["17MM","Bo",41472,237,61304.79]
["17MO","Bo",41338,427,110452.09000000001]
["17MQ","Bo",48101,226,58459.420000000006]
["17MR","Bo",41572,199,51475.33]
["17MS","Bo",41616,81,20952.27]
["17MT","Bo",41565,954,246771.18000000002]
["17MV","Bo",41775,172,44491.240000000005]
["17MX","Bo",42540,216,55872.72]
["17MY","Bo",57266,138,35696.46]
["17MZ","Bo",82526,212,54838.04]
["17NB","Bo",41472,151,39059.170000000006]
["17ND","Bo",41338,203,52510.01]
["17NF","Bo",41572,160,41387.200000000004]
["17NG","Bo",41616,189,48888.630000000005]
["17NH","Bo",41565,120,31040.400000000001]
["17NI","Bo",42510,465,120281.55]
["17NJ","Bo",41775,207,53544.69]
["17NM","Bo",82526,139,35955.130000000005]
["17NO","Bo",41248,169,43715.23]
["17NQ","Bo",41572,258,66736.86]
["17NR","Bo",41616,155,40093.850000000006]
["17NS","Bo",41565,255,65960.850000000006]
["17NT","Bo",42510,653,168911.51]
["17NU","Bo",41775,381,98553.27]
["17NV","Bo",57266,275,71134.25]
["17NW","Bo",82526,155,40093.850000000006]
["17NX","Bo",41400,264,68288.88]
["17NZ","Bo",41248,392,101398.64]
["17OB","Bo",41338,282,72944.94]
["17OC","Bo",65287,90,23280.300000000003]
["17OF","Bo",41565,279,72168.930000000008]
["17OJ","Bo",41775,239,61822.130000000005]
["17OM","Bo",82526,94,24314.980000000003]
["17ON","Bo",41400,831,214954.77000000002]
["17OR","Bo",40378,293,75790.31]
["17OS","Bo",41338,254,65702.180000000008]
["17OV","Bo",41616,250,64667.500000000007]
["17OY","Bo",41775,232,60011.44]
["17OZ","Bo",57266,161,41645.870000000003]
["17PA","Bo",62662,182,47077.94]
["17PB","Bo",70176,363,93897.21]
["17PC","Bo",82526,64,16554.88]
["17PF","Bo",41248,370,95707.900000000009]
["17PG","Bo",40378,190,49147.3]
["17PH","Bo",41338,156,40352.520000000004]
["17PI","Bo",65287,763,197365.21000000002]
["17PJ","Bo",41572,138,35696.46]
["17PK","Bo",41616,96,24832.32]
["17PN","Bo",41775,65,16813.55]
["17PQ","Bo",70176,189,48888.630000000005]
["17PR","Bo",82526,155,40093.850000000006]
["17PV","Bo",40378,186,48112.62]
["17PY","Bo",41572,460,118988.20000000001]
["17PZ","Bo",41616,233,60270.11]
["17QA","Bo",41565,109,28195.030000000002]
["17QE","Bo",62662,244,{"$f":"D5506*IF(B5506=$G$9,WerkdrukbedragPerLeerlingBo,IF(B5506=$G$10,WerkdrukbedragPerLeerlingSbo,IF(B5506=$G$11,WerkdrukbedragPerLeerlingSo,IF(B5506=$G$12,WerkdrukbedragPerLeerlingVso,0))))","v":63115.48}]
["17QF","Bo",70176,121,31299.070000000003]
["17QH","Bo",41400,174,45008.58]
["17QJ","Bo",41472,204,52768.68]
["17QK","Bo",41248,153,39576.51]
["17QL","Bo",40378,351,90793.170000000013]
["17QM","Bo",41338,403,104244.01000000001]
["17QN","Bo",65287,169,43715.23]
["17QQ","Bo",42510,244,63115.48]
["17QS","Bo",57266,198,51216.66]
["17QV","Bo",82526,331,85619.77]
["17QY","Bo",41472,182,47077.94]
["17RC","Bo",65287,376,97259.920000000013]
["17RD","Bo",41616,127,32851.090000000004]
["17RE","Bo",41565,121,31299.070000000003]
["17RI","Bo",70176,297,76824.990000000005]
["17RJ","Bo",82526,342,88465.14]
["17RK","Bo",41400,121,31299.070000000003]
["17RK","Bo",41400,395,102174.65000000001]
["17RL","Bo",24597,301,77859.67]
["17RM","Bo",41248,581,150287.27000000002]
["17RN","Bo",40378,189,48888.630000000005]
["17RO","Bo",22725,236,61046.12]
["17RQ","Bo",41616,241,62339.47]
["17RS","Bo",42510,141,36472.47]
["17RV","Bo",70176,412,106572.04000000001]
["17RX","Bo",24597,297,76824.990000000005]
["17RY","Bo",41248,739,191157.13]
["17RZ","Bo",40378,293,75790.31]
["17SI","Bo",70176,139,35955.130000000005]
["17SJ","Bo",82526,322,83291.740000000005]
["17SK","Bo",41400,277,71651.590000000011]
["17SL","Bo",24597,276,71392.92]
["17SP","Bo",41616,73,18882.91]
["17SQ","Bo",41565,259,66995.53]
["17SR","Bo",42510,372,96225.24]
["17ST","Bo",62662,157,40611.19]
["17SU","Bo",70176,170,43973.9]
["17SW","Bo",24597,913,236165.71000000002]
["17SX","Bo",40378,361,93379.87000000001]
["17SY","Bo",41338,546,141233.82]
["17SZ","Bo",65287,436,112780.12000000001]
["17TC","Bo",62662,148,38283.160000000003]
["17TD","Bo",70176,435,112521.45000000001]
["17TF","Bo",24597,375,97001.25]
["17TG","Bo",40378,253,65443.51]
["17TI","Bo",65287,360,93121.200000000012]
["17TJ","Bo",41616,92,23797.640000000003]
["17TK","Bo",41565,201,51992.670000000006]
["17TN","Bo",70176,481,124420.27]
["17TP","Bo",24597,713,184431.71000000002]
["17TQ","Bo",40378,264,68288.88]
["17TT","Bo",70176,264,68288.88]
["17TU","Bo",24597,263,68030.210000000006]
["17TW","Bo",41616,114,29488.38]
["17TX","Bo",62662,204,52768.68]
["17TY","Bo",70176,344,88982.48000000001]
["17TZ","Bo",24597,256,66219.520000000004]
["17UA","Bo",40378,356,92086.52]
["17UB","Bo",41616,149,38541.83]
["17UC","Bo",62662,340,87947.8]
["17UD","Bo",70176,350,90534.5]
["17UE","Bo",24597,168,43456.560000000005]
["17UG","Bo",41616,158,40869.86]
["17UH","Bo",41565,255,{"$f":"D5570*IF(B5570=$G$9,WerkdrukbedragPerLeerlingBo,IF(B5570=$G$10,WerkdrukbedragPerLeerlingSbo,IF(B5570=$G$11,WerkdrukbedragPerLeerlingSo,IF(B5570=$G$12,WerkdrukbedragPerLeerlingVso,0))))","v":65960.850000000006}]
["17UI","Sbo",41852,164,63633.64]
["17VA","Bo",70176,423,109417.41]
["17VV","Sbo",41506,162,62857.619999999995]
["17WK","So",71371,99,51216.66]
["17WK","Vso",71371,113,58459.420000000006]
["17WX","Bo",69447,274,70875.58]
["17WY","Bo",41407,474,122609.58]
["17WZ","Bo",41797,179,46301.93]
["17XB","Bo",62662,427,110452.09000000001]
["17XC","Bo",70176,274,70875.58]
["17XF","Bo",42656,148,38283.160000000003]
["17XI","Bo",40517,231,59752.770000000004]
["17XQ","Bo",41516,294,76048.98000000001]
["17XT","Bo",75934,389,100622.63]
["17XV","Bo",69447,283,73203.61]
["17XW","Bo",41407,391,101139.97]
["17XX","Bo",41797,235,60787.450000000004]
["17XZ","Bo",62662,232,60011.44]
["17YA","Bo",70176,193,49923.310000000005]
["17YE","Bo",40517,199,51475.33]
["17YN","Bo",62662,138,35696.46]
["17YO","Bo",70176,202,52251.340000000004]
["17YR","Bo",24597,221,57166.070000000007]
["17YV","Bo",41616,171,44232.57]
["17YV","Bo",41616,44,11381.480000000001]
["17YX","Bo",62662,284,73462.28]
["17YY","Bo",70176,410,106054.70000000001]
["17ZD","Bo",24597,351,90793.170000000013]
["17ZF","Bo",41616,127,32851.090000000004]
["17ZG","Bo",62662,255,65960.850000000006]
["17ZH","Bo",70176,177,45784.590000000004]
["17ZI","Bo",24597,588,152097.96000000002]
["17ZK","Bo",41616,115,29747.050000000003]
["17ZL","Bo",77195,97,25090.99]
["17ZM","Bo",70176,134,34661.78]
["17ZO","Bo",24597,171,44232.57]
["17ZP","Bo",40378,144,37248.480000000003]
["17ZQ","Bo",41616,88,22762.960000000003]
["17ZR","Bo",62662,413,106830.71]
["17ZR","Bo",62662,143,36989.810000000005]
["17ZS","Bo",70176,175,45267.25]
["17ZU","Bo",24597,487,125972.29000000001]
["17ZV","Bo",40378,291,75272.97]
["17ZY","Bo",62662,114,29488.38]
["17ZZ","Bo",70176,328,84843.760000000009]
["18AA","Bo",24597,871,225301.57]
["18AB","Bo",40378,171,44232.57]
["18AC","Bo",62662,211,54579.37]
["18AE","Bo",40378,343,88723.810000000012]
["18AF","Bo",41616,360,93121.200000000012]
["18AH","Bo",24597,288,74496.960000000006]
["18AK","Bo",24597,199,51475.33]
["18AP","Bo",24597,200,51734]
["18AQ","Bo",40378,244,63115.48]
["18AR","Bo",41572,576,148993.92000000001]
["18AU","Bo",24597,411,106313.37000000001]
["18AW","Sbo",41518,136,52769.36]
["18AX","Bo",24597,450,116401.5]
["18BA","Bo",69669,470,121574.90000000001]
["18BB","Bo",24597,246,63632.820000000007]
["18BD","So",41775,59,30523.06]
["18BD","Vso",41775,41,21210.940000000002]
["18BG","Bo",24597,312,80705.040000000008]
["18BJ","Bo",24597,159,{"$f":"D5634*IF(B5634=$G$9,WerkdrukbedragPerLeerlingBo,IF(B5634=$G$10,WerkdrukbedragPerLeerlingSbo,IF(B5634=$G$11,WerkdrukbedragPerLeerlingSo,IF(B5634=$G$12,WerkdrukbedragPerLeerlingVso,0))))","v":41128.530000000006}]
["18BK","Bo",40378,242,62598.140000000007]
["18BL","Bo",41775,467,120798.89000000001]
["18BM","Bo",69669,134,34661.78]
["18BN","Bo",40378,236,61046.12]
["18BO","Bo",41775,205,53027.350000000006]
["18CF","Bo",69669,294,76048.98000000001]
["18CQ","Sbo",20281,124,48113.24]
["18CZ","So",41008,75,38800.5]
["18CZ","So",41008,33,17072.22]
["18CZ","Vso",41008,106,54838.04]
["18DR","Bo",41488,122,31557.74]
["18DS","Bo",41561,57,14744.19]
["18DS","Bo",41561,70,18106.900000000001]
["18DS","Bo",41561,117,30264.390000000003]
["18DS","Bo",41561,27,6984.09]
["18DT","Bo",41471,128,33109.760000000002]
["18DU","Bo",41401,260,67254.2]
["18DW","Bo",41516,192,49664.639999999999]
["18DX","Bo",41544,207,53544.69]
["18DY","Bo",41471,190,49147.3]
["18EA","Bo",41496,232,60011.44]
["18EB","Bo",28601,95,24573.65]
["18EC","Vso",41664,96,49664.639999999999]
["18EC","Vso",41664,371,191933.14]
["18ED","Bo",41376,115,29747.050000000003]
["18EE","Bo",41775,337,87171.790000000008]
["18EG","Bo",13683,47,12157.490000000002]
["18EH","Bo",28601,150,38800.5]
["18EJ","Bo",41604,487,125972.29000000001]
["18EK","Bo",41438,79,20434.93]
["18EL","Bo",11764,74,19141.580000000002]
["18EO","Bo",41816,106,27419.02]
["18EP","Bo",41434,110,28453.7]
["18ER","Bo",41401,54,13968.18]
["18ER","Bo",41401,50,12933.5]
["18ES","Bo",83280,551,142527.17000000001]
["18ET","Bo",41544,361,93379.87000000001]
["18FA","Bo",31384,187,48371.29]
["18FC","Bo",41443,173,44749.91]
["18FD","Bo",41557,138,35696.46]
["18FE","Bo",29810,188,48629.960000000006]
["18FF","Bo",42567,92,23797.640000000003]
["18FG","Bo",41362,326,84326.42]
["18FH","Bo",40803,194,50181.98]
["18FI","Bo",41438,230,59494.100000000006]
["18FJ","Bo",41633,90,23280.300000000003]
["18FK","Bo",41501,294,76048.98000000001]
["18FM","Bo",41501,218,56390.060000000005]
["18FN","Bo",41438,95,24573.65]
["18FU","Bo",49960,159,41128.530000000006]
["18FV","Bo",53860,409,105796.03000000001]
["18FY","Bo",41571,95,24573.65]
["18GA","Bo",13683,72,18624.240000000002]
["18GB","Bo",42610,57,14744.19]
["18GD","Bo",42709,176,45525.920000000006]
["18GF","Bo",41376,63,16296.210000000001]
["18GH","Bo",75388,134,34661.78]
["18GP","Bo",41869,175,45267.25]
["18GQ","Bo",78222,278,71910.260000000009]
["18GS","Bo",40803,233,60270.11]
["18GT","Bo",41637,88,22762.960000000003]
["18GU","Bo",41878,100,25867]
["18GW","Bo",41345,47,12157.490000000002]
["18GW","Bo",41345,61,{"$f":"D5698*IF(B5698=$G$9,WerkdrukbedragPerLeerlingBo,IF(B5698=$G$10,WerkdrukbedragPerLeerlingSbo,IF(B5698=$G$11,WerkdrukbedragPerLeerlingSo,IF(B5698=$G$12,WerkdrukbedragPerLeerlingVso,0))))","v":15778.87}]
["18GX","Sbo",41008,150,58201.5]
["18GY","Bo",41775,423,109417.41]
["18GZ","Bo",41604,160,41387.200000000004]
["18HB","Bo",10249,164,42421.880000000005]
["18HD","Bo",41662,95,24573.65]
["18HF","Bo",13683,99,25608.33]
["18HG","Bo",21478,281,72686.27]
["18HI","Bo",41886,268,69323.56]
["18HK","Bo",31384,323,83550.41]
["18HL","Bo",69669,243,62856.810000000005]
["18HN","Bo",29810,283,73203.61]
["18HO","Bo",41561,88,22762.960000000003]
["18HO","Bo",41561,71,18365.57]
["18HP","Bo",40803,97,25090.99]
["18HQ","Bo",41613,103,26643.010000000002]
["18HR","Bo",41362,184,47595.280000000006]
["18HS","Bo",41878,127,32851.090000000004]
["18HS","Bo",41878,130,33627.1]
["18HT","Bo",41538,229,59235.43]
["18HX","Bo",49960,204,52768.68]
["18IC","Bo",41376,187,48371.29]
["18ID","Bo",41502,102,26384.34]
["18IE","Bo",28601,323,83550.41]
["18IJ","Bo",41895,53,13709.51]
["18IP","Bo",41878,67,17330.89]
["18IQ","Bo",41843,385,99587.950000000012]
["18IS","So",41853,41,21210.940000000002]
["18IS","Vso",41853,86,44491.240000000005]
["18IS","So",41853,58,30005.72]
["18IU","Bo",10867,82,21210.940000000002]
["18IX","Bo",41527,88,22762.960000000003]
["18IY","Bo",41492,206,53286.020000000004]
["18IZ","Bo",41574,44,11381.480000000001]
["18JB","Bo",41565,448,115884.16]
["18JD","Bo",41434,90,23280.300000000003]
["18JE","Bo",41434,292,75531.64]
["18JF","Bo",41527,525,135801.75]
["18JG","Bo",21478,193,49923.310000000005]
["18JI","Bo",41886,170,43973.9]
["18JL","Bo",42623,80,20693.600000000002]
["18JO","Bo",41561,101,26125.670000000002]
["18JU","Bo",41538,234,60528.780000000006]
["18JW","Bo",41496,190,49147.3]
["18JX","Bo",40378,588,152097.96000000002]
["18JY","Bo",49960,219,56648.73]
["18KB","Bo",41376,407,105278.69]
["18KC","So",41570,58,30005.72]
["18KC","Vso",41570,93,48112.62]
["18KD","Bo",41502,175,45267.25]
["18KF","Bo",41895,175,45267.25]
["18KG","Bo",41438,209,54062.030000000006]
["18KI","Bo",41376,72,18624.240000000002]
["18KJ","Bo",41434,281,72686.27]
["18KK","Bo",41500,180,46560.600000000006]
["18KM","Sbo",41502,74,28712.739999999998]
["18KO","Bo",10867,44,11381.480000000001]
["18KP","Bo",41638,197,50957.990000000005]
["18KU","Bo",41895,99,25608.33]
["18KV","Bo",41435,172,44491.240000000005]
["18KV","Bo",41435,21,5432.0700000000006]
["18KX","Bo",41434,80,20693.600000000002]
["18LB","Bo",69669,304,78635.680000000008]
["18LE","Bo",41561,251,64926.170000000006]
["18LF","Bo",23128,64,{"$f":"D5762*IF(B5762=$G$9,WerkdrukbedragPerLeerlingBo,IF(B5762=$G$10,WerkdrukbedragPerLeerlingSbo,IF(B5762=$G$11,WerkdrukbedragPerLeerlingSo,IF(B5762=$G$12,WerkdrukbedragPerLeerlingVso,0))))","v":16554.88}]
["18LI","Bo",41538,58,15002.86]
["18LJ","Bo",41371,158,40869.86]
["18LK","Bo",41496,99,25608.33]
["18LM","Bo",53860,209,54062.030000000006]
["18LN","Bo",41816,140,36213.800000000003]
["18LP","Bo",41502,95,24573.65]
["18LQ","Bo",42709,151,39059.170000000006]
["18LR","Bo",41438,162,41904.54]
["18LS","Bo",41455,457,118212.19]
["18LT","Bo",41376,131,33885.770000000004]
["18LU","Bo",41434,182,47077.94]
["18LW","So",41853,105,54320.700000000004]
["18LW","Vso",41853,19,9829.4600000000009]
["18LX","Bo",41775,182,47077.94]
["18LX","Bo",41775,209,54062.030000000006]
["18LY","Bo",10867,40,10346.800000000001]
["18LZ","Bo",41638,75,19400.25]
["18LZ","Bo",41638,190,49147.3]
["18MA","Bo",41376,401,103726.67000000001]
["18MC","Bo",41488,208,53803.360000000001]
["18MF","Bo",41435,72,18624.240000000002]
["18MG","Bo",41852,203,52510.01]
["18MH","Bo",41434,237,61304.79]
["18MJ","Bo",41491,151,39059.170000000006]
["18MK","Bo",30240,401,103726.67000000001]
["18MM","Bo",41868,111,28712.370000000003]
["18MN","Bo",41434,363,93897.21]
["18MO","Bo",41518,163,42163.21]
["18MQ","Bo",41561,337,87171.790000000008]
["18MR","Bo",41516,358,92603.86]
["18MS","Bo",23128,57,14744.19]
["18MT","Bo",41491,333,86137.11]
["18MW","Bo",41574,67,17330.89]
["18MX","Bo",41538,94,24314.980000000003]
["18MY","Bo",41371,230,59494.100000000006]
["18MZ","Bo",41672,332,85878.44]
["18NA","Bo",42557,43,11122.810000000001]
["18NC","Bo",41630,284,73462.28]
["18NF","Bo",41693,88,22762.960000000003]
["18NH","Bo",41434,134,34661.78]
["18NI","Bo",41500,429,110969.43000000001]
["18NM","Bo",41851,324,83809.08]
["18NN","Bo",41895,221,57166.070000000007]
["18NS","Bo",69669,181,46819.270000000004]
["18NU","Bo",41434,322,83291.740000000005]
["18NV","Bo",41518,225,58200.75]
["18NW","Bo",41868,228,58976.76]
["18NX","Bo",41561,131,33885.770000000004]
["18OA","Bo",41527,251,64926.170000000006]
["18OD","Bo",41672,167,43197.89]
["18OE","Bo",41630,58,15002.86]
["18OF","Bo",40378,381,98553.27]
["18OH","Bo",41630,33,8536.11]
["18OL","Bo",41574,44,11381.480000000001]
["18OM","Bo",41693,95,24573.65]
["18OP","Bo",41500,313,80963.710000000006]
["18OQ","Bo",41630,46,11898.820000000002]
["18OR","Bo",41775,260,67254.2]
["18OV","Bo",41851,509,131663.03]
["18OY","Bo",41438,62,16037.54]
["18OZ","Bo",41434,74,19141.580000000002]
["18PA","Bo",41842,175,45267.25]
["18PC","Bo",69669,184,47595.280000000006]
["18PE","Bo",41868,60,{"$f":"D5826*IF(B5826=$G$9,WerkdrukbedragPerLeerlingBo,IF(B5826=$G$10,WerkdrukbedragPerLeerlingSbo,IF(B5826=$G$11,WerkdrukbedragPerLeerlingSo,IF(B5826=$G$12,WerkdrukbedragPerLeerlingVso,0))))","v":15520.2}]
["18PJ","Bo",41491,99,25608.33]
["18PM","Bo",41538,238,61563.460000000006]
["18PN","Bo",41672,158,40869.86]
["18PP","Bo",41630,35,9053.4500000000007]
["18PQ","Bo",41572,567,146665.89000000001]
["18PT","Bo",41693,304,78635.680000000008]
["18PU","Bo",41693,95,24573.65]
["18PV","Bo",41630,216,55872.72]
["18PW","Bo",41375,239,61822.130000000005]
["18PX","Bo",41775,299,77342.33]
["18PY","Bo",41461,271,70099.570000000007]
["18QA","Bo",41851,297,76824.990000000005]
["18QB","Bo",41852,192,49664.639999999999]
["18QC","Bo",41438,117,30264.390000000003]
["18QD","Bo",41434,227,58718.090000000004]
["18QE","Bo",41842,47,12157.490000000002]
["18QF","Bo",69669,454,117436.18000000001]
["18QG","Bo",41582,133,34403.11]
["18QJ","Bo",41561,99,25608.33]
["18QK","Bo",41516,279,72168.930000000008]
["18QP","So",83189,44,22762.960000000003]
["18QP","Vso",83189,55,28453.7]
["18QS","Bo",41812,154,39835.18]
["18QU","Bo",41693,47,12157.490000000002]
["18QW","Bo",41630,274,70875.58]
["18QX","Sbo",41853,48,18624.48]
["18QY","Bo",41375,218,56390.060000000005]
["18QZ","Bo",41775,200,51734]
["18QZ","Bo",41775,164,42421.880000000005]
["18RA","Bo",41461,156,40352.520000000004]
["18RD","Bo",41852,223,57683.41]
["18RG","Bo",41842,47,12157.490000000002]
["18RI","Bo",41571,184,47595.280000000006]
["18RJ","Bo",41518,498,128817.66]
["18RK","Bo",41561,107,27677.690000000002]
["18RN","Bo",41781,577,149252.59]
["18RO","Bo",41672,365,94414.55]
["18RQ","Bo",41630,165,42680.55]
["18RR","Bo",41841,96,24832.32]
["18RU","Bo",41693,117,30264.390000000003]
["18RV","Bo",41693,75,19400.25]
["18RW","Sbo",41853,183,71005.83]
["18SC","Bo",41852,101,26125.670000000002]
["18SE","Bo",41438,128,33109.760000000002]
["18SF","Bo",41434,64,16554.88]
["18SG","Sbo",41441,75,29100.75]
["18SH","Bo",41842,175,45267.25]
["18SI","Bo",41582,93,24056.31]
["18SL","Bo",41561,147,38024.490000000005]
["18SN","Bo",41413,125,32333.750000000004]
["18SO","Bo",41841,63,16296.210000000001]
["18SP","Bo",41812,354,91569.180000000008]
["18SR","Bo",41693,100,25867]
["18SU","Bo",41375,246,63632.820000000007]
["18SV","Bo",41775,773,199951.91]
["18SZ","Bo",41438,59,15261.53]
["18TA","Bo",41434,45,11640.150000000001]
["18TC","Bo",41842,63,16296.210000000001]
["18TH","Bo",41413,38,9829.4600000000009]
["18TJ","Bo",41812,65,16813.55]
["18TK","Bo",41693,56,14485.52]
["18TM","Bo",41775,171,44232.57]
["18TN","Bo",41461,120,31040.400000000001]
["18TP","Bo",42554,73,{"$f":"D5890*IF(B5890=$G$9,WerkdrukbedragPerLeerlingBo,IF(B5890=$G$10,WerkdrukbedragPerLeerlingSbo,IF(B5890=$G$11,WerkdrukbedragPerLeerlingSo,IF(B5890=$G$12,WerkdrukbedragPerLeerlingVso,0))))","v":18882.91}]
["18TQ","Bo",41852,91,23538.97]
["18TS","Bo",41842,155,40093.850000000006]
["18TV","Bo",41716,292,75531.64]
["18TW","Bo",41413,149,38541.83]
["18UC","Bo",41852,510,131921.70000000001]
["18UD","Bo",41434,52,13450.84]
["18UE","Bo",41842,58,15002.86]
["18UF","Bo",41571,64,16554.88]
["18UG","Bo",41518,399,103209.33]
["18UH","Bo",41781,389,100622.63]
["18UH","Bo",41781,393,101657.31000000001]
["18UK","Bo",41812,81,20952.27]
["18UL","Bo",41693,37,9570.7900000000009]
["18UM","Bo",41775,157,40611.19]
["18UQ","Bo",41518,212,54838.04]
["18UR","Bo",41774,395,102174.65000000001]
["18US","Bo",41841,85,21986.95]
["18UT","Bo",41812,84,21728.280000000002]
["18UV","Bo",42554,71,18365.57]
["18UY","Bo",41518,284,73462.28]
["18VB","Bo",41663,336,86913.12000000001]
["18VC","Bo",41841,86,22245.620000000003]
["18VF","Bo",41775,146,37765.82]
["18VI","Bo",41518,261,67512.87000000001]
["18VJ","Bo",41663,292,75531.64]
["18VM","Bo",41852,209,54062.030000000006]
["18VN","Bo",41518,192,49664.639999999999]
["18VP","Sbo",30742,26,10088.26]
["18VQ","Bo",41494,235,60787.450000000004]
["18VR","Bo",41775,169,43715.23]
["18VV","Bo",41716,247,63891.490000000005]
["18VW","Bo",41674,137,35437.79]
["18VZ","Bo",42554,67,17330.89]
["18WD","Bo",41579,303,78377.010000000009]
["18WF","Bo",41494,100,25867]
["18WG","Bo",41775,213,55096.710000000006]
["18WH","Bo",42554,169,43715.23]
["18WK","Bo",41579,456,117953.52]
["18WL","Bo",41674,66,17072.22]
["18WN","Bo",41494,272,70358.240000000005]
["18WQ","Bo",42554,72,18624.240000000002]
["18WR","Bo",41852,49,12674.83]
["18WU","Bo",41781,418,108124.06000000001]
["18WV","Bo",41674,215,55614.05]
["18WW","Bo",41494,41,10605.470000000001]
["18WX","Bo",41775,540,139681.80000000002]
["18WY","Bo",41852,299,77342.33]
["18XB","Bo",41518,284,73462.28]
["18XC","Bo",41716,48,12416.16]
["18XS","Sbo",70176,147,57037.47]
["18XY","Vso",41008,74,38283.160000000003]
["18XY","Vso",41008,53,27419.02]
["18XY","So",41008,19,9829.4600000000009]
["18XY","Vso",41008,66,34144.44]
["18YA","Sbo",77690,158,61305.58]
["18YD","Sbo",24597,110,42681.1]
["18YH","Sbo",41424,165,64021.65]
["18YS","Bo",41518,164,42421.880000000005]
["18YT","Bo",41716,194,50181.98]
["18YU","Bo",41674,249,64408.83]
["18YZ","Bo",41978,228,58976.76]
["18ZA","Bo",40843,199,51475.33]
["18ZC","Bo",20671,274,70875.58]
["18ZG","Bo",41494,41,{"$f":"D5954*IF(B5954=$G$9,WerkdrukbedragPerLeerlingBo,IF(B5954=$G$10,WerkdrukbedragPerLeerlingSbo,IF(B5954=$G$11,WerkdrukbedragPerLeerlingSo,IF(B5954=$G$12,WerkdrukbedragPerLeerlingVso,0))))","v":10605.470000000001}]
["18ZI","Bo",41852,297,76824.990000000005]
["18ZJ","So",42514,171,88465.14]
["18ZJ","Vso",42514,198,102433.32]
["18ZJ","Vso",42514,85,43973.9]
["18ZJ","Vso",42514,88,45525.920000000006]
["18ZJ","Vso",42514,121,62598.140000000007]
["18ZJ","Vso",42514,16,8277.44]
["18ZL","Bo",41716,371,95966.57]
["18ZM","Bo",41674,151,39059.170000000006]
["18ZO","Bo",41978,141,36472.47]
["18ZQ","Bo",20671,435,112521.45000000001]
["18ZU","Bo",41775,165,42680.55]
["18ZV","Bo",41852,461,119246.87000000001]
["18ZW","Bo",41518,243,62856.810000000005]
["18ZX","Bo",41663,342,88465.14]
["19AB","Bo",40843,224,57942.080000000002]
["19AC","Bo",20671,260,67254.2]
["19AF","Bo",41775,258,66736.86]
["19AG","Bo",41852,117,30264.390000000003]
["19AG","Bo",41852,204,52768.68]
["19AI","Bo",41774,143,36989.810000000005]
["19AM","Bo",41494,183,47336.61]
["19AO","Bo",41852,230,59494.100000000006]
["19AQ","Bo",41774,276,71392.92]
["19AS","Bo",40378,291,75272.97]
["19AT","Bo",20671,320,82774.400000000009]
["19AV","Bo",41494,119,30781.730000000003]
["19AX","Bo",41852,129,33368.43]
["19AZ","Bo",41663,239,61822.130000000005]
["19BA","Bo",41674,96,24832.32]
["19BB","Bo",40378,186,48112.62]
["19BC","Bo",41494,79,20434.93]
["19BE","Bo",41775,283,73203.61]
["19BF","Bo",41852,346,89499.82]
["19BH","Bo",41716,125,32333.750000000004]
["19BJ","Bo",40378,130,33627.1]
["19BO","Bo",41781,438,113297.46]
["19BP","Bo",41674,90,23280.300000000003]
["19BQ","Bo",40378,344,88982.48000000001]
["19BS","Bo",41781,350,90534.5]
["19BT","Bo",41674,52,13450.84]
["19BU","Bo",41775,409,105796.03000000001]
["19BV","Bo",41852,263,68030.210000000006]
["19BW","Bo",41781,412,106572.04000000001]
["19BX","Bo",41674,52,13450.84]
["19BZ","Bo",41852,623,161151.41]
["19CA","Bo",41781,155,40093.850000000006]
["19CC","Bo",41852,452,116918.84000000001]
["19CD","Bo",41579,104,26901.68]
["19CF","Bo",41775,128,33109.760000000002]
["19CH","Bo",41774,282,72944.94]
["19CM","Sbo",41639,147,57037.47]
["19CO","Sbo",10249,200,77602]
["19CT","Bo",41775,116,30005.72]
["19CY","Bo",41493,559,144596.53]
["19DD","Bo",41493,320,82774.400000000009]
["19DI","Bo",41493,417,107865.39]
["19DK","Bo",41852,294,76048.98000000001]
["19DM","Bo",41493,74,19141.580000000002]
["19DN","Bo",41775,346,89499.82]
["19DN","Bo",41775,206,53286.020000000004]
["19DP","Bo",41493,78,20176.260000000002]
["19DQ","Bo",41775,217,56131.390000000007]
["19DS","Bo",41775,127,{"$f":"D6018*IF(B6018=$G$9,WerkdrukbedragPerLeerlingBo,IF(B6018=$G$10,WerkdrukbedragPerLeerlingSbo,IF(B6018=$G$11,WerkdrukbedragPerLeerlingSo,IF(B6018=$G$12,WerkdrukbedragPerLeerlingVso,0))))","v":32851.090000000004}]
["19DT","Sbo",41565,107,41517.07]
["19ES","So",41008,146,75531.64]
["19ES","Vso",41008,94,48629.960000000006]
["19HE","Sbo",20281,161,62469.61]
["19HH","Sbo",70176,108,41905.08]
["19HS","Sbo",24597,80,31040.799999999999]
["19HT","So",72905,128,66219.520000000004]
["19HT","Vso",72905,128,66219.520000000004]
["19HT","Vso",72905,13,6725.42]
["19IV","Bo",41868,130,33627.1]
["19JG","Bo",40706,228,58976.76]
["19JJ","Bo",41376,176,45525.920000000006]
["19JK","Bo",41574,32,8277.44]
["19JO","Bo",41481,187,48371.29]
["19KB","Bo",13683,144,37248.480000000003]
["19KD","Bo",41571,87,22504.29]
["19KG","Sbo",41565,162,62857.619999999995]
["19KH","Sbo",41390,149,57813.49]
["19KI","Bo",42562,610,157788.70000000001]
["19KK","Bo",41868,49,12674.83]
["19KV","Bo",40706,138,35696.46]
["19KX","Bo",41574,98,25349.66]
["19LD","Bo",58761,303,78377.010000000009]
["19LE","Bo",73191,301,77859.67]
["19LF","Bo",41736,226,58459.420000000006]
["19LH","Bo",13683,70,18106.900000000001]
["19LI","Bo",41572,446,115366.82]
["19LM","Bo",41493,161,41645.870000000003]
["19LR","Bo",40706,302,78118.340000000011]
["19LU","Bo",58761,164,42421.880000000005]
["19LV","Bo",73191,79,20434.93]
["19LW","Bo",41736,231,59752.770000000004]
["19LY","Bo",41572,324,83809.08]
["19LY","Bo",41572,220,56907.4]
["19LZ","So",25859,117,60528.780000000006]
["19LZ","Vso",25859,85,43973.9]
["19MA","Bo",42562,255,65960.850000000006]
["19MD","Bo",40706,199,51475.33]
["19MF","Bo",58761,187,48371.29]
["19MG","Bo",73191,434,112262.78000000001]
["19MH","Bo",41572,177,45784.590000000004]
["19ML","Bo",41345,184,47595.280000000006]
["19MN","Bo",58761,122,31557.74]
["19MP","Bo",41572,193,49923.310000000005]
["19MR","Bo",41493,694,179516.98]
["19MU","Bo",41572,115,29747.050000000003]
["19MW","Bo",41493,241,62339.47]
["19MY","Bo",58761,165,42680.55]
["19MZ","Bo",41572,187,48371.29]
["19NA","Bo",41493,872,225560.24000000002]
["19NB","Bo",58761,433,112004.11]
["19NE","Bo",58761,295,76307.650000000009]
["19NH","Bo",58761,119,30781.730000000003]
["19NM","Bo",58761,222,57424.740000000005]
["19NM","Bo",58761,95,24573.65]
["19NN","Bo",41572,245,63374.15]
["19NO","Bo",41645,319,82515.73000000001]
["19NP","Bo",58761,147,38024.490000000005]
["19NQ","Bo",41572,201,51992.670000000006]
["19NR","Bo",41645,288,74496.960000000006]
["19NS","Bo",58761,135,34920.450000000004]
["19NT","Bo",41572,223,57683.41]
["19NV","Bo",58761,532,137612.44]
["19NW","Bo",41572,414,{"$f":"D6082*IF(B6082=$G$9,WerkdrukbedragPerLeerlingBo,IF(B6082=$G$10,WerkdrukbedragPerLeerlingSbo,IF(B6082=$G$11,WerkdrukbedragPerLeerlingSo,IF(B6082=$G$12,WerkdrukbedragPerLeerlingVso,0))))","v":107089.38}]
["19NX","Bo",41645,425,109934.75]
["19NZ","Bo",41572,354,91569.180000000008]
["19OB","Bo",58761,186,48112.62]
["19OC","Bo",41572,363,93897.21]
["19OE","Bo",41645,400,103468]
["19OF","Bo",58761,127,32851.090000000004]
["19OM","Bo",41645,155,40093.850000000006]
["19OQ","Bo",41572,444,114849.48000000001]
["19OR","Bo",41645,369,95449.23000000001]
["19OV","So",42504,119,61563.460000000006]
["19OY","Bo",41645,231,59752.770000000004]
["19PA","Sbo",40631,96,37248.959999999999]
["19PQ","Sbo",78782,109,42293.09]
["19QB","Sbo",40378,129,50053.29]
["19QD","Bo",41572,326,84326.42]
["19QE","Sbo",41629,121,46949.21]
["19QG","Sbo",41735,123,47725.229999999996]
["19QJ","Sbo",11711,169,65573.69]
["19QK","So",42623,19,9829.4600000000009]
["19QK","Vso",42623,364,188311.76]
["19QL","Sbo",41617,90,34920.9]
["19QO","So",83189,121,62598.140000000007]
["19QO","Vso",83189,190,98294.6]
["19QS","Sbo",41461,90,34920.9]
["19QU","So",41535,104,53803.360000000001]
["19QU","Vso",41535,161,83291.740000000005]
["19QV","Sbo",41573,129,50053.29]
["19QX","Sbo",41631,53,20564.53]
["19QZ","Sbo",41557,52,20176.52]
["19RA","Sbo",41414,76,29488.76]
["19RC","Sbo",42546,94,36472.94]
["19RD","Bo",41645,165,42680.55]
["19RE","Sbo",41274,290,112522.9]
["19RG","Bo",37949,201,51992.670000000006]
["19RJ","Bo",42122,320,82774.400000000009]
["19RK","Bo",47322,209,54062.030000000006]
["19RK","Bo",47322,214,55355.380000000005]
["19RM","Sbo",41631,51,19788.509999999998]
["19RN","Sbo",42788,178,69065.78]
["19RS","Sbo",13622,103,39965.03]
["19RT","Sbo",41879,264,102434.64]
["19RY","Bo",41242,301,77859.67]
["19SC","Sbo",41047,262,101658.62]
["19SF","Bo",78066,259,66995.53]
["19SG","Bo",20281,185,47853.950000000004]
["19SI","Bo",41572,424,109676.08]
["19SK","So",41629,62,32075.08]
["19SK","Vso",41629,54,27936.36]
["19SN","Sbo",41463,114,44233.14]
["19SO","So",42510,92,47595.280000000006]
["19SO","Vso",42510,110,56907.4]
["19SP","Sbo",42623,109,42293.09]
["19ST","Sbo",41535,121,46949.21]
["19SU","So",41514,136,70358.240000000005]
["19SU","So",41514,98,50699.32]
["19SU","So",41514,30,15520.2]
["19SW","Sbo",41613,143,55485.43]
["19SY","So",40631,80,41387.200000000004]
["19SY","Vso",40631,89,46043.26]
["19SZ","Bo",37949,333,86137.11]
["19TA","Bo",70176,176,45525.920000000006]
["19TB","Bo",42122,263,68030.210000000006]
["19TE","Sbo",41375,94,36472.94]
["19TG","So",40631,45,{"$f":"D6146*IF(B6146=$G$9,WerkdrukbedragPerLeerlingBo,IF(B6146=$G$10,WerkdrukbedragPerLeerlingSbo,IF(B6146=$G$11,WerkdrukbedragPerLeerlingSo,IF(B6146=$G$12,WerkdrukbedragPerLeerlingVso,0))))","v":23280.300000000003}]
["19TG","Vso",40631,60,31040.400000000001]
["19TJ","So",41496,54,27936.36]
["19TJ","Vso",41496,88,45525.920000000006]
["19TK","Bo",41242,227,58718.090000000004]
["19TL","Bo",78066,152,39317.840000000004]
["19TM","Bo",20281,254,65702.180000000008]
["19TO","Bo",41572,601,155460.67000000001]
["19TP","Sbo",41850,105,40741.049999999996]
["19TU","Sbo",42687,230,89242.3]
["19TV","Sbo",41780,153,59365.53]
["19TX","So",42665,35,18106.900000000001]
["19TX","Vso",42665,48,24832.32]
["19TX","So",42665,17,8794.7800000000007]
["19TX","Vso",42665,21,10864.140000000001]
["19TZ","So",41613,54,27936.36]
["19TZ","Vso",41613,63,32592.420000000002]
["19UB","Bo",41645,107,27677.690000000002]
["19UC","Bo",37949,507,131145.69]
["19UE","Bo",42122,258,66736.86]
["19UF","Bo",47322,506,130887.02]
["19UG","Sbo",41566,101,39189.01]
["19UH","Bo",41242,220,56907.4]
["19UI","Bo",78066,153,39576.51]
["19UJ","Bo",20281,236,61046.12]
["19UK","Bo",41572,208,53803.360000000001]
["19UM","Sbo",42558,197,76437.97]
["19UQ","So",41805,180,93121.200000000012]
["19UQ","Vso",41805,33,17072.22]
["19UQ","Vso",41805,61,31557.74]
["19US","Bo",41645,572,147959.24000000002]
["19UU","Bo",37949,326,84326.42]
["19UZ","Bo",78066,281,72686.27]
["19VA","Bo",20281,408,105537.36]
["19VB","Bo",41572,386,99846.62000000001]
["19VC","Sbo",42510,113,43845.13]
["19VC","Sbo",42510,93,36084.93]
["19VD","So",42623,222,114849.48000000001]
["19VD","So",42623,52,26901.68]
["19VD","Vso",42623,1,517.34]
["19VE","Sbo",41567,169,65573.69]
["19VH","Bo",70176,519,134249.73000000001]
["19VI","Bo",42122,233,60270.11]
["19VJ","Bo",41373,214,55355.380000000005]
["19VL","Bo",20281,240,62080.800000000003]
["19VO","So",42510,74,38283.160000000003]
["19VO","Vso",42510,91,47077.94]
["19VO","So",42510,18,9312.1200000000008]
["19VO","Vso",42510,21,10864.140000000001]
["19VP","Bo",41645,161,41645.870000000003]
["19VR","Bo",42122,211,54579.37]
["19VU","Bo",20281,214,55355.380000000005]
["19VX","Bo",41645,178,46043.26]
["19VY","Bo",41242,247,63891.490000000005]
["19VY","Bo",41242,85,21986.95]
["19WC","Sbo",41413,132,51217.32]
["19WD","So",42510,41,21210.940000000002]
["19WE","Bo",41645,361,93379.87000000001]
["19WF","Vso",41414,114,58976.76]
["19WG","Bo",41645,320,82774.400000000009]
["19WO","Bo",41572,225,58200.75]
["19XM","Sbo",77690,100,38801]
["19XU","Bo",41572,150,38800.5]
["19XX","Sbo",42514,168,65185.68]
["19XZ","So",41527,62,{"$f":"D6210*IF(B6210=$G$9,WerkdrukbedragPerLeerlingBo,IF(B6210=$G$10,WerkdrukbedragPerLeerlingSbo,IF(B6210=$G$11,WerkdrukbedragPerLeerlingSo,IF(B6210=$G$12,WerkdrukbedragPerLeerlingVso,0))))","v":32075.08}]
["19XZ","Vso",41527,84,43456.560000000005]
["19YH","Bo",78222,575,148735.25]
["19YL","Bo",41572,281,72686.27]
["19YO","Bo",41424,338,87430.46]
["19YS","Bo",41572,215,55614.05]
["19YX","Bo",41572,232,60011.44]
["19ZB","Bo",41424,257,66478.19]
["19ZE","Bo",41424,89,23021.63]
["19ZF","Bo",41572,321,83033.070000000007]
["19ZG","Bo",41579,279,72168.930000000008]
["19ZH","Bo",41424,180,46560.600000000006]
["19ZJ","Bo",41572,211,54579.37]
["19ZN","Sbo",41414,88,34144.879999999997]
["20AG","Sbo",41516,95,36860.949999999997]
["20AH","Sbo",40894,149,57813.49]
["20BG","So",42719,48,24832.32]
["20BG","Vso",42719,70,36213.800000000003]
["20BW","Bo",41362,70,18106.900000000001]
["20BX","Sbo",42719,221,85750.209999999992]
["20CB","Bo",20671,560,144855.20000000001]
["20CV","Bo",20671,429,110969.43000000001]
["20CX","Bo",41424,210,54320.700000000004]
["20DJ","Bo",20671,306,79153.02]
["20DK","Bo",41424,287,74238.290000000008]
["20DV","Bo",20671,291,75272.97]
["20EL","Bo",41566,473,122350.91]
["20FB","Bo",41566,182,47077.94]
["20FE","Bo",41566,145,37507.15]
["20FG","Bo",41566,104,26901.68]
["20FI","Bo",41566,138,35696.46]
["20FK","Bo",41775,148,38283.160000000003]
["20GB","Sbo",48348,98,38024.979999999996]
["20GF","Sbo",60997,164,63633.64]
["20GP","Bo",40378,183,47336.61]
["20GW","Bo",40378,415,107348.05]
["20GY","Bo",85476,149,38541.83]
["20HF","Bo",85476,274,70875.58]
["20HH","Bo",85476,193,49923.310000000005]
["20HJ","Bo",85476,196,50699.32]
["20HK","Bo",85476,139,35955.130000000005]
["20HL","Bo",85476,206,53286.020000000004]
["20HM","Bo",85476,165,42680.55]
["20HQ","Bo",41775,121,31299.070000000003]
["20IF","So",41506,104,53803.360000000001]
["20IF","Vso",41506,93,48112.62]
["20IM","Bo",65430,248,64150.16]
["20IN","Bo",69447,573,148217.91]
["20IQ","Bo",65430,229,59235.43]
["20IR","Bo",69447,157,40611.19]
["20IT","Bo",65430,188,48629.960000000006]
["20IX","So",41572,112,57942.080000000002]
["20IY","Bo",65430,234,60528.780000000006]
["20IZ","Bo",69447,240,62080.800000000003]
["20JB","Bo",65430,154,39835.18]
["20JC","Sbo",41572,255,98942.55]
["20JE","So",41572,114,58976.76]
["20JF","Sbo",41572,128,49665.279999999999]
["20JG","So",41572,105,54320.700000000004]
["20JG","Vso",41572,117,60528.780000000006]
["20JJ","Sbo",41572,156,60529.56]
["20JM","So",41572,97,50181.98]
["20JM","Vso",41572,88,45525.920000000006]
["20KF","Bo",75388,344,88982.48000000001]
["20KH","So",47595,176,{"$f":"D6274*IF(B6274=$G$9,WerkdrukbedragPerLeerlingBo,IF(B6274=$G$10,WerkdrukbedragPerLeerlingSbo,IF(B6274=$G$11,WerkdrukbedragPerLeerlingSo,IF(B6274=$G$12,WerkdrukbedragPerLeerlingVso,0))))","v":91051.840000000011}]
["20KL","Sbo",41506,294,114074.94]
["20KP","So",41572,275,142268.5]
["20KP","So",41572,18,9312.1200000000008]
["20KP","So",41572,47,24314.980000000003]
["20KR","Bo",75388,326,84326.42]
["20KT","Bo",75388,94,24314.980000000003]
["20KW","Bo",41775,362,93638.540000000008]
["20KY","Sbo",41775,49,19012.489999999998]
["20LC","Sbo",32177,88,34144.879999999997]
["20LI","Sbo",20281,135,52381.35]
["20NV","Sbo",38001,145,56261.45]
["20OF","Sbo",77690,113,43845.13]
["20OJ","Vso",40631,40,20693.600000000002]
["20OQ","Bo",41545,371,95966.57]
["20OW","Bo",41860,256,66219.520000000004]
["20PN","Bo",41545,288,74496.960000000006]
["20QG","Sbo",41616,123,47725.229999999996]
["20QP","Sbo",40888,150,58201.5]
["20RD","Sbo",41775,113,43845.13]
["20RI","So",41775,151,78118.340000000011]
["20RI","Vso",41775,159,82257.060000000012]
["20RJ","So",41775,78,40352.520000000004]
["20RJ","Vso",41775,131,67771.540000000008]
["20RL","So",41775,125,64667.500000000007]
["20RT","So",41775,100,51734]
["20RT","Vso",41775,129,66736.86]
["20RV","Sbo",41775,98,38024.979999999996]
["20RX","So",41775,175,90534.5]
["20RX","Vso",41775,146,75531.64]
["20SC","Bo",41716,203,52510.01]
["20SE","Bo",41579,222,57424.740000000005]
["20SG","Bo",41663,379,98035.930000000008]
["20SH","Bo",42553,127,32851.090000000004]
["20SK","Bo",41579,204,52768.68]
["20SL","Bo",41579,242,62598.140000000007]
["20SZ","Bo",41516,421,108900.07]
["20TD","Bo",41516,300,77601]
["20TN","Bo",41516,209,54062.030000000006]
["20TP","Bo",41716,145,37507.15]
["20TQ","Bo",41663,226,58459.420000000006]
["20TR","Bo",41781,210,54320.700000000004]
["20TS","Bo",41781,243,62856.810000000005]
["20TT","Bo",41663,374,96742.58]
["20TV","Bo",41774,377,97518.590000000011]
["20TW","Bo",41774,584,151063.28]
["20TX","Bo",41781,353,91310.510000000009]
["20TX","Bo",41781,252,65184.840000000004]
["20UL","Bo",57266,222,57424.740000000005]
["20UO","Bo",41447,189,48888.630000000005]
["20UP","Bo",41579,487,125972.29000000001]
["20UU","Bo",41447,261,67512.87000000001]
["20UV","Bo",41663,284,73462.28]
["20UW","Bo",57266,296,76566.320000000007]
["20VA","Bo",41781,386,99846.62000000001]
["20VB","Bo",57266,848,219352.16]
["20VD","Bo",57266,131,33885.770000000004]
["20VF","Bo",57266,183,47336.61]
["20VG","Bo",41663,141,36472.47]
["20VI","Bo",41716,302,78118.340000000011]
["20VJ","Bo",41781,388,100363.96]
["20VK","Bo",41781,291,75272.97]
["20VN","Bo",41579,671,173567.57]
["20VP","Bo",41663,474,122609.58]
["20VP","Bo",41663,186,{"$f":"D6338*IF(B6338=$G$9,WerkdrukbedragPerLeerlingBo,IF(B6338=$G$10,WerkdrukbedragPerLeerlingSbo,IF(B6338=$G$11,WerkdrukbedragPerLeerlingSo,IF(B6338=$G$12,WerkdrukbedragPerLeerlingVso,0))))","v":48112.62}]
["20VT","So",41775,385,199175.90000000002]
["20VT","Vso",41775,409,211592.06000000003]
["20VT","So",41775,46,23797.640000000003]
["20VU","Bo",41663,325,84067.75]
["20VX","Bo",41663,256,66219.520000000004]
["20WR","So",21679,297,153649.98000000001]
["20WR","So",21679,55,28453.7]
["20WR","So",21679,82,42421.880000000005]
["20WR","So",21679,32,16554.88]
["20WR","So",21679,37,19141.580000000002]
["20WR","So",21679,115,59494.100000000006]
["20WR","Vso",21679,34,17589.560000000001]
["20WR","So",21679,204,105537.36]
["20WR","So",21679,67,34661.78]
["20WR","Vso",21679,266,137612.44]
["20WR","Vso",21679,60,31040.400000000001]
["20WT","Sbo",41774,101,39189.01]
["20WT","Sbo",41774,40,15520.4]
["20WU","Vso",41479,77,39835.18]
["20WV","So",41479,152,78635.680000000008]
["20WV","Vso",41479,35,18106.900000000001]
["20WW","Vso",41479,240,124161.60000000001]
["20XA","Bo",41781,338,87430.46]
["20XC","Sbo",41579,193,74885.929999999993]
["20XO","Bo",41663,293,75790.31]
["20XQ","Bo",41663,140,36213.800000000003]
["20XR","Bo",41716,307,79411.69]
["20XS","Bo",41716,246,63632.820000000007]
["20XT","Bo",41663,326,84326.42]
["20XU","Bo",41781,325,84067.75]
["20XV","So",41479,113,58459.420000000006]
["20XY","Bo",42553,206,53286.020000000004]
["20XZ","Bo",41716,427,110452.09000000001]
["20YA","Bo",41781,442,114332.14000000001]
["20YC","So",41479,101,52251.340000000004]
["20YD","So",41479,111,57424.740000000005]
["20YF","Bo",41663,346,89499.82]
["20YG","Bo",41774,451,116660.17000000001]
["20YN","So",41479,157,81222.38]
["20YX","Sbo",42553,137,53157.369999999995]
["20ZB","Bo",42553,222,57424.740000000005]
["20ZD","Bo",42553,218,56390.060000000005]
["20ZE","Bo",42553,298,77083.66]
["20ZG","Bo",41774,358,92603.86]
["20ZH","Bo",41774,448,115884.16]
["20ZJ","Sbo",41248,97,37636.97]
["20ZR","Bo",42553,691,178740.97]
["20ZT","Bo",42553,114,29488.38]
["20ZU","Bo",42553,175,45267.25]
["20ZV","Bo",42553,537,138905.79]
["20ZW","Bo",42553,123,31816.410000000003]
["20ZX","Bo",42553,103,26643.010000000002]
["20ZZ","Bo",41579,400,103468]
["21AD","Bo",41579,278,71910.260000000009]
["21AG","Bo",41579,268,69323.56]
["21AH","Bo",42553,272,70358.240000000005]
["21AI","Bo",42553,152,39317.840000000004]
["21BF","Bo",23128,100,25867]
["21BM","Bo",23128,201,51992.670000000006]
["21CX","Bo",23128,313,80963.710000000006]
["21CZ","Bo",41633,122,31557.74]
["21DA","Bo",41860,155,40093.850000000006]
["21DE","Sbo",41716,101,39189.01]
["21DL","Bo",41611,26,{"$f":"D6402*IF(B6402=$G$9,WerkdrukbedragPerLeerlingBo,IF(B6402=$G$10,WerkdrukbedragPerLeerlingSbo,IF(B6402=$G$11,WerkdrukbedragPerLeerlingSo,IF(B6402=$G$12,WerkdrukbedragPerLeerlingVso,0))))","v":6725.42}]
["21DZ","Bo",23128,151,39059.170000000006]
["21EI","Bo",23128,195,50440.65]
["21EJ","Vso",41479,125,64667.500000000007]
["21EJ","Vso",41479,20,10346.800000000001]
["21EM","Sbo",42787,208,80706.080000000002]
["21EN","Vso",41479,137,70875.58]
["21GJ","Sbo",40928,132,51217.32]
["21GN","Vso",50143,100,51734]
["21GN","So",50143,97,50181.98]
["21GQ","Sbo",41400,173,67125.73]
["21HJ","Sbo",41775,75,29100.75]
["21IZ","So",30198,149,77083.66]
["21KE","Bo",41455,190,49147.3]
["21KO","Bo",41676,289,74755.63]
["21LO","Bo",41528,229,59235.43]
["21LP","Bo",41866,201,51992.670000000006]
["21LS","Bo",32073,379,98035.930000000008]
["21LT","Bo",42719,240,62080.800000000003]
["21LV","Bo",41398,215,55614.05]
["21LW","Bo",42610,130,33627.1]
["21LX","Bo",42709,316,81739.72]
["21MV","Bo",41860,254,65702.180000000008]
["21MX","Bo",31267,318,82257.060000000012]
["21MY","Bo",31267,537,138905.79]
["21NA","Bo",41248,161,41645.870000000003]
["21NB","Bo",41246,206,53286.020000000004]
["21ND","Bo",41676,224,57942.080000000002]
["21NE","Bo",95148,210,54320.700000000004]
["21NF","Bo",41813,90,23280.300000000003]
["21NH","Bo",42558,196,50699.32]
["21NI","Bo",42607,100,25867]
["21NK","Bo",42596,256,66219.520000000004]
["21NL","Bo",30263,112,28971.040000000001]
["21NM","Bo",41672,212,54838.04]
["21NN","Bo",40706,187,48371.29]
["21NN","Bo",40706,112,28971.040000000001]
["21NO","Bo",41340,281,72686.27]
["21NP","Bo",41611,192,49664.639999999999]
["21NR","Bo",43318,129,33368.43]
["21NU","Bo",42669,147,38024.490000000005]
["21OM","Bo",98489,402,103985.34000000001]
["21ON","Bo",73712,115,29747.050000000003]
["21OP","Bo",41566,174,45008.58]
["21OQ","Bo",41611,229,59235.43]
["21OT","Bo",40581,383,99070.61]
["21OU","Bo",41544,179,46301.93]
["21OV","Bo",41471,101,26125.670000000002]
["21OX","Bo",74154,325,84067.75]
["21OY","Bo",40278,240,62080.800000000003]
["21OZ","Bo",44397,293,75790.31]
["21PA","Bo",77338,286,73979.62000000001]
["21PO","Bo",30013,90,23280.300000000003]
["21PP","Bo",41869,124,32075.08]
["21PQ","Bo",41407,164,42421.880000000005]
["21PR","Bo",40637,457,118212.19]
["21PS","Bo",10249,210,54320.700000000004]
["21PU","Bo",45000,175,45267.25]
["21QE","Bo",42504,400,103468]
["21QF","Bo",41624,145,37507.15]
["21QG","Bo",41472,428,110710.76000000001]
["21QH","Bo",41522,407,105278.69]
["21QK","Bo",41527,454,117436.18000000001]
["21QN","Bo",41534,82,21210.940000000002]
["21QT","Bo",42538,147,{"$f":"D6466*IF(B6466=$G$9,WerkdrukbedragPerLeerlingBo,IF(B6466=$G$10,WerkdrukbedragPerLeerlingSbo,IF(B6466=$G$11,WerkdrukbedragPerLeerlingSo,IF(B6466=$G$12,WerkdrukbedragPerLeerlingVso,0))))","v":38024.490000000005}]
["21QU","Bo",32073,232,60011.44]
["21QV","Bo",40967,169,43715.23]
["21QZ","Bo",53015,296,76566.320000000007]
["21RD","Bo",40945,113,29229.710000000003]
["21RE","Bo",41672,476,123126.92000000001]
["21RO","Vso",41407,315,162962.1]
["21RP","Bo",13622,189,48888.630000000005]
["21RQ","Bo",41514,288,74496.960000000006]
["21RR","Bo",42683,113,29229.710000000003]
["21RS","Bo",30010,205,53027.350000000006]
["21RT","Bo",71488,133,34403.11]
["21SG","So",41506,171,88465.14]
["21SG","Vso",41506,160,82774.400000000009]
["21VR","Bo",41167,279,72168.930000000008]
["22FC","Bo",41012,151,39059.170000000006]
["22FH","Bo",40514,336,86913.12000000001]
["22GB","Bo",41013,257,66478.19]
["22JB","Bo",41345,132,34144.44]
["22JD","Bo",40812,413,106830.71]
["22JE","Bo",41645,254,65702.180000000008]
["22JG","Bo",42623,251,64926.170000000006]
["22JH","Bo",42600,105,27160.350000000002]
["22JI","Bo",41813,136,35179.120000000003]
["22JM","Bo",41611,605,156495.35]
["22JO","Bo",83280,254,65702.180000000008]
["22JP","Bo",41398,156,40352.520000000004]
["22JQ","Bo",24533,353,91310.510000000009]
["22JR","Bo",41362,99,25608.33]
["22JV","Bo",60997,186,48112.62]
["22JY","Bo",32177,252,65184.840000000004]
["22KA","Bo",41251,399,103209.33]
["22KB","Bo",41251,285,73720.950000000012]
["22KC","Bo",42538,289,74755.63]
["22KD","Bo",41527,258,66736.86]
["22KE","Bo",41194,271,70099.570000000007]
["22KF","Bo",40765,395,102174.65000000001]
["22KG","Bo",42504,209,54062.030000000006]
["22KH","Bo",41516,159,41128.530000000006]
["22KJ","Bo",40355,71,18365.57]
["22KK","Bo",41349,178,46043.26]
["22KL","Bo",69877,222,57424.740000000005]
["22KM","Bo",42557,87,22504.29]
["22KP","Bo",41676,233,60270.11]
["22KS","Bo",41435,281,72686.27]
["22KT","Bo",71008,182,47077.94]
["22KU","Bo",41471,286,73979.62000000001]
["22KV","Bo",41471,287,74238.290000000008]
["22KY","Bo",40945,219,56648.73]
["22LE","Bo",41774,292,75531.64]
["22LH","Sbo",42607,106,41129.06]
["22LI","Bo",41662,115,29747.050000000003]
["22LJ","Bo",40207,265,68547.55]
["22LK","Bo",80433,247,63891.490000000005]
["22LL","Bo",61751,304,78635.680000000008]
["22LM","Bo",40967,198,51216.66]
["22LN","Bo",40967,201,51992.670000000006]
["22LO","Bo",41362,604,156236.68000000002]
["22LT","Bo",30700,83,21469.61]
["22LV","Bo",42607,59,15261.53]
["22LW","Bo",40945,155,40093.850000000006]
["22LY","Bo",40377,371,95966.57]
["22LZ","Bo",30701,190,49147.3]
["22MB","Bo",41390,163,42163.21]
["22MD","Bo",20671,288,{"$f":"D6530*IF(B6530=$G$9,WerkdrukbedragPerLeerlingBo,IF(B6530=$G$10,WerkdrukbedragPerLeerlingSbo,IF(B6530=$G$11,WerkdrukbedragPerLeerlingSo,IF(B6530=$G$12,WerkdrukbedragPerLeerlingVso,0))))","v":74496.960000000006}]
["22MH","Bo",30709,425,109934.75]
["22ML","So",77456,22,11381.480000000001]
["22ML","Vso",77456,54,27936.36]
["22MP","Bo",30715,535,138388.45000000001]
["22NL","Bo",41246,243,62856.810000000005]
["22NL","Bo",41246,93,24056.31]
["22NM","Bo",30725,317,81998.39]
["22NT","Bo",30731,323,83550.41]
["22NW","Bo",41565,330,85361.1]
["22NX","So",40631,105,54320.700000000004]
["22NX","So",40631,7,3621.38]
["22OB","Vso",41008,105,54320.700000000004]
["22OB","Vso",41008,92,47595.280000000006]
["22OD","Bo",79796,224,57942.080000000002]
["22OG","Vso",44813,101,52251.340000000004]
["22OH","So",44813,168,86913.12000000001]
["23AL","Bo",42683,332,85878.44]
["23AM","Bo",13622,253,65443.51]
["23BP","Bo",41813,225,58200.75]
["23BT","Bo",41481,210,54320.700000000004]
["23BU","Bo",42669,238,61563.460000000006]
["23BW","Bo",41860,447,115625.49]
["23BX","Bo",41516,243,62856.810000000005]
["23BZ","Bo",40950,120,31040.400000000001]
["23CA","Bo",40947,202,52251.340000000004]
["23CB","Bo",40329,179,46301.93]
["23CC","Bo",41396,515,133215.05000000002]
["23CD","Bo",41645,208,53803.360000000001]
["23CG","Bo",41611,86,22245.620000000003]
["23CH","Bo",85476,385,99587.950000000012]
["23CJ","Bo",83280,300,77601]
["23CK","Bo",24597,487,125972.29000000001]
["23CM","Bo",74154,354,91569.180000000008]
["23CN","Bo",41692,349,90275.83]
["23CR","Bo",45917,225,58200.75]
["23CT","Bo",41226,85,21986.95]
["23CW","Bo",41154,222,57424.740000000005]
["23CW","Bo",41154,230,59494.100000000006]
["23CZ","Bo",38001,332,85878.44]
["23DC","Sbo",40681,91,35308.909999999996]
["23DE","Bo",41461,326,84326.42]
["23DF","Bo",42567,288,74496.960000000006]
["23DH","Bo",41481,131,33885.770000000004]
["23DJ","Bo",41662,184,47595.280000000006]
["23DK","Bo",41400,207,53544.69]
["23DM","Bo",45000,191,49405.97]
["23DR","Bo",41803,134,34661.78]
["23DU","Bo",24195,230,59494.100000000006]
["23DX","Bo",48101,275,71134.25]
["23DY","Bo",41611,409,105796.03000000001]
["23DZ","Bo",41460,294,76048.98000000001]
["23EA","Bo",42558,464,120022.88]
["23EC","Bo",30835,374,96742.58]
["23ED","Bo",30847,212,54838.04]
["23ED","Bo",30847,58,15002.86]
["23EE","Bo",41000,132,34144.44]
["23EF","Bo",41226,160,41387.200000000004]
["23EK","Bo",40888,199,51475.33]
["23EL","Bo",41595,196,50699.32]
["23EM","Bo",41595,323,83550.41]
["23EN","Bo",30849,171,44232.57]
["23EU","Bo",41676,187,48371.29]
["23EV","Bo",40114,203,52510.01]
["23EW","Bo",41496,250,{"$f":"D6594*IF(B6594=$G$9,WerkdrukbedragPerLeerlingBo,IF(B6594=$G$10,WerkdrukbedragPerLeerlingSbo,IF(B6594=$G$11,WerkdrukbedragPerLeerlingSo,IF(B6594=$G$12,WerkdrukbedragPerLeerlingVso,0))))","v":64667.500000000007}]
["23EX","Bo",41138,391,101139.97]
["23EY","Bo",40950,252,65184.840000000004]
["23EZ","Sbo",41879,84,32592.84]
["23FA","So",41448,83,42939.22]
["23FA","So",41448,52,26901.68]
["23FB","Bo",41857,370,95707.900000000009]
["23FD","Bo",30709,331,85619.77]
["23FD","Bo",30709,98,25349.66]
["23FE","Bo",79874,71,18365.57]
["23FF","Bo",41857,385,99587.950000000012]
["23FG","Bo",42148,198,51216.66]
["23FH","Bo",41324,200,51734]
["23FM","Bo",41538,32,8277.44]
["23FV","Sbo",42790,135,52381.35]
["23FW","Sbo",65287,210,81482.099999999991]
["23GH","Vso",21712,134,69323.56]
["23GJ","Vso",30815,100,51734]
["23GJ","Vso",30815,82,42421.880000000005]
["23GJ","Vso",30815,93,48112.62]
["23GJ","Vso",30815,282,145889.88]
["23GJ","Vso",30815,144,74496.960000000006]
["23GK","Vso",40631,170,87947.8]
["23GK","Vso",40631,126,65184.840000000004]
["23GL","So",42631,127,65702.180000000008]
["23GL","Vso",42631,185,95707.900000000009]
["23GV","Bo",40272,309,79929.03]
["23GW","Bo",30731,334,86395.78]
["23GY","Vso",41200,39,20176.260000000002]
["23GY","Vso",41200,75,38800.5]
["23GY","So",41200,203,105020.02]
["23HA","Bo",41624,106,27419.02]
["23HE","Bo",77235,156,40352.520000000004]
["23HG","Sbo",41692,108,41905.08]
["23HR","Bo",30883,524,135543.08000000002]
["23HU","Vso",30882,536,277294.24]
["23HU","So",30882,56,28971.040000000001]
["23HU","Vso",30882,336,173826.24000000002]
["23HU","Vso",30882,88,45525.920000000006]
["23HU","So",30882,47,24314.980000000003]
["23HU","Vso",30882,74,38283.160000000003]
["23JH","Bo",42514,191,49405.97]
["23JT","Vso",41414,289,149511.26]
["23JT","Vso",41414,25,12933.5]
["23JT","Vso",41414,48,24832.32]
["23JU","So",73114,198,102433.32]
["23JU","Vso",73114,279,144337.86000000002]
["23KF","Vso",25859,114,58976.76]
["23NV","Sbo",32073,91,35308.909999999996]
["23PC","Bo",41518,200,51734]
["23PD","Bo",41869,665,172015.55000000002]
["23PE","Bo",83864,369,95449.23000000001]
["23PF","Bo",41514,185,47853.950000000004]
["23PG","Bo",71488,177,45784.590000000004]
["23PH","Bo",30010,173,44749.91]
["23PJ","Bo",41023,594,153649.98000000001]
["23PN","Bo",49960,168,43456.560000000005]
["23PP","Bo",83149,223,57683.41]
["23PR","Bo",31237,254,65702.180000000008]
["23PT","Bo",42587,274,70875.58]
["23PU","Bo",42587,206,53286.020000000004]
["23PV","Bo",41674,202,52251.340000000004]
["23PY","Bo",41772,344,88982.48000000001]
["23RA","Bo",41248,276,71392.92]
["23RC","Bo",13622,261,{"$f":"D6658*IF(B6658=$G$9,WerkdrukbedragPerLeerlingBo,IF(B6658=$G$10,WerkdrukbedragPerLeerlingSbo,IF(B6658=$G$11,WerkdrukbedragPerLeerlingSo,IF(B6658=$G$12,WerkdrukbedragPerLeerlingVso,0))))","v":67512.87000000001}]
["23RD","Bo",42683,345,89241.150000000009]
["23RE","Bo",42683,270,69840.900000000009]
["23RF","Bo",79016,283,73203.61]
["23RG","Bo",28601,323,83550.41]
["23RH","Bo",40530,160,41387.200000000004]
["23RJ","Bo",28601,440,113814.8]
["23RK","Bo",40946,325,84067.75]
["23RL","Bo",41624,67,17330.89]
["23RM","Bo",10249,426,110193.42000000001]
["23RR","Bo",41813,97,25090.99]
["23RT","Bo",31076,229,59235.43]
["23RW","Bo",65287,482,124678.94]
["23RX","Bo",65287,126,32592.420000000002]
["23RY","Bo",41616,96,24832.32]
["23TA","Bo",42623,267,69064.89]
["23TB","Bo",41012,306,79153.02]
["23TE","Bo",41516,238,61563.460000000006]
["23TJ","Bo",40257,198,51216.66]
["23TK","Bo",26158,87,22504.29]
["23TL","Bo",42538,408,105537.36]
["23TM","Bo",97358,219,56648.73]
["23TN","Bo",41860,276,71392.92]
["23TP","Bo",75388,158,40869.86]
["23TT","Bo",41646,164,42421.880000000005]
["23TW","Bo",40020,734,189863.78]
["23TX","Bo",41580,423,109417.41]
["23UB","Bo",41662,792,204866.64]
["23UC","Bo",89155,543,140457.81]
["23UE","Bo",41534,198,51216.66]
["23UF","Bo",41528,94,24314.980000000003]
["23UH","Bo",77975,414,107089.38]
["23UL","Bo",41375,165,42680.55]
["23UN","Bo",40753,261,67512.87000000001]
["23UP","Bo",30709,166,42939.22]
["23UT","Bo",41632,164,42421.880000000005]
["23UW","Bo",31076,312,80705.040000000008]
["23UX","Bo",31077,157,40611.19]
["23UY","Bo",31080,385,99587.950000000012]
["23VF","Bo",31088,187,48371.29]
["23VG","Bo",40888,44,11381.480000000001]
["23VH","Bo",31118,299,77342.33]
["23VR","So",30882,137,70875.58]
["23VU","Bo",75388,231,59752.770000000004]
["23WG","Bo",71008,72,18624.240000000002]
["23WK","Sbo",40945,104,40353.040000000001]
["23WR","Bo",41534,103,26643.010000000002]
["23XJ","Sbo",41012,101,39189.01]
["23XK","So",85269,79,40869.86]
["23XK","Vso",85269,272,140716.48000000001]
["23XK","So",85269,31,16037.54]
["23XK","Vso",85269,44,22762.960000000003]
["23XK","So",85269,34,17589.560000000001]
["23XK","Vso",85269,37,19141.580000000002]
["23XL","Sbo",45917,88,34144.879999999997]
["23XP","Bo",31204,293,75790.31]
["23XT","Sbo",41340,84,32592.84]
["23ZH","Bo",41611,175,45267.25]
["23ZJ","Bo",41611,246,63632.820000000007]
["23ZL","Bo",48101,441,114073.47]
["23ZM","Bo",41860,160,41387.200000000004]
["23ZU","Bo",40950,585,151321.95000000001]
["23ZV","Bo",40114,166,42939.22]
["23ZW","Bo",40114,426,110193.42000000001]
["23ZX","Bo",41676,225,{"$f":"D6722*IF(B6722=$G$9,WerkdrukbedragPerLeerlingBo,IF(B6722=$G$10,WerkdrukbedragPerLeerlingSbo,IF(B6722=$G$11,WerkdrukbedragPerLeerlingSo,IF(B6722=$G$12,WerkdrukbedragPerLeerlingVso,0))))","v":58200.75}]
["23ZY","Bo",41676,399,103209.33]
["23ZZ","Bo",40862,348,90017.16]
["24AA","Bo",41662,194,50181.98]
["24AB","Bo",41860,230,59494.100000000006]
["24AC","Bo",40378,613,158564.71000000002]
["24AD","Bo",41248,508,131404.36000000002]
["24AE","Bo",40517,567,146665.89000000001]
["24AF","Bo",41778,307,79411.69]
["24AG","Bo",41424,497,128558.99]
["24AM","Bo",41023,450,116401.5]
["24AR","Bo",40945,236,61046.12]
["24AY","Bo",41672,171,44232.57]
["24AZ","Bo",74049,307,79411.69]
["24BA","Bo",41630,64,16554.88]
["24BD","Bo",40020,625,161668.75]
["24BE","Bo",41869,293,75790.31]
["24BF","Bo",82526,208,53803.360000000001]
["24BL","Bo",42558,183,47336.61]
["24BM","Bo",41579,328,84843.760000000009]
["24BN","Bo",38001,803,207712.01]
["24BP","Bo",32177,414,107089.38]
["24BR","Bo",75388,112,28971.040000000001]
["24CN","Bo",77235,270,69840.900000000009]
["24CP","Bo",41390,513,132697.71000000002]
["24CR","Bo",40377,306,79153.02]
["24CT","Bo",40377,184,47595.280000000006]
["24CZ","Bo",41398,306,79153.02]
["24DA","Bo",29810,253,65443.51]
["24DB","Bo",83280,265,68547.55]
["24DE","Sbo",42790,124,48113.24]
["24DE","Sbo",42790,64,24832.639999999999]
["24DF","Sbo",84515,127,49277.27]
["24DH","Bo",40048,111,28712.370000000003]
["24DP","Bo",41781,509,131663.03]
["24DR","Bo",41340,300,77601]
["24DV","Bo",41860,112,28971.040000000001]
["24DW","Bo",31189,410,106054.70000000001]
["24DX","Bo",43227,234,60528.780000000006]
["24EC","Bo",41803,51,13192.17]
["24ED","Bo",10249,203,52510.01]
["24EE","Bo",42669,182,47077.94]
["24EG","Bo",41514,92,23797.640000000003]
["24EJ","Bo",40077,340,87947.8]
["24EJ","Bo",40077,183,47336.61]
["24EJ","Bo",40077,296,76566.320000000007]
["24EL","Bo",41863,266,68806.22]
["24ER","Bo",41820,174,45008.58]
["24ET","Bo",41646,96,24832.32]
["24EY","Bo",31076,326,84326.42]
["24FE","Bo",31076,244,63115.48]
["24FK","Bo",31076,235,60787.450000000004]
["24FP","Bo",24715,265,68547.55]
["24FT","Sbo",40114,201,77990.009999999995]
["24HY","So",40631,333,172274.22]
["24HY","So",40631,35,18106.900000000001]
["24JC","Bo",42623,304,78635.680000000008]
["24JD","Bo",40934,69,17848.23]
["24JJ","Bo",41516,163,42163.21]
["24MB","Bo",40894,407,105278.69]
["24MK","Bo",77235,189,48888.630000000005]
["24MR","Bo",41676,330,85361.1]
["24MU","Bo",42719,271,70099.570000000007]
["24MW","Bo",40400,502,129852.34000000001]
["24MW","Bo",40400,79,{"$f":"D6786*IF(B6786=$G$9,WerkdrukbedragPerLeerlingBo,IF(B6786=$G$10,WerkdrukbedragPerLeerlingSbo,IF(B6786=$G$11,WerkdrukbedragPerLeerlingSo,IF(B6786=$G$12,WerkdrukbedragPerLeerlingVso,0))))","v":20434.93}]
["24MY","Bo",41191,177,45784.590000000004]
["24MZ","Bo",73919,101,26125.670000000002]
["24NB","Bo",27910,431,111486.77]
["24NK","Bo",42669,140,36213.800000000003]
["24NL","Bo",41471,364,94155.88]
["24NM","Bo",75388,145,37507.15]
["24NN","Bo",40278,326,84326.42]
["24NP","Bo",40278,402,103985.34000000001]
["24NT","Bo",40586,262,67771.540000000008]
["24NV","Bo",42669,407,105278.69]
["24NX","Bo",41775,614,158823.38]
["24NY","Bo",41775,230,59494.100000000006]
["24NZ","Bo",24597,634,163996.78]
["24PA","Bo",74531,686,177447.62000000002]
["24PB","Bo",40269,397,102691.99]
["24PC","Bo",31657,198,51216.66]
["24PE","Bo",77456,95,24573.65]
["24PU","Bo",40281,232,60011.44]
["24PV","Bo",41863,273,70616.91]
["24PX","Bo",40284,238,61563.460000000006]
["24RA","Bo",41296,178,46043.26]
["24RB","Bo",41296,142,36731.14]
["24RH","Bo",41646,87,22504.29]
["24RK","Bo",40945,184,47595.280000000006]
["24RM","Bo",41337,305,78894.350000000006]
["24RN","Bo",83579,189,48888.630000000005]
["24RU","Bo",61960,270,69840.900000000009]
["24RZ","Bo",41863,302,78118.340000000011]
["24TA","Bo",41228,206,53286.020000000004]
["24TB","Bo",40294,402,103985.34000000001]
["24TC","Bo",40586,1289,333425.63]
["24TL","Bo",31076,97,25090.99]
["24TZ","Bo",40945,171,44232.57]
["24UA","Bo",41191,185,47853.950000000004]
["24UE","Bo",40307,210,54320.700000000004]
["24UN","Bo",40950,180,46560.600000000006]
["24ZB","Bo",70002,505,130628.35]
["24ZC","Bo",41527,252,65184.840000000004]
["24ZD","Bo",41286,423,109417.41]
["24ZE","Bo",31076,189,48888.630000000005]
["24ZH","Bo",40389,242,62598.140000000007]
["24ZJ","Bo",40390,354,91569.180000000008]
["24ZK","Bo",40189,256,66219.520000000004]
["25DE","Bo",41797,83,21469.61]
["25GH","Bo",40740,263,68030.210000000006]
["25GJ","Bo",85476,521,134767.07]
["25GK","Bo",73712,334,86395.78]
["25GN","Bo",48101,157,40611.19]
["25GP","So",42536,44,22762.960000000003]
["25GP","Vso",42536,28,14485.52]
["25GR","So",42747,35,18106.900000000001]
["25GR","Vso",42747,49,25349.66]
["25GR","So",42747,30,15520.2]
["25GR","Vso",42747,28,14485.52]
["25GR","So",42747,18,9312.1200000000008]
["25HD","So",42536,42,21728.280000000002]
["25HD","Vso",42536,32,16554.88]
["25HE","So",42536,46,23797.640000000003]
["25HE","Vso",42536,58,30005.72]
["25HE","So",42536,52,26901.68]
["25HE","Vso",42536,67,34661.78]
["25HE","So",42536,27,13968.18]
["25HE","Vso",42536,31,16037.54]
["25KC","Bo",41579,584,{"$f":"D6850*IF(B6850=$G$9,WerkdrukbedragPerLeerlingBo,IF(B6850=$G$10,WerkdrukbedragPerLeerlingSbo,IF(B6850=$G$11,WerkdrukbedragPerLeerlingSo,IF(B6850=$G$12,WerkdrukbedragPerLeerlingVso,0))))","v":151063.28}]
["25KD","Bo",41364,335,86654.450000000012]
["25KE","Bo",73919,473,122350.91]
["25KF","Bo",40950,294,76048.98000000001]
["25KG","Bo",42600,445,115108.15000000001]
["25KH","Bo",30240,431,111486.77]
["25KJ","Bo",77975,542,140199.14000000001]
["25KL","Bo",41792,314,81222.38]
["25KM","Bo",41398,543,140457.81]
["25KN","Bo",41488,337,87171.790000000008]
["25KP","Bo",40928,301,77859.67]
["25KR","Bo",41487,343,88723.810000000012]
["25KT","Bo",40114,353,91310.510000000009]
["25KU","Bo",40950,244,63115.48]
["25KV","Bo",41676,219,56648.73]
["26AA","Bo",42623,142,36731.14]
["26AB","Bo",41676,256,66219.520000000004]
["26AC","Bo",40114,550,142268.5]
["26AD","Bo",40114,390,100881.3]
["26AE","Bo",42709,279,72168.930000000008]
["26AF","Bo",24597,282,72944.94]
["26AG","Bo",37949,977,252720.59000000003]
["26AH","Bo",58761,419,108382.73000000001]
["26AJ","Bo",41565,219,56648.73]
["26AL","Bo",41866,257,66478.19]
["26AM","Bo",41528,214,55355.380000000005]
["26AN","Bo",43318,337,87171.790000000008]
["26AP","Bo",42558,321,83033.070000000007]
["26AR","Bo",41012,335,86654.450000000012]
["26AT","Bo",75531,183,47336.61]
["26AU","Bo",41572,144,37248.480000000003]
["26AV","Bo",40928,475,122868.25000000001]
["26AW","Bo",20281,402,103985.34000000001]
["26AX","Bo",41572,363,93897.21]
["26AY","Bo",20281,880,227629.6]
["26AZ","Bo",70176,877,226853.59000000003]
["26BA","Bo",48101,275,71134.25]
["26BC","Bo",41251,176,45525.920000000006]
["26BD","Bo",40934,450,116401.5]
["26LD","So",42665,59,30523.06]
["26LD","Vso",42665,100,51734]
["26LD","So",42665,12,6208.08]
["26LF","So",41400,85,43973.9]
["26LY","So",41127,29,15002.86]
["26LY","Vso",41127,33,17072.22]
["26LY","So",41127,28,14485.52]
["26LY","Vso",41127,30,15520.2]
["26MC","So",42546,53,27419.02]
["26MC","Vso",42546,74,38283.160000000003]
["26MK","So",42607,14,7242.76]
["26MK","Vso",42607,28,14485.52]
["26MN","So",42790,47,24314.980000000003]
["26MN","Vso",42790,79,40869.86]
["26MN","So",42790,48,24832.32]
["26MR","So",41396,30,15520.2]
["26MR","Vso",41396,67,34661.78]
["26MU","So",41358,45,23280.300000000003]
["26MU","Vso",41358,96,49664.639999999999]
["26MW","So",84515,150,77601]
["26MW","Vso",84515,56,28971.040000000001]
["26MW","So",84515,6,3104.04]
["26NC","So",30117,85,43973.9]
["26NC","Vso",30117,44,22762.960000000003]
["26NC","Vso",30117,127,65702.180000000008]
["26NC","So",30117,37,{"$f":"D6914*IF(B6914=$G$9,WerkdrukbedragPerLeerlingBo,IF(B6914=$G$10,WerkdrukbedragPerLeerlingSbo,IF(B6914=$G$11,WerkdrukbedragPerLeerlingSo,IF(B6914=$G$12,WerkdrukbedragPerLeerlingVso,0))))","v":19141.580000000002}]
["26NE","So",84151,37,19141.580000000002]
["26NE","Vso",84151,32,16554.88]
["26NL","So",41780,62,32075.08]
["26NL","Vso",41780,65,33627.1]
["26NR","So",40894,39,20176.260000000002]
["26NR","Vso",40894,51,26384.34]
["26NU","So",42790,75,38800.5]
["26NU","Vso",42790,26,13450.84]
["26PD","Bo",41676,191,49405.97]
["26PE","Bo",41676,155,40093.850000000006]
["26PF","Bo",41676,388,100363.96]
["26PH","Bo",41676,728,188311.76]
["26PJ","Bo",41572,290,75014.3]
["26PK","Bo",13622,765,197882.55000000002]
["26PL","Bo",41248,630,162962.1]
["26PM","Bo",40378,904,233837.68000000002]
["26PN","Bo",42719,352,91051.840000000011]
["26PP","Bo",41572,175,45267.25]
["26PR","Bo",41566,370,95707.900000000009]
["26PT","Bo",20281,694,179516.98]
["26PU","Bo",40775,395,102174.65000000001]
["26PW","Bo",40950,270,69840.900000000009]
["26PX","Bo",41447,417,107865.39]
["26PY","Bo",40888,860,222456.2]
["26PZ","Bo",41081,447,115625.49]
["26RA","Bo",40994,105,27160.350000000002]
["26RK","Bo",30357,344,88982.48000000001]
["26ZZ","Bo",41676,211,54579.37]
["27AA","Bo",40114,258,66736.86]
["27AK","Bo",41633,152,39317.840000000004]
["27BM","Bo",32073,221,57166.070000000007]
["27BN","Bo",73919,326,84326.42]
["27CA","Bo",41611,655,169428.85]
["27CB","Bo",48101,315,81481.05]
["27CC","Bo",41611,384,99329.279999999999]
["27CD","Bo",41891,385,99587.950000000012]
["27CE","Bo",41443,183,47336.61]
["27CF","Bo",78782,460,118988.20000000001]
["27CG","Bo",20281,651,168394.17]
["27CH","Bo",20281,597,154425.99000000002]
["27CJ","Bo",42558,293,75790.31]
["27CK","Bo",78782,340,87947.8]
["27CL","Bo",77195,421,108900.07]
["27CM","Bo",41400,75,19400.25]
["27CN","Bo",62662,629,162703.43000000002]
["27CP","Bo",41400,153,39576.51]
["27CR","Bo",62662,357,92345.19]
["27CT","Bo",32099,356,92086.52]
["27JH","Bo",30010,419,108382.73000000001]
["27JJ","Bo",26158,689,178223.63]
["27JK","Bo",50844,385,99587.950000000012]
["27JN","Bo",30240,482,124678.94]
["27JP","Bo",41349,559,144596.53]
["27JR","Bo",41866,479,123902.93000000001]
["27JT","Bo",43318,364,94155.88]
["27JU","Bo",41528,406,105020.02]
["27JV","Bo",41364,203,52510.01]
["27JW","Bo",29810,631,163220.77000000002]
["27JX","Bo",41488,181,46819.270000000004]
["27KA","Bo",41213,354,91569.180000000008]
["27KE","Bo",41488,743,192191.81]
["27LH","Bo",29810,585,151321.95000000001]
["27LJ","Bo",41371,205,53027.350000000006]
["27LR","Bo",59555,436,{"$f":"D6978*IF(B6978=$G$9,WerkdrukbedragPerLeerlingBo,IF(B6978=$G$10,WerkdrukbedragPerLeerlingSbo,IF(B6978=$G$11,WerkdrukbedragPerLeerlingSo,IF(B6978=$G$12,WerkdrukbedragPerLeerlingVso,0))))","v":112780.12000000001}]
["27LU","Bo",41364,198,51216.66]
["27LV","Bo",71488,523,135284.41]
["27LW","Bo",40530,466,120540.22]
["27LX","Bo",73919,482,124678.94]
["27LY","Bo",40928,602,155719.34]
["27LZ","Bo",41862,418,108124.06000000001]
["27MA","Bo",41256,337,87171.790000000008]
["27MB","Bo",40294,289,74755.63]
["27MC","Bo",40377,466,120540.22]
["27ME","Bo",40377,993,256859.31000000003]
["27MG","Bo",41390,184,47595.280000000006]
["27MH","Bo",41674,401,103726.67000000001]
["27ML","Bo",41375,325,84067.75]
["27NL","Bo",41419,365,94414.55]
["27NM","Bo",73919,314,81222.38]
["27NN","Bo",41481,171,44232.57]
["27NP","Bo",81316,230,59494.100000000006]
["27NR","Bo",71488,758,196071.86000000002]
["27NT","Bo",42683,645,166842.15000000002]
["27NU","Bo",41676,478,123644.26000000001]
["27NV","Bo",41023,362,93638.540000000008]
["27NW","Bo",82526,249,64408.83]
["27NX","Bo",30010,552,142785.84]
["27NY","Bo",41514,284,73462.28]
["27NZ","Bo",42558,168,43456.560000000005]
["27PB","Bo",13622,600,155202]
["27PC","Bo",40389,285,73720.950000000012]
["27PD","Bo",78782,445,115108.15000000001]
["27PE","Bo",40775,217,56131.390000000007]
["27PF","Bo",40775,497,128558.99]
["27PG","Bo",42683,307,79411.69]
["27PH","Bo",40934,572,147959.24000000002]
["27PK","Bo",72853,205,53027.350000000006]
["27PN","Bo",41226,351,90793.170000000013]
["27PR","Bo",40400,377,97518.590000000011]
["27PR","Bo",40400,127,32851.090000000004]
["27PT","Bo",41857,410,106054.70000000001]
["27PU","Bo",41857,209,54062.030000000006]
["27PW","Bo",77975,222,57424.740000000005]
["27PX","Bo",20281,331,85619.77]
["27RK","Bo",41573,372,96225.24]
["27RL","Bo",41876,212,54838.04]
["27RM","Bo",41560,289,74755.63]
["27RN","Bo",41850,304,78635.680000000008]
["27RP","Bo",49844,300,77601]
["27RT","Bo",23128,592,153132.64000000001]
["27RU","Bo",41778,226,58459.420000000006]
["27TZ","Bo",40950,261,67512.87000000001]
["27UA","Bo",26977,405,104761.35]
["27UB","Bo",41676,164,42421.880000000005]
["27UC","Bo",41735,385,99587.950000000012]
["27UE","Bo",75388,199,51475.33]
["27UZ","Bo",74049,105,27160.350000000002]
["27VA","Bo",41572,370,95707.900000000009]
["27WY","Bo",42719,384,99329.279999999999]
["27WZ","Bo",32073,459,118729.53000000001]
["27XA","Bo",80433,426,110193.42000000001]
["27XB","Bo",42562,780,201762.6]
["27XC","Bo",40812,417,107865.39]
["27XD","Bo",48101,273,70616.91]
["27XE","Bo",41616,119,30781.730000000003]
["27XG","Bo",85476,416,107606.72]
["27XH","Bo",40114,280,72427.600000000006]
["27XJ","Bo",40114,772,{"$f":"D7042*IF(B7042=$G$9,WerkdrukbedragPerLeerlingBo,IF(B7042=$G$10,WerkdrukbedragPerLeerlingSbo,IF(B7042=$G$11,WerkdrukbedragPerLeerlingSo,IF(B7042=$G$12,WerkdrukbedragPerLeerlingVso,0))))","v":199693.24000000002}]
["27XK","Bo",74531,768,198658.56]
["27YB","Bo",23128,186,48112.62]
["27YC","Bo",40712,485,125454.95000000001]
["27YD","Bo",41345,128,33109.760000000002]
["27YE","Bo",41645,368,95190.560000000012]
["27YF","Bo",41400,360,93121.200000000012]
["27YG","Bo",31118,459,118729.53000000001]
["27YH","Bo",32099,1331,344289.77]
["27YJ","Bo",30731,402,103985.34000000001]
["27YK","Bo",41774,147,38024.490000000005]
["27YN","Bo",42535,1172,303161.24]
["27YP","Bo",40676,364,94155.88]
["27YV","Bo",41251,201,51992.670000000006]
["27YW","Bo",42709,273,70616.91]
["27YZ","Bo",41672,669,173050.23]
["27ZA","Bo",74049,260,67254.2]
["27ZD","Sbo",20281,199,77213.990000000005]
["28AE","Bo",62662,406,105020.02]
["28AF","Bo",62662,494,127782.98000000001]
["28AG","Bo",41852,358,92603.86]
["28AJ","Bo",81316,427,110452.09000000001]
["28AK","Bo",40765,411,106313.37000000001]
["28AL","Bo",41390,697,180292.99000000002]
["28AM","Bo",42535,248,64150.16]
["28AN","Bo",40712,402,103985.34000000001]
["28AP","Bo",42600,166,42939.22]
["28AU","Bo",41023,337,87171.790000000008]
["28AV","Bo",37949,341,88206.47]
["28AW","Bo",77195,644,166583.48000000001]
["28BA","Bo",41774,560,144855.20000000001]
["28BC","Bo",41400,326,84326.42]
["28BF","Bo",30709,69,17848.23]
["28BG","Bo",41530,474,122609.58]
["28BH","Bo",41530,511,132180.37]
["28BJ","Bo",28601,437,113038.79000000001]
["28BL","Bo",40077,162,41904.54]
["28BP","Bo",42623,302,78118.340000000011]
["28BZ","Bo",41857,398,102950.66]
["28CD","Bo",48101,356,92086.52]
["28CE","Bo",40928,588,152097.96000000002]
["28CF","Bo",41530,243,62856.810000000005]
["28CG","Bo",24715,382,98811.94]
["28CH","Bo",41148,198,51216.66]
["28CK","Bo",41487,297,76824.990000000005]
["28CL","Bo",24597,925,239269.75000000003]
["28CY","Bo",27910,545,140975.15]
["28CZ","Bo",41488,323,83550.41]
["28DA","Bo",41596,218,56390.060000000005]
["28DC","Bo",40377,527,136319.09]
["28DD","Bo",42553,426,110193.42000000001]
["29RV","Bo",41857,345,89241.150000000009]
["29TM","Bo",45722,265,68547.55]
["29TN","Bo",25351,347,89758.49]
["29TZ","Bo",41400,355,91827.85]
["29UA","Bo",41774,736,190381.12000000002]
["29UB","Bo",40950,461,119246.87000000001]
["29UC","Bo",31076,156,40352.520000000004]
["29UG","Bo",31080,546,141233.82]
["29UL","Bo",41632,515,133215.05000000002]
["29UM","Bo",41125,482,124678.94]
["29XB","Bo",32177,310,80187.700000000012]
["29XC","Bo",40114,106,27419.02]
["29XE","Bo",41514,649,167876.83000000002]
["29XF","Bo",41023,290,{"$f":"D7106*IF(B7106=$G$9,WerkdrukbedragPerLeerlingBo,IF(B7106=$G$10,WerkdrukbedragPerLeerlingSbo,IF(B7106=$G$11,WerkdrukbedragPerLeerlingSo,IF(B7106=$G$12,WerkdrukbedragPerLeerlingVso,0))))","v":75014.3}]
["29XG","Bo",41645,504,130369.68000000001]
["29XH","Bo",41813,284,73462.28]
["29XJ","Bo",40812,413,106830.71]
["29XL","Bo",31657,412,106572.04000000001]
["29XN","Bo",42607,227,58718.090000000004]
["29XP","Bo",75531,518,133991.06]
["29XR","Bo",30010,437,113038.79000000001]
["29XV","Bo",41645,372,96225.24]
["29XW","Bo",71488,195,50440.65]
["29XY","Bo",30582,193,49923.310000000005]
["29XZ","Bo",41496,91,23538.97]
["29YC","Bo",41256,128,33109.760000000002]
["29YD","Bo",77975,71,18365.57]
["29YF","Bo",41447,368,95190.560000000012]
["29YJ","Bo",20281,88,22762.960000000003]
["30AF","Bo",41551,91,23538.97]
["30AG","Bo",10249,88,22762.960000000003]
["30AH","Bo",41251,320,82774.400000000009]
["30AJ","Bo",42535,700,181069]
["30AK","Bo",41862,325,84067.75]
["30AL","Bo",41167,157,40611.19]
["30AR","Bo",82526,309,79929.03]
["30AZ","Bo",30240,398,102950.66]
["30BA","Bo",41672,475,122868.25000000001]
["30BB","Bo",81316,478,123644.26000000001]
["30EF","So",41880,235,121574.90000000001]
["30EF","Vso",41880,168,86913.12000000001]
["30FG","Bo",42553,341,88206.47]
["30FL","Bo",40637,209,54062.030000000006]
["30FM","Bo",77235,459,118729.53000000001]
["30FU","Bo",41251,611,158047.37]
["30FV","Bo",41142,253,65443.51]
["30FX","Bo",42523,303,78377.010000000009]
["30FY","Bo",41852,377,97518.590000000011]
["30FZ","Bo",42510,481,124420.27]
["30GF","Bo",41023,491,127006.97]
["30GJ","Bo",41256,309,79929.03]
["30GY","Bo",62662,651,168394.17]
["30JP","Bo",41154,242,62598.140000000007]
["30JR","Bo",77195,386,99846.62000000001]
["30JU","Bo",42587,300,77601]
["30JV","Bo",31076,192,49664.639999999999]
["30JZ","Bo",40888,78,20176.260000000002]
["30KD","Bo",42579,320,82774.400000000009]
["30KE","Bo",42580,284,73462.28]
["30KF","Bo",69877,170,43973.9]
["30KN","Bo",73919,187,48371.29]
["30PE","Bo",40114,403,104244.01000000001]
["30PF","Bo",69669,357,92345.19]
["30PM","Bo",41774,275,71134.25]
["30PW","Bo",42540,459,118729.53000000001]
["30RD","Bo",43318,410,106054.70000000001]
["30RE","Bo",50195,322,83291.740000000005]
["30RH","Bo",69669,553,143044.51]
["30RJ","Bo",83579,416,107606.72]
["30RL","Bo",41781,322,83291.740000000005]
["30TE","Bo",83280,360,93121.200000000012]
["30TF","Bo",41884,371,95966.57]
["30UE","Bo",30883,262,67771.540000000008]
["30UF","Bo",30883,332,85878.44]
["30UN","Bo",42623,702,181586.34000000003]
["30UP","Bo",41774,289,74755.63]
["30UR","Bo",29810,502,129852.34000000001]
["30UT","Bo",41794,500,{"$f":"D7170*IF(B7170=$G$9,WerkdrukbedragPerLeerlingBo,IF(B7170=$G$10,WerkdrukbedragPerLeerlingSbo,IF(B7170=$G$11,WerkdrukbedragPerLeerlingSo,IF(B7170=$G$12,WerkdrukbedragPerLeerlingVso,0))))","v":129335.00000000001}]
["30UX","Bo",77235,127,32851.090000000004]
["30UY","Bo",42510,240,62080.800000000003]
["30UZ","Bo",95148,265,68547.55]
["30VA","Bo",42510,323,83550.41]
["30VB","Bo",62662,362,93638.540000000008]
["30VC","Bo",65287,346,89499.82]
["30VD","Bo",41337,300,77601]
["30WX","Bo",20281,345,89241.150000000009]
["30WY","Bo",30725,130,33627.1]
["30XB","Bo",41820,115,29747.050000000003]
["30XC","Bo",42674,141,36472.47]
["30XD","Bo",40586,100,25867]
["30XM","Bo",42679,282,72944.94]
["30XT","Bo",41154,436,112780.12000000001]
["31AG","Bo",41000,271,70099.570000000007]
["31AW","Bo",40020,445,115108.15000000001]
["31AZ","Bo",40306,416,107606.72]
["31BJ","Bo",41496,246,63632.820000000007]
["31BK","Bo",24844,210,54320.700000000004]
["31BR","Bo",42715,210,{"$f":"D7190*IF(B7190=$G$9,WerkdrukbedragPerLeerlingBo,IF(B7190=$G$10,WerkdrukbedragPerLeerlingSbo,IF(B7190=$G$11,WerkdrukbedragPerLeerlingSo,IF(B7190=$G$12,WerkdrukbedragPerLeerlingVso,0))))","v":54320.700000000004}]
["31CJ","Bo",30731,351,90793.170000000013]
["31DE","Bo",40272,304,78635.680000000008]
["31DF","Bo",42728,136,35179.120000000003]
["31DH","Bo",77195,373,96483.91]
["31DJ","Bo",42535,328,84843.760000000009]
["31DM","Bo",41398,58,15002.86]
["31DP","Bo",29810,274,70875.58]
["31DV","Bo",40950,221,57166.070000000007]
["31EC","Bo",41820,345,89241.150000000009]
["31EC","Bo",41820,136,35179.120000000003]
["31ET","Bo",60997,271,70099.570000000007]
["31FJ","Bo",41246,50,12933.5]
["31FK","Bo",41296,145,37507.15]
["31FM","Bo",42751,103,26643.010000000002]
["31FN","Bo",41781,291,75272.97]
["31FT","Bo",40306,180,46560.600000000006]
["31GH","Bo",41850,328,84843.760000000009]
["31GW","Bo",40950,327,84585.090000000011]
["31GX","Bo",41633,463,119764.21]
["31JD","Bo",41226,56,14485.52]
["31JE","Bo",29810,117,30264.390000000003]
["31JF","Bo",41781,156,40352.520000000004]
["31JG","Bo",74049,94,24314.980000000003]
["31JK","Bo",42768,58,15002.86]
["31JL","Bo",42767,42,10864.140000000001]
["31JM","Bo",42769,194,50181.98]
["31JN","Bo",62662,50,12933.5]
["31JR","Bo",40390,198,51216.66]
["31JT","Bo",41400,220,56907.4]
["31JX","Bo",30731,531,137353.77000000002]
["31KB","Bo",41023,353,91310.510000000009]
["31LC","Bo",40400,375,{"$f":"D7222*IF(B7222=$G$9,WerkdrukbedragPerLeerlingBo,IF(B7222=$G$10,WerkdrukbedragPerLeerlingSbo,IF(B7222=$G$11,WerkdrukbedragPerLeerlingSo,IF(B7222=$G$12,WerkdrukbedragPerLeerlingVso,0))))","v":97001.25}]
["31LD","Bo",32073,246,63632.820000000007]
["31LH","Bo",41400,76,19658.920000000002]
["31LJ","Bo",41528,36,9312.1200000000008]
["31LK","Bo",40586,258,66736.86]
["31LL","Bo",30725,81,20952.27]
["31LM","Bo",41820,275,71134.25]
["31LN","Bo",40114,175,45267.25]
["31LR","Bo",41595,31,8018.77]
["31LT","Bo",42782,26,6725.42]
["31LY","Bo",74049,318,82257.060000000012]
["31LZ","Bo",45917,271,70099.570000000007]
["31MA","Bo",55303,213,55096.710000000006]
["31ME","Bo",24597,385,99587.950000000012]
["31MF","Bo",24597,286,73979.62000000001]
["31MG","Bo",42686,89,23021.63]
["31MH","Bo",42786,40,10346.800000000001]
["31ML","Bo",41863,66,17072.22]
["31MM","Bo",42791,81,20952.27]
["31MN","Bo",42793,39,10088.130000000001]
["31MV","Bo",41775,422,109158.74]
["31MX","Bo",42795,10,2586.7000000000003]
["31PF","Bo",41632,247,63891.490000000005]
["31PG","Bo",40272,576,148993.92000000001]
["31PH","Bo",40272,29,7501.43]
["31PJ","Bo",40980,47,12157.490000000002]
["31PP","Bo",72087,181,46819.270000000004]
["31PR","Bo",30731,78,20176.260000000002]
["31PU","Bo",47100,26,6725.42]
["31PW","Bo",42804,57,14744.19]
["31PX","Bo",42803,14,3621.38]

{"sheet":"BevoegdGezag","index":3,"n_rows":829,"n_cols":4,"rows_kept":829,"cut":false,"hidden":true,"merged":[]}
["BEVOEGD GEZAG NUMMER","BEVOEGD GEZAG NAAM","DENOMINATIE","Bedrag"]
[10249,"Gemeente Emmen","Openbaar",{"$f":"SUMIF(Leerlingaantallen[Werkgevernummer],BevoegdGezag!A2,Leerlingaantallen[Bedrag])","v":1205144.5299999998}]
[10867,"Gemeente Terschelling","Openbaar",{"$f":"SUMIF(Leerlingaantallen[Werkgevernummer],BevoegdGezag!A3,Leerlingaantallen[Bedrag])","v":42939.220000000008}]
[10925,"Gemeente Westerwolde","Openbaar",{"$f":"SUMIF(Leerlingaantallen[Werkgevernummer],BevoegdGezag!A4,Leerlingaantallen[Bedrag])","v":157788.70000000004}]
[11711,"Gemeente Noordenveld","Openbaar",{"$f":"SUMIF(Leerlingaantallen[Werkgevernummer],BevoegdGezag!A5,Leerlingaantallen[Bedrag])","v":528075.64999999991}]
[11764,"Gemeente Eijsden-Margraten","Openbaar",{"$f":"SUMIF(Leerlingaantallen[Werkgevernummer],BevoegdGezag!A6,Leerlingaantallen[Bedrag])","v":19141.580000000002}]
[13622,"Stichting Openbaar Primair Onderwijs Haarlemmermeer","Openbaar",{"$f":"SUMIF(Leerlingaantallen[Werkgevernummer],BevoegdGezag!A7,Leerlingaantallen[Bedrag])","v":1153280.71}]
[13662,"Stichting Openbaar Onderwijs Present","Openbaar",{"$f":"SUMIF(Leerlingaantallen[Werkgevernummer],BevoegdGezag!A8,Leerlingaantallen[Bedrag])","v":388005}]
[13682,"Openbaar Primair Onderwijs Oegstgeest","Openbaar",{"$f":"SUMIF(Leerlingaantallen[Werkgevernummer],BevoegdGezag!A9,Leerlingaantallen[Bedrag])","v":350497.85000000003}]
[13683,"Schoolbestuur voor primair en voortgezet onderwijs tussen Lauwers en Eems-stg","Openbaar",{"$f":"SUMIF(Leerlingaantallen[Werkgevernummer],BevoegdGezag!A10,Leerlingaantallen[Bedrag])","v":350497.85000000003}]
[13839,"Bestuurscommissie Master Frankeskoalle voor Basisonderwijs te Eernewoude","Openbaar",{"$f":"SUMIF(Leerlingaantallen[Werkgevernummer],BevoegdGezag!A11,Leerlingaantallen[Bedrag])","v":14226.85}]
[13878,"Bestuurscommissie Openbaar Basisonderwijs Ameland","Openbaar",{"$f":"SUMIF(Leerlingaantallen[Werkgevernummer],BevoegdGezag!A12,Leerlingaantallen[Bedrag])","v":19917.590000000004}]
[20183,"Verenig. voor Chr. Onderwijs op Reformatorische Grondslag","Reformatorisch",{"$f":"SUMIF(Leerlingaantallen[Werkgevernummer],BevoegdGezag!A13,Leerlingaantallen[Bedrag])","v":45525.920000000006}]
[20210,"Stichting Matthijsje","Algemeen bijzonder",{"$f":"SUMIF(Leerlingaantallen[Werkgevernummer],BevoegdGezag!A14,Leerlingaantallen[Bedrag])","v":14744.19}]
[20243,"Ver. Stg. Ned.-Herv. Chr. Scholen te Waddinxveen","Protestants-Christelijk",{"$f":"SUMIF(Leerlingaantallen[Werkgevernummer],BevoegdGezag!A15,Leerlingaantallen[Bedrag])","v":142268.5}]
[20252,"Vereniging Jenaplanonderwijs Oudewater","Algemeen bijzonder",{"$f":"SUMIF(Leerlingaantallen[Werkgevernummer],BevoegdGezag!A16,Leerlingaantallen[Bedrag])","v":50181.98}]
[20281,"Stichting Lucas Onderwijs","Samenwerking PC, RK",{"$f":"SUMIF(Leerlingaantallen[Werkgevernummer],BevoegdGezag!A17,Leerlingaantallen[Bedrag])","v":4719566.58}]
[20671,"Westlandse Stichting Katholiek Onderwijs (WSKO)","Rooms-Katholiek",{"$f":"SUMIF(Leerlingaantallen[Werkgevernummer],BevoegdGezag!A18,Leerlingaantallen[Bedrag])","v":1246789.3999999999}]
[20970,"Amsterdamse Schoolver. v. Opv. en Onderwijs 'A.S.V.O.'","Algemeen bijzonder",{"$f":"SUMIF(Leerlingaantallen[Werkgevernummer],BevoegdGezag!A19,Leerlingaantallen[Bedrag])","v":83550.41}]
[21464,"Stichting Joodse Scholengem.sch. J.B.O.","Joods",{"$f":"SUMIF(Leerlingaantallen[Werkgevernummer],BevoegdGezag!A20,Leerlingaantallen[Bedrag])","v":67254.2}]
[21478,"Ver. tot Verstr. van Onderwijs op Gereformeerde Grondslag","Protestants-Christelijk",{"$f":"SUMIF(Leerlingaantallen[Werkgevernummer],BevoegdGezag!A21,Leerlingaantallen[Bedrag])","v":122609.58000000002}]
[22622,"Ver voor Christ. Basisonderw. Laat de kinderen tot Mij komen","Protestants-Christelijk",{"$f":"SUMIF(Leerlingaantallen[Werkgevernummer],BevoegdGezag!A22,Leerlingaantallen[Bedrag])","v":107865.39}]
[22725,"Stichting voor Interconfess. (rk/pc) en Katholiek Onderwijs","Samenwerking PC, RK",{"$f":"SUMIF(Leerlingaantallen[Werkgevernummer],BevoegdGezag!A23,Leerlingaantallen[Bedrag])","v":1008813}]
[22765,"Ver. Verstrekken Onderwijs op Gereformeerde Grondslag Lisse","Protestants-Christelijk",{"$f":"SUMIF(Leerlingaantallen[Werkgevernummer],BevoegdGezag!A24,Leerlingaantallen[Bedrag])","v":67771.540000000008}]
[23128,"Stichting Varietas","Interconfessioneel",{"$f":"SUMIF(Leerlingaantallen[Werkgevernummer],BevoegdGezag!A25,Leerlingaantallen[Bedrag])","v":1222215.7500000002}]
[23337,"Vereniging voor Prot. Chr. Onderw. Rhenen","Protestants-Christelijk",{"$f":"SUMIF(Leerlingaantallen[Werkgevernummer],BevoegdGezag!A26,Leerlingaantallen[Bedrag])","v":129335}]
[23440,"Schoolvereniging 'Willemspark'","Algemeen bijzonder",{"$f":"SUMIF(Leerlingaantallen[Werkgevernummer],BevoegdGezag!A27,Leerlingaantallen[Bedrag])","v":61304.79}]
[23545,"Ver. tot het verstr. van b.o. op ref. grondsl. te Oosterland","Reformatorisch",{"$f":"SUMIF(Leerlingaantallen[Werkgevernummer],BevoegdGezag!A28,Leerlingaantallen[Bedrag])","v":42163.21}]
[23674,"Vereniging 'een School met de Bijbel'","Protestants-Christelijk",{"$f":"SUMIF(Leerlingaantallen[Werkgevernummer],BevoegdGezag!A29,Leerlingaantallen[Bedrag])","v":95966.57}]
[23883,"Ver. Verstr. Kleuter/Bo op GGs te Nunspeet","Protestants-Christelijk",{"$f":"SUMIF(Leerlingaantallen[Werkgevernummer],BevoegdGezag!A30,Leerlingaantallen[Bedrag])","v":127782.98000000001}]
[23948,"Ver t Stg Insth Sch op Geref Grondsl","Protestants-Christelijk",{"$f":"SUMIF(Leerlingaantallen[Werkgevernummer],BevoegdGezag!A31,Leerlingaantallen[Bedrag])","v":59752.770000000004}]
[23961,"Stichting Primair Onderwijs Leudal en Thornerkwartier","Rooms-Katholiek",{"$f":"SUMIF(Leerlingaantallen[Werkgevernummer],BevoegdGezag!A32,Leerlingaantallen[Bedrag])","v":591061.56000000006}]
[24065,"Ver. Herv. Chr. Schoolonderw. te Waspik","Protestants-Christelijk",{"$f":"SUMIF(Leerlingaantallen[Werkgevernummer],BevoegdGezag!A33,Leerlingaantallen[Bedrag])","v":27677.690000000002}]
[24195,"Ver. verstr. bo op Ger. Gr.sl. te Genemuiden","Reformatorisch",{"$f":"SUMIF(Leerlingaantallen[Werkgevernummer],BevoegdGezag!A34,Leerlingaantallen[Bedrag])","v":112262.78}]
[24207,"Stg. St. Martinus v. Onderwijs op Katholieke Grondslag","Rooms-Katholiek",{"$f":"SUMIF(Leerlingaantallen[Werkgevernummer],BevoegdGezag!A35,Leerlingaantallen[Bedrag])","v":51475.33}]
[24481,"Ver. Basisond. op Reform. Grondsl. te Kootwijkerbroek","Reformatorisch",{"$f":"SUMIF(Leerlingaantallen[Werkgevernummer],BevoegdGezag!A36,Leerlingaantallen[Bedrag])","v":162444.76}]
[24533,"Ver. Chr. Nat. Schoolonderwijs te Nunspeet","Protestants-Christelijk",{"$f":"SUMIF(Leerlingaantallen[Werkgevernummer],BevoegdGezag!A37,Leerlingaantallen[Bedrag])","v":348169.82}]
[24597,"Stichting Rotterdamse Vereniging voor Katholiek Onderwijs","Rooms-Katholiek",{"$f":"SUMIF(Leerlingaantallen[Werkgevernummer],BevoegdGezag!A38,Leerlingaantallen[Bedrag])","v":5468802.6900000004}]
[24715,"Ver. tot het verstrekken van Chr. basisonderwijs op Gereformeerde Grondslag","Reformatorisch",{"$f":"SUMIF(Leerlingaantallen[Werkgevernummer],BevoegdGezag!A39,Leerlingaantallen[Bedrag])","v":278587.59000000003}]
[24844,"Stichting VCO Oost Nederland","Protestants-Christelijk",{"$f":"SUMIF(Leerlingaantallen[Werkgevernummer],BevoegdGezag!A40,Leerlingaantallen[Bedrag])","v":645640.32000000007}]
[25156,"Amersfoortse Schoolvereniging","Algemeen bijzonder",{"$f":"SUMIF(Leerlingaantallen[Werkgevernummer],BevoegdGezag!A41,Leerlingaantallen[Bedrag])","v":84326.42}]
[25196,"Vereniging tot het Verstrekken van Onderwijs op Gereformeerde Grondslag","Reformatorisch",{"$f":"SUMIF(Leerlingaantallen[Werkgevernummer],BevoegdGezag!A42,Leerlingaantallen[Bedrag])","v":176930.28000000003}]
[25351,"Stichting Keender","Samenwerking Opb., RK",{"$f":"SUMIF(Leerlingaantallen[Werkgevernummer],BevoegdGezag!A43,Leerlingaantallen[Bedrag])","v":681854.12}]
[25664,"Stichting Katholiek Montessori Onderwijs Bussum","Rooms-Katholiek",{"$f":"SUMIF(Leerlingaantallen[Werkgevernummer],BevoegdGezag!A44,Leerlingaantallen[Bedrag])","v":84326.42}]
[25833,"Vereniging voor Basisonderwijs Gereform. Grondslag te Tholen","Protestants-Christelijk",{"$f":"SUMIF(Leerlingaantallen[Werkgevernummer],BevoegdGezag!A45,Leerlingaantallen[Bedrag])","v":94931.89}]
[26158,"Stichting Fedra","Samenwerking PC, RK",{"$f":"SUMIF(Leerlingaantallen[Werkgevernummer],BevoegdGezag!A46,Leerlingaantallen[Bedrag])","v":821277.25000000012}]
[26613,"Stichting Reformatorisch Onderwijs","Reformatorisch",{"$f":"SUMIF(Leerlingaantallen[Werkgevernummer],BevoegdGezag!A47,Leerlingaantallen[Bedrag])","v":94673.22}]
[26626,"Stg. tot het Verstr. van BO op Gereformeerde Grondslag","Protestants-Christelijk",{"$f":"SUMIF(Leerlingaantallen[Werkgevernummer],BevoegdGezag!A48,Leerlingaantallen[Bedrag])","v":87430.46}]
[26977,"Stichting Best Onderwijs","Samenwerking PC, RK, Alg. Bijz",{"$f":"SUMIF(Leerlingaantallen[Werkgevernummer],BevoegdGezag!A49,Leerlingaantallen[Bedrag])","v":555364.49}]
[27067,"Stichting Christ. B.s. Lochem Laren","Protestants-Christelijk",{"$f":"SUMIF(Leerlingaantallen[Werkgevernummer],BevoegdGezag!A50,Leerlingaantallen[Bedrag])","v":95190.56}]
[27237,"Ver. voor basisonderwijs op Gereformeerde grondslag Speuld","Protestants-Christelijk",{"$f":"SUMIF(Leerlingaantallen[Werkgevernummer],BevoegdGezag!A51,Leerlingaantallen[Bedrag])","v":15261.53}]
[27340,"Ver. Bev. vh Chr. Nat. onderw. te Hollum","Protestants-Christelijk",{"$f":"SUMIF(Leerlingaantallen[Werkgevernummer],BevoegdGezag!A52,Leerlingaantallen[Bedrag])","v":15520.2}]
[27770,"Stichting KBA NW West","Samenwerking PC, RK",{"$f":"SUMIF(Leerlingaantallen[Werkgevernummer],BevoegdGezag!A53,Leerlingaantallen[Bedrag])","v":459656.59}]
[27910,"Stichting Brigantijn","Protestants-Christelijk",{"$f":"SUMIF(Leerlingaantallen[Werkgevernummer],BevoegdGezag!A54,Leerlingaantallen[Bedrag])","v":1006484.9700000001}]
[28212,"de Vrije School Noord en Oost Nederland","Antroposofisch",{"$f":"SUMIF(Leerlingaantallen[Werkgevernummer],BevoegdGezag!A55,Leerlingaantallen[Bedrag])","v":139940.47000000003}]
[28563,"Stichting Katholiek Onderwijs De Streek","Rooms-Katholiek",{"$f":"SUMIF(Leerlingaantallen[Werkgevernummer],BevoegdGezag!A56,Leerlingaantallen[Bedrag])","v":595458.34}]
[28601,"Stichting Morgenwijzer","Rooms-Katholiek",{"$f":"SUMIF(Leerlingaantallen[Werkgevernummer],BevoegdGezag!A57,Leerlingaantallen[Bedrag])","v":1077360.55}]
[28614,"Stichting Openluchtscholen voor het Gezonde kind","Algemeen bijzonder",{"$f":"SUMIF(Leerlingaantallen[Werkgevernummer],BevoegdGezag!A58,Leerlingaantallen[Bedrag])","v":124420.27}]
[28849,"Stichting voor Katholiek Onderwijs Aalsmeer","Rooms-Katholiek",{"$f":"SUMIF(Leerlingaantallen[Werkgevernummer],BevoegdGezag!A59,Leerlingaantallen[Bedrag])","v":399127.81000000006}]
[29056,"Vereniging Stichting Instandhouding School met de Bijbel Staphorst","Protestants-Christelijk",{"$f":"SUMIF(Leerlingaantallen[Werkgevernummer],BevoegdGezag!A60,Leerlingaantallen[Bedrag])","v":289710.40000000002}]
[29473,"Ver. Verstr. v. BO op R.G.s. te Kruiningen","Reformatorisch",{"$f":"SUMIF(Leerlingaantallen[Werkgevernummer],BevoegdGezag!A61,Leerlingaantallen[Bedrag])","v":77859.67}]
[29577,"Ver. Scholen der Evangelische Broedergemeente","Protestants-Christelijk",{"$f":"SUMIF(Leerlingaantallen[Werkgevernummer],BevoegdGezag!A62,Leerlingaantallen[Bedrag])","v":93638.540000000008}]
[29785,"Stichting Katholiek Onderwijs Hulst","Rooms-Katholiek",{"$f":"SUMIF(Leerlingaantallen[Werkgevernummer],BevoegdGezag!A63,Leerlingaantallen[Bedrag])","v":130369.68000000002}]
[29810,"Stichting Conexus","Rooms-Katholiek",{"$f":"SUMIF(Leerlingaantallen[Werkgevernummer],BevoegdGezag!A64,Leerlingaantallen[Bedrag])","v":2180073.2600000002}]
[29823,"Ver. verstrekken van onderwijs Geref. Grondslag Krabbendijke","Protestants-Christelijk",{"$f":"SUMIF(Leerlingaantallen[Werkgevernummer],BevoegdGezag!A65,Leerlingaantallen[Bedrag])","v":73462.28}]
[30010,"Sticht. v. Prot. Christ. B.o. Amersfoort","Protestants-Christelijk",{"$f":"SUMIF(Leerlingaantallen[Werkgevernummer],BevoegdGezag!A66,Leerlingaantallen[Bedrag])","v":898619.84000000008}]
[30013,"Stichting Scholen van het Rozenkruis","Algemeen bijzonder",{"$f":"SUMIF(Leerlingaantallen[Werkgevernummer],BevoegdGezag!A67,Leerlingaantallen[Bedrag])","v":23280.300000000003}]
[30015,"Ver. Oecumenisch Onderwijs in Maarn","Algemeen bijzonder",{"$f":"SUMIF(Leerlingaantallen[Werkgevernummer],BevoegdGezag!A68,Leerlingaantallen[Bedrag])","v":48888.630000000005}]
[30027,"Stichting de Vrije School Eindhoven-Zuid","Antroposofisch",{"$f":"SUMIF(Leerlingaantallen[Werkgevernummer],BevoegdGezag!A69,Leerlingaantallen[Bedrag])","v":116401.5}]
[30124,"Montessori-Vereniging Tholen","Algemeen bijzonder",{"$f":"SUMIF(Leerlingaantallen[Werkgevernummer],BevoegdGezag!A70,Leerlingaantallen[Bedrag])","v":18365.57}]
[30128,"Ver. tot het verstrekken van basisonderw. Geref. grondslag","Protestants-Christelijk",{"$f":"SUMIF(Leerlingaantallen[Werkgevernummer],BevoegdGezag!A71,Leerlingaantallen[Bedrag])","v":58976.76}]
[30133,"Vereniging voor Chr. Onderwijs op Reformatorische Grondslag in de Hoeksche Waard","Reformatorisch",{"$f":"SUMIF(Leerlingaantallen[Werkgevernummer],BevoegdGezag!A72,Leerlingaantallen[Bedrag])","v":198141.22000000003}]
[30145,"Stichting tot het verstrekken Onderwijs Gereform. Grondslag","Algemeen bijzonder",{"$f":"SUMIF(Leerlingaantallen[Werkgevernummer],BevoegdGezag!A73,Leerlingaantallen[Bedrag])","v":31299.070000000003}]
[30235,"Stichting Prot.-Chr. Onderwijs Boxmeer","Protestants-Christelijk",{"$f":"SUMIF(Leerlingaantallen[Werkgevernummer],BevoegdGezag!A74,Leerlingaantallen[Bedrag])","v":91827.85}]
[30240,"Stichting QliQ Primair Onderwijs","Rooms-Katholiek",{"$f":"SUMIF(Leerlingaantallen[Werkgevernummer],BevoegdGezag!A75,Leerlingaantallen[Bedrag])","v":1002864.6100000002}]
[30263,"Stichting tot het verstrekken onderw. op Gereform. grondslag","Algemeen bijzonder",{"$f":"SUMIF(Leerlingaantallen[Werkgevernummer],BevoegdGezag!A76,Leerlingaantallen[Bedrag])","v":28971.040000000001}]
[30320,"Stichting De Buitenveldertse Montessorischool","Algemeen bijzonder",{"$f":"SUMIF(Leerlingaantallen[Werkgevernummer],BevoegdGezag!A77,Leerlingaantallen[Bedrag])","v":51992.670000000006}]
[30330,"Vereniging voor Protestants- Chr. B.o. te Morra-Lioessens","Protestants-Christelijk",{"$f":"SUMIF(Leerlingaantallen[Werkgevernummer],BevoegdGezag!A78,Leerlingaantallen[Bedrag])","v":19141.580000000002}]
[30357,"Stichting Katholiek Onderwijs Zeewolde","Rooms-Katholiek",{"$f":"SUMIF(Leerlingaantallen[Werkgevernummer],BevoegdGezag!A79,Leerlingaantallen[Bedrag])","v":88982.48000000001}]
[30582,"Stg H3O v christ. peuterwerk kinderopv., prim./voortg. ond.","Protestants-Christelijk",{"$f":"SUMIF(Leerlingaantallen[Werkgevernummer],BevoegdGezag!A80,Leerlingaantallen[Bedrag])","v":777821.55}]
[30673,"Stichting Hervormde Scholen te Voorthuizen","Protestants-Christelijk",{"$f":"SUMIF(Leerlingaantallen[Werkgevernummer],BevoegdGezag!A81,Leerlingaantallen[Bedrag])","v":135543.08000000002}]
[30700,"Ver. voor Chr. Primair Onderw. op Reform. Gr. Doetinchem eo","Reformatorisch",{"$f":"SUMIF(Leerlingaantallen[Werkgevernummer],BevoegdGezag!A82,Leerlingaantallen[Bedrag])","v":21469.61}]
[30701,"Stg. Alg. Bijzonder Onderwijs in Heemstede","Algemeen bijzonder",{"$f":"SUMIF(Leerlingaantallen[Werkgevernummer],BevoegdGezag!A83,Leerlingaantallen[Bedrag])","v":49147.3}]
[30709,"Stichting Hindoe Onderwijs Nederland","Hindoeïstisch",{"$f":"SUMIF(Leerlingaantallen[Werkgevernummer],BevoegdGezag!A84,Leerlingaantallen[Bedrag])","v":281691.63}]
[30715,"Stichting voor Basisonderwijs Algem. Grondslag  Middelburg","Algemeen bijzonder",{"$f":"SUMIF(Leerlingaantallen[Werkgevernummer],BevoegdGezag!A85,Leerlingaantallen[Bedrag])","v":138388.45000000001}]
[30725,"Stg. Islamitische Educatie Zuid-Oost Nederland","Islamitisch",{"$f":"SUMIF(Leerlingaantallen[Werkgevernummer],BevoegdGezag!A86,Leerlingaantallen[Bedrag])","v":136577.75999999998}]
[30731,"Stichting Islamitisch Primair Onderwijs Rijnmond (SIPOR)","Islamitisch",{"$f":"SUMIF(Leerlingaantallen[Werkgevernummer],BevoegdGezag!A87,Leerlingaantallen[Bedrag])","v":522254.7300000001}]
[30824,"Stg. Algemeen Basisonderwijs Rijnwaarden","Algemeen bijzonder",{"$f":"SUMIF(Leerlingaantallen[Werkgevernummer],BevoegdGezag!A88,Leerlingaantallen[Bedrag])","v":69840.900000000009}]
[30835,"Ver. v. Montessori-Onderwijs Westland","Algemeen bijzonder",{"$f":"SUMIF(Leerlingaantallen[Werkgevernummer],BevoegdGezag!A89,Leerlingaantallen[Bedrag])","v":96742.58}]
[30847,"Stg. Montessori-/Tradit. B.O. Doesburg/Ellecom","Algemeen bijzonder",{"$f":"SUMIF(Leerlingaantallen[Werkgevernummer],BevoegdGezag!A90,Leerlingaantallen[Bedrag])","v":69840.899999999994}]
[30849,"Stg. v. Chr. Bas.onderw. op Ref. Grondslag voor Katwijk eo","Reformatorisch",{"$f":"SUMIF(Leerlingaantallen[Werkgevernummer],BevoegdGezag!A91,Leerlingaantallen[Bedrag])","v":44232.57}]
[30883,"Stichting Islamitische School Amsterdam","Islamitisch",{"$f":"SUMIF(Leerlingaantallen[Werkgevernummer],BevoegdGezag!A92,Leerlingaantallen[Bedrag])","v":289193.06000000006}]
[30889,"Ver. Protestants-Christelijk Basisonderwijs te Beesd","Protestants-Christelijk",{"$f":"SUMIF(Leerlingaantallen[Werkgevernummer],BevoegdGezag!A93,Leerlingaantallen[Bedrag])","v":20952.27}]
[30967,"Vereniging een School met de Bijbel","Protestants-Christelijk",{"$f":"SUMIF(Leerlingaantallen[Werkgevernummer],BevoegdGezag!A94,Leerlingaantallen[Bedrag])","v":16296.210000000001}]
[31017,"Borgesiusstichting","Rooms-Katholiek",{"$f":"SUMIF(Leerlingaantallen[Werkgevernummer],BevoegdGezag!A95,Leerlingaantallen[Bedrag])","v":890859.4800000001}]
[31019,"Stichting Kievietschool","Algemeen bijzonder",{"$f":"SUMIF(Leerlingaantallen[Werkgevernummer],BevoegdGezag!A96,Leerlingaantallen[Bedrag])","v":50181.98}]
[31032,"Ver. t. st. en instandhouding v.e. schl m.d. Bijbel Hoornaar","Protestants-Christelijk",{"$f":"SUMIF(Leerlingaantallen[Werkgevernummer],BevoegdGezag!A97,Leerlingaantallen[Bedrag])","v":37248.480000000003}]
[31075,"Stichting Van Brienenoordschool","Algemeen bijzonder",{"$f":"SUMIF(Leerlingaantallen[Werkgevernummer],BevoegdGezag!A98,Leerlingaantallen[Bedrag])","v":101398.64}]
[31076,"Stg. O.w. op Islam. grondsl.in Midden&Oost-Nederland (SIMON)","Islamitisch",{"$f":"SUMIF(Leerlingaantallen[Werkgevernummer],BevoegdGezag!A99,Leerlingaantallen[Bedrag])","v":512166.60000000003}]
[31077,"Stg. Verstr. Christ. Onderwijs op Gereformeerde Grondslag","Protestants-Christelijk",{"$f":"SUMIF(Leerlingaantallen[Werkgevernummer],BevoegdGezag!A100,Leerlingaantallen[Bedrag])","v":191157.13}]
[31080,"Stichting Islamitisch College","Islamitisch",{"$f":"SUMIF(Leerlingaantallen[Werkgevernummer],BevoegdGezag!A101,Leerlingaantallen[Bedrag])","v":240821.77000000002}]
[31088,"Stichting Islamitische Scholen Helmond en omgeving","Islamitisch",{"$f":"SUMIF(Leerlingaantallen[Werkgevernummer],BevoegdGezag!A102,Leerlingaantallen[Bedrag])","v":48371.29}]
[31118,"Stichting Islamitische Scholen Rijn en Gouwe","Islamitisch",{"$f":"SUMIF(Leerlingaantallen[Werkgevernummer],BevoegdGezag!A103,Leerlingaantallen[Bedrag])","v":196071.86000000002}]
[31162,"Delftse Vereniging voor Montessori-Onderwijs","Algemeen bijzonder",{"$f":"SUMIF(Leerlingaantallen[Werkgevernummer],BevoegdGezag!A104,Leerlingaantallen[Bedrag])","v":55614.05}]
[31189,"Ver. Verstrekken Basisonderw. op Gereformeerde Grondslag","Protestants-Christelijk",{"$f":"SUMIF(Leerlingaantallen[Werkgevernummer],BevoegdGezag!A105,Leerlingaantallen[Bedrag])","v":214178.76}]
[31204,"Vereniging v. C.N. Schoolond. te Lunteren","Protestants-Christelijk",{"$f":"SUMIF(Leerlingaantallen[Werkgevernummer],BevoegdGezag!A106,Leerlingaantallen[Bedrag])","v":75790.31}]
[31227,"Ver. Prot. Chr. Basisonderwijs 'Duinoordschool'","Protestants-Christelijk",{"$f":"SUMIF(Leerlingaantallen[Werkgevernummer],BevoegdGezag!A107,Leerlingaantallen[Bedrag])","v":64150.16}]
[31237,"Stichting Katholiek Onderwijs Veluwe-Vallei","Rooms-Katholiek",{"$f":"SUMIF(Leerlingaantallen[Werkgevernummer],BevoegdGezag!A108,Leerlingaantallen[Bedrag])","v":662712.54000000015}]
[31267,"Stichting Edu-Ley","Rooms-Katholiek",{"$f":"SUMIF(Leerlingaantallen[Werkgevernummer],BevoegdGezag!A109,Leerlingaantallen[Bedrag])","v":506475.86}]
[31280,"Ver. verstr. onderwijs op Geref. grondslag te Leerdam","Protestants-Christelijk",{"$f":"SUMIF(Leerlingaantallen[Werkgevernummer],BevoegdGezag!A110,Leerlingaantallen[Bedrag])","v":84585.090000000011}]
[31384,"'Stichting SKOzoK', Samen Koersen op zichtbare ok","Rooms-Katholiek",{"$f":"SUMIF(Leerlingaantallen[Werkgevernummer],BevoegdGezag!A111,Leerlingaantallen[Bedrag])","v":1382591.6700000002}]
[31552,"Vereniging De Gooische School","Algemeen bijzonder",{"$f":"SUMIF(Leerlingaantallen[Werkgevernummer],BevoegdGezag!A112,Leerlingaantallen[Bedrag])","v":55096.710000000006}]
[31657,"Stg. Penta, St. RK, Prot. Chr. & Interconfessioneel Onderwij","Samenwerking PC, RK",{"$f":"SUMIF(Leerlingaantallen[Werkgevernummer],BevoegdGezag!A113,Leerlingaantallen[Bedrag])","v":811189.12000000011}]
[31890,"Ver. tot het verstr. Onderwijs op Ger. grondslag te Borssele","Protestants-Christelijk",{"$f":"SUMIF(Leerlingaantallen[Werkgevernummer],BevoegdGezag!A114,Leerlingaantallen[Bedrag])","v":42163.21}]
[32060,"Stichting Katholiek Onderwijs Het Groene Lint","Rooms-Katholiek",{"$f":"SUMIF(Leerlingaantallen[Werkgevernummer],BevoegdGezag!A115,Leerlingaantallen[Bedrag])","v":452672.49999999994}]
[32072,"Ver. tot Stg. en  Instandh. v. Scholen met de Bijbel","Reformatorisch",{"$f":"SUMIF(Leerlingaantallen[Werkgevernummer],BevoegdGezag!A116,Leerlingaantallen[Bedrag])","v":121057.56000000001}]
[32073,"Stichting Christelijke Kindcentra Drenthe","Protestants-Christelijk",{"$f":"SUMIF(Leerlingaantallen[Werkgevernummer],BevoegdGezag!A117,Leerlingaantallen[Bedrag])","v":1328400.24}]
[32099,"Stichting R.K. Basisscholen Vleuten, De Meern, Haarzuilens","Rooms-Katholiek",{"$f":"SUMIF(Leerlingaantallen[Werkgevernummer],BevoegdGezag!A118,Leerlingaantallen[Bedrag])","v":794116.90000000014}]
[32177,"Stichting Kiem Onderwijs","Rooms-Katholiek",{"$f":"SUMIF(Leerlingaantallen[Werkgevernummer],BevoegdGezag!A119,Leerlingaantallen[Bedrag])","v":718585.7}]
[32202,"Ver. Stg. Schol. met de Bijb. te Giessen-Nieuwkerk e.o.","Protestants-Christelijk",{"$f":"SUMIF(Leerlingaantallen[Werkgevernummer],BevoegdGezag!A120,Leerlingaantallen[Bedrag])","v":72427.600000000006}]
[32203,"Stichting Katholiek Onderwijs Ginneken","Rooms-Katholiek",{"$f":"SUMIF(Leerlingaantallen[Werkgevernummer],BevoegdGezag!A121,Leerlingaantallen[Bedrag])","v":200986.59000000003}]
[32515,"Ver. tot Instandh. en Best. vd Joris de Witteschool","Protestants-Christelijk",{"$f":"SUMIF(Leerlingaantallen[Werkgevernummer],BevoegdGezag!A122,Leerlingaantallen[Bedrag])","v":56390.060000000005}]
[32580,"Stichting GOO Onderwijs en Opvang","Rooms-Katholiek",{"$f":"SUMIF(Leerlingaantallen[Werkgevernummer],BevoegdGezag!A123,Leerlingaantallen[Bedrag])","v":745358.35000000009}]
[32631,"Karakter, V. Scholen md Bijbel Alblasserwaard","Protestants-Christelijk",{"$f":"SUMIF(Leerlingaantallen[Werkgevernummer],BevoegdGezag!A124,Leerlingaantallen[Bedrag])","v":308593.31}]
[32813,"Christelijke Schoolvereniging 'Obadja'","Protestants-Christelijk",{"$f":"SUMIF(Leerlingaantallen[Werkgevernummer],BevoegdGezag!A125,Leerlingaantallen[Bedrag])","v":38800.5}]
[33151,"Edese Schoolvereniging","Algemeen bijzonder",{"$f":"SUMIF(Leerlingaantallen[Werkgevernummer],BevoegdGezag!A126,Leerlingaantallen[Bedrag])","v":60011.44}]
[33268,"Schoolvereniging 'Agatha Snellen'","Algemeen bijzonder",{"$f":"SUMIF(Leerlingaantallen[Werkgevernummer],BevoegdGezag!A127,Leerlingaantallen[Bedrag])","v":55096.710000000006}]
[33424,"Stichting Muziekinstituut van de Kathedraal Sint Bavo","Rooms-Katholiek",{"$f":"SUMIF(Leerlingaantallen[Werkgevernummer],BevoegdGezag!A128,Leerlingaantallen[Bedrag])","v":15261.53}]
[33645,"Ver. tot Stg. & Instandhouding Scholen met Bijbel te Benneko","Protestants-Christelijk",{"$f":"SUMIF(Leerlingaantallen[Werkgevernummer],BevoegdGezag!A129,Leerlingaantallen[Bedrag])","v":71392.92}]
[33853,"Vereniging voor Christ. Nat. Bas.onderw.","Protestants-Christelijk",{"$f":"SUMIF(Leerlingaantallen[Werkgevernummer],BevoegdGezag!A130,Leerlingaantallen[Bedrag])","v":37507.15}]
[33957,"Hallsche Schoolvereniging","Algemeen bijzonder",{"$f":"SUMIF(Leerlingaantallen[Werkgevernummer],BevoegdGezag!A131,Leerlingaantallen[Bedrag])","v":30264.390000000003}]
[34139,"Ver. tot Stg. & Inst.houd. van Sch. md Bijbel E'veen en H'su","Reformatorisch",{"$f":"SUMIF(Leerlingaantallen[Werkgevernummer],BevoegdGezag!A132,Leerlingaantallen[Bedrag])","v":141751.16}]
[34230,"Vereniging voor Buitengewoon Speciaal Onderwijs School Vereniging Gooiland","Algemeen bijzonder",{"$f":"SUMIF(Leerlingaantallen[Werkgevernummer],BevoegdGezag!A133,Leerlingaantallen[Bedrag])","v":109676.08}]
[34646,"Stichting Reformatorisch basisonderwijs Elspeet","Gereformeerd",{"$f":"SUMIF(Leerlingaantallen[Werkgevernummer],BevoegdGezag!A134,Leerlingaantallen[Bedrag])","v":51734}]
[34893,"Ver. 'Scholen met de Bijbel', Buurtsch. Horst & Telgt Ermelo","Protestants-Christelijk",{"$f":"SUMIF(Leerlingaantallen[Werkgevernummer],BevoegdGezag!A135,Leerlingaantallen[Bedrag])","v":54579.37}]
[34919,"Sticht. Verstr. Basisonderwijs op Gereformeerde Grondslag","Protestants-Christelijk",{"$f":"SUMIF(Leerlingaantallen[Werkgevernummer],BevoegdGezag!A136,Leerlingaantallen[Bedrag])","v":105796.03000000001}]
[34932,"Stichting School met de Bijbel","Protestants-Christelijk",{"$f":"SUMIF(Leerlingaantallen[Werkgevernummer],BevoegdGezag!A137,Leerlingaantallen[Bedrag])","v":173050.23}]
[35218,"Christelijk Instituut 'Groen van Prinsterer'","Protestants-Christelijk",{"$f":"SUMIF(Leerlingaantallen[Werkgevernummer],BevoegdGezag!A138,Leerlingaantallen[Bedrag])","v":56907.4}]
[35297,"Stichting Rehobothschool Uddel","Reformatorisch",{"$f":"SUMIF(Leerlingaantallen[Werkgevernummer],BevoegdGezag!A139,Leerlingaantallen[Bedrag])","v":69323.56}]
[35466,"Stg Scholen voor Christelijk Basisonderwijs Zeist e.o.","Protestants-Christelijk",{"$f":"SUMIF(Leerlingaantallen[Werkgevernummer],BevoegdGezag!A140,Leerlingaantallen[Bedrag])","v":506993.19999999995}]
[35504,"Leeuwarder Schoolvereniging","Algemeen bijzonder",{"$f":"SUMIF(Leerlingaantallen[Werkgevernummer],BevoegdGezag!A141,Leerlingaantallen[Bedrag])","v":69840.900000000009}]
[36063,"De ver. tot st. & instandh. v. Scholen m.d. Bijbel Ommerk. e","Protestants-Christelijk",{"$f":"SUMIF(Leerlingaantallen[Werkgevernummer],BevoegdGezag!A142,Leerlingaantallen[Bedrag])","v":21986.95}]
[36336,"Ver. tot St. instandhouding scholen Bijbel Geref. grondsl.","Protestants-Christelijk",{"$f":"SUMIF(Leerlingaantallen[Werkgevernummer],BevoegdGezag!A143,Leerlingaantallen[Bedrag])","v":41128.530000000006}]
[36349,"Ver. Prot. Christ. Onderwijs Wilhelminascholen Doetinchem","Protestants-Christelijk",{"$f":"SUMIF(Leerlingaantallen[Werkgevernummer],BevoegdGezag!A144,Leerlingaantallen[Bedrag])","v":73203.61}]
[36440,"Stichting Algemeen Basisonderw. Comenius","Algemeen bijzonder",{"$f":"SUMIF(Leerlingaantallen[Werkgevernummer],BevoegdGezag!A145,Leerlingaantallen[Bedrag])","v":46301.93}]
[36479,"Ver. tot Stg. en Instandh. van Chr. Nation. Scholen te Gouda","Protestants-Christelijk",{"$f":"SUMIF(Leerlingaantallen[Werkgevernummer],BevoegdGezag!A146,Leerlingaantallen[Bedrag])","v":292038.43000000005}]
[36739,"Vereniging voor Voorbereidend Onderwijs","Algemeen bijzonder",{"$f":"SUMIF(Leerlingaantallen[Werkgevernummer],BevoegdGezag!A147,Leerlingaantallen[Bedrag])","v":61304.79}]
[36778,"Ver. tot Stg. & Inst.houding ener Christel School te Oene","Protestants-Christelijk",{"$f":"SUMIF(Leerlingaantallen[Werkgevernummer],BevoegdGezag!A148,Leerlingaantallen[Bedrag])","v":24314.980000000003}]
[36817,"Vereniging Montessorischool Bilthoven","Algemeen bijzonder",{"$f":"SUMIF(Leerlingaantallen[Werkgevernummer],BevoegdGezag!A149,Leerlingaantallen[Bedrag])","v":50181.98}]
[36831,"Ver. voor Chr. Nat. Schoolond. te Staphorst","Protestants-Christelijk",{"$f":"SUMIF(Leerlingaantallen[Werkgevernummer],BevoegdGezag!A150,Leerlingaantallen[Bedrag])","v":85102.430000000008}]
[37038,"Gereformeerde Schoolvereniging Westernieland en omstreken","Protestants-Christelijk",{"$f":"SUMIF(Leerlingaantallen[Werkgevernummer],BevoegdGezag!A151,Leerlingaantallen[Bedrag])","v":46560.600000000006}]
[37233,"Ver. Inst.houd. & Best. School voor CBO, gen. Hofdijckschool","Protestants-Christelijk",{"$f":"SUMIF(Leerlingaantallen[Werkgevernummer],BevoegdGezag!A152,Leerlingaantallen[Bedrag])","v":58200.75}]
[37299,"Sticht. Confess. Basisonderw. West Zeeuws-Vlaanderen","Samenwerking PC, RK",{"$f":"SUMIF(Leerlingaantallen[Werkgevernummer],BevoegdGezag!A153,Leerlingaantallen[Bedrag])","v":173826.24000000002}]
[37428,"Sticht. Christel. Basisonderw. te Helmond","Protestants-Christelijk",{"$f":"SUMIF(Leerlingaantallen[Werkgevernummer],BevoegdGezag!A154,Leerlingaantallen[Bedrag])","v":98035.930000000008}]
[37545,"Vereniging Nieuwe Baarnsche School","Algemeen bijzonder",{"$f":"SUMIF(Leerlingaantallen[Werkgevernummer],BevoegdGezag!A155,Leerlingaantallen[Bedrag])","v":122092.24}]
[37663,"Stichting Lijn 83 primair onderwijs","Rooms-Katholiek",{"$f":"SUMIF(Leerlingaantallen[Werkgevernummer],BevoegdGezag!A156,Leerlingaantallen[Bedrag])","v":585241.46000000008}]
[37857,"Ver. Stichting Instandhouding School met de Bijbel","Reformatorisch",{"$f":"SUMIF(Leerlingaantallen[Werkgevernummer],BevoegdGezag!A157,Leerlingaantallen[Bedrag])","v":78894.350000000006}]
[37949,"Stg. vr Prot. Christ. Primair Onderw. Barendr. en Ridderkerk","Protestants-Christelijk",{"$f":"SUMIF(Leerlingaantallen[Werkgevernummer],BevoegdGezag!A158,Leerlingaantallen[Bedrag])","v":1061840.3500000001}]
[38001,"Samenwerkingsstichting Kans & Kleur","Samenwerking Opb., RK, Alg. Bi",{"$f":"SUMIF(Leerlingaantallen[Werkgevernummer],BevoegdGezag!A159,Leerlingaantallen[Bedrag])","v":844428.94}]
[38169,"Stichting Neutraal Onderwijs Wilhelmina","Algemeen bijzonder",{"$f":"SUMIF(Leerlingaantallen[Werkgevernummer],BevoegdGezag!A160,Leerlingaantallen[Bedrag])","v":110969.43000000001}]
[38222,"Stichting Belang. 'Schol. Bijb.' Achterberg, Gem. Rhenen","Reformatorisch",{"$f":"SUMIF(Leerlingaantallen[Werkgevernummer],BevoegdGezag!A161,Leerlingaantallen[Bedrag])","v":43197.89}]
[38235,"Sticht. schoolbestuur Laetare Schoolbestuur voor R.K.O.","Rooms-Katholiek",{"$f":"SUMIF(Leerlingaantallen[Werkgevernummer],BevoegdGezag!A162,Leerlingaantallen[Bedrag])","v":26384.34}]
[38351,"Ver. Stg./school met de Bijbel te Oud-Alblas","Protestants-Christelijk",{"$f":"SUMIF(Leerlingaantallen[Werkgevernummer],BevoegdGezag!A163,Leerlingaantallen[Bedrag])","v":44749.91}]
[38650,"Ver. Stg. Instandh. van Schol. met de Bijb.te Hark. e.o.","Protestants-Christelijk",{"$f":"SUMIF(Leerlingaantallen[Werkgevernummer],BevoegdGezag!A164,Leerlingaantallen[Bedrag])","v":65960.850000000006}]
[38819,"De Ver. Stg. en Instandhouding Christ. Scholen te Doornspijk","Protestants-Christelijk",{"$f":"SUMIF(Leerlingaantallen[Werkgevernummer],BevoegdGezag!A165,Leerlingaantallen[Bedrag])","v":83809.080000000016}]
[38910,"Vereniging tot het Verstrekken van Onderw. op Ger. Grondslag","Protestants-Christelijk",{"$f":"SUMIF(Leerlingaantallen[Werkgevernummer],BevoegdGezag!A166,Leerlingaantallen[Bedrag])","v":162444.76}]
[39001,"Ver. Verstr. v. Basisond. op Geref.Grondsl. BS 'De Bornput'","Protestants-Christelijk",{"$f":"SUMIF(Leerlingaantallen[Werkgevernummer],BevoegdGezag!A167,Leerlingaantallen[Bedrag])","v":29229.710000000003}]
[39275,"Vereniging tot het Verstrekken Basisond. Gereform. Grondslag","Protestants-Christelijk",{"$f":"SUMIF(Leerlingaantallen[Werkgevernummer],BevoegdGezag!A168,Leerlingaantallen[Bedrag])","v":129593.67000000001}]
[39352,"Stichting Nutsscholen Geldrop","Algemeen bijzonder",{"$f":"SUMIF(Leerlingaantallen[Werkgevernummer],BevoegdGezag!A169,Leerlingaantallen[Bedrag])","v":170980.87000000002}]
[39534,"Stichting Onderwijs Kruisland","Rooms-Katholiek",{"$f":"SUMIF(Leerlingaantallen[Werkgevernummer],BevoegdGezag!A170,Leerlingaantallen[Bedrag])","v":46043.26}]
[39859,"Vereniging Nutsschool Wassenaar","Algemeen bijzonder",{"$f":"SUMIF(Leerlingaantallen[Werkgevernummer],BevoegdGezag!A171,Leerlingaantallen[Bedrag])","v":62080.800000000003}]
[39912,"Stichting onderwijsgemeenschap 'De Hoeve'","Rooms-Katholiek",{"$f":"SUMIF(Leerlingaantallen[Werkgevernummer],BevoegdGezag!A172,Leerlingaantallen[Bedrag])","v":88465.14}]
[40020,"Stg. Onderwijsgr. Amstelland, stg. voor RK/PC basisonderwijs","Samenwerking PC, RK",{"$f":"SUMIF(Leerlingaantallen[Werkgevernummer],BevoegdGezag!A173,Leerlingaantallen[Bedrag])","v":1137630.6600000001}]
[40077,"Stichting Noor","Islamitisch",{"$f":"SUMIF(Leerlingaantallen[Werkgevernummer],BevoegdGezag!A174,Leerlingaantallen[Bedrag])","v":253755.27000000002}]
[40114,"Stg. Prisma, stg. prot. chr. & oecumen. onderwijs in Almere","Algemeen bijzonder",{"$f":"SUMIF(Leerlingaantallen[Werkgevernummer],BevoegdGezag!A175,Leerlingaantallen[Bedrag])","v":1393326.9600000002}]
[40144,"Stichting Montessorischool Montijn","Algemeen bijzonder",{"$f":"SUMIF(Leerlingaantallen[Werkgevernummer],BevoegdGezag!A176,Leerlingaantallen[Bedrag])","v":64926.170000000006}]
[40189,"Verenig. Schol. der Evangel. Broedergemeenten in Amsterdam","Evangelische broedergemeenscha",{"$f":"SUMIF(Leerlingaantallen[Werkgevernummer],BevoegdGezag!A177,Leerlingaantallen[Bedrag])","v":66219.520000000004}]
[40207,"Stichting Montessorischool Veenendaal","Algemeen bijzonder",{"$f":"SUMIF(Leerlingaantallen[Werkgevernummer],BevoegdGezag!A178,Leerlingaantallen[Bedrag])","v":68547.55}]
[40257,"Stichting Atlant Basisonderwijs","Samenwerking PC, RK",{"$f":"SUMIF(Leerlingaantallen[Werkgevernummer],BevoegdGezag!A179,Leerlingaantallen[Bedrag])","v":744193.59}]
[40269,"Stichting Interconfessioneel Basisonderwijs te Rotterdam eo","Algemeen bijzonder",{"$f":"SUMIF(Leerlingaantallen[Werkgevernummer],BevoegdGezag!A180,Leerlingaantallen[Bedrag])","v":102691.99}]
[40272,"Islam. Stg. Ned. Ond. en Opv.- ISNO, Yunus Emre Den Haag","Islamitisch",{"$f":"SUMIF(Leerlingaantallen[Werkgevernummer],BevoegdGezag!A181,Leerlingaantallen[Bedrag])","v":315060.06}]
[40278,"Stichting Delta Onderwijs","Rooms-Katholiek",{"$f":"SUMIF(Leerlingaantallen[Werkgevernummer],BevoegdGezag!A182,Leerlingaantallen[Bedrag])","v":1055374.7600000002}]
[40281,"Stichting Jenapl. Basisschool Vlinderbos","Algemeen bijzonder",{"$f":"SUMIF(Leerlingaantallen[Werkgevernummer],BevoegdGezag!A183,Leerlingaantallen[Bedrag])","v":60011.44}]
[40284,"Stichting Basisschool Icarus Heemstede","Algemeen bijzonder",{"$f":"SUMIF(Leerlingaantallen[Werkgevernummer],BevoegdGezag!A184,Leerlingaantallen[Bedrag])","v":61563.460000000006}]
[40294,"Stichting Nederl. Islamitische Scholen","Islamitisch",{"$f":"SUMIF(Leerlingaantallen[Werkgevernummer],BevoegdGezag!A185,Leerlingaantallen[Bedrag])","v":178740.97000000003}]
[40301,"Vereniging voor Christelijk Onderwijs te Valkenburg Z.H.","Protestants-Christelijk",{"$f":"SUMIF(Leerlingaantallen[Werkgevernummer],BevoegdGezag!A186,Leerlingaantallen[Bedrag])","v":102433.32}]
[40307,"Stichting IBPL","Islamitisch",{"$f":"SUMIF(Leerlingaantallen[Werkgevernummer],BevoegdGezag!A187,Leerlingaantallen[Bedrag])","v":54320.700000000004}]
[40327,"Ver. Onderw. op Gereformeerde Grondslag te Ridderkerk","Protestants-Christelijk",{"$f":"SUMIF(Leerlingaantallen[Werkgevernummer],BevoegdGezag!A188,Leerlingaantallen[Bedrag])","v":69064.89}]
[40329,"Vereniging Ibogo","Algemeen bijzonder",{"$f":"SUMIF(Leerlingaantallen[Werkgevernummer],BevoegdGezag!A189,Leerlingaantallen[Bedrag])","v":46301.93}]
[40340,"De Vlissingse Schoolvereniging","Algemeen bijzonder",{"$f":"SUMIF(Leerlingaantallen[Werkgevernummer],BevoegdGezag!A190,Leerlingaantallen[Bedrag])","v":56390.060000000005}]
[40342,"Stg. Prot.-Chr. Basis Onderw. Smallingerland en omstreken","Protestants-Christelijk",{"$f":"SUMIF(Leerlingaantallen[Werkgevernummer],BevoegdGezag!A191,Leerlingaantallen[Bedrag])","v":533637.08000000007}]
[40350,"Stichting Montessori Onderwijs Houten","Algemeen bijzonder",{"$f":"SUMIF(Leerlingaantallen[Werkgevernummer],BevoegdGezag!A192,Leerlingaantallen[Bedrag])","v":83809.08}]
[40355,"SAB Montessoriond. Haaksbergen","Algemeen bijzonder",{"$f":"SUMIF(Leerlingaantallen[Werkgevernummer],BevoegdGezag!A193,Leerlingaantallen[Bedrag])","v":18365.57}]
[40363,"Stg. Alg. Bijzonder Onderwijs Hoorn","Algemeen bijzonder",{"$f":"SUMIF(Leerlingaantallen[Werkgevernummer],BevoegdGezag!A194,Leerlingaantallen[Bedrag])","v":78894.350000000006}]
[40377,"Stichting Unicoz onderwijsgroep","Protestants-Christelijk",{"$f":"SUMIF(Leerlingaantallen[Werkgevernummer],BevoegdGezag!A195,Leerlingaantallen[Bedrag])","v":1606212.05}]
[40378,"Stg. Kath. en Prot.-Chr. Onderw. Eindhov. e.o.","Algemeen bijzonder",{"$f":"SUMIF(Leerlingaantallen[Werkgevernummer],BevoegdGezag!A196,Leerlingaantallen[Bedrag])","v":2712932.2600000002}]
[40389,"Stichting Islamitisch Onderwijs Iqra","Islamitisch",{"$f":"SUMIF(Leerlingaantallen[Werkgevernummer],BevoegdGezag!A197,Leerlingaantallen[Bedrag])","v":136319.09000000003}]
[40390,"Stichting Islamitisch Onderwijs Utrecht","Islamitisch",{"$f":"SUMIF(Leerlingaantallen[Werkgevernummer],BevoegdGezag!A198,Leerlingaantallen[Bedrag])","v":142785.84000000003}]
[40400,"Stichting Islamitische Scholen El-Amal","Islamitisch",{"$f":"SUMIF(Leerlingaantallen[Werkgevernummer],BevoegdGezag!A199,Leerlingaantallen[Bedrag])","v":377658.20000000007}]
[40419,"Stg. tot het verstr. ond. GG, uitg. Geref. in Ned. Barneveld","Algemeen bijzonder",{"$f":"SUMIF(Leerlingaantallen[Werkgevernummer],BevoegdGezag!A200,Leerlingaantallen[Bedrag])","v":186501.07}]
[40470,"Stichting Rijdende School","Algemeen bijzonder",{"$f":"SUMIF(Leerlingaantallen[Werkgevernummer],BevoegdGezag!A201,Leerlingaantallen[Bedrag])","v":0}]
[40508,"Stichting Prohles","Protestants-Christelijk",{"$f":"SUMIF(Leerlingaantallen[Werkgevernummer],BevoegdGezag!A202,Leerlingaantallen[Bedrag])","v":857491.04999999993}]
[40514,"Stichting De Kosmos","Algemeen bijzonder",{"$f":"SUMIF(Leerlingaantallen[Werkgevernummer],BevoegdGezag!A203,Leerlingaantallen[Bedrag])","v":86913.12000000001}]
[40517,"Lowys Porquinstichting","Rooms-Katholiek",{"$f":"SUMIF(Leerlingaantallen[Werkgevernummer],BevoegdGezag!A204,Leerlingaantallen[Bedrag])","v":1547235.5500000003}]
[40530,"Stg. SCOPE scholengroep voor (Prot.-) Chr. en Kath. ond. te Alphen a.d. Rijn e.o","Protestants-Christelijk",{"$f":"SUMIF(Leerlingaantallen[Werkgevernummer],BevoegdGezag!A205,Leerlingaantallen[Bedrag])","v":814293.15999999992}]
[40535,"Verenig. School met de Bijbel te Stolwijk","Protestants-Christelijk",{"$f":"SUMIF(Leerlingaantallen[Werkgevernummer],BevoegdGezag!A206,Leerlingaantallen[Bedrag])","v":43456.560000000005}]
[40540,"Protestants-Christelijke Schoolvereniging Voorschoten","Protestants-Christelijk",{"$f":"SUMIF(Leerlingaantallen[Werkgevernummer],BevoegdGezag!A207,Leerlingaantallen[Bedrag])","v":220645.51}]
[40557,"De Eenbes, Stichting Kathol., Prot.-Chr./Interc. Pr. Onderw.","Samenwerking PC, RK",{"$f":"SUMIF(Leerlingaantallen[Werkgevernummer],BevoegdGezag!A208,Leerlingaantallen[Bedrag])","v":1344308.81}]
[40558,"Stichting Montessorischool Enkhuizen","Algemeen bijzonder",{"$f":"SUMIF(Leerlingaantallen[Werkgevernummer],BevoegdGezag!A209,Leerlingaantallen[Bedrag])","v":20176.260000000002}]
[40581,"Stichting Wijzer aan de Amstel","Samenwerking PC, RK",{"$f":"SUMIF(Leerlingaantallen[Werkgevernummer],BevoegdGezag!A210,Leerlingaantallen[Bedrag])","v":554071.14}]
[40586,"Onderwijsstichting Esprit","Algemeen bijzonder",{"$f":"SUMIF(Leerlingaantallen[Werkgevernummer],BevoegdGezag!A211,Leerlingaantallen[Bedrag])","v":661677.86}]
[40637,"Stichting Nutsscholen Breda","Algemeen bijzonder",{"$f":"SUMIF(Leerlingaantallen[Werkgevernummer],BevoegdGezag!A212,Leerlingaantallen[Bedrag])","v":473883.44000000006}]
[40655,"Ver. Prot.-Chr. Basisonderw. te Hollandscheveld","Protestants-Christelijk",{"$f":"SUMIF(Leerlingaantallen[Werkgevernummer],BevoegdGezag!A213,Leerlingaantallen[Bedrag])","v":72168.930000000008}]
[40662,"Stichting Aves","Samenwerking Opb., PC, RK",{"$f":"SUMIF(Leerlingaantallen[Werkgevernummer],BevoegdGezag!A214,Leerlingaantallen[Bedrag])","v":1228295.0900000001}]
[40672,"Stg. Initia, Kath.Prim.Onderw. voor Dongen en omgeving","Rooms-Katholiek",{"$f":"SUMIF(Leerlingaantallen[Werkgevernummer],BevoegdGezag!A215,Leerlingaantallen[Bedrag])","v":328769.57000000007}]
[40676,"Stichting Alberdingk Thijm Scholen","Rooms-Katholiek",{"$f":"SUMIF(Leerlingaantallen[Werkgevernummer],BevoegdGezag!A216,Leerlingaantallen[Bedrag])","v":879995.76000000013}]
[40681,"Stichting voor P-C Onderwijs B.waard, L.v.H.&A.&Langstr. eo","Protestants-Christelijk",{"$f":"SUMIF(Leerlingaantallen[Werkgevernummer],BevoegdGezag!A217,Leerlingaantallen[Bedrag])","v":193097.61000000002}]
[40706,"Stichting Talentis voor Kath., PC en Algemeen Bijzonder primair Onderwijs","Rooms-Katholiek",{"$f":"SUMIF(Leerlingaantallen[Werkgevernummer],BevoegdGezag!A218,Leerlingaantallen[Bedrag])","v":859172.57}]
[40712,"Stichting Tabijn","Samenwerking PC, RK",{"$f":"SUMIF(Leerlingaantallen[Werkgevernummer],BevoegdGezag!A219,Leerlingaantallen[Bedrag])","v":1481403.0900000003}]
[40714,"Stichting Algemeen Bijzonder Basisonderwijs 't Gooi","Algemeen bijzonder",{"$f":"SUMIF(Leerlingaantallen[Werkgevernummer],BevoegdGezag!A220,Leerlingaantallen[Bedrag])","v":108124.06000000001}]
[40717,"Vereniging Suringar","Protestants-Christelijk",{"$f":"SUMIF(Leerlingaantallen[Werkgevernummer],BevoegdGezag!A221,Leerlingaantallen[Bedrag])","v":37248.480000000003}]
[40720,"Stg. Interconf. (PC/RK) B.ond. Naarden","Samenwerking PC, RK",{"$f":"SUMIF(Leerlingaantallen[Werkgevernummer],BevoegdGezag!A222,Leerlingaantallen[Bedrag])","v":57166.070000000007}]
[40740,"Stichting Vooruitstrevend Alg. Hindoe Onderwijs Nederl.","Hindoeïstisch",{"$f":"SUMIF(Leerlingaantallen[Werkgevernummer],BevoegdGezag!A223,Leerlingaantallen[Bedrag])","v":68030.210000000006}]
[40745,"Stichting Katholiek en Openbaar Onderwijs Noord Hofland","Samenwerking Opb., RK",{"$f":"SUMIF(Leerlingaantallen[Werkgevernummer],BevoegdGezag!A224,Leerlingaantallen[Bedrag])","v":58459.420000000006}]
[40753,"Stg. Bijzond. Scholen voor OAG Spijkenisse","Algemeen bijzonder",{"$f":"SUMIF(Leerlingaantallen[Werkgevernummer],BevoegdGezag!A225,Leerlingaantallen[Bedrag])","v":67512.87000000001}]
[40765,"De Groeiling, Stg. katholiek interconfess. primair onderw.","Rooms-Katholiek",{"$f":"SUMIF(Leerlingaantallen[Werkgevernummer],BevoegdGezag!A226,Leerlingaantallen[Bedrag])","v":1256877.96}]
[40774,"Stg. Protest.-Chr. Onderwijs Hillegersberg-Schiebroek","Protestants-Christelijk",{"$f":"SUMIF(Leerlingaantallen[Werkgevernummer],BevoegdGezag!A227,Leerlingaantallen[Bedrag])","v":372484.80000000005}]
[40775,"Jong Leren, stichting voor confessioneel onderwijs","Samenwerking PC, RK",{"$f":"SUMIF(Leerlingaantallen[Werkgevernummer],BevoegdGezag!A228,Leerlingaantallen[Bedrag])","v":1370950.9999999998}]
[40788,"Stichting ARLANTA","Protestants-Christelijk",{"$f":"SUMIF(Leerlingaantallen[Werkgevernummer],BevoegdGezag!A229,Leerlingaantallen[Bedrag])","v":628957.19999999995}]
[40789,"Ver. v. Pr. Chr. Basisonderw. in de Gemeente Ferwerderadeel","Protestants-Christelijk",{"$f":"SUMIF(Leerlingaantallen[Werkgevernummer],BevoegdGezag!A230,Leerlingaantallen[Bedrag])","v":171756.88}]
[40794,"Ver. Prot.-Chr. Onderwijs te Tholen en omstreken","Protestants-Christelijk",{"$f":"SUMIF(Leerlingaantallen[Werkgevernummer],BevoegdGezag!A231,Leerlingaantallen[Bedrag])","v":100881.30000000002}]
[40803,"Onderwijsgroep Perspecto","Samenwerking Opb., PC, RK",{"$f":"SUMIF(Leerlingaantallen[Werkgevernummer],BevoegdGezag!A232,Leerlingaantallen[Bedrag])","v":801748.12}]
[40804,"Ver. interconfession. (RK/PC) bas.onderw. Wichmond/Vierakker","Samenwerking PC, RK",{"$f":"SUMIF(Leerlingaantallen[Werkgevernummer],BevoegdGezag!A233,Leerlingaantallen[Bedrag])","v":22762.960000000003}]
[40812,"Delta, stg. voor Katholiek en Prot.-Christ. prim. onderwijs","Rooms-Katholiek",{"$f":"SUMIF(Leerlingaantallen[Werkgevernummer],BevoegdGezag!A234,Leerlingaantallen[Bedrag])","v":1419323.04}]
[40814,"STG. PRIMAIR ONDERWIJS CONDOR, stg. kath./prot.-chr. onderw.","Rooms-Katholiek",{"$f":"SUMIF(Leerlingaantallen[Werkgevernummer],BevoegdGezag!A235,Leerlingaantallen[Bedrag])","v":446205.75000000006}]
[40843,"Ver. Prot. Chr. Basisonderwijs in de Gemeente Rheden","Protestants-Christelijk",{"$f":"SUMIF(Leerlingaantallen[Werkgevernummer],BevoegdGezag!A236,Leerlingaantallen[Bedrag])","v":253237.93000000005}]
[40848,"Cadans Primair, stichting voor kath. en interc. prim. onderw","Rooms-Katholiek",{"$f":"SUMIF(Leerlingaantallen[Werkgevernummer],BevoegdGezag!A237,Leerlingaantallen[Bedrag])","v":736692.16}]
[40862,"Ver. St. en Instandh. v. Sch. v. Chr. Nat. Schoolonderwijs","Protestants-Christelijk",{"$f":"SUMIF(Leerlingaantallen[Werkgevernummer],BevoegdGezag!A238,Leerlingaantallen[Bedrag])","v":303161.24}]
[40865,"Vereniging Jenaplanonderwijs Noord","Algemeen bijzonder",{"$f":"SUMIF(Leerlingaantallen[Werkgevernummer],BevoegdGezag!A239,Leerlingaantallen[Bedrag])","v":103726.67000000001}]
[40874,"Stg. Samenwerk.best. voor KOPO Schijndel","Rooms-Katholiek",{"$f":"SUMIF(Leerlingaantallen[Werkgevernummer],BevoegdGezag!A240,Leerlingaantallen[Bedrag])","v":479315.51}]
[40887,"Ver. Stg. en Instandhouding Scholen met de Bijbel Wekerom","Protestants-Christelijk",{"$f":"SUMIF(Leerlingaantallen[Werkgevernummer],BevoegdGezag!A241,Leerlingaantallen[Bedrag])","v":56648.73}]
[40888,"Stichting Catent","Rooms-Katholiek",{"$f":"SUMIF(Leerlingaantallen[Werkgevernummer],BevoegdGezag!A242,Leerlingaantallen[Bedrag])","v":1289212.4099999999}]
[40894,"mijnplein, stg. voor bijz. po in Salland","Samenwerking PC, RK, Alg. Bijz",{"$f":"SUMIF(Leerlingaantallen[Werkgevernummer],BevoegdGezag!A243,Leerlingaantallen[Bedrag])","v":962123.80999999994}]
[40903,"Stichting Katholiek Onderwijs Losser en Overdinkel","Rooms-Katholiek",{"$f":"SUMIF(Leerlingaantallen[Werkgevernummer],BevoegdGezag!A244,Leerlingaantallen[Bedrag])","v":221421.52000000002}]
[40928,"Laurentius Stichting voor Kathol. Primair Onderwijs","Rooms-Katholiek",{"$f":"SUMIF(Leerlingaantallen[Werkgevernummer],BevoegdGezag!A245,Leerlingaantallen[Bedrag])","v":2287160.7999999998}]
[40934,"Vivente, Stichting voor Christel. Prim. Onderwijs","Protestants-Christelijk",{"$f":"SUMIF(Leerlingaantallen[Werkgevernummer],BevoegdGezag!A246,Leerlingaantallen[Bedrag])","v":942335.57}]
[40941,"Stichting Samenwijs onderwijs","Rooms-Katholiek",{"$f":"SUMIF(Leerlingaantallen[Werkgevernummer],BevoegdGezag!A247,Leerlingaantallen[Bedrag])","v":261515.37}]
[40945,"CORDEO","Gereformeerd vrijgemaakt",{"$f":"SUMIF(Leerlingaantallen[Werkgevernummer],BevoegdGezag!A248,Leerlingaantallen[Bedrag])","v":879478.5199999999}]
[40946,"Stichting voor Chr. Prim. Onderw. CHRONO","Protestants-Christelijk",{"$f":"SUMIF(Leerlingaantallen[Werkgevernummer],BevoegdGezag!A249,Leerlingaantallen[Bedrag])","v":750661.03}]
[40947,"Sticht. kathol. bijz. onderw. Oisterwijk/Moergestel(St.BOOM)","Rooms-Katholiek",{"$f":"SUMIF(Leerlingaantallen[Werkgevernummer],BevoegdGezag!A250,Leerlingaantallen[Bedrag])","v":442067.59}]
[40950,"Stichting Kath. Onderw. Flevoland-Veluwe","Rooms-Katholiek",{"$f":"SUMIF(Leerlingaantallen[Werkgevernummer],BevoegdGezag!A251,Leerlingaantallen[Bedrag])","v":1726880.9200000004}]
[40959,"Primas-Scholengroep","Protestants-Christelijk",{"$f":"SUMIF(Leerlingaantallen[Werkgevernummer],BevoegdGezag!A252,Leerlingaantallen[Bedrag])","v":224266.89}]
[40964,"Stg. Depart. Oldenzaal eo der Maatsch. tot Nut van 't Algem.","Algemeen bijzonder",{"$f":"SUMIF(Leerlingaantallen[Werkgevernummer],BevoegdGezag!A253,Leerlingaantallen[Bedrag])","v":57942.080000000002}]
[40967,"Sophia Scholen, Stichting voor KPC&AB b.o. Duin&Bollenstreek","Rooms-Katholiek",{"$f":"SUMIF(Leerlingaantallen[Werkgevernummer],BevoegdGezag!A254,Leerlingaantallen[Bedrag])","v":1752489.2499999998}]
[40969,"St. Samenwerkende Basisscholen Alkemade","Samenwerking PC, RK",{"$f":"SUMIF(Leerlingaantallen[Werkgevernummer],BevoegdGezag!A255,Leerlingaantallen[Bedrag])","v":335236.32}]
[40971,"Stichting Tangent, Palet van Basissch.","Rooms-Katholiek",{"$f":"SUMIF(Leerlingaantallen[Werkgevernummer],BevoegdGezag!A256,Leerlingaantallen[Bedrag])","v":1224543.78}]
[40974,"Stichting Primair Onderwijs WIJ de Venen","Rooms-Katholiek",{"$f":"SUMIF(Leerlingaantallen[Werkgevernummer],BevoegdGezag!A257,Leerlingaantallen[Bedrag])","v":814551.83}]
[40980,"Stichting v. Alg. Bijz. Basis Onderwijs","Algemeen bijzonder",{"$f":"SUMIF(Leerlingaantallen[Werkgevernummer],BevoegdGezag!A258,Leerlingaantallen[Bedrag])","v":351791.2}]
[40982,"Stichting Katholiek Onderwijs De Beerzen,Oirschot& Spoordonk","Rooms-Katholiek",{"$f":"SUMIF(Leerlingaantallen[Werkgevernummer],BevoegdGezag!A259,Leerlingaantallen[Bedrag])","v":312990.7}]
[40987,"TRIADE stichting voor Kathol. primair onderwijs","Rooms-Katholiek",{"$f":"SUMIF(Leerlingaantallen[Werkgevernummer],BevoegdGezag!A260,Leerlingaantallen[Bedrag])","v":500267.78000000009}]
[41000,"Bisschop Möller Stichting","Rooms-Katholiek",{"$f":"SUMIF(Leerlingaantallen[Werkgevernummer],BevoegdGezag!A261,Leerlingaantallen[Bedrag])","v":1619791.5400000003}]
[41001,"Stg. Prot. Chr. Primair Onderwijs Midden-Brabant","Protestants-Christelijk",{"$f":"SUMIF(Leerlingaantallen[Werkgevernummer],BevoegdGezag!A262,Leerlingaantallen[Bedrag])","v":634517.51}]
[41005,"Stichting Noventa Onderwijs","Protestants-Christelijk",{"$f":"SUMIF(Leerlingaantallen[Werkgevernummer],BevoegdGezag!A263,Leerlingaantallen[Bedrag])","v":387228.99}]
[41011,"Stg. Scholengroep GelderVeste, voor christelijk basisonderw.","Protestants-Christelijk",{"$f":"SUMIF(Leerlingaantallen[Werkgevernummer],BevoegdGezag!A264,Leerlingaantallen[Bedrag])","v":552001.78}]
[41012,"Stichting Confessioneel Primair Onderwijs Waterland","Samenwerking PC, RK",{"$f":"SUMIF(Leerlingaantallen[Werkgevernummer],BevoegdGezag!A265,Leerlingaantallen[Bedrag])","v":898749.42000000016}]
[41013,"Stichting Algem. Toegankel. Onderwijs 3-Stromenland","Openbaar",{"$f":"SUMIF(Leerlingaantallen[Werkgevernummer],BevoegdGezag!A266,Leerlingaantallen[Bedrag])","v":229440.29}]
[41018,"Stichting Fortior,","Samenwerking PC, RK",{"$f":"SUMIF(Leerlingaantallen[Werkgevernummer],BevoegdGezag!A267,Leerlingaantallen[Bedrag])","v":642795.38}]
[41020,"Stichting Kathol. Prim. Onderwijs Novum","Rooms-Katholiek",{"$f":"SUMIF(Leerlingaantallen[Werkgevernummer],BevoegdGezag!A268,Leerlingaantallen[Bedrag])","v":308075.97000000003}]
[41023,"Amsterdamse Stichting voor Katholiek, P.-c. en Interconfessioneel onderwijs","Rooms-Katholiek",{"$f":"SUMIF(Leerlingaantallen[Werkgevernummer],BevoegdGezag!A269,Leerlingaantallen[Bedrag])","v":2310181.7700000005}]
[41039,"Ver. voor Prot. Christ. B.O. in de gemeente Dantumadiel","Protestants-Christelijk",{"$f":"SUMIF(Leerlingaantallen[Werkgevernummer],BevoegdGezag!A270,Leerlingaantallen[Bedrag])","v":251685.91000000003}]
[41052,"FIERS","Protestants-Christelijk",{"$f":"SUMIF(Leerlingaantallen[Werkgevernummer],BevoegdGezag!A271,Leerlingaantallen[Bedrag])","v":192967.82}]
[41053,"Stichting Groningse Schoolvereniging","Algemeen bijzonder",{"$f":"SUMIF(Leerlingaantallen[Werkgevernummer],BevoegdGezag!A272,Leerlingaantallen[Bedrag])","v":208229.35}]
[41081,"Montessori Stichting Vreugd en Rust","Algemeen bijzonder",{"$f":"SUMIF(Leerlingaantallen[Werkgevernummer],BevoegdGezag!A273,Leerlingaantallen[Bedrag])","v":221421.52000000002}]
[41090,"Stichting R.K. Onderwijs Bommelerwaard","Rooms-Katholiek",{"$f":"SUMIF(Leerlingaantallen[Werkgevernummer],BevoegdGezag!A274,Leerlingaantallen[Bedrag])","v":404818.55000000005}]
[41125,"Iris, Stichting voor Christelijk Onderwijs","Protestants-Christelijk",{"$f":"SUMIF(Leerlingaantallen[Werkgevernummer],BevoegdGezag!A275,Leerlingaantallen[Bedrag])","v":638914.90000000014}]
[41127,"Stichting Christelijke Scholengroep De Waard","Protestants-Christelijk",{"$f":"SUMIF(Leerlingaantallen[Werkgevernummer],BevoegdGezag!A276,Leerlingaantallen[Bedrag])","v":760231.41}]
[41138,"Stg. vr Pr. Chr. Prim. Onderw. 'Vechtstreek en Venen'","Protestants-Christelijk",{"$f":"SUMIF(Leerlingaantallen[Werkgevernummer],BevoegdGezag!A277,Leerlingaantallen[Bedrag])","v":630896.13000000012}]
[41142,"de Passie, stichting voor Evang. Bijb.getr. Onderw.","Evangelisch",{"$f":"SUMIF(Leerlingaantallen[Werkgevernummer],BevoegdGezag!A278,Leerlingaantallen[Bedrag])","v":65443.51}]
[41148,"Stichting Kath. Onderw.bel. Rivierenland","Rooms-Katholiek",{"$f":"SUMIF(Leerlingaantallen[Werkgevernummer],BevoegdGezag!A279,Leerlingaantallen[Bedrag])","v":613823.91}]
[41154,"Stg. Chr. Prim. Onderwijs voor Veenendaal en omgeving","Protestants-Christelijk",{"$f":"SUMIF(Leerlingaantallen[Werkgevernummer],BevoegdGezag!A280,Leerlingaantallen[Bedrag])","v":913622.95000000007}]
[41167,"Stg. voor Montessori-onderwijs Zuidoost Nederland","Overige",{"$f":"SUMIF(Leerlingaantallen[Werkgevernummer],BevoegdGezag!A281,Leerlingaantallen[Bedrag])","v":190122.45}]
[41184,"Dordtse Schoolvereniging voor Basisonderw. op Alg. Grondslag","Algemeen bijzonder",{"$f":"SUMIF(Leerlingaantallen[Werkgevernummer],BevoegdGezag!A282,Leerlingaantallen[Bedrag])","v":160892.74}]
[41191,"Intergemeentelijke Stichting Openbaar Basisonderwijs","Openbaar",{"$f":"SUMIF(Leerlingaantallen[Werkgevernummer],BevoegdGezag!A283,Leerlingaantallen[Bedrag])","v":610719.87}]
[41194,"Stg. voor Protestants Christ. Prim. Onderw. De Vier Windstr.","Protestants-Christelijk",{"$f":"SUMIF(Leerlingaantallen[Werkgevernummer],BevoegdGezag!A284,Leerlingaantallen[Bedrag])","v":722336.54}]
[41196,"St, v. Chr. Prim. Onderwijs in Zuidwest Drenthe","Protestants-Christelijk",{"$f":"SUMIF(Leerlingaantallen[Werkgevernummer],BevoegdGezag!A285,Leerlingaantallen[Bedrag])","v":217024.13}]
[41213,"Stichting Evangelisch Onderw. Eindhoven","Evangelisch",{"$f":"SUMIF(Leerlingaantallen[Werkgevernummer],BevoegdGezag!A286,Leerlingaantallen[Bedrag])","v":91569.180000000008}]
[41223,"Stichting Primair Onderwijs Deurne-Asten-Someren","Samenwerking PC, RK",{"$f":"SUMIF(Leerlingaantallen[Werkgevernummer],BevoegdGezag!A287,Leerlingaantallen[Bedrag])","v":1132070.1600000001}]
[41226,"Stichting Monton","Overige",{"$f":"SUMIF(Leerlingaantallen[Werkgevernummer],BevoegdGezag!A288,Leerlingaantallen[Bedrag])","v":383607.6100000001}]
[41228,"Stichting Filios Scholengroep","Samenwerking RK, Alg. Bijz.",{"$f":"SUMIF(Leerlingaantallen[Werkgevernummer],BevoegdGezag!A289,Leerlingaantallen[Bedrag])","v":853611.00000000012}]
[41233,"Stichting Katholiek Primair Onderwijs Sint Antonius","Rooms-Katholiek",{"$f":"SUMIF(Leerlingaantallen[Werkgevernummer],BevoegdGezag!A290,Leerlingaantallen[Bedrag])","v":151063.28}]
[41239,"De Stroming, VPCO in het Land van Heusden en Altena","Protestants-Christelijk",{"$f":"SUMIF(Leerlingaantallen[Werkgevernummer],BevoegdGezag!A291,Leerlingaantallen[Bedrag])","v":497163.74}]
[41241,"Stichting voor Protestants-Christelijk Basisonderwijs Midden Zeeuws-Vlaanderen","Protestants-Christelijk",{"$f":"SUMIF(Leerlingaantallen[Werkgevernummer],BevoegdGezag!A292,Leerlingaantallen[Bedrag])","v":357223.27}]
[41242,"St. Protestants-Christelijk Basisonderwijs Baarn-Soest","Protestants-Christelijk",{"$f":"SUMIF(Leerlingaantallen[Werkgevernummer],BevoegdGezag!A293,Leerlingaantallen[Bedrag])","v":557433.85}]
[41246,"Stichting Pallas","Antroposofisch",{"$f":"SUMIF(Leerlingaantallen[Werkgevernummer],BevoegdGezag!A294,Leerlingaantallen[Bedrag])","v":856973.7100000002}]
[41248,"'Stg. voor Alg. Toegankelijk Onderwijs Eindhoven e.o.'","Algemeen bijzonder",{"$f":"SUMIF(Leerlingaantallen[Werkgevernummer],BevoegdGezag!A295,Leerlingaantallen[Bedrag])","v":1710844.4300000002}]
[41251,"Agora, Stg. voor Bijzonder Prim. Onderw. in de Zaanstreek","Samenwerking PC, RK",{"$f":"SUMIF(Leerlingaantallen[Werkgevernummer],BevoegdGezag!A296,Leerlingaantallen[Bedrag])","v":1701014.52}]
[41256,"Stichting Interregionaal Onderw. Zaanstd","Islamitisch",{"$f":"SUMIF(Leerlingaantallen[Werkgevernummer],BevoegdGezag!A297,Leerlingaantallen[Bedrag])","v":200210.58000000002}]
[41261,"Ver. voor Chr. Prim. Onderwijs Noord-Groningen","Protestants-Christelijk",{"$f":"SUMIF(Leerlingaantallen[Werkgevernummer],BevoegdGezag!A298,Leerlingaantallen[Bedrag])","v":396282.44000000006}]
[41270,"Stichting PCO Accrete","Protestants-Christelijk",{"$f":"SUMIF(Leerlingaantallen[Werkgevernummer],BevoegdGezag!A299,Leerlingaantallen[Bedrag])","v":492249.01}]
[41278,"Ver. v. Pr. Chr. Basisonderw. Wilnis","Protestants-Christelijk",{"$f":"SUMIF(Leerlingaantallen[Werkgevernummer],BevoegdGezag!A300,Leerlingaantallen[Bedrag])","v":38800.5}]
[41282,"Stichting De Tjongerwerven Christelijk Primair Onderwijs","Overige",{"$f":"SUMIF(Leerlingaantallen[Werkgevernummer],BevoegdGezag!A301,Leerlingaantallen[Bedrag])","v":287123.7}]
[41286,"Stg. Prot. Chr. Prim. Onderw. Groene Hart","Protestants-Christelijk",{"$f":"SUMIF(Leerlingaantallen[Werkgevernummer],BevoegdGezag!A302,Leerlingaantallen[Bedrag])","v":690131.56}]
[41293,"Ver. voor Protest. Christelijk Basis- onderwijs 'Ichthus'","Protestants-Christelijk",{"$f":"SUMIF(Leerlingaantallen[Werkgevernummer],BevoegdGezag!A303,Leerlingaantallen[Bedrag])","v":276259.56}]
[41296,"Stichting Vrijescholen Ithaka","Algemeen bijzonder",{"$f":"SUMIF(Leerlingaantallen[Werkgevernummer],BevoegdGezag!A304,Leerlingaantallen[Bedrag])","v":651589.7300000001}]
[41316,"Stg. Prot.-Christ. Bas.onderw. te Leiderdorp","Protestants-Christelijk",{"$f":"SUMIF(Leerlingaantallen[Werkgevernummer],BevoegdGezag!A305,Leerlingaantallen[Bedrag])","v":194261.17}]
[41324,"Stichting Montessori-Onderwijs Z-Holland","Algemeen bijzonder",{"$f":"SUMIF(Leerlingaantallen[Werkgevernummer],BevoegdGezag!A306,Leerlingaantallen[Bedrag])","v":308075.97000000003}]
[41337,"Stg. Prot. Christ. Organisatie vr O.w. & Opv. Gelderse Valle","Protestants-Christelijk",{"$f":"SUMIF(Leerlingaantallen[Werkgevernummer],BevoegdGezag!A307,Leerlingaantallen[Bedrag])","v":757385.76}]
[41338,"Stichting UN1EK onderwijs","Overige",{"$f":"SUMIF(Leerlingaantallen[Werkgevernummer],BevoegdGezag!A308,Leerlingaantallen[Bedrag])","v":1202169.07}]
[41340,"Stichting Groeisaam Primair Onderwijs","Samenwerking Opb., PC, Alg. Bi",{"$f":"SUMIF(Leerlingaantallen[Werkgevernummer],BevoegdGezag!A309,Leerlingaantallen[Bedrag])","v":1194021.57}]
[41343,"Ver. voor Prot. Christelijk Christelijk Onderw. Hasselt","Protestants-Christelijk",{"$f":"SUMIF(Leerlingaantallen[Werkgevernummer],BevoegdGezag!A310,Leerlingaantallen[Bedrag])","v":135801.75}]
[41345,"Stichting Proo Noord-Veluwe","Openbaar",{"$f":"SUMIF(Leerlingaantallen[Werkgevernummer],BevoegdGezag!A311,Leerlingaantallen[Bedrag])","v":572954.05000000005}]
[41349,"Stichting Openbare Basisscholen Helmond","Openbaar",{"$f":"SUMIF(Leerlingaantallen[Werkgevernummer],BevoegdGezag!A312,Leerlingaantallen[Bedrag])","v":554329.81000000006}]
[41358,"Scholengroep Perspectief","Protestants-Christelijk",{"$f":"SUMIF(Leerlingaantallen[Werkgevernummer],BevoegdGezag!A313,Leerlingaantallen[Bedrag])","v":569980.31999999995}]
[41359,"Stichting Vrije Scholen Rijnstreek","Antroposofisch",{"$f":"SUMIF(Leerlingaantallen[Werkgevernummer],BevoegdGezag!A314,Leerlingaantallen[Bedrag])","v":173567.57}]
[41362,"Stg. Openbaar Basisonderwijs Duin- en Bollenstreek","Openbaar",{"$f":"SUMIF(Leerlingaantallen[Werkgevernummer],BevoegdGezag!A315,Leerlingaantallen[Bedrag])","v":775751.33000000007}]
[41364,"Stichting Allente onderwijs","Openbaar",{"$f":"SUMIF(Leerlingaantallen[Werkgevernummer],BevoegdGezag!A316,Leerlingaantallen[Bedrag])","v":904051.65000000026}]
[41371,"Stichting IJsselgraaf","Openbaar",{"$f":"SUMIF(Leerlingaantallen[Werkgevernummer],BevoegdGezag!A317,Leerlingaantallen[Bedrag])","v":741348.22}]
[41373,"MosaLira Stichting voor leren, onderwijs en opvoeding","Overige",{"$f":"SUMIF(Leerlingaantallen[Werkgevernummer],BevoegdGezag!A318,Leerlingaantallen[Bedrag])","v":1438982.1}]
[41375,"Stichting openb. primair onderw. IJmond","Openbaar",{"$f":"SUMIF(Leerlingaantallen[Werkgevernummer],BevoegdGezag!A319,Leerlingaantallen[Bedrag])","v":838867.28000000026}]
[41376,"Stichting Basisonderwijs Gooi en Vechtstreek","Overige",{"$f":"SUMIF(Leerlingaantallen[Werkgevernummer],BevoegdGezag!A320,Leerlingaantallen[Bedrag])","v":1206954.22}]
[41385,"Stg. voor Christelijk en Algemeen/Neutraal Bijzonder Basisonderwijs Nije Gaast","Algemeen bijzonder",{"$f":"SUMIF(Leerlingaantallen[Werkgevernummer],BevoegdGezag!A321,Leerlingaantallen[Bedrag])","v":272638.18000000005}]
[41386,"Stg. Openbaar Verenigd Onderw. in Gorinchem en de regio","Openbaar",{"$f":"SUMIF(Leerlingaantallen[Werkgevernummer],BevoegdGezag!A322,Leerlingaantallen[Bedrag])","v":510873.25000000006}]
[41390,"Stg. Openbaar Prim. Onderwijs Zoetermeer","Overige",{"$f":"SUMIF(Leerlingaantallen[Werkgevernummer],BevoegdGezag!A323,Leerlingaantallen[Bedrag])","v":1238383.3700000001}]
[41396,"LOGOS Stichting voor Protestants Christelijk Onderwijs","Protestants-Christelijk",{"$f":"SUMIF(Leerlingaantallen[Werkgevernummer],BevoegdGezag!A324,Leerlingaantallen[Bedrag])","v":621325.88000000012}]
[41398,"Stichting AKKOORD! primair openbaar","Openbaar",{"$f":"SUMIF(Leerlingaantallen[Werkgevernummer],BevoegdGezag!A325,Leerlingaantallen[Bedrag])","v":559503.21000000008}]
[41400,"Stichting Openb. Primair Onderw. Utrecht","Openbaar",{"$f":"SUMIF(Leerlingaantallen[Werkgevernummer],BevoegdGezag!A326,Leerlingaantallen[Bedrag])","v":2723407.96}]
[41401,"Stichting Onderwijs Pr1mair","Openbaar",{"$f":"SUMIF(Leerlingaantallen[Werkgevernummer],BevoegdGezag!A327,Leerlingaantallen[Bedrag])","v":695304.96000000008}]
[41407,"INOS, Stichting Katholiek Onderwijs Breda","Rooms-Katholiek",{"$f":"SUMIF(Leerlingaantallen[Werkgevernummer],BevoegdGezag!A328,Leerlingaantallen[Bedrag])","v":2615413.7999999998}]
[41413,"Stichting Openbaar Primair Onderwijs Noordoost Achterhoek","Openbaar",{"$f":"SUMIF(Leerlingaantallen[Werkgevernummer],BevoegdGezag!A329,Leerlingaantallen[Bedrag])","v":466124.00000000012}]
[41419,"Stichting PCBO Leeuwarden en omstreken","Protestants-Christelijk",{"$f":"SUMIF(Leerlingaantallen[Werkgevernummer],BevoegdGezag!A330,Leerlingaantallen[Bedrag])","v":829813.3600000001}]
[41421,"ALLURE, Stichting openbaar primair onderwijs","Openbaar",{"$f":"SUMIF(Leerlingaantallen[Werkgevernummer],BevoegdGezag!A331,Leerlingaantallen[Bedrag])","v":451637.81999999995}]
[41424,"Stg. Chr. Primair Onderwijs Betuwe & Bommelerwaard","Protestants-Christelijk",{"$f":"SUMIF(Leerlingaantallen[Werkgevernummer],BevoegdGezag!A332,Leerlingaantallen[Bedrag])","v":901336.44000000006}]
[41434,"Stichting OPSPOOR","Openbaar",{"$f":"SUMIF(Leerlingaantallen[Werkgevernummer],BevoegdGezag!A333,Leerlingaantallen[Bedrag])","v":1071669.81}]
[41435,"Stichting BRAVOO","Openbaar",{"$f":"SUMIF(Leerlingaantallen[Werkgevernummer],BevoegdGezag!A334,Leerlingaantallen[Bedrag])","v":515270.63999999996}]
[41438,"Stg. Reg. Openb. Basisonderw. Surplus","Openbaar",{"$f":"SUMIF(Leerlingaantallen[Werkgevernummer],BevoegdGezag!A335,Leerlingaantallen[Bedrag])","v":852447.38000000024}]
[41439,"Vereniging voor protestants-christelijk primair onderwijs TriVia","Protestants-Christelijk",{"$f":"SUMIF(Leerlingaantallen[Werkgevernummer],BevoegdGezag!A336,Leerlingaantallen[Bedrag])","v":644605.64}]
[41440,"Stichting Christelijk Onderwijs Over-en Midden-Betuwe","Samenwerking PC, RK",{"$f":"SUMIF(Leerlingaantallen[Werkgevernummer],BevoegdGezag!A337,Leerlingaantallen[Bedrag])","v":44491.240000000005}]
[41441,"Stichting Librijn openbaar onderwijs","Openbaar",{"$f":"SUMIF(Leerlingaantallen[Werkgevernummer],BevoegdGezag!A338,Leerlingaantallen[Bedrag])","v":853999.38000000012}]
[41443,"Stichting Invitare Openbaar Onderwijs","Openbaar",{"$f":"SUMIF(Leerlingaantallen[Werkgevernummer],BevoegdGezag!A339,Leerlingaantallen[Bedrag])","v":455389.04000000004}]
[41444,"Stg. De Hoeksche School, opvo Hoeksche Waard","Openbaar",{"$f":"SUMIF(Leerlingaantallen[Werkgevernummer],BevoegdGezag!A340,Leerlingaantallen[Bedrag])","v":828649.74}]
[41447,"Stg. r.-k., Algemeen Bijz. en Openb. Primair Ond. PANTA RHEI","Samenwerking Opb., RK",{"$f":"SUMIF(Leerlingaantallen[Werkgevernummer],BevoegdGezag!A341,Leerlingaantallen[Bedrag])","v":1194279.3900000001}]
[41454,"Stg. Prot. Christ. Primair en interconf. P.O. regio Westland","Protestants-Christelijk",{"$f":"SUMIF(Leerlingaantallen[Werkgevernummer],BevoegdGezag!A342,Leerlingaantallen[Bedrag])","v":1136080.3800000001}]
[41455,"Stichting West Openbaar Onderwijs","Openbaar",{"$f":"SUMIF(Leerlingaantallen[Werkgevernummer],BevoegdGezag!A343,Leerlingaantallen[Bedrag])","v":466899.35000000003}]
[41456,"Stichting Openb. Prim. Onderw. Albr.wrd","Openbaar",{"$f":"SUMIF(Leerlingaantallen[Werkgevernummer],BevoegdGezag!A344,Leerlingaantallen[Bedrag])","v":198399.89}]
[41460,"Stichting Trivium","Protestants-Christelijk",{"$f":"SUMIF(Leerlingaantallen[Werkgevernummer],BevoegdGezag!A345,Leerlingaantallen[Bedrag])","v":665557.91000000015}]
[41461,"Stichting Partners Primair Onderwijs De Link","Openbaar",{"$f":"SUMIF(Leerlingaantallen[Werkgevernummer],BevoegdGezag!A346,Leerlingaantallen[Bedrag])","v":472590.5400000001}]
[41471,"Stichting Openbaar Basisonderwijs West-Brabant","Openbaar",{"$f":"SUMIF(Leerlingaantallen[Werkgevernummer],BevoegdGezag!A347,Leerlingaantallen[Bedrag])","v":762817.83000000007}]
[41472,"Stichting Protestants Christelijk Onderwijs Noord Twente","Protestants-Christelijk",{"$f":"SUMIF(Leerlingaantallen[Werkgevernummer],BevoegdGezag!A348,Leerlingaantallen[Bedrag])","v":440773.68000000005}]
[41473,"Stichting Cambium","Protestants-Christelijk",{"$f":"SUMIF(Leerlingaantallen[Werkgevernummer],BevoegdGezag!A349,Leerlingaantallen[Bedrag])","v":372484.8}]
[41481,"Stichting Openbaar Primair Onderwijs Eem-Vallei Educatief","Openbaar",{"$f":"SUMIF(Leerlingaantallen[Werkgevernummer],BevoegdGezag!A350,Leerlingaantallen[Bedrag])","v":479056.84}]
[41483,"Stg. voor p.c.o. De Oorsprong te Utrechtse Heuvelrug&W.b.D.","Protestants-Christelijk",{"$f":"SUMIF(Leerlingaantallen[Werkgevernummer],BevoegdGezag!A351,Leerlingaantallen[Bedrag])","v":479832.85000000003}]
[41487,"Spectrum Stichting voor Protest. Christ. Onderw.","Protestants-Christelijk",{"$f":"SUMIF(Leerlingaantallen[Werkgevernummer],BevoegdGezag!A352,Leerlingaantallen[Bedrag])","v":509579.89999999997}]
[41488,"Scholengroep Holland, Stichting voor openbaar primair onderwijs","Openbaar",{"$f":"SUMIF(Leerlingaantallen[Werkgevernummer],BevoegdGezag!A353,Leerlingaantallen[Bedrag])","v":965356.44000000006}]
[41491,"De Mare, stichting openbaar basisonderwijs Salland","Openbaar",{"$f":"SUMIF(Leerlingaantallen[Werkgevernummer],BevoegdGezag!A354,Leerlingaantallen[Bedrag])","v":273931.53000000003}]
[41492,"Stichting ROOBOL","Openbaar",{"$f":"SUMIF(Leerlingaantallen[Werkgevernummer],BevoegdGezag!A355,Leerlingaantallen[Bedrag])","v":510614.57999999996}]
[41493,"Stichting Openbaar Basisonderwijs Hilversum","Openbaar",{"$f":"SUMIF(Leerlingaantallen[Werkgevernummer],BevoegdGezag!A356,Leerlingaantallen[Bedrag])","v":901723.62}]
[41494,"Stichting Openbaar Primair Onderwijs Winterswijk","Openbaar",{"$f":"SUMIF(Leerlingaantallen[Werkgevernummer],BevoegdGezag!A357,Leerlingaantallen[Bedrag])","v":276776.90000000002}]
[41496,"Stichting Openbaar Onderwijs Rijn- en Heuvelland","Openbaar",{"$f":"SUMIF(Leerlingaantallen[Werkgevernummer],BevoegdGezag!A358,Leerlingaantallen[Bedrag])","v":1285848.5700000003}]
[41500,"Stichting Openbaar Primair Onderwijs Zuid-Kennemerland","Openbaar",{"$f":"SUMIF(Leerlingaantallen[Werkgevernummer],BevoegdGezag!A359,Leerlingaantallen[Bedrag])","v":564159.27}]
[41501,"Reflexis Openbaar Basisonderwijs","Openbaar",{"$f":"SUMIF(Leerlingaantallen[Werkgevernummer],BevoegdGezag!A360,Leerlingaantallen[Bedrag])","v":260739.36}]
[41502,"Stichting Openbaar Primair Onderwijs Goeree-Overflakkee","Openbaar",{"$f":"SUMIF(Leerlingaantallen[Werkgevernummer],BevoegdGezag!A361,Leerlingaantallen[Bedrag])","v":374037.19000000006}]
[41506,"Stichting INNOVO - Onderwijs op Maat","Rooms-Katholiek",{"$f":"SUMIF(Leerlingaantallen[Werkgevernummer],BevoegdGezag!A362,Leerlingaantallen[Bedrag])","v":2577131.4900000002}]
[41514,"Stichting Meerkring Primair Onderwijs Amersfoort","Openbaar",{"$f":"SUMIF(Leerlingaantallen[Werkgevernummer],BevoegdGezag!A363,Leerlingaantallen[Bedrag])","v":1204628.4399999997}]
[41515,"Stichting Hilversumse Montessori Scholen","Algemeen bijzonder",{"$f":"SUMIF(Leerlingaantallen[Werkgevernummer],BevoegdGezag!A364,Leerlingaantallen[Bedrag])","v":187277.08000000002}]
[41516,"Onderwijsstichting MOVARE","Overige",{"$f":"SUMIF(Leerlingaantallen[Werkgevernummer],BevoegdGezag!A365,Leerlingaantallen[Bedrag])","v":3004324.3399999994}]
[41518,"Stichting 'Openbaar Primair Onderwijs Dordrecht'","Openbaar",{"$f":"SUMIF(Leerlingaantallen[Werkgevernummer],BevoegdGezag!A366,Leerlingaantallen[Bedrag])","v":861113.1100000001}]
[41519,"Stichting voor L.O. aan Varende Kind. (LOVK)","Overige",{"$f":"SUMIF(Leerlingaantallen[Werkgevernummer],BevoegdGezag!A367,Leerlingaantallen[Bedrag])","v":0}]
[41522,"Stichting Openbaar Prim. Onderw. Almelo","Openbaar",{"$f":"SUMIF(Leerlingaantallen[Werkgevernummer],BevoegdGezag!A368,Leerlingaantallen[Bedrag])","v":613823.90999999992}]
[41527,"Stichting Klasse","Openbaar",{"$f":"SUMIF(Leerlingaantallen[Werkgevernummer],BevoegdGezag!A369,Leerlingaantallen[Bedrag])","v":842488.79}]
[41528,"Fluenta Stichting voor Protestants-Christelijk Onderwijs in de regio Utrecht","Protestants-Christelijk",{"$f":"SUMIF(Leerlingaantallen[Werkgevernummer],BevoegdGezag!A370,Leerlingaantallen[Bedrag])","v":1165696.8400000003}]
[41530,"Stichting Wonderwijs, swb oko in Overbet.&Lingewaard","Samenwerking Opb., RK",{"$f":"SUMIF(Leerlingaantallen[Werkgevernummer],BevoegdGezag!A371,Leerlingaantallen[Bedrag])","v":984239.35}]
[41532,"Stichting voor Protestants Christelijk Primair Onderwijs in de Krimpenerwaard","Protestants-Christelijk",{"$f":"SUMIF(Leerlingaantallen[Werkgevernummer],BevoegdGezag!A372,Leerlingaantallen[Bedrag])","v":394213.08}]
[41534,"EDUCATIS","Reformatorisch",{"$f":"SUMIF(Leerlingaantallen[Werkgevernummer],BevoegdGezag!A373,Leerlingaantallen[Bedrag])","v":389298.35}]
[41535,"Stichting Wijzer in Onderwijs","Openbaar",{"$f":"SUMIF(Leerlingaantallen[Werkgevernummer],BevoegdGezag!A374,Leerlingaantallen[Bedrag])","v":727509.98}]
[41538,"Stichting BasisBuren, openb./alg. primair onderwijs","Overige",{"$f":"SUMIF(Leerlingaantallen[Werkgevernummer],BevoegdGezag!A375,Leerlingaantallen[Bedrag])","v":366276.72000000003}]
[41544,"Stichting Auro voor Openbaar Primair Onderwijs","Openbaar",{"$f":"SUMIF(Leerlingaantallen[Werkgevernummer],BevoegdGezag!A376,Leerlingaantallen[Bedrag])","v":487851.62}]
[41545,"Stichting BLICK op onderwijs","Openbaar",{"$f":"SUMIF(Leerlingaantallen[Werkgevernummer],BevoegdGezag!A377,Leerlingaantallen[Bedrag])","v":692590.02}]
[41547,"Vereniging Montessorischool Kralingen (MSK)","Algemeen bijzonder",{"$f":"SUMIF(Leerlingaantallen[Werkgevernummer],BevoegdGezag!A378,Leerlingaantallen[Bedrag])","v":59235.43}]
[41548,"Vereniging De Rotterdamse Montessorischool (VRM)","Algemeen bijzonder",{"$f":"SUMIF(Leerlingaantallen[Werkgevernummer],BevoegdGezag!A379,Leerlingaantallen[Bedrag])","v":85361.1}]
[41551,"Stichting Viviani","Protestants-Christelijk",{"$f":"SUMIF(Leerlingaantallen[Werkgevernummer],BevoegdGezag!A380,Leerlingaantallen[Bedrag])","v":452931.16999999993}]
[41557,"Stichting OBASE","Openbaar",{"$f":"SUMIF(Leerlingaantallen[Werkgevernummer],BevoegdGezag!A381,Leerlingaantallen[Bedrag])","v":327993.82000000007}]
[41558,"Stichting Christelijk Primair Onderwijs Noordkwartier","Protestants-Christelijk",{"$f":"SUMIF(Leerlingaantallen[Werkgevernummer],BevoegdGezag!A382,Leerlingaantallen[Bedrag])","v":334460.31}]
[41560,"Stg. openb. primair onderwijs Papendrecht-Sliedrecht","Openbaar",{"$f":"SUMIF(Leerlingaantallen[Werkgevernummer],BevoegdGezag!A383,Leerlingaantallen[Bedrag])","v":479315.51}]
[41561,"Stichting Fluvium Openbaar Onderwijs","Openbaar",{"$f":"SUMIF(Leerlingaantallen[Werkgevernummer],BevoegdGezag!A384,Leerlingaantallen[Bedrag])","v":531049.51}]
[41563,"Katholieke Stichting voor Basisonderwijs Silvolde","Rooms-Katholiek",{"$f":"SUMIF(Leerlingaantallen[Werkgevernummer],BevoegdGezag!A385,Leerlingaantallen[Bedrag])","v":80963.710000000006}]
[41565,"Stichting Consent","Openbaar",{"$f":"SUMIF(Leerlingaantallen[Werkgevernummer],BevoegdGezag!A386,Leerlingaantallen[Bedrag])","v":1796852.5000000005}]
[41566,"Stichting Archipel Onderwijs","Openbaar",{"$f":"SUMIF(Leerlingaantallen[Werkgevernummer],BevoegdGezag!A387,Leerlingaantallen[Bedrag])","v":791918.71}]
[41567,"Stichting Primo Schiedam","Openbaar",{"$f":"SUMIF(Leerlingaantallen[Werkgevernummer],BevoegdGezag!A388,Leerlingaantallen[Bedrag])","v":888920.3}]
[41570,"Stichting Onderwijsgroep EduMare","Openbaar",{"$f":"SUMIF(Leerlingaantallen[Werkgevernummer],BevoegdGezag!A389,Leerlingaantallen[Bedrag])","v":1851560.5}]
[41571,"Stichting Quadraten","Algemeen bijzonder",{"$f":"SUMIF(Leerlingaantallen[Werkgevernummer],BevoegdGezag!A390,Leerlingaantallen[Bedrag])","v":1268517.68}]
[41572,"'De Haagse Scholen', stg. voor primair & spec. openb. onderw","Openbaar",{"$f":"SUMIF(Leerlingaantallen[Werkgevernummer],BevoegdGezag!A391,Leerlingaantallen[Bedrag])","v":4146870.7999999989}]
[41573,"Stichting Ambion","Openbaar",{"$f":"SUMIF(Leerlingaantallen[Werkgevernummer],BevoegdGezag!A392,Leerlingaantallen[Bedrag])","v":807956.39}]
[41574,"Stichting openbaar onderwijs Marenland","Openbaar",{"$f":"SUMIF(Leerlingaantallen[Werkgevernummer],BevoegdGezag!A393,Leerlingaantallen[Bedrag])","v":599855.73}]
[41579,"Sticht. Openbaar Basisonderw. Westelijke Tuinsteden","Openbaar",{"$f":"SUMIF(Leerlingaantallen[Werkgevernummer],BevoegdGezag!A394,Leerlingaantallen[Bedrag])","v":1323227.3500000001}]
[41580,"AmstelWijs, stichting voor openbaar primair onderw.","Openbaar",{"$f":"SUMIF(Leerlingaantallen[Werkgevernummer],BevoegdGezag!A395,Leerlingaantallen[Bedrag])","v":882712.42}]
[41582,"Albero, sticht. v. openbaar & christ. onderw. op d Beveland.","Overige",{"$f":"SUMIF(Leerlingaantallen[Werkgevernummer],BevoegdGezag!A396,Leerlingaantallen[Bedrag])","v":933798.70000000019}]
[41583,"RADAR, Vereniging voor P.C.O. Schouwen-Duiveland","Protestants-Christelijk",{"$f":"SUMIF(Leerlingaantallen[Werkgevernummer],BevoegdGezag!A397,Leerlingaantallen[Bedrag])","v":132180.37}]
[41588,"Vereniging vr Chr. Schoolonderw. te Well","Protestants-Christelijk",{"$f":"SUMIF(Leerlingaantallen[Werkgevernummer],BevoegdGezag!A398,Leerlingaantallen[Bedrag])","v":25608.33}]
[41595,"Stichting 'Florente'","Overige",{"$f":"SUMIF(Leerlingaantallen[Werkgevernummer],BevoegdGezag!A399,Leerlingaantallen[Bedrag])","v":874045.93}]
[41596,"Stichting De Noordwijkse School","Algemeen bijzonder",{"$f":"SUMIF(Leerlingaantallen[Werkgevernummer],BevoegdGezag!A400,Leerlingaantallen[Bedrag])","v":56390.060000000005}]
[41604,"Stichting LeerSaam","Openbaar",{"$f":"SUMIF(Leerlingaantallen[Werkgevernummer],BevoegdGezag!A401,Leerlingaantallen[Bedrag])","v":167359.49000000002}]
[41611,"Stichting Opmaat groep","Openbaar",{"$f":"SUMIF(Leerlingaantallen[Werkgevernummer],BevoegdGezag!A402,Leerlingaantallen[Bedrag])","v":1194279.3900000001}]
[41613,"Stichting Openbaar Onderwijs Oost Groningen","Openbaar",{"$f":"SUMIF(Leerlingaantallen[Werkgevernummer],BevoegdGezag!A403,Leerlingaantallen[Bedrag])","v":793729.6100000001}]
[41616,"Stichting Openb. Prim. Onderw. Apeldoorn","Openbaar",{"$f":"SUMIF(Leerlingaantallen[Werkgevernummer],BevoegdGezag!A404,Leerlingaantallen[Bedrag])","v":931600.62}]
[41617,"Stichting Scholengroep Veluwezoom","Openbaar",{"$f":"SUMIF(Leerlingaantallen[Werkgevernummer],BevoegdGezag!A405,Leerlingaantallen[Bedrag])","v":456553.00000000006}]
[41621,"Vereniging voor Protestants Chr. Onderwijs De Viermaster","Protestants-Christelijk",{"$f":"SUMIF(Leerlingaantallen[Werkgevernummer],BevoegdGezag!A406,Leerlingaantallen[Bedrag])","v":445429.74}]
[41624,"VGPO Hannah","Gereformeerd vrijgemaakt",{"$f":"SUMIF(Leerlingaantallen[Werkgevernummer],BevoegdGezag!A407,Leerlingaantallen[Bedrag])","v":444653.7300000001}]
[41626,"Stichting Jenapleinschool","Algemeen bijzonder",{"$f":"SUMIF(Leerlingaantallen[Werkgevernummer],BevoegdGezag!A408,Leerlingaantallen[Bedrag])","v":80187.700000000012}]
[41629,"Stichting Promes","Openbaar",{"$f":"SUMIF(Leerlingaantallen[Werkgevernummer],BevoegdGezag!A409,Leerlingaantallen[Bedrag])","v":395377.70000000007}]
[41630,"Onderwijsstichting ARCADE","Openbaar",{"$f":"SUMIF(Leerlingaantallen[Werkgevernummer],BevoegdGezag!A410,Leerlingaantallen[Bedrag])","v":648485.69000000006}]
[41631,"Stichting Comprix","Openbaar",{"$f":"SUMIF(Leerlingaantallen[Werkgevernummer],BevoegdGezag!A411,Leerlingaantallen[Bedrag])","v":1055891.46}]
[41632,"Florion Vereniging voor Gereformeerd Primair Onderwijs","Gereformeerd vrijgemaakt",{"$f":"SUMIF(Leerlingaantallen[Werkgevernummer],BevoegdGezag!A412,Leerlingaantallen[Bedrag])","v":911294.77000000014}]
[41633,"Stichting Reg. Openb. Ow. Maas & Meierij","Openbaar",{"$f":"SUMIF(Leerlingaantallen[Werkgevernummer],BevoegdGezag!A413,Leerlingaantallen[Bedrag])","v":753505.71000000008}]
[41634,"Stichting Jenaplan onderwijs Epe e.o.","Algemeen bijzonder",{"$f":"SUMIF(Leerlingaantallen[Werkgevernummer],BevoegdGezag!A414,Leerlingaantallen[Bedrag])","v":42680.55}]
[41637,"Stichting Escalda Scholen","Openbaar",{"$f":"SUMIF(Leerlingaantallen[Werkgevernummer],BevoegdGezag!A415,Leerlingaantallen[Bedrag])","v":150545.94}]
[41638,"Stg. Openb. Primair Onderwijs Alblasserwaard/Vijfheerenland.","Openbaar",{"$f":"SUMIF(Leerlingaantallen[Werkgevernummer],BevoegdGezag!A416,Leerlingaantallen[Bedrag])","v":730225.41}]
[41639,"Stichting PROKIND scholengroep","Openbaar",{"$f":"SUMIF(Leerlingaantallen[Werkgevernummer],BevoegdGezag!A417,Leerlingaantallen[Bedrag])","v":565324.02}]
[41645,"Stichting Flores Onderwijs","Openbaar",{"$f":"SUMIF(Leerlingaantallen[Werkgevernummer],BevoegdGezag!A418,Leerlingaantallen[Bedrag])","v":2330618.1300000004}]
[41646,"LEV Scholengroep West- Nederland (LEV-WN)","Gereformeerd vrijgemaakt",{"$f":"SUMIF(Leerlingaantallen[Werkgevernummer],BevoegdGezag!A419,Leerlingaantallen[Bedrag])","v":992129.07000000018}]
[41651,"Stichting Primair Christelijk Onderwijs Nieuwleusen","Protestants-Christelijk",{"$f":"SUMIF(Leerlingaantallen[Werkgevernummer],BevoegdGezag!A420,Leerlingaantallen[Bedrag])","v":116918.84000000001}]
[41662,"Stichting De Kempen, openbaar en algemeen onderwijs","Openbaar",{"$f":"SUMIF(Leerlingaantallen[Werkgevernummer],BevoegdGezag!A421,Leerlingaantallen[Bedrag])","v":851282.97000000009}]
[41663,"Amsterdam-West Binnen de Ring stg. v. Openb. Primair Onderw."," ",{"$f":"SUMIF(Leerlingaantallen[Werkgevernummer],BevoegdGezag!A422,Leerlingaantallen[Bedrag])","v":1282744.53}]
[41672,"Stg. Algemeen Toegankelijk Onderwijs 's-Hertogenbosch eo","Samenwerking Opb., Alg. Bijz.",{"$f":"SUMIF(Leerlingaantallen[Werkgevernummer],BevoegdGezag!A423,Leerlingaantallen[Bedrag])","v":1260240.2400000002}]
[41674,"Stichting Primair Openbaar Onderwijs Ede","Openbaar",{"$f":"SUMIF(Leerlingaantallen[Werkgevernummer],BevoegdGezag!A424,Leerlingaantallen[Bedrag])","v":442584.37000000011}]
[41676,"Almeerse Scholen Groep (ASG)","Samenwerking Opb., Alg. Bijz.",{"$f":"SUMIF(Leerlingaantallen[Werkgevernummer],BevoegdGezag!A425,Leerlingaantallen[Bedrag])","v":2265304.6900000004}]
[41692,"Stichting Swalm en Roer voor Onderwijs en Opvoeding","Samenwerking Opb., PC, RK, Alg",{"$f":"SUMIF(Leerlingaantallen[Werkgevernummer],BevoegdGezag!A426,Leerlingaantallen[Bedrag])","v":1400181.2500000005}]
[41693,"Elan Onderwijsgroep","Samenwerking Opb., Alg. Bijz.",{"$f":"SUMIF(Leerlingaantallen[Werkgevernummer],BevoegdGezag!A427,Leerlingaantallen[Bedrag])","v":542948.9800000001}]
[41716,"Stichting Zonova","Openbaar",{"$f":"SUMIF(Leerlingaantallen[Werkgevernummer],BevoegdGezag!A428,Leerlingaantallen[Bedrag])","v":1320898.8600000001}]
[41731,"'Stg. voor Katholiek Onderwijs Sint-Oedenrode'(SKOSO)","Rooms-Katholiek",{"$f":"SUMIF(Leerlingaantallen[Werkgevernummer],BevoegdGezag!A429,Leerlingaantallen[Bedrag])","v":325148.19}]
[41735,"Stichting Openbaar Primair Onderwijs Furore","Openbaar",{"$f":"SUMIF(Leerlingaantallen[Werkgevernummer],BevoegdGezag!A430,Leerlingaantallen[Bedrag])","v":674999.98}]
[41736,"Stichting ProCon, Stichting voor Christel. Prim. onderwijs","Protestants-Christelijk",{"$f":"SUMIF(Leerlingaantallen[Werkgevernummer],BevoegdGezag!A431,Leerlingaantallen[Bedrag])","v":229698.96000000002}]
[41772,"Stichting Talent, Openbaar Basisonderwijs Hoorn","Openbaar",{"$f":"SUMIF(Leerlingaantallen[Werkgevernummer],BevoegdGezag!A432,Leerlingaantallen[Bedrag])","v":664264.56000000006}]
[41774,"'Samen tussen Amstel en IJ' Stg. Openbaar Prim. Onderwijs","Openbaar",{"$f":"SUMIF(Leerlingaantallen[Werkgevernummer],BevoegdGezag!A433,Leerlingaantallen[Bedrag])","v":1506624.12}]
[41775,"Stichting BOOR","Openbaar",{"$f":"SUMIF(Leerlingaantallen[Werkgevernummer],BevoegdGezag!A434,Leerlingaantallen[Bedrag])","v":5594128.4299999978}]
[41778,"Stichting Samen Onderwijs Maken (SOM)","Overige",{"$f":"SUMIF(Leerlingaantallen[Werkgevernummer],BevoegdGezag!A435,Leerlingaantallen[Bedrag])","v":288158.38}]
[41780,"Scholengroep Opron, stichting voor openbaar primair onderwijs","Openbaar",{"$f":"SUMIF(Leerlingaantallen[Werkgevernummer],BevoegdGezag!A436,Leerlingaantallen[Bedrag])","v":756739.85000000009}]
[41781,"Stichting Openbaar Onderw. aan de Amstel","Openbaar",{"$f":"SUMIF(Leerlingaantallen[Werkgevernummer],BevoegdGezag!A437,Leerlingaantallen[Bedrag])","v":1975721.4600000002}]
[41782,"Stichting De Waarden","Samenwerking PC, RK, Alg. Bijz",{"$f":"SUMIF(Leerlingaantallen[Werkgevernummer],BevoegdGezag!A438,Leerlingaantallen[Bedrag])","v":690520.19000000006}]
[41785,"Stg. Openb. Primair Onderwijs Hof van Twente","Openbaar",{"$f":"SUMIF(Leerlingaantallen[Werkgevernummer],BevoegdGezag!A439,Leerlingaantallen[Bedrag])","v":263067.39}]
[41787,"Stichting Accent","Protestants-Christelijk",{"$f":"SUMIF(Leerlingaantallen[Werkgevernummer],BevoegdGezag!A440,Leerlingaantallen[Bedrag])","v":752988.73999999987}]
[41792,"Stg. Reg. Openb. Basisonderw. IJsselstein en Nieuwegein","Openbaar",{"$f":"SUMIF(Leerlingaantallen[Werkgevernummer],BevoegdGezag!A441,Leerlingaantallen[Bedrag])","v":580714.15}]
[41794,"Stichting Delta De Bilt voor Primair Onderwijs","Samenwerking PC, RK",{"$f":"SUMIF(Leerlingaantallen[Werkgevernummer],BevoegdGezag!A442,Leerlingaantallen[Bedrag])","v":678750.08}]
[41797,"Stichting Wijzers in Onderwijs","Rooms-Katholiek",{"$f":"SUMIF(Leerlingaantallen[Werkgevernummer],BevoegdGezag!A443,Leerlingaantallen[Bedrag])","v":405335.89}]
[41803,"Stg. Chr. BO Reform. Grondsl. voor Groningen en Drenthe","Reformatorisch",{"$f":"SUMIF(Leerlingaantallen[Werkgevernummer],BevoegdGezag!A444,Leerlingaantallen[Bedrag])","v":47853.95}]
[41812,"Stichting Kits Primair","Openbaar",{"$f":"SUMIF(Leerlingaantallen[Werkgevernummer],BevoegdGezag!A445,Leerlingaantallen[Bedrag])","v":343772.43000000005}]
[41813,"Ante, stichting voor openbare- en samenwerkingssch.","Openbaar",{"$f":"SUMIF(Leerlingaantallen[Werkgevernummer],BevoegdGezag!A446,Leerlingaantallen[Bedrag])","v":504923.83999999997}]
[41816,"Stichting Op Kop Openbaar Primair Onderwijs","Openbaar",{"$f":"SUMIF(Leerlingaantallen[Werkgevernummer],BevoegdGezag!A447,Leerlingaantallen[Bedrag])","v":422408.11000000004}]
[41820,"Stichting Al Amana Scholen","Overige",{"$f":"SUMIF(Leerlingaantallen[Werkgevernummer],BevoegdGezag!A448,Leerlingaantallen[Bedrag])","v":270310.15000000002}]
[41825,"Ver. tot het verstr. Christ. Onderw. Gereform. Grondslag","Reformatorisch",{"$f":"SUMIF(Leerlingaantallen[Werkgevernummer],BevoegdGezag!A449,Leerlingaantallen[Bedrag])","v":61304.79}]
[41827,"Sticht. Scholen met de Bijbel in de Betuwe","Protestants-Christelijk",{"$f":"SUMIF(Leerlingaantallen[Werkgevernummer],BevoegdGezag!A450,Leerlingaantallen[Bedrag])","v":275483.55000000005}]
[41829,"Stichting Openb. Prim. Onderw. Wassenaar","Openbaar",{"$f":"SUMIF(Leerlingaantallen[Werkgevernummer],BevoegdGezag!A451,Leerlingaantallen[Bedrag])","v":110710.76000000001}]
[41840,"Stichting Internationaal Lokaal Funderend Onderwijs","Samenwerking Opb., Alg. Bijz.",{"$f":"SUMIF(Leerlingaantallen[Werkgevernummer],BevoegdGezag!A452,Leerlingaantallen[Bedrag])","v":184690.38}]
[41841,"Stichting Schooltij","Overige",{"$f":"SUMIF(Leerlingaantallen[Werkgevernummer],BevoegdGezag!A453,Leerlingaantallen[Bedrag])","v":101398.64000000001}]
[41842,"OCTHO, Stichting Openbaar Prim. Onderw. Tholen","Openbaar",{"$f":"SUMIF(Leerlingaantallen[Werkgevernummer],BevoegdGezag!A454,Leerlingaantallen[Bedrag])","v":206418.65999999997}]
[41843,"Stg. Primair onderw. Mondriaan Abcoude","Openbaar",{"$f":"SUMIF(Leerlingaantallen[Werkgevernummer],BevoegdGezag!A455,Leerlingaantallen[Bedrag])","v":99587.950000000012}]
[41844,"Stichting Openb. Bas.school de Regenboog","Openbaar",{"$f":"SUMIF(Leerlingaantallen[Werkgevernummer],BevoegdGezag!A456,Leerlingaantallen[Bedrag])","v":42421.880000000005}]
[41845,"Ver. voor Christel. Onderwijs in Midden en Oost Groningen","Overige",{"$f":"SUMIF(Leerlingaantallen[Werkgevernummer],BevoegdGezag!A457,Leerlingaantallen[Bedrag])","v":628568.10000000009}]
[41850,"Sticht. Proloog Primair O.O. Leeuwarden","Openbaar",{"$f":"SUMIF(Leerlingaantallen[Werkgevernummer],BevoegdGezag!A458,Leerlingaantallen[Bedrag])","v":948672.75000000012}]
[41851,"Stichting Openbaar onderwijs Baasis","Overige",{"$f":"SUMIF(Leerlingaantallen[Werkgevernummer],BevoegdGezag!A459,Leerlingaantallen[Bedrag])","v":669179.28999999992}]
[41852,"Stg. Zaan Prim. v Openb. Prim. en(Voortgezet) Spec. Onderwij","Openbaar",{"$f":"SUMIF(Leerlingaantallen[Werkgevernummer],BevoegdGezag!A460,Leerlingaantallen[Bedrag])","v":1752878.1700000002}]
[41853,"Stichting Spaarnesant","Openbaar",{"$f":"SUMIF(Leerlingaantallen[Werkgevernummer],BevoegdGezag!A461,Leerlingaantallen[Bedrag])","v":1886352.13}]
[41856,"St. Samenw.best. prim. onderw. 'Gearhing'","Algemeen bijzonder",{"$f":"SUMIF(Leerlingaantallen[Werkgevernummer],BevoegdGezag!A462,Leerlingaantallen[Bedrag])","v":450603.14000000013}]
[41857,"Bestuurskant. Algem. Bijzond. Scholengroep Amsterdam","Algemeen bijzonder",{"$f":"SUMIF(Leerlingaantallen[Werkgevernummer],BevoegdGezag!A463,Leerlingaantallen[Bedrag])","v":547604.39000000013}]
[41858,"Stg. Meerwerf Basisscholen Den Helder","Openbaar",{"$f":"SUMIF(Leerlingaantallen[Werkgevernummer],BevoegdGezag!A464,Leerlingaantallen[Bedrag])","v":431202.89}]
[41860,"Stg. PlatOO best. voor openb. en alg. toegankelijk onderwijs","Openbaar",{"$f":"SUMIF(Leerlingaantallen[Werkgevernummer],BevoegdGezag!A465,Leerlingaantallen[Bedrag])","v":836538.78000000014}]
[41861,"Veren. voor Gereformeerd S.o. te Laag Zuthem,Gemeente Raalte","Protestants-Christelijk",{"$f":"SUMIF(Leerlingaantallen[Werkgevernummer],BevoegdGezag!A466,Leerlingaantallen[Bedrag])","v":7760.1}]
[41862,"Stichting Openbaar Primair Onderwijs Deventer","Overige",{"$f":"SUMIF(Leerlingaantallen[Werkgevernummer],BevoegdGezag!A467,Leerlingaantallen[Bedrag])","v":895256.87000000011}]
[41863,"Stichting Islamitisch Primair Onderwijs","Islamitisch",{"$f":"SUMIF(Leerlingaantallen[Werkgevernummer],BevoegdGezag!A468,Leerlingaantallen[Bedrag])","v":234613.69000000003}]
[41866,"Stichting Openbaar Onderwijs Houten","Openbaar",{"$f":"SUMIF(Leerlingaantallen[Werkgevernummer],BevoegdGezag!A469,Leerlingaantallen[Bedrag])","v":328510.90000000002}]
[41868,"Stichting Talent Westerveld","Openbaar",{"$f":"SUMIF(Leerlingaantallen[Werkgevernummer],BevoegdGezag!A470,Leerlingaantallen[Bedrag])","v":261515.37000000002}]
[41869,"Stichting Markant Onderwijs","Openbaar",{"$f":"SUMIF(Leerlingaantallen[Werkgevernummer],BevoegdGezag!A471,Leerlingaantallen[Bedrag])","v":527428.13000000012}]
[41871,"Stichting Openbaar Onderwijs Kampen","Openbaar",{"$f":"SUMIF(Leerlingaantallen[Werkgevernummer],BevoegdGezag!A472,Leerlingaantallen[Bedrag])","v":249357.88}]
[41876,"Stichting Openbaar Primair Onderwijs Rivierenland","Openbaar",{"$f":"SUMIF(Leerlingaantallen[Werkgevernummer],BevoegdGezag!A473,Leerlingaantallen[Bedrag])","v":473237.66}]
[41878,"Stichting Openb. Onderw. Land van Altena","Openbaar",{"$f":"SUMIF(Leerlingaantallen[Werkgevernummer],BevoegdGezag!A474,Leerlingaantallen[Bedrag])","v":200469.25}]
[41884,"Kerkelijk Lichaam 'Geref. Gem. regio Barneveld'","Gereformeerd",{"$f":"SUMIF(Leerlingaantallen[Werkgevernummer],BevoegdGezag!A475,Leerlingaantallen[Bedrag])","v":216248.12}]
[41886,"Stg. Verschillend Onderwijs in Leusden Achterveld (VOILA)","Samenwerking Opb., PC, RK",{"$f":"SUMIF(Leerlingaantallen[Werkgevernummer],BevoegdGezag!A476,Leerlingaantallen[Bedrag])","v":531825.52}]
[41891,"Stichting SMART Limburg","Islamitisch",{"$f":"SUMIF(Leerlingaantallen[Werkgevernummer],BevoegdGezag!A477,Leerlingaantallen[Bedrag])","v":99587.950000000012}]
[41895,"Stichting openbaar prim. ond. Wolderwijs","Openbaar",{"$f":"SUMIF(Leerlingaantallen[Werkgevernummer],BevoegdGezag!A478,Leerlingaantallen[Bedrag])","v":327217.55000000005}]
[41898,"Ver. Prot./Chr. Prim. Onderw. Nieuwerkerk aan den IJssel","Protestants-Christelijk",{"$f":"SUMIF(Leerlingaantallen[Werkgevernummer],BevoegdGezag!A479,Leerlingaantallen[Bedrag])","v":179516.98}]
[41899,"Stg. Openbaar Primair Onderw. Aa en Hunze","Overige",{"$f":"SUMIF(Leerlingaantallen[Werkgevernummer],BevoegdGezag!A480,Leerlingaantallen[Bedrag])","v":391626.38}]
[41978,"Stichting Uniek","Rooms-Katholiek",{"$f":"SUMIF(Leerlingaantallen[Werkgevernummer],BevoegdGezag!A481,Leerlingaantallen[Bedrag])","v":434565.6}]
[42122,"Ver. Verstr. Schoolonderwijs op Reformatorische Grondslag","Reformatorisch",{"$f":"SUMIF(Leerlingaantallen[Werkgevernummer],BevoegdGezag!A482,Leerlingaantallen[Bedrag])","v":332390.95}]
[42148,"Stichting Innerwaard","Samenwerking PC, RK",{"$f":"SUMIF(Leerlingaantallen[Werkgevernummer],BevoegdGezag!A483,Leerlingaantallen[Bedrag])","v":519926.69999999995}]
[42330,"Stichting Kindergemeenschap Albert Schweitzer","Protestants-Christelijk",{"$f":"SUMIF(Leerlingaantallen[Werkgevernummer],BevoegdGezag!A484,Leerlingaantallen[Bedrag])","v":63374.15}]
[42486,"Stichting Primair Onderwijs Groesbeek","Samenwerking Opb., PC, Alg. Bi",{"$f":"SUMIF(Leerlingaantallen[Werkgevernummer],BevoegdGezag!A485,Leerlingaantallen[Bedrag])","v":347264.8}]
[42504,"Stichting Openbaar Primair en Speciaal Onderwijs Leiden","Openbaar",{"$f":"SUMIF(Leerlingaantallen[Werkgevernummer],BevoegdGezag!A486,Leerlingaantallen[Bedrag])","v":1361380.2100000002}]
[42510,"Stichting Openbaar Onderwijs Groningen","Openbaar",{"$f":"SUMIF(Leerlingaantallen[Werkgevernummer],BevoegdGezag!A487,Leerlingaantallen[Bedrag])","v":1963047.6599999997}]
[42514,"Stichting Ronduit","Overige",{"$f":"SUMIF(Leerlingaantallen[Werkgevernummer],BevoegdGezag!A488,Leerlingaantallen[Bedrag])","v":1182898.7499999998}]
[42523,"Stichting Interconfessioneel Basisonderwijs Zeewolde","Interconfessioneel",{"$f":"SUMIF(Leerlingaantallen[Werkgevernummer],BevoegdGezag!A489,Leerlingaantallen[Bedrag])","v":78377.010000000009}]
[42524,"Stg. voor Prot. Christelijk Onderwijs Roosendaal","Protestants-Christelijk",{"$f":"SUMIF(Leerlingaantallen[Werkgevernummer],BevoegdGezag!A490,Leerlingaantallen[Bedrag])","v":90793.170000000013}]
[42538,"Stichting Eduquaat","Openbaar",{"$f":"SUMIF(Leerlingaantallen[Werkgevernummer],BevoegdGezag!A491,Leerlingaantallen[Bedrag])","v":412578.65}]
[42540,"MEILÂN, Stg voor Christelijk Basis Onderwijs in Heerenveen en De Fryske Marren","Protestants-Christelijk",{"$f":"SUMIF(Leerlingaantallen[Werkgevernummer],BevoegdGezag!A492,Leerlingaantallen[Bedrag])","v":702289.04999999993}]
[42541,"Ver. tot. stg. en instandh. van scholen Oud Ger. Gemeente(n) (in Nl) te Ede","Gereformeerd",{"$f":"SUMIF(Leerlingaantallen[Werkgevernummer],BevoegdGezag!A493,Leerlingaantallen[Bedrag])","v":108124.06000000001}]
[42542,"Stichting Voorschotense Openbare School","Overige",{"$f":"SUMIF(Leerlingaantallen[Werkgevernummer],BevoegdGezag!A494,Leerlingaantallen[Bedrag])","v":115625.49}]
[42545,"Stichting Palludara","Protestants-Christelijk",{"$f":"SUMIF(Leerlingaantallen[Werkgevernummer],BevoegdGezag!A495,Leerlingaantallen[Bedrag])","v":570367.35}]
[42546,"Stichting Odyssee 'Van Waterpoort tot Wad'","Openbaar",{"$f":"SUMIF(Leerlingaantallen[Werkgevernummer],BevoegdGezag!A496,Leerlingaantallen[Bedrag])","v":551743.58000000007}]
[42552,"Stichting scholengroep openbaar onderwijs Lelystad","Openbaar",{"$f":"SUMIF(Leerlingaantallen[Werkgevernummer],BevoegdGezag!A497,Leerlingaantallen[Bedrag])","v":1168412.77}]
[42553,"Stichting Openbaar Onderwijs Noord","Openbaar",{"$f":"SUMIF(Leerlingaantallen[Werkgevernummer],BevoegdGezag!A498,Leerlingaantallen[Bedrag])","v":1089130.7200000002}]
[42554,"Stichting Openbaar Primair Onderwijs Borger-Odoorn","Openbaar",{"$f":"SUMIF(Leerlingaantallen[Werkgevernummer],BevoegdGezag!A499,Leerlingaantallen[Bedrag])","v":262291.38000000006}]
[42557,"Stichting Openb. Prim. Onderw. Hoogeveen","Openbaar",{"$f":"SUMIF(Leerlingaantallen[Werkgevernummer],BevoegdGezag!A500,Leerlingaantallen[Bedrag])","v":330321.59000000003}]
[42559,"Ver tot Stg en Insth v Scholen md Bijbel te Groot Ammers en Langerak","Protestants-Christelijk",{"$f":"SUMIF(Leerlingaantallen[Werkgevernummer],BevoegdGezag!A501,Leerlingaantallen[Bedrag])","v":120022.88}]
[42561,"Stichting Poolsterscholen","Openbaar",{"$f":"SUMIF(Leerlingaantallen[Werkgevernummer],BevoegdGezag!A502,Leerlingaantallen[Bedrag])","v":400679.83}]
[42562,"Stg. Openb. Primair Onderwijs Hendrik-Ido-Ambacht","Openbaar",{"$f":"SUMIF(Leerlingaantallen[Werkgevernummer],BevoegdGezag!A503,Leerlingaantallen[Bedrag])","v":425512.15}]
[42564,"Stichting Katholiek Onderwijs Breukelen","Rooms-Katholiek",{"$f":"SUMIF(Leerlingaantallen[Werkgevernummer],BevoegdGezag!A504,Leerlingaantallen[Bedrag])","v":113556.13}]
[42567,"Stichting Openbaar Onderwijs Wijk bij Duurstede","Openbaar",{"$f":"SUMIF(Leerlingaantallen[Werkgevernummer],BevoegdGezag!A505,Leerlingaantallen[Bedrag])","v":224008.22000000003}]
[42570,"Mantum onderwijs","Reformatorisch",{"$f":"SUMIF(Leerlingaantallen[Werkgevernummer],BevoegdGezag!A506,Leerlingaantallen[Bedrag])","v":142785.84}]
[42579,"Stichting Casa School","Algemeen bijzonder",{"$f":"SUMIF(Leerlingaantallen[Werkgevernummer],BevoegdGezag!A507,Leerlingaantallen[Bedrag])","v":82774.400000000009}]
[42587,"Stichting voor Christelijk Nationaal Schoolonderw Ede eo","Protestants-Christelijk",{"$f":"SUMIF(Leerlingaantallen[Werkgevernummer],BevoegdGezag!A508,Leerlingaantallen[Bedrag])","v":764500.08}]
[42594,"Stichting Samenwerkingssch. Rivierenwijk","Samenwerking Opb., PC",{"$f":"SUMIF(Leerlingaantallen[Werkgevernummer],BevoegdGezag!A509,Leerlingaantallen[Bedrag])","v":75790.31}]
[42596,"De Meent, Stg. v. P.C.P.O. id gemeente Elburg","Protestants-Christelijk",{"$f":"SUMIF(Leerlingaantallen[Werkgevernummer],BevoegdGezag!A510,Leerlingaantallen[Bedrag])","v":268758.13}]
[42600,"Stichting voor P.C. Onderwijs Dronten-Zeewolde","Protestants-Christelijk",{"$f":"SUMIF(Leerlingaantallen[Werkgevernummer],BevoegdGezag!A511,Leerlingaantallen[Bedrag])","v":471814.07999999996}]
[42604,"Stichting voor Christelijk Basisonderwijs De Greiden","Protestants-Christelijk",{"$f":"SUMIF(Leerlingaantallen[Werkgevernummer],BevoegdGezag!A512,Leerlingaantallen[Bedrag])","v":213920.09000000003}]
[42607,"Vereniging voor G.P.O. in Noord Nederland NoorderBasis","Gereformeerd vrijgemaakt",{"$f":"SUMIF(Leerlingaantallen[Werkgevernummer],BevoegdGezag!A513,Leerlingaantallen[Bedrag])","v":1054339.4500000002}]
[42610,"Stichting ARCHIPEL SCHOLEN","Openbaar",{"$f":"SUMIF(Leerlingaantallen[Werkgevernummer],BevoegdGezag!A514,Leerlingaantallen[Bedrag])","v":640725.59}]
[42616,"Stichting voor Katholiek Basisonderwijs Gelderland","Rooms-Katholiek",{"$f":"SUMIF(Leerlingaantallen[Werkgevernummer],BevoegdGezag!A515,Leerlingaantallen[Bedrag])","v":709014.47}]
[42623,"Stichting Openbaar Onderwijs Zwolle en Regio"," ",{"$f":"SUMIF(Leerlingaantallen[Werkgevernummer],BevoegdGezag!A516,Leerlingaantallen[Bedrag])","v":1710714.5899999999}]
[42632,"Stichting voor P.C.P.O. op Goeree-Overflakkee","Overige",{"$f":"SUMIF(Leerlingaantallen[Werkgevernummer],BevoegdGezag!A517,Leerlingaantallen[Bedrag])","v":481643.54}]
[42634,"Stichting Omnisscholen","Overige",{"$f":"SUMIF(Leerlingaantallen[Werkgevernummer],BevoegdGezag!A518,Leerlingaantallen[Bedrag])","v":81739.72}]
[42636,"Stg Samenwerkingsschool Yn de Mande","Overige",{"$f":"SUMIF(Leerlingaantallen[Werkgevernummer],BevoegdGezag!A519,Leerlingaantallen[Bedrag])","v":13450.84}]
[42653,"Stichting voor PC/RK Primair Onderwijs Middelburg/Vlissingen","Samenwerking PC, RK",{"$f":"SUMIF(Leerlingaantallen[Werkgevernummer],BevoegdGezag!A520,Leerlingaantallen[Bedrag])","v":758937.78}]
[42656,"Sticht. voor Christ. B.o. in Noardwest Fryslƒn","Overige",{"$f":"SUMIF(Leerlingaantallen[Werkgevernummer],BevoegdGezag!A521,Leerlingaantallen[Bedrag])","v":562865.92000000016}]
[42658,"Stichting Christel. Onderw. Bomm.waard","Protestants-Christelijk",{"$f":"SUMIF(Leerlingaantallen[Werkgevernummer],BevoegdGezag!A522,Leerlingaantallen[Bedrag])","v":185983.72999999998}]
[42669,"Stichting Kom Leren","Algemeen bijzonder",{"$f":"SUMIF(Leerlingaantallen[Werkgevernummer],BevoegdGezag!A523,Leerlingaantallen[Bedrag])","v":963804.41999999993}]
[42674,"Stichting Democratisch Onderwijs De Vallei","Algemeen bijzonder",{"$f":"SUMIF(Leerlingaantallen[Werkgevernummer],BevoegdGezag!A524,Leerlingaantallen[Bedrag])","v":36472.47}]
[42679,"Stichting Kronenburgh","Overige",{"$f":"SUMIF(Leerlingaantallen[Werkgevernummer],BevoegdGezag!A525,Leerlingaantallen[Bedrag])","v":72944.94}]
[42683,"Stichting Meer Primair","Samenwerking PC, RK",{"$f":"SUMIF(Leerlingaantallen[Werkgevernummer],BevoegdGezag!A526,Leerlingaantallen[Bedrag])","v":1309128.8700000001}]
[42686,"Stichting Islamitisch Onderwijs Noord-Holland","Overige",{"$f":"SUMIF(Leerlingaantallen[Werkgevernummer],BevoegdGezag!A527,Leerlingaantallen[Bedrag])","v":23021.63}]
[42709,"Stg Onderwijsgroep Zuid-Hollandse Waarden voor PO en VO","Openbaar",{"$f":"SUMIF(Leerlingaantallen[Werkgevernummer],BevoegdGezag!A528,Leerlingaantallen[Bedrag])","v":1042698.7700000001}]
[42715,"Stichting School of Understanding Nederland","Algemeen bijzonder",{"$f":"SUMIF(Leerlingaantallen[Werkgevernummer],BevoegdGezag!A529,Leerlingaantallen[Bedrag])","v":54320.700000000004}]
[42719,"Stichting Plateau openbaar onderwijs Assen","Overige",{"$f":"SUMIF(Leerlingaantallen[Werkgevernummer],BevoegdGezag!A530,Leerlingaantallen[Bedrag])","v":853482.77000000014}]
[42723,"Stichting Jenaplanschool Antonius Abt","Overige",{"$f":"SUMIF(Leerlingaantallen[Werkgevernummer],BevoegdGezag!A531,Leerlingaantallen[Bedrag])","v":101398.64}]
[42724,"Vereniging voor Chr PO op Reformatorische Grondslag in Zeeland te Middelburg","Overige",{"$f":"SUMIF(Leerlingaantallen[Werkgevernummer],BevoegdGezag!A532,Leerlingaantallen[Bedrag])","v":549932.42000000004}]
[42728,"Stichting De Buitenkans","Overige",{"$f":"SUMIF(Leerlingaantallen[Werkgevernummer],BevoegdGezag!A533,Leerlingaantallen[Bedrag])","v":35179.120000000003}]
[42744,"Stg. Floreant, Chr. Prim. Ond. Vechtdal","Protestants-Christelijk",{"$f":"SUMIF(Leerlingaantallen[Werkgevernummer],BevoegdGezag!A534,Leerlingaantallen[Bedrag])","v":325406.86000000004}]
[42751,"Stichting De Eigen Wijs","Algemeen bijzonder",{"$f":"SUMIF(Leerlingaantallen[Werkgevernummer],BevoegdGezag!A535,Leerlingaantallen[Bedrag])","v":26643.010000000002}]
[42754,"Stichting Oarsprong","Protestants-Christelijk",{"$f":"SUMIF(Leerlingaantallen[Werkgevernummer],BevoegdGezag!A536,Leerlingaantallen[Bedrag])","v":451379.14999999997}]
[42755,"Stichting Samenwerkingsbestuur Primair Onderwijs West-Friesland","Samenwerking Opb., RK",{"$f":"SUMIF(Leerlingaantallen[Werkgevernummer],BevoegdGezag!A537,Leerlingaantallen[Bedrag])","v":33627.1}]
[42759,"De Akker, Stichting v prot-chr primair onderwijs in de gemeente Oldebroek e.o.","Protestants-Christelijk",{"$f":"SUMIF(Leerlingaantallen[Werkgevernummer],BevoegdGezag!A538,Leerlingaantallen[Bedrag])","v":252979.26}]
[42760,"ZOK GG Tricht-Geldermalsen","Overige",{"$f":"SUMIF(Leerlingaantallen[Werkgevernummer],BevoegdGezag!A539,Leerlingaantallen[Bedrag])","v":143820.52000000002}]
[42761,"Stichting Ultiem","Openbaar",{"$f":"SUMIF(Leerlingaantallen[Werkgevernummer],BevoegdGezag!A540,Leerlingaantallen[Bedrag])","v":498715.76}]
[42765,"Stichting Openbaar Onderwijs Vlieland","Openbaar",{"$f":"SUMIF(Leerlingaantallen[Werkgevernummer],BevoegdGezag!A541,Leerlingaantallen[Bedrag])","v":13709.51}]
[42767,"Stichting Integrale Streekschool Hoenderloo","Algemeen bijzonder",{"$f":"SUMIF(Leerlingaantallen[Werkgevernummer],BevoegdGezag!A542,Leerlingaantallen[Bedrag])","v":10864.140000000001}]
[42768,"Stichting HAPPY KIDS Education","Overige",{"$f":"SUMIF(Leerlingaantallen[Werkgevernummer],BevoegdGezag!A543,Leerlingaantallen[Bedrag])","v":15002.86}]
[42769,"Stichting Leren in de Tussenruimte","Overige",{"$f":"SUMIF(Leerlingaantallen[Werkgevernummer],BevoegdGezag!A544,Leerlingaantallen[Bedrag])","v":50181.98}]
[42774,"Vereniging tot het verstrekken v ondw op reformatorische grondslag te Oldebroek","Overige",{"$f":"SUMIF(Leerlingaantallen[Werkgevernummer],BevoegdGezag!A545,Leerlingaantallen[Bedrag])","v":82257.060000000012}]
[42782,"Stichting Omniumscholen","Algemeen bijzonder",{"$f":"SUMIF(Leerlingaantallen[Werkgevernummer],BevoegdGezag!A546,Leerlingaantallen[Bedrag])","v":6725.42}]
[42786,"Stichting Maashorstschool","Overige",{"$f":"SUMIF(Leerlingaantallen[Werkgevernummer],BevoegdGezag!A547,Leerlingaantallen[Bedrag])","v":10346.800000000001}]
[42788,"Stichting Samenlevingsscholen","Protestants-Christelijk",{"$f":"SUMIF(Leerlingaantallen[Werkgevernummer],BevoegdGezag!A548,Leerlingaantallen[Bedrag])","v":99847.510000000009}]
[42791,"Stichting Kunst en Onderwijs Centrum","Algemeen bijzonder",{"$f":"SUMIF(Leerlingaantallen[Werkgevernummer],BevoegdGezag!A549,Leerlingaantallen[Bedrag])","v":20952.27}]
[42793,"Stichting De Schoolwerkplaats","Algemeen bijzonder",{"$f":"SUMIF(Leerlingaantallen[Werkgevernummer],BevoegdGezag!A550,Leerlingaantallen[Bedrag])","v":10088.130000000001}]
[42794,"Stichting voor Christelijk-reformatorisch primair onderwijs ' De Planthof '","Overige",{"$f":"SUMIF(Leerlingaantallen[Werkgevernummer],BevoegdGezag!A551,Leerlingaantallen[Bedrag])","v":125972.29000000001}]
[42795,"Stichting v Kunstzinnig, Innovatief, Toekomstgericht en Ambitieus Basisonderwijs","Algemeen bijzonder",{"$f":"SUMIF(Leerlingaantallen[Werkgevernummer],BevoegdGezag!A552,Leerlingaantallen[Bedrag])","v":2586.7000000000003}]
[42802,"Stichting ExpeditieWijz","Overige",{"$f":"SUMIF(Leerlingaantallen[Werkgevernummer],BevoegdGezag!A553,Leerlingaantallen[Bedrag])","v":0}]
[42803,"Stichting Groos","Algemeen bijzonder",{"$f":"SUMIF(Leerlingaantallen[Werkgevernummer],BevoegdGezag!A554,Leerlingaantallen[Bedrag])","v":3621.38}]
[42804,"Stichting Magnolia","Overige",{"$f":"SUMIF(Leerlingaantallen[Werkgevernummer],BevoegdGezag!A555,Leerlingaantallen[Bedrag])","v":14744.19}]
[42814,"Onderwijsstichting de Nieuwe Linde","Algemeen bijzonder",{"$f":"SUMIF(Leerlingaantallen[Werkgevernummer],BevoegdGezag!A556,Leerlingaantallen[Bedrag])","v":0}]
[42815,"Vereniging tot het Verstrekken van Chr. Nationaal Schoolonderwijs te Oostwolde","Overige",{"$f":"SUMIF(Leerlingaantallen[Werkgevernummer],BevoegdGezag!A557,Leerlingaantallen[Bedrag])","v":0}]
[42818,"Stichting Veluwse Onderwijsgroep","Samenwerking Opb., Alg. Bijz.",{"$f":"SUMIF(Leerlingaantallen[Werkgevernummer],BevoegdGezag!A558,Leerlingaantallen[Bedrag])","v":0}]
[42825,"Stichting De Uni voor Kinderkunde","Algemeen bijzonder",{"$f":"SUMIF(Leerlingaantallen[Werkgevernummer],BevoegdGezag!A559,Leerlingaantallen[Bedrag])","v":0}]
[42826,"Stichting Islamitisch basisonderwijs Amsterdam","Islamitisch",{"$f":"SUMIF(Leerlingaantallen[Werkgevernummer],BevoegdGezag!A560,Leerlingaantallen[Bedrag])","v":0}]
[42836,"Ver. verstrekken basisonderw. gereform. grondslag te Yerseke","Protestants-Christelijk",{"$f":"SUMIF(Leerlingaantallen[Werkgevernummer],BevoegdGezag!A561,Leerlingaantallen[Bedrag])","v":92086.52}]
[42980,"Stg. tot het Verstr. van Bas. ond. op Geref. Grondsl.","Protestants-Christelijk",{"$f":"SUMIF(Leerlingaantallen[Werkgevernummer],BevoegdGezag!A562,Leerlingaantallen[Bedrag])","v":72944.94}]
[43005,"Ver. tot het Verstr. van Ond. op Geref. Grondslag Terneuzen","Reformatorisch",{"$f":"SUMIF(Leerlingaantallen[Werkgevernummer],BevoegdGezag!A563,Leerlingaantallen[Bedrag])","v":51216.66}]
[43175,"Ver. tot het verstr. van Chr. Ond. op Ref. Grondslag te Zwijndrecht","Reformatorisch",{"$f":"SUMIF(Leerlingaantallen[Werkgevernummer],BevoegdGezag!A564,Leerlingaantallen[Bedrag])","v":53027.350000000006}]
[43188,"Stg. Reformatorisch Onderwijs voor Woerden en omgeving","Reformatorisch",{"$f":"SUMIF(Leerlingaantallen[Werkgevernummer],BevoegdGezag!A565,Leerlingaantallen[Bedrag])","v":43973.9}]
[43227,"Stg. PCPO Capelle a.d. IJssel en Krimpen aan den IJssel","Protestants-Christelijk",{"$f":"SUMIF(Leerlingaantallen[Werkgevernummer],BevoegdGezag!A566,Leerlingaantallen[Bedrag])","v":548380.82999999996}]
[43305,"Stichting Kathol. Onderw. Vierlingsbeek","Rooms-Katholiek",{"$f":"SUMIF(Leerlingaantallen[Werkgevernummer],BevoegdGezag!A567,Leerlingaantallen[Bedrag])","v":156495.35000000003}]
[43318,"Katholieke Scholenstichting Fectio","Rooms-Katholiek",{"$f":"SUMIF(Leerlingaantallen[Werkgevernummer],BevoegdGezag!A568,Leerlingaantallen[Bedrag])","v":685475.5}]
[43383,"Ver. CO op Reformat. Grondslag te Barendrecht","Reformatorisch",{"$f":"SUMIF(Leerlingaantallen[Werkgevernummer],BevoegdGezag!A569,Leerlingaantallen[Bedrag])","v":79670.36}]
[43824,"Schoolvereniging Uitgaande vd Gereformeerde Gemeente Kampen","Protestants-Christelijk",{"$f":"SUMIF(Leerlingaantallen[Werkgevernummer],BevoegdGezag!A570,Leerlingaantallen[Bedrag])","v":77342.33}]
[43825,"Stichting Katholiek Onderwijs Raamsdonk","Rooms-Katholiek",{"$f":"SUMIF(Leerlingaantallen[Werkgevernummer],BevoegdGezag!A571,Leerlingaantallen[Bedrag])","v":43197.89}]
[43928,"Vereniging voor C.O. in Papendrecht en Sliedrecht","Protestants-Christelijk",{"$f":"SUMIF(Leerlingaantallen[Werkgevernummer],BevoegdGezag!A572,Leerlingaantallen[Bedrag])","v":621584.01}]
[43967,"Stichting Katholiek Onderwijs Drimmelen","Rooms-Katholiek",{"$f":"SUMIF(Leerlingaantallen[Werkgevernummer],BevoegdGezag!A573,Leerlingaantallen[Bedrag])","v":383607.61}]
[44071,"Vereniging tot het verstrekken bas.ond. Ger. Gr.sl. Grafhors","Protestants-Christelijk",{"$f":"SUMIF(Leerlingaantallen[Werkgevernummer],BevoegdGezag!A574,Leerlingaantallen[Bedrag])","v":48112.62}]
[44175,"Vereniging 'Een School met de Bijbel'","Protestants-Christelijk",{"$f":"SUMIF(Leerlingaantallen[Werkgevernummer],BevoegdGezag!A575,Leerlingaantallen[Bedrag])","v":104761.35}]
[44201,"Onderwijsstichting KempenKind","Rooms-Katholiek",{"$f":"SUMIF(Leerlingaantallen[Werkgevernummer],BevoegdGezag!A576,Leerlingaantallen[Bedrag])","v":897585.55}]
[44318,"Hervormde Vereniging voor Chr. Onderw. te IJsselmuiden","Protestants-Christelijk",{"$f":"SUMIF(Leerlingaantallen[Werkgevernummer],BevoegdGezag!A577,Leerlingaantallen[Bedrag])","v":158047.37}]
[44397,"Stichting Samenwerkingsbestuur Primair Onderw. Venray/Regio","Samenwerking Opb., PC, RK, Alg",{"$f":"SUMIF(Leerlingaantallen[Werkgevernummer],BevoegdGezag!A578,Leerlingaantallen[Bedrag])","v":718844.29}]
[45000,"Stichting Primenius","Rooms-Katholiek",{"$f":"SUMIF(Leerlingaantallen[Werkgevernummer],BevoegdGezag!A579,Leerlingaantallen[Bedrag])","v":1254937.9200000002}]
[45059,"Sticht. De Werf v. onderw. op grondsl. vr. pers.heidsvorming","Algemeen bijzonder",{"$f":"SUMIF(Leerlingaantallen[Werkgevernummer],BevoegdGezag!A580,Leerlingaantallen[Bedrag])","v":73979.62000000001}]
[45189,"Sticht. Katholiek Onderwijs id Par. vd Allerheil. Drie-eenh.","Rooms-Katholiek",{"$f":"SUMIF(Leerlingaantallen[Werkgevernummer],BevoegdGezag!A581,Leerlingaantallen[Bedrag])","v":55355.380000000005}]
[45722,"Ver. tot het Verstr. van Ond. op Geref. Grondslag te Teuge","Protestants-Christelijk",{"$f":"SUMIF(Leerlingaantallen[Werkgevernummer],BevoegdGezag!A582,Leerlingaantallen[Bedrag])","v":137353.77000000002}]
[45774,"Ver. Verstrekken van Onderwijs Geref. Grondslag te Waarde","Protestants-Christelijk",{"$f":"SUMIF(Leerlingaantallen[Werkgevernummer],BevoegdGezag!A583,Leerlingaantallen[Bedrag])","v":31040.400000000001}]
[45917,"Vereniging voor Christel. Prim. Onderwijs","Protestants-Christelijk",{"$f":"SUMIF(Leerlingaantallen[Werkgevernummer],BevoegdGezag!A584,Leerlingaantallen[Bedrag])","v":504148.27}]
[45969,"Stg. vr Prot. Chr. Bas.onderw. in de Gemeente Voorst","Protestants-Christelijk",{"$f":"SUMIF(Leerlingaantallen[Werkgevernummer],BevoegdGezag!A585,Leerlingaantallen[Bedrag])","v":170204.86000000002}]
[46021,"Ver. tot het verstr. v. o.o.g. grondslag te Waardenburg","Protestants-Christelijk",{"$f":"SUMIF(Leerlingaantallen[Werkgevernummer],BevoegdGezag!A586,Leerlingaantallen[Bedrag])","v":54579.37}]
[46060,"Ver. Instandh. Scholen Bijbel te Molenaarsgraaf e.o.","Protestants-Christelijk",{"$f":"SUMIF(Leerlingaantallen[Werkgevernummer],BevoegdGezag!A587,Leerlingaantallen[Bedrag])","v":52251.340000000004}]
[46152,"Ver. tot het Verstrekken bo op RG vd Noordoostpolder en omg.","Reformatorisch",{"$f":"SUMIF(Leerlingaantallen[Werkgevernummer],BevoegdGezag!A588,Leerlingaantallen[Bedrag])","v":59494.100000000006}]
[46385,"Stichting Katholiek Onderwijs Bernardus Alfrink","Rooms-Katholiek",{"$f":"SUMIF(Leerlingaantallen[Werkgevernummer],BevoegdGezag!A589,Leerlingaantallen[Bedrag])","v":432237.57000000007}]
[46697,"Ver. t.h. verstr. cbo op r.g. te  Aagtekerke en Meliskerke","Reformatorisch",{"$f":"SUMIF(Leerlingaantallen[Werkgevernummer],BevoegdGezag!A590,Leerlingaantallen[Bedrag])","v":86654.450000000012}]
[46723,"Stichting Rotterdamse Schoolvereniging","Algemeen bijzonder",{"$f":"SUMIF(Leerlingaantallen[Werkgevernummer],BevoegdGezag!A591,Leerlingaantallen[Bedrag])","v":143561.85}]
[46724,"Stichting LIMA voor K.P.O. in Oost Gelre","Rooms-Katholiek",{"$f":"SUMIF(Leerlingaantallen[Werkgevernummer],BevoegdGezag!A592,Leerlingaantallen[Bedrag])","v":395506.79000000004}]
[46879,"Stichting 'Het Rijnlands Lyceum'","Algemeen bijzonder",{"$f":"SUMIF(Leerlingaantallen[Werkgevernummer],BevoegdGezag!A593,Leerlingaantallen[Bedrag])","v":451637.82}]
[47100,"Stichting Sint Josephscholen","Rooms-Katholiek",{"$f":"SUMIF(Leerlingaantallen[Werkgevernummer],BevoegdGezag!A594,Leerlingaantallen[Bedrag])","v":947766.88000000012}]
[47322,"Stg. Katholiek Basisonderwijs Haarlem-Schoten","Rooms-Katholiek",{"$f":"SUMIF(Leerlingaantallen[Werkgevernummer],BevoegdGezag!A595,Leerlingaantallen[Bedrag])","v":240304.43}]
[47438,"Ver. Stichting/Instandhouding Scholen met de Bijbel De Valk","Protestants-Christelijk",{"$f":"SUMIF(Leerlingaantallen[Werkgevernummer],BevoegdGezag!A596,Leerlingaantallen[Bedrag])","v":18624.240000000002}]
[47595,"Stg. Protestants-Christelijk Basis- en Orthopedag. Onderw.","Protestants-Christelijk",{"$f":"SUMIF(Leerlingaantallen[Werkgevernummer],BevoegdGezag!A597,Leerlingaantallen[Bedrag])","v":1827634.03}]
[47659,"Stichting Kathol. Basisonderwijs Borculo","Rooms-Katholiek",{"$f":"SUMIF(Leerlingaantallen[Werkgevernummer],BevoegdGezag!A598,Leerlingaantallen[Bedrag])","v":51734}]
[47685,"Ver. Stg./Inst. Scholen Bijbel te Overwoud bij Lunteren","Protestants-Christelijk",{"$f":"SUMIF(Leerlingaantallen[Werkgevernummer],BevoegdGezag!A599,Leerlingaantallen[Bedrag])","v":40093.850000000006}]
[47867,"Verenig. voor Chr. Onderwijs op Reformatorische Grondslag","Reformatorisch",{"$f":"SUMIF(Leerlingaantallen[Werkgevernummer],BevoegdGezag!A600,Leerlingaantallen[Bedrag])","v":124161.60000000001}]
[47920,"Stichting Dynamiek Scholengroep","Samenwerking Opb., RK",{"$f":"SUMIF(Leerlingaantallen[Werkgevernummer],BevoegdGezag!A601,Leerlingaantallen[Bedrag])","v":806145.46000000008}]
[47932,"VvC Bo op reform. grondslag v. Nederhemert en omstreken","Reformatorisch",{"$f":"SUMIF(Leerlingaantallen[Werkgevernummer],BevoegdGezag!A602,Leerlingaantallen[Bedrag])","v":63632.820000000007}]
[47959,"Stichting voor Primair Onderw. Regio Helden","Rooms-Katholiek",{"$f":"SUMIF(Leerlingaantallen[Werkgevernummer],BevoegdGezag!A603,Leerlingaantallen[Bedrag])","v":436764.47000000003}]
[48101,"Stichting Xpect Primair","Rooms-Katholiek",{"$f":"SUMIF(Leerlingaantallen[Werkgevernummer],BevoegdGezag!A604,Leerlingaantallen[Bedrag])","v":1927350.17}]
[48348,"OPTIMUS stg. kath.,prot.-chr./ en interconfess. primair ond.","Rooms-Katholiek",{"$f":"SUMIF(Leerlingaantallen[Werkgevernummer],BevoegdGezag!A605,Leerlingaantallen[Bedrag])","v":1206050.0699999998}]
[48622,"Stichting de Amsterdamse Montessorisch.","Algemeen bijzonder",{"$f":"SUMIF(Leerlingaantallen[Werkgevernummer],BevoegdGezag!A606,Leerlingaantallen[Bedrag])","v":77342.33}]
[48933,"School Bestuur Johannes Calvijnschool Urk","Reformatorisch",{"$f":"SUMIF(Leerlingaantallen[Werkgevernummer],BevoegdGezag!A607,Leerlingaantallen[Bedrag])","v":55096.710000000006}]
[49180,"Utrechtse Schoolvereniging","Algemeen bijzonder",{"$f":"SUMIF(Leerlingaantallen[Werkgevernummer],BevoegdGezag!A608,Leerlingaantallen[Bedrag])","v":56390.060000000005}]
[49844,"Stg tot instandh en opr van één of meer basissch en sch voor voortgezet onderw","Reformatorisch",{"$f":"SUMIF(Leerlingaantallen[Werkgevernummer],BevoegdGezag!A609,Leerlingaantallen[Bedrag])","v":176671.61000000002}]
[49960,"Vereniging voor Gereformeerd Onderwijs","Gereformeerd vrijgemaakt",{"$f":"SUMIF(Leerlingaantallen[Werkgevernummer],BevoegdGezag!A610,Leerlingaantallen[Bedrag])","v":194002.5}]
[50129,"Stichting Essentius","Rooms-Katholiek",{"$f":"SUMIF(Leerlingaantallen[Werkgevernummer],BevoegdGezag!A611,Leerlingaantallen[Bedrag])","v":338599.03}]
[50195,"Stichting KindPunt","Protestants-Christelijk",{"$f":"SUMIF(Leerlingaantallen[Werkgevernummer],BevoegdGezag!A612,Leerlingaantallen[Bedrag])","v":373778.15}]
[50299,"Stichting tot het Verstrekken Lager Onderw. Geref. Grondslag","Reformatorisch",{"$f":"SUMIF(Leerlingaantallen[Werkgevernummer],BevoegdGezag!A613,Leerlingaantallen[Bedrag])","v":45267.25}]
[50819,"Meerderweert, Sticht. Primair Onderwijs Weert/Nederweert","Rooms-Katholiek",{"$f":"SUMIF(Leerlingaantallen[Werkgevernummer],BevoegdGezag!A614,Leerlingaantallen[Bedrag])","v":733588.73}]
[50844,"Stichting Primair Onderwijs Achterhoek","Samenwerking RK, Alg. Bijz.",{"$f":"SUMIF(Leerlingaantallen[Werkgevernummer],BevoegdGezag!A615,Leerlingaantallen[Bedrag])","v":709014.47}]
[50949,"Stichting TOF Onderwijs","Samenwerking PC, RK, Alg. Bijz",{"$f":"SUMIF(Leerlingaantallen[Werkgevernummer],BevoegdGezag!A616,Leerlingaantallen[Bedrag])","v":465606}]
[50988,"Ver. tot het Verstr. v. Chr. Basisond. op Reform. Grondsl.","Reformatorisch",{"$f":"SUMIF(Leerlingaantallen[Werkgevernummer],BevoegdGezag!A617,Leerlingaantallen[Bedrag])","v":72686.27}]
[52131,"Scholenstichting Pastoor Ariëns","Rooms-Katholiek",{"$f":"SUMIF(Leerlingaantallen[Werkgevernummer],BevoegdGezag!A618,Leerlingaantallen[Bedrag])","v":318681.44}]
[53015,"Ver. Rehoboth tot Stg. en Instandh. Scholen Bybel te Urk","Protestants-Christelijk",{"$f":"SUMIF(Leerlingaantallen[Werkgevernummer],BevoegdGezag!A619,Leerlingaantallen[Bedrag])","v":523548.08}]
[53197,"Stichting Katholiek Basisonderwijs De Hoeksteen","Rooms-Katholiek",{"$f":"SUMIF(Leerlingaantallen[Werkgevernummer],BevoegdGezag!A620,Leerlingaantallen[Bedrag])","v":120540.22}]
[53210,"Stichting Rooms Kathol. Onderw. Naarden","Rooms-Katholiek",{"$f":"SUMIF(Leerlingaantallen[Werkgevernummer],BevoegdGezag!A621,Leerlingaantallen[Bedrag])","v":97259.920000000013}]
[53262,"Ver. tot Stg. en Instandh. v. Schol. met de Bijb. te Veen","Protestants-Christelijk",{"$f":"SUMIF(Leerlingaantallen[Werkgevernummer],BevoegdGezag!A622,Leerlingaantallen[Bedrag])","v":73462.28}]
[53406,"Stichting Katholiek Onderwijs St. Willibrordus","Rooms-Katholiek",{"$f":"SUMIF(Leerlingaantallen[Werkgevernummer],BevoegdGezag!A623,Leerlingaantallen[Bedrag])","v":58459.420000000006}]
[53444,"Stichting Kathol. Onderw. Bussum e.o.","Rooms-Katholiek",{"$f":"SUMIF(Leerlingaantallen[Werkgevernummer],BevoegdGezag!A624,Leerlingaantallen[Bedrag])","v":61822.130000000005}]
[53730,"Stichting Bestuur R.K. Scholen te Schalkhaar","Rooms-Katholiek",{"$f":"SUMIF(Leerlingaantallen[Werkgevernummer],BevoegdGezag!A625,Leerlingaantallen[Bedrag])","v":115625.49}]
[53860,"Stg. K.O. Centrale Groningen/ KBS Bisschop Bekkers","Rooms-Katholiek",{"$f":"SUMIF(Leerlingaantallen[Werkgevernummer],BevoegdGezag!A626,Leerlingaantallen[Bedrag])","v":159858.06000000003}]
[55238,"Stichting Sarkon","Rooms-Katholiek",{"$f":"SUMIF(Leerlingaantallen[Werkgevernummer],BevoegdGezag!A627,Leerlingaantallen[Bedrag])","v":1060029.6599999999}]
[55303,"Stg. Katholiek Primair Onderw. Etten-Leur","Rooms-Katholiek",{"$f":"SUMIF(Leerlingaantallen[Werkgevernummer],BevoegdGezag!A628,Leerlingaantallen[Bedrag])","v":735399.73}]
[57266,"Stichting Confessioneel Onderwijs Leiden","Rooms-Katholiek",{"$f":"SUMIF(Leerlingaantallen[Werkgevernummer],BevoegdGezag!A629,Leerlingaantallen[Bedrag])","v":1079429.9100000001}]
[57969,"Ver. v. Christelijk Onderwijs op Reformatorische Grondslag","Reformatorisch",{"$f":"SUMIF(Leerlingaantallen[Werkgevernummer],BevoegdGezag!A630,Leerlingaantallen[Bedrag])","v":56907.4}]
[58761,"Stichting Katholiek Onderwijs Enschede","Samenwerking PC, RK",{"$f":"SUMIF(Leerlingaantallen[Werkgevernummer],BevoegdGezag!A631,Leerlingaantallen[Bedrag])","v":1062358.6199999999}]
[58826,"Schoolvereniging Peetersschool","Rooms-Katholiek",{"$f":"SUMIF(Leerlingaantallen[Werkgevernummer],BevoegdGezag!A632,Leerlingaantallen[Bedrag])","v":58718.090000000004}]
[59451,"Stichting Basisschool De Ridderslag","Antroposofisch",{"$f":"SUMIF(Leerlingaantallen[Werkgevernummer],BevoegdGezag!A633,Leerlingaantallen[Bedrag])","v":54838.04}]
[59516,"Ver. Christelijk Onderwijs op Reformatorische Grondslag","Reformatorisch",{"$f":"SUMIF(Leerlingaantallen[Werkgevernummer],BevoegdGezag!A634,Leerlingaantallen[Bedrag])","v":24314.980000000003}]
[59555,"Stichting voor Chr.Prim.Onderw.Albrandswaard","Protestants-Christelijk",{"$f":"SUMIF(Leerlingaantallen[Werkgevernummer],BevoegdGezag!A635,Leerlingaantallen[Bedrag])","v":280398.28000000003}]
[59750,"Stg. ter bev. van het n.b.o. te Vlaardingen","Algemeen bijzonder",{"$f":"SUMIF(Leerlingaantallen[Werkgevernummer],BevoegdGezag!A636,Leerlingaantallen[Bedrag])","v":37248.480000000003}]
[59919,"Stichting Vrije School De Vuurvogel","Antroposofisch",{"$f":"SUMIF(Leerlingaantallen[Werkgevernummer],BevoegdGezag!A637,Leerlingaantallen[Bedrag])","v":66995.53}]
[59984,"Stichting Vrije School Breda","Antroposofisch",{"$f":"SUMIF(Leerlingaantallen[Werkgevernummer],BevoegdGezag!A638,Leerlingaantallen[Bedrag])","v":60011.44}]
[60061,"Stichting Scholen Parochie H. Bernadette","Rooms-Katholiek",{"$f":"SUMIF(Leerlingaantallen[Werkgevernummer],BevoegdGezag!A639,Leerlingaantallen[Bedrag])","v":89241.150000000009}]
[60322,"Verenig. voor COR grondslag in Oost-Friesland te Drachten","Reformatorisch",{"$f":"SUMIF(Leerlingaantallen[Werkgevernummer],BevoegdGezag!A640,Leerlingaantallen[Bedrag])","v":17848.23}]
[60686,"Stichting Samenwerkingsschool Kranenburg en omstreken","Algemeen bijzonder",{"$f":"SUMIF(Leerlingaantallen[Werkgevernummer],BevoegdGezag!A641,Leerlingaantallen[Bedrag])","v":21469.61}]
[60829,"Vereniging voor Prot.-Christ. Basisond. Alteveer/Kerkenveld","Protestants-Christelijk",{"$f":"SUMIF(Leerlingaantallen[Werkgevernummer],BevoegdGezag!A642,Leerlingaantallen[Bedrag])","v":28195.030000000002}]
[60985,"Stichting voor Christelijk Primair Onderwijs Lelystad","Protestants-Christelijk",{"$f":"SUMIF(Leerlingaantallen[Werkgevernummer],BevoegdGezag!A643,Leerlingaantallen[Bedrag])","v":365501.01999999996}]
[60997,"Stg. Alkmaarse Kath. Scholen, stg. kath., p-c/int.conf. ond.","Rooms-Katholiek",{"$f":"SUMIF(Leerlingaantallen[Werkgevernummer],BevoegdGezag!A644,Leerlingaantallen[Bedrag])","v":1010883.1800000002}]
[61661,"Ned. Ger. Schoolvereniging voor Kampen-IJsselmuiden e.o.","Protestants-Christelijk",{"$f":"SUMIF(Leerlingaantallen[Werkgevernummer],BevoegdGezag!A645,Leerlingaantallen[Bedrag])","v":35179.120000000003}]
[61751,"Stg. Christelijk Onderwijs Twenterand en Omstreken","Protestants-Christelijk",{"$f":"SUMIF(Leerlingaantallen[Werkgevernummer],BevoegdGezag!A646,Leerlingaantallen[Bedrag])","v":521867.28}]
[61829,"Vereniging voor Christelijk Onderwijs Haren en Onnen","Protestants-Christelijk",{"$f":"SUMIF(Leerlingaantallen[Werkgevernummer],BevoegdGezag!A647,Leerlingaantallen[Bedrag])","v":119246.87000000001}]
[61960,"Stichting Samenwerkende Vrijescholen Zuid-Holland","Antroposofisch",{"$f":"SUMIF(Leerlingaantallen[Werkgevernummer],BevoegdGezag!A648,Leerlingaantallen[Bedrag])","v":504923.84000000008}]
[62571,"Ver. tot Opr. en I.h. S.m.e.B. te Bruchterveld,Gem.Hardenber","Protestants-Christelijk",{"$f":"SUMIF(Leerlingaantallen[Werkgevernummer],BevoegdGezag!A649,Leerlingaantallen[Bedrag])","v":21986.95}]
[62584,"'Stichting Vrijeschool Almere'","Antroposofisch",{"$f":"SUMIF(Leerlingaantallen[Werkgevernummer],BevoegdGezag!A650,Leerlingaantallen[Bedrag])","v":124161.60000000001}]
[62662,"Stichting Protestants Christelijk Onderwijs Utrecht","Protestants-Christelijk",{"$f":"SUMIF(Leerlingaantallen[Werkgevernummer],BevoegdGezag!A651,Leerlingaantallen[Bedrag])","v":2167655.21}]
[62778,"Stichting Katholiek Onderwijs Maasland","Rooms-Katholiek",{"$f":"SUMIF(Leerlingaantallen[Werkgevernummer],BevoegdGezag!A652,Leerlingaantallen[Bedrag])","v":64408.83}]
[62818,"Schoolver. v. Basisonderw. in Wageningen","Algemeen bijzonder",{"$f":"SUMIF(Leerlingaantallen[Werkgevernummer],BevoegdGezag!A653,Leerlingaantallen[Bedrag])","v":61563.460000000006}]
[63039,"'t Blokhuus","Algemeen bijzonder",{"$f":"SUMIF(Leerlingaantallen[Werkgevernummer],BevoegdGezag!A654,Leerlingaantallen[Bedrag])","v":58976.76}]
[63091,"Ver. v. Prot. Chr. Basisond. te Notter-Zuna","Protestants-Christelijk",{"$f":"SUMIF(Leerlingaantallen[Werkgevernummer],BevoegdGezag!A655,Leerlingaantallen[Bedrag])","v":24056.31}]
[64169,"Katholieke Stichting voor Onderwijs te Oude Tonge","Rooms-Katholiek",{"$f":"SUMIF(Leerlingaantallen[Werkgevernummer],BevoegdGezag!A656,Leerlingaantallen[Bedrag])","v":41904.54}]
[65287,"Dr. Schaepmanstichting","Rooms-Katholiek",{"$f":"SUMIF(Leerlingaantallen[Werkgevernummer],BevoegdGezag!A657,Leerlingaantallen[Bedrag])","v":1365778.6500000001}]
[65430,"Stichting Katholiek Onderwijs Soest-Soesterberg","Rooms-Katholiek",{"$f":"SUMIF(Leerlingaantallen[Werkgevernummer],BevoegdGezag!A658,Leerlingaantallen[Bedrag])","v":332908.29000000004}]
[65768,"Stichting Katholiek Onderwijs Achterveld","Rooms-Katholiek",{"$f":"SUMIF(Leerlingaantallen[Werkgevernummer],BevoegdGezag!A659,Leerlingaantallen[Bedrag])","v":31557.74}]
[68329,"Stichting Katholiek Onderwijs Wassenaar","Rooms-Katholiek",{"$f":"SUMIF(Leerlingaantallen[Werkgevernummer],BevoegdGezag!A660,Leerlingaantallen[Bedrag])","v":171239.54}]
[68836,"Stichting Katholiek Onderwijs Twenterand","Rooms-Katholiek",{"$f":"SUMIF(Leerlingaantallen[Werkgevernummer],BevoegdGezag!A661,Leerlingaantallen[Bedrag])","v":690390.2300000001}]
[69447,"Het Sticht, Sticht. Katholiek/Algemeen Bijz. Primair Onderw.","Rooms-Katholiek",{"$f":"SUMIF(Leerlingaantallen[Werkgevernummer],BevoegdGezag!A662,Leerlingaantallen[Bedrag])","v":507769.20999999996}]
[69643,"Vereniging voor Reformatorisch Onderwijs","Reformatorisch",{"$f":"SUMIF(Leerlingaantallen[Werkgevernummer],BevoegdGezag!A663,Leerlingaantallen[Bedrag])","v":39317.840000000004}]
[69669,"Vereniging voor Christ. Onderw. Groningen","Protestants-Christelijk",{"$f":"SUMIF(Leerlingaantallen[Werkgevernummer],BevoegdGezag!A664,Leerlingaantallen[Bedrag])","v":874563.27}]
[69799,"Katholieke Stichting Willibrordus","Rooms-Katholiek",{"$f":"SUMIF(Leerlingaantallen[Werkgevernummer],BevoegdGezag!A665,Leerlingaantallen[Bedrag])","v":55614.05}]
[69877,"Vereniging voor Primair Christelijk Onderwijs H'veen","Protestants-Christelijk",{"$f":"SUMIF(Leerlingaantallen[Werkgevernummer],BevoegdGezag!A666,Leerlingaantallen[Bedrag])","v":681595.45000000007}]
[70002,"Stichting Kalisto Boei. Basisonderwijs!","Rooms-Katholiek",{"$f":"SUMIF(Leerlingaantallen[Werkgevernummer],BevoegdGezag!A667,Leerlingaantallen[Bedrag])","v":951389.24999999988}]
[70085,"Stichting Hervormde Scholen voor Basisonderwijs","Protestants-Christelijk",{"$f":"SUMIF(Leerlingaantallen[Werkgevernummer],BevoegdGezag!A668,Leerlingaantallen[Bedrag])","v":302643.90000000002}]
[70176,"Stichting Christel. Onderwijs Haaglanden","Protestants-Christelijk",{"$f":"SUMIF(Leerlingaantallen[Werkgevernummer],BevoegdGezag!A669,Leerlingaantallen[Bedrag])","v":2575708.29}]
[70280,"Ver. v. Prot.-Chr. Basisond.","Protestants-Christelijk",{"$f":"SUMIF(Leerlingaantallen[Werkgevernummer],BevoegdGezag!A670,Leerlingaantallen[Bedrag])","v":35696.46}]
[70358,"Stg. th Verstr. C.o. op G.G., uitgaande van de Geref. G.i.N.","Protestants-Christelijk",{"$f":"SUMIF(Leerlingaantallen[Werkgevernummer],BevoegdGezag!A671,Leerlingaantallen[Bedrag])","v":29747.050000000003}]
[70644,"R.K. Onderwijsstichting Giesbeek-Lathum","Rooms-Katholiek",{"$f":"SUMIF(Leerlingaantallen[Werkgevernummer],BevoegdGezag!A672,Leerlingaantallen[Bedrag])","v":46301.93}]
[71008,"Stichting Leerrijk!","Rooms-Katholiek",{"$f":"SUMIF(Leerlingaantallen[Werkgevernummer],BevoegdGezag!A673,Leerlingaantallen[Bedrag])","v":784934.89000000013}]
[71242,"Deventer Leerschool","Algemeen bijzonder",{"$f":"SUMIF(Leerlingaantallen[Werkgevernummer],BevoegdGezag!A674,Leerlingaantallen[Bedrag])","v":55614.05}]
[71488,"Stg. v. Kath. Primair Onderw. Amersfoort en Omstreken","Rooms-Katholiek",{"$f":"SUMIF(Leerlingaantallen[Werkgevernummer],BevoegdGezag!A675,Leerlingaantallen[Bedrag])","v":1361768.8599999999}]
[71502,"Stichting voor Freinetonderwijs in Utrecht","Algemeen bijzonder",{"$f":"SUMIF(Leerlingaantallen[Werkgevernummer],BevoegdGezag!A676,Leerlingaantallen[Bedrag])","v":58718.090000000004}]
[71515,"Ver. tot Stg. en Instandhoud. van een School met de Bijbel","Protestants-Christelijk",{"$f":"SUMIF(Leerlingaantallen[Werkgevernummer],BevoegdGezag!A677,Leerlingaantallen[Bedrag])","v":32075.08}]
[71956,"Stichting Primair Onderwijs de Linge","Rooms-Katholiek",{"$f":"SUMIF(Leerlingaantallen[Werkgevernummer],BevoegdGezag!A678,Leerlingaantallen[Bedrag])","v":530016.05000000005}]
[72087,"De Vrije School Utrecht Coöperatief UA","Antroposofisch",{"$f":"SUMIF(Leerlingaantallen[Werkgevernummer],BevoegdGezag!A679,Leerlingaantallen[Bedrag])","v":159858.06}]
[72100,"Ver. Willem de Zwijgerschool voor Christelijk Onderwijs","Protestants-Christelijk",{"$f":"SUMIF(Leerlingaantallen[Werkgevernummer],BevoegdGezag!A680,Leerlingaantallen[Bedrag])","v":114590.81000000001}]
[72242,"Stichting R.K. Onderwijs Aerdenhout","Rooms-Katholiek",{"$f":"SUMIF(Leerlingaantallen[Werkgevernummer],BevoegdGezag!A681,Leerlingaantallen[Bedrag])","v":55872.72}]
[72386,"Ver. tot Stg. & Inst.houding SmdB voor B.O. Ooltgensplaat","Protestants-Christelijk",{"$f":"SUMIF(Leerlingaantallen[Werkgevernummer],BevoegdGezag!A682,Leerlingaantallen[Bedrag])","v":34144.44}]
[72853,"Stichting Katholiek Onderwijs Volendam","Rooms-Katholiek",{"$f":"SUMIF(Leerlingaantallen[Werkgevernummer],BevoegdGezag!A683,Leerlingaantallen[Bedrag])","v":490309.39}]
[73191,"Stichting Nuwelijn","Rooms-Katholiek",{"$f":"SUMIF(Leerlingaantallen[Werkgevernummer],BevoegdGezag!A684,Leerlingaantallen[Bedrag])","v":350239.18000000005}]
[73283,"Stichting Katholiek Basisond. De Goede Herder","Rooms-Katholiek",{"$f":"SUMIF(Leerlingaantallen[Werkgevernummer],BevoegdGezag!A685,Leerlingaantallen[Bedrag])","v":95966.57}]
[73556,"Stichting Sint Albertus","Rooms-Katholiek",{"$f":"SUMIF(Leerlingaantallen[Werkgevernummer],BevoegdGezag!A686,Leerlingaantallen[Bedrag])","v":93638.540000000008}]
[73724,"Nicolaas-Stichting","Rooms-Katholiek",{"$f":"SUMIF(Leerlingaantallen[Werkgevernummer],BevoegdGezag!A687,Leerlingaantallen[Bedrag])","v":108641.40000000001}]
[73919,"Stichting Blosse onderwijs","Interconfessioneel",{"$f":"SUMIF(Leerlingaantallen[Werkgevernummer],BevoegdGezag!A688,Leerlingaantallen[Bedrag])","v":1830090.25}]
[74049,"Stichting Signum","Rooms-Katholiek",{"$f":"SUMIF(Leerlingaantallen[Werkgevernummer],BevoegdGezag!A689,Leerlingaantallen[Bedrag])","v":1579439.38}]
[74154,"Stichting Kath. Prim. Onderw. Roosendaal","Rooms-Katholiek",{"$f":"SUMIF(Leerlingaantallen[Werkgevernummer],BevoegdGezag!A690,Leerlingaantallen[Bedrag])","v":1091329.5}]
[74426,"Stichting Rooms Katholiek Onderwijs Huizen","Rooms-Katholiek",{"$f":"SUMIF(Leerlingaantallen[Werkgevernummer],BevoegdGezag!A691,Leerlingaantallen[Bedrag])","v":245219.16}]
[74492,"Stichting voor Pr. Chr. Onderw. te Wassenaar","Protestants-Christelijk",{"$f":"SUMIF(Leerlingaantallen[Werkgevernummer],BevoegdGezag!A692,Leerlingaantallen[Bedrag])","v":98553.27}]
[74531,"Stichting Kind en Onderwijs Rotterdam","Protestants-Christelijk",{"$f":"SUMIF(Leerlingaantallen[Werkgevernummer],BevoegdGezag!A693,Leerlingaantallen[Bedrag])","v":1830479.4300000004}]
[74609,"Ver. Verstrekk. Basisonderwijs Geref. Grondslag Berkenwoude","Protestants-Christelijk",{"$f":"SUMIF(Leerlingaantallen[Werkgevernummer],BevoegdGezag!A694,Leerlingaantallen[Bedrag])","v":44232.57}]
[74868,"Stichting Katholiek Basisonderwijs Meijel","Rooms-Katholiek",{"$f":"SUMIF(Leerlingaantallen[Werkgevernummer],BevoegdGezag!A695,Leerlingaantallen[Bedrag])","v":124937.61}]
[74973,"Ver. Prot.-Chr. Basisonderwijs te Sleeuwijk","Protestants-Christelijk",{"$f":"SUMIF(Leerlingaantallen[Werkgevernummer],BevoegdGezag!A696,Leerlingaantallen[Bedrag])","v":102174.65000000001}]
[75064,"Ver. St./Inst.houd. SmdB v. Bo op Ger. Grondslag te Ouddorp","Protestants-Christelijk",{"$f":"SUMIF(Leerlingaantallen[Werkgevernummer],BevoegdGezag!A697,Leerlingaantallen[Bedrag])","v":96225.24}]
[75206,"Stichting Katholieke Scholen Oegstgeest","Rooms-Katholiek",{"$f":"SUMIF(Leerlingaantallen[Werkgevernummer],BevoegdGezag!A698,Leerlingaantallen[Bedrag])","v":106830.71}]
[75219,"Stichting Kathol. Onderw. NO Twente","Rooms-Katholiek",{"$f":"SUMIF(Leerlingaantallen[Werkgevernummer],BevoegdGezag!A699,Leerlingaantallen[Bedrag])","v":1106203.4000000001}]
[75375,"Stichting Katholiek Onderwijs West-Friesland","Rooms-Katholiek",{"$f":"SUMIF(Leerlingaantallen[Werkgevernummer],BevoegdGezag!A700,Leerlingaantallen[Bedrag])","v":1116678.3900000001}]
[75388,"Stichting SAAM scholen","Samenwerking Opb., RK, Alg. Bi",{"$f":"SUMIF(Leerlingaantallen[Werkgevernummer],BevoegdGezag!A701,Leerlingaantallen[Bedrag])","v":1621602.2300000002}]
[75531,"Stichting Katholiek Onderwijs Pijnacker","Rooms-Katholiek",{"$f":"SUMIF(Leerlingaantallen[Werkgevernummer],BevoegdGezag!A702,Leerlingaantallen[Bedrag])","v":376364.85000000003}]
[75597,"Kerobei, Stichting voor Katholiek Primair Onderwijs","Samenwerking Opb., RK",{"$f":"SUMIF(Leerlingaantallen[Werkgevernummer],BevoegdGezag!A703,Leerlingaantallen[Bedrag])","v":1173198.69}]
[75688,"Ver. voor Bijz. Onderw. op Algemene Grondslag","Algemeen bijzonder",{"$f":"SUMIF(Leerlingaantallen[Werkgevernummer],BevoegdGezag!A704,Leerlingaantallen[Bedrag])","v":64667.500000000007}]
[75753,"Stichting Proceon voor PCO ih Gooi en omgeving","Protestants-Christelijk",{"$f":"SUMIF(Leerlingaantallen[Werkgevernummer],BevoegdGezag!A705,Leerlingaantallen[Bedrag])","v":790236.85000000009}]
[75934,"Stichting Katholiek Onderwijs Rijsbergen","Rooms-Katholiek",{"$f":"SUMIF(Leerlingaantallen[Werkgevernummer],BevoegdGezag!A706,Leerlingaantallen[Bedrag])","v":100622.63}]
[75974,"Herv. Schoolver. Op Geref. Grondsl. te Elspeet","Protestants-Christelijk",{"$f":"SUMIF(Leerlingaantallen[Werkgevernummer],BevoegdGezag!A707,Leerlingaantallen[Bedrag])","v":57942.080000000002}]
[76585,"Stichting de Vrije School Zeeland","Antroposofisch",{"$f":"SUMIF(Leerlingaantallen[Werkgevernummer],BevoegdGezag!A708,Leerlingaantallen[Bedrag])","v":51992.670000000006}]
[76663,"Stg. Verstrekk. Basisonderwijs op Reformatorische Grondslag","Protestants-Christelijk",{"$f":"SUMIF(Leerlingaantallen[Werkgevernummer],BevoegdGezag!A709,Leerlingaantallen[Bedrag])","v":53803.360000000001}]
[76715,"Ver. tot vest. en instandh. v. Sch. md Bijbel, Geref.Grondsl","Protestants-Christelijk",{"$f":"SUMIF(Leerlingaantallen[Werkgevernummer],BevoegdGezag!A710,Leerlingaantallen[Bedrag])","v":125454.95000000001}]
[76740,"Stichting Werkplaats Kindergemeenschap","Algemeen bijzonder",{"$f":"SUMIF(Leerlingaantallen[Werkgevernummer],BevoegdGezag!A711,Leerlingaantallen[Bedrag])","v":147183.23000000001}]
[76793,"Stichting Rooms Katholiek Onderwijs","Rooms-Katholiek",{"$f":"SUMIF(Leerlingaantallen[Werkgevernummer],BevoegdGezag!A712,Leerlingaantallen[Bedrag])","v":104244.01000000001}]
[76819,"Stichting voor Prot.-Chr. Onderwijs te Ermelo","Protestants-Christelijk",{"$f":"SUMIF(Leerlingaantallen[Werkgevernummer],BevoegdGezag!A713,Leerlingaantallen[Bedrag])","v":316612.08}]
[76910,"Stichting Interconfessioneel Onderwijs te Bredevoort","Algemeen bijzonder",{"$f":"SUMIF(Leerlingaantallen[Werkgevernummer],BevoegdGezag!A714,Leerlingaantallen[Bedrag])","v":35955.130000000005}]
[77052,"Stichting Overvecht Zuid Voor Het Katholiek Onderwijs","Rooms-Katholiek",{"$f":"SUMIF(Leerlingaantallen[Werkgevernummer],BevoegdGezag!A715,Leerlingaantallen[Bedrag])","v":175895.6}]
[77091,"Sticht. Nederlands Inst. voor Katholieke Kerkmuziek","Rooms-Katholiek",{"$f":"SUMIF(Leerlingaantallen[Werkgevernummer],BevoegdGezag!A716,Leerlingaantallen[Bedrag])","v":18882.91}]
[77195,"Katholieke Scholenstichting Utrecht (K.S.U.)","Rooms-Katholiek",{"$f":"SUMIF(Leerlingaantallen[Werkgevernummer],BevoegdGezag!A717,Leerlingaantallen[Bedrag])","v":1872255.29}]
[77196,"Vereniging voor Prot. Christ. Primair Onderwijs te Rijssen","Protestants-Christelijk",{"$f":"SUMIF(Leerlingaantallen[Werkgevernummer],BevoegdGezag!A718,Leerlingaantallen[Bedrag])","v":474013.3}]
[77235,"LiemersNovum","Samenwerking Opb., RK",{"$f":"SUMIF(Leerlingaantallen[Werkgevernummer],BevoegdGezag!A719,Leerlingaantallen[Bedrag])","v":1221439.7400000002}]
[77338,"Stg. Veldvest bijzond. onderw. in Veldhoven en omgeving","Rooms-Katholiek",{"$f":"SUMIF(Leerlingaantallen[Werkgevernummer],BevoegdGezag!A720,Leerlingaantallen[Bedrag])","v":956303.50000000012}]
[77456,"Stichting Vrijescholen Athena","Antroposofisch",{"$f":"SUMIF(Leerlingaantallen[Werkgevernummer],BevoegdGezag!A721,Leerlingaantallen[Bedrag])","v":703323.73}]
[77533,"Stichting Prisma Scholengroep","Rooms-Katholiek",{"$f":"SUMIF(Leerlingaantallen[Werkgevernummer],BevoegdGezag!A722,Leerlingaantallen[Bedrag])","v":600631.74000000011}]
[77975,"Stichting Trinamiek, stichting v kath, opb en alg-bijz primair en voortgezet ond","Samenwerking Opb., Alg. Bijz.",{"$f":"SUMIF(Leerlingaantallen[Werkgevernummer],BevoegdGezag!A723,Leerlingaantallen[Bedrag])","v":1111505.6500000001}]
[78066,"Stichting Primair onderwijs in de gemeente Zundert","Samenwerking PC, RK, Alg. Bijz",{"$f":"SUMIF(Leerlingaantallen[Werkgevernummer],BevoegdGezag!A724,Leerlingaantallen[Bedrag])","v":248323.20000000001}]
[78184,"Stichting Vrije School Zwolle","Antroposofisch",{"$f":"SUMIF(Leerlingaantallen[Werkgevernummer],BevoegdGezag!A725,Leerlingaantallen[Bedrag])","v":97259.920000000013}]
[78197,"Ver. voor Christelijk Onderw. op Reformatorische Grondslag","Reformatorisch",{"$f":"SUMIF(Leerlingaantallen[Werkgevernummer],BevoegdGezag!A726,Leerlingaantallen[Bedrag])","v":29488.38}]
[78222,"Stichting Scala, stg. voor kath., openb./a.b.o.","Rooms-Katholiek",{"$f":"SUMIF(Leerlingaantallen[Werkgevernummer],BevoegdGezag!A727,Leerlingaantallen[Bedrag])","v":902758.3}]
[78457,"Stichting Joodse Kindergem. Cheider","Joods",{"$f":"SUMIF(Leerlingaantallen[Werkgevernummer],BevoegdGezag!A728,Leerlingaantallen[Bedrag])","v":18624.240000000002}]
[78782,"Octant, stichting voor christelijk primair onderwijs","Protestants-Christelijk",{"$f":"SUMIF(Leerlingaantallen[Werkgevernummer],BevoegdGezag!A729,Leerlingaantallen[Bedrag])","v":689485.43}]
[79003,"Stichting Het Zonnewiel, Vrijeschool De Bilt","Antroposofisch",{"$f":"SUMIF(Leerlingaantallen[Werkgevernummer],BevoegdGezag!A730,Leerlingaantallen[Bedrag])","v":55355.380000000005}]
[79016,"Montessori Vereniging Haarlemmermeer","Algemeen bijzonder",{"$f":"SUMIF(Leerlingaantallen[Werkgevernummer],BevoegdGezag!A731,Leerlingaantallen[Bedrag])","v":129593.67000000001}]
[79796,"Stichting Neutraal Bijzonder Montessori Onderwijs Purmerend","Algemeen bijzonder",{"$f":"SUMIF(Leerlingaantallen[Werkgevernummer],BevoegdGezag!A732,Leerlingaantallen[Bedrag])","v":57942.080000000002}]
[79835,"Veren. voor Montessorionderw. te Leusden","Algemeen bijzonder",{"$f":"SUMIF(Leerlingaantallen[Werkgevernummer],BevoegdGezag!A733,Leerlingaantallen[Bedrag])","v":57942.080000000002}]
[79874,"Stichting Kopwerk","Protestants-Christelijk",{"$f":"SUMIF(Leerlingaantallen[Werkgevernummer],BevoegdGezag!A734,Leerlingaantallen[Bedrag])","v":711859.84}]
[79952,"Groenekanse Schoolvereniging de Nijepoort,BOAG Groenekan eo","Algemeen bijzonder",{"$f":"SUMIF(Leerlingaantallen[Werkgevernummer],BevoegdGezag!A735,Leerlingaantallen[Bedrag])","v":41645.870000000003}]
[80095,"Ver. v. Protest. Christ. B.o. te Rijnsburg","Protestants-Christelijk",{"$f":"SUMIF(Leerlingaantallen[Werkgevernummer],BevoegdGezag!A736,Leerlingaantallen[Bedrag])","v":314542.71999999997}]
[80433,"Stichting PIT-Onderwijs","Protestants-Christelijk",{"$f":"SUMIF(Leerlingaantallen[Werkgevernummer],BevoegdGezag!A737,Leerlingaantallen[Bedrag])","v":800325.59000000008}]
[81030,"Vereniging voor Prot. Christ. Basis Onderwijs de Schakel","Protestants-Christelijk",{"$f":"SUMIF(Leerlingaantallen[Werkgevernummer],BevoegdGezag!A738,Leerlingaantallen[Bedrag])","v":20952.27}]
[81316,"Stichting Amsterdamse Oecumenische Scholengroep","Protestants-Christelijk",{"$f":"SUMIF(Leerlingaantallen[Werkgevernummer],BevoegdGezag!A739,Leerlingaantallen[Bedrag])","v":1865786.7100000007}]
[81433,"Ver. Prot. Chr. Basisonderwijs te Anjum","Protestants-Christelijk",{"$f":"SUMIF(Leerlingaantallen[Werkgevernummer],BevoegdGezag!A740,Leerlingaantallen[Bedrag])","v":30523.06}]
[81810,"Christelijke Schoolvereniging Amsterdam Zuid","Protestants-Christelijk",{"$f":"SUMIF(Leerlingaantallen[Werkgevernummer],BevoegdGezag!A741,Leerlingaantallen[Bedrag])","v":62080.800000000003}]
[81902,"St. tot het verstrekken van Onderwijs Gereform. Grondslag","Protestants-Christelijk",{"$f":"SUMIF(Leerlingaantallen[Werkgevernummer],BevoegdGezag!A742,Leerlingaantallen[Bedrag])","v":50181.98}]
[81967,"Stichting voor Basisonderwijs op Gereformeerde Grondslag","Protestants-Christelijk",{"$f":"SUMIF(Leerlingaantallen[Werkgevernummer],BevoegdGezag!A743,Leerlingaantallen[Bedrag])","v":33627.1}]
[81979,"Ver. tot Stg. en Instandhoud. van een School met den Bijbel","Protestants-Christelijk",{"$f":"SUMIF(Leerlingaantallen[Werkgevernummer],BevoegdGezag!A744,Leerlingaantallen[Bedrag])","v":70875.58}]
[82292,"Stichting Hub Noord-Brabant","Algemeen bijzonder",{"$f":"SUMIF(Leerlingaantallen[Werkgevernummer],BevoegdGezag!A745,Leerlingaantallen[Bedrag])","v":664781.90000000014}]
[82526,"Stichting voor Prot. Christel. Basisonderwijs Apeldoorn","Protestants-Christelijk",{"$f":"SUMIF(Leerlingaantallen[Werkgevernummer],BevoegdGezag!A746,Leerlingaantallen[Bedrag])","v":1422685.0000000002}]
[82591,"Stichting Chr. B.s. De Klokkenberg","Protestants-Christelijk",{"$f":"SUMIF(Leerlingaantallen[Werkgevernummer],BevoegdGezag!A747,Leerlingaantallen[Bedrag])","v":54320.700000000004}]
[82747,"Stichting Jenaplanscholen Bollenstreek","Algemeen bijzonder",{"$f":"SUMIF(Leerlingaantallen[Werkgevernummer],BevoegdGezag!A748,Leerlingaantallen[Bedrag])","v":36213.800000000003}]
[82785,"Stichting Protestants Christelijk Onderwijs LEV","Protestants-Christelijk",{"$f":"SUMIF(Leerlingaantallen[Werkgevernummer],BevoegdGezag!A749,Leerlingaantallen[Bedrag])","v":326441.54000000004}]
[82786,"Stichting Interconfessionele Samenwerkingsschool Meddo","Algemeen bijzonder",{"$f":"SUMIF(Leerlingaantallen[Werkgevernummer],BevoegdGezag!A750,Leerlingaantallen[Bedrag])","v":21210.940000000002}]
[82838,"Vereniging Nieuwe School Edam","Algemeen bijzonder",{"$f":"SUMIF(Leerlingaantallen[Werkgevernummer],BevoegdGezag!A751,Leerlingaantallen[Bedrag])","v":49147.3}]
[82981,"Stichting Vrije School Michael","Antroposofisch",{"$f":"SUMIF(Leerlingaantallen[Werkgevernummer],BevoegdGezag!A752,Leerlingaantallen[Bedrag])","v":62339.47}]
[83019,"Ver. bevordering Chr. Onderw. te Bruinisse","Protestants-Christelijk",{"$f":"SUMIF(Leerlingaantallen[Werkgevernummer],BevoegdGezag!A753,Leerlingaantallen[Bedrag])","v":27419.02}]
[83149,"VCO Bunschoten","Protestants-Christelijk",{"$f":"SUMIF(Leerlingaantallen[Werkgevernummer],BevoegdGezag!A754,Leerlingaantallen[Bedrag])","v":299539.86}]
[83228,"Stichting Christelijk Onderwijs Delft e.o.","Protestants-Christelijk",{"$f":"SUMIF(Leerlingaantallen[Werkgevernummer],BevoegdGezag!A755,Leerlingaantallen[Bedrag])","v":492766.35000000009}]
[83267,"Vereniging voor Protestants Christelijk Basisonderwijs te Lutten","Protestants-Christelijk",{"$f":"SUMIF(Leerlingaantallen[Werkgevernummer],BevoegdGezag!A756,Leerlingaantallen[Bedrag])","v":38541.83}]
[83280,"Stichting Kindante, leren leren, leren leven","Samenwerking Opb., PC, RK, Alg",{"$f":"SUMIF(Leerlingaantallen[Werkgevernummer],BevoegdGezag!A757,Leerlingaantallen[Bedrag])","v":2351571.16}]
[83579,"Stichting Hervormde Scholen Barneveld, Ede en omstreken","Protestants-Christelijk",{"$f":"SUMIF(Leerlingaantallen[Werkgevernummer],BevoegdGezag!A758,Leerlingaantallen[Bedrag])","v":522513.4}]
[83656,"Vereniging 'een School met de Bijbel'","Protestants-Christelijk",{"$f":"SUMIF(Leerlingaantallen[Werkgevernummer],BevoegdGezag!A759,Leerlingaantallen[Bedrag])","v":72686.27}]
[83696,"Ver. Prot.-Christ. Onderwijs te Holten","Protestants-Christelijk",{"$f":"SUMIF(Leerlingaantallen[Werkgevernummer],BevoegdGezag!A760,Leerlingaantallen[Bedrag])","v":75531.64}]
[83786,"Vereniging voor Christelijk Onderwijs Instituut Coolsma","Protestants-Christelijk",{"$f":"SUMIF(Leerlingaantallen[Werkgevernummer],BevoegdGezag!A761,Leerlingaantallen[Bedrag])","v":62598.140000000007}]
[83864,"Vereniging 'Een School met de Bijbel'","Protestants-Christelijk",{"$f":"SUMIF(Leerlingaantallen[Werkgevernummer],BevoegdGezag!A762,Leerlingaantallen[Bedrag])","v":318681.44000000006}]
[84046,"Ver. voor Prot.-Chr. Onderwijs te Eerbeek","Protestants-Christelijk",{"$f":"SUMIF(Leerlingaantallen[Werkgevernummer],BevoegdGezag!A763,Leerlingaantallen[Bedrag])","v":82257.06}]
[84215,"Ver. tot Stg. en Instandh. van een School met de Bijbel","Protestants-Christelijk",{"$f":"SUMIF(Leerlingaantallen[Werkgevernummer],BevoegdGezag!A764,Leerlingaantallen[Bedrag])","v":25867}]
[84332,"Stichting Verenigde Christelijke Scholen Opsterland","Protestants-Christelijk",{"$f":"SUMIF(Leerlingaantallen[Werkgevernummer],BevoegdGezag!A765,Leerlingaantallen[Bedrag])","v":15778.87}]
[84411,"Vereniging Jenaplanschool Gouda","Algemeen bijzonder",{"$f":"SUMIF(Leerlingaantallen[Werkgevernummer],BevoegdGezag!A766,Leerlingaantallen[Bedrag])","v":70616.91}]
[84423,"Ver. voor Prot. Chr. Onderwijs te Garderen, Stroe&Kootw.broe","Protestants-Christelijk",{"$f":"SUMIF(Leerlingaantallen[Werkgevernummer],BevoegdGezag!A767,Leerlingaantallen[Bedrag])","v":135543.08000000002}]
[84489,"Stichting Freinetschool Heiloo","Algemeen bijzonder",{"$f":"SUMIF(Leerlingaantallen[Werkgevernummer],BevoegdGezag!A768,Leerlingaantallen[Bedrag])","v":36989.810000000005}]
[84567,"Stichting 'De Nieuwe Kring'","Algemeen bijzonder",{"$f":"SUMIF(Leerlingaantallen[Werkgevernummer],BevoegdGezag!A769,Leerlingaantallen[Bedrag])","v":90534.5}]
[84579,"Ver. Herv. Sch.gem. voor Prot.-Chr. Ond. te Genem.","Protestants-Christelijk",{"$f":"SUMIF(Leerlingaantallen[Werkgevernummer],BevoegdGezag!A770,Leerlingaantallen[Bedrag])","v":102433.32000000002}]
[84787,"Vereniging voor Evangelisatie 'Het Mosterdzaadje'","Protestants-Christelijk",{"$f":"SUMIF(Leerlingaantallen[Werkgevernummer],BevoegdGezag!A771,Leerlingaantallen[Bedrag])","v":26643.010000000002}]
[84801,"Stichting Vrije School Amersfoort","Antroposofisch",{"$f":"SUMIF(Leerlingaantallen[Werkgevernummer],BevoegdGezag!A772,Leerlingaantallen[Bedrag])","v":100881.3}]
[84827,"Ver. Prot.-Chr. Bas.onderwijs te Sprang-Capelle/Kaatsheuvel","Protestants-Christelijk",{"$f":"SUMIF(Leerlingaantallen[Werkgevernummer],BevoegdGezag!A773,Leerlingaantallen[Bedrag])","v":72944.94}]
[85048,"De Capelse Schoolvereniging","Algemeen bijzonder",{"$f":"SUMIF(Leerlingaantallen[Werkgevernummer],BevoegdGezag!A774,Leerlingaantallen[Bedrag])","v":56648.73}]
[85255,"Stichting TWijs","Protestants-Christelijk",{"$f":"SUMIF(Leerlingaantallen[Werkgevernummer],BevoegdGezag!A775,Leerlingaantallen[Bedrag])","v":1935111.0000000002}]
[85476,"Stg. voor Christelijk Onderw. Harderwijk-Hierden","Protestants-Christelijk",{"$f":"SUMIF(Leerlingaantallen[Werkgevernummer],BevoegdGezag!A776,Leerlingaantallen[Bedrag])","v":731518.76}]
[85600,"Stichting 'Ieder kind telt' Chr. Prim. Onderw. Hellendoorn","Protestants-Christelijk",{"$f":"SUMIF(Leerlingaantallen[Werkgevernummer],BevoegdGezag!A777,Leerlingaantallen[Bedrag])","v":416976.36000000004}]
[86464,"Ver. voor Prot.-Chr. Onderwijs 'Het Mosterdzaadje'","Protestants-Christelijk",{"$f":"SUMIF(Leerlingaantallen[Werkgevernummer],BevoegdGezag!A778,Leerlingaantallen[Bedrag])","v":16296.210000000001}]
[86802,"Ver. v. Prot.-Chr. Basisond. te Hulshorst","Protestants-Christelijk",{"$f":"SUMIF(Leerlingaantallen[Werkgevernummer],BevoegdGezag!A779,Leerlingaantallen[Bedrag])","v":29747.050000000003}]
[87205,"Ver. ter Bev. Ger. Schoolond. te Kockengen","Protestants-Christelijk",{"$f":"SUMIF(Leerlingaantallen[Werkgevernummer],BevoegdGezag!A780,Leerlingaantallen[Bedrag])","v":44749.91}]
[87920,"Ver. tot Stg. en Instandhoud. van Scholen md Bijbel Lunteren","Protestants-Christelijk",{"$f":"SUMIF(Leerlingaantallen[Werkgevernummer],BevoegdGezag!A781,Leerlingaantallen[Bedrag])","v":156495.35}]
[87998,"Ver. School met de Bijbel Maartensdijk","Protestants-Christelijk",{"$f":"SUMIF(Leerlingaantallen[Werkgevernummer],BevoegdGezag!A782,Leerlingaantallen[Bedrag])","v":44491.240000000005}]
[88674,"Ver. Bevordering Christelijk Schoolonderwijs Neerlangbroek","Protestants-Christelijk",{"$f":"SUMIF(Leerlingaantallen[Werkgevernummer],BevoegdGezag!A783,Leerlingaantallen[Bedrag])","v":38283.160000000003}]
[89012,"Ver. tot Stg. en Instandh. van Scholen met de Bijbel N'loos","Protestants-Christelijk",{"$f":"SUMIF(Leerlingaantallen[Werkgevernummer],BevoegdGezag!A784,Leerlingaantallen[Bedrag])","v":38024.490000000005}]
[89155,"Hervormde Schoolvereniging te Nijkerk","Protestants-Christelijk",{"$f":"SUMIF(Leerlingaantallen[Werkgevernummer],BevoegdGezag!A785,Leerlingaantallen[Bedrag])","v":368863.42000000004}]
[90169,"Vereniging voor Protestants Christelijk Onderwijs Putten","Protestants-Christelijk",{"$f":"SUMIF(Leerlingaantallen[Werkgevernummer],BevoegdGezag!A786,Leerlingaantallen[Bedrag])","v":132697.71000000002}]
[90351,"Ver. Verstr. Basisonderwijs Reform. Gronslag Rilland-Bath","Reformatorisch",{"$f":"SUMIF(Leerlingaantallen[Werkgevernummer],BevoegdGezag!A787,Leerlingaantallen[Bedrag])","v":15778.87}]
[90637,"Ver. Stg. Herv. Schol. op Geref. Grondsl. te Rouveen","Protestants-Christelijk",{"$f":"SUMIF(Leerlingaantallen[Werkgevernummer],BevoegdGezag!A788,Leerlingaantallen[Bedrag])","v":68547.55}]
[91079,"Vereniging Stichting Instandhouding School met de Bijbel","Protestants-Christelijk",{"$f":"SUMIF(Leerlingaantallen[Werkgevernummer],BevoegdGezag!A789,Leerlingaantallen[Bedrag])","v":20952.27}]
[91118,"Christelijke Gereformeerde Schoolvereniging Sliedrecht","Protestants-Christelijk",{"$f":"SUMIF(Leerlingaantallen[Werkgevernummer],BevoegdGezag!A790,Leerlingaantallen[Bedrag])","v":142785.84}]
[91456,"Ver. tot stg. en inst.houding Scholen met de Bijbel","Reformatorisch",{"$f":"SUMIF(Leerlingaantallen[Werkgevernummer],BevoegdGezag!A791,Leerlingaantallen[Bedrag])","v":37765.82}]
[92067,"Ver. t/h Verstr. van Sch.ond. op Reformatorische Grondslag","Reformatorisch",{"$f":"SUMIF(Leerlingaantallen[Werkgevernummer],BevoegdGezag!A792,Leerlingaantallen[Bedrag])","v":136836.43000000002}]
[92210,"Vereniging voor Protestants Christ. Basisonderw. Vinkeveen","Protestants-Christelijk",{"$f":"SUMIF(Leerlingaantallen[Werkgevernummer],BevoegdGezag!A793,Leerlingaantallen[Bedrag])","v":36989.810000000005}]
[92626,"'Nederlandse Hervormde Schoolvereniging'","Protestants-Christelijk",{"$f":"SUMIF(Leerlingaantallen[Werkgevernummer],BevoegdGezag!A794,Leerlingaantallen[Bedrag])","v":68288.88}]
[92639,"Vereniging tot Stichting en Instandh. van Sch. m.d. Bijbel","Protestants-Christelijk",{"$f":"SUMIF(Leerlingaantallen[Werkgevernummer],BevoegdGezag!A795,Leerlingaantallen[Bedrag])","v":28971.040000000001}]
[92899,"Christ. Ver. voor Primair Onderwijs op Terschelling","Protestants-Christelijk",{"$f":"SUMIF(Leerlingaantallen[Werkgevernummer],BevoegdGezag!A796,Leerlingaantallen[Bedrag])","v":39059.17}]
[92951,"Verion Prot. Christel. Onderw. Wierden Enter","Protestants-Christelijk",{"$f":"SUMIF(Leerlingaantallen[Werkgevernummer],BevoegdGezag!A797,Leerlingaantallen[Bedrag])","v":215213.44000000003}]
[93445,"Ver. Chr. Nat. Basisonderwijs Driesum, Wouterswoude,Damwoude","Protestants-Christelijk",{"$f":"SUMIF(Leerlingaantallen[Werkgevernummer],BevoegdGezag!A798,Leerlingaantallen[Bedrag])","v":38024.490000000005}]
[94251,"Stg. Nutsscholen v. Kleuter-/ Lager Onderwijs Aalst-Waalre","Algemeen bijzonder",{"$f":"SUMIF(Leerlingaantallen[Werkgevernummer],BevoegdGezag!A799,Leerlingaantallen[Bedrag])","v":101139.97}]
[94316,"Schoolvereniging Aerdenhout-Bentveld","Algemeen bijzonder",{"$f":"SUMIF(Leerlingaantallen[Werkgevernummer],BevoegdGezag!A800,Leerlingaantallen[Bedrag])","v":35955.130000000005}]
[94433,"Stichting Geert Groote School","Antroposofisch",{"$f":"SUMIF(Leerlingaantallen[Werkgevernummer],BevoegdGezag!A801,Leerlingaantallen[Bedrag])","v":308075.97000000003}]
[94459,"Stichting Nieuwe Schoolvereniging","Algemeen bijzonder",{"$f":"SUMIF(Leerlingaantallen[Werkgevernummer],BevoegdGezag!A802,Leerlingaantallen[Bedrag])","v":64667.500000000007}]
[94771,"Stichting Beverwijkse Montessori Scholen","Algemeen bijzonder",{"$f":"SUMIF(Leerlingaantallen[Werkgevernummer],BevoegdGezag!A803,Leerlingaantallen[Bedrag])","v":68806.22}]
[94797,"Bloemendaalse Schoolvereniging","Algemeen bijzonder",{"$f":"SUMIF(Leerlingaantallen[Werkgevernummer],BevoegdGezag!A804,Leerlingaantallen[Bedrag])","v":62080.800000000003}]
[95135,"Delftsche Schoolvereeniging","Algemeen bijzonder",{"$f":"SUMIF(Leerlingaantallen[Werkgevernummer],BevoegdGezag!A805,Leerlingaantallen[Bedrag])","v":105278.69}]
[95148,"Stichting Deventer en Almelose Montessorischolen","Algemeen bijzonder",{"$f":"SUMIF(Leerlingaantallen[Werkgevernummer],BevoegdGezag!A806,Leerlingaantallen[Bedrag])","v":198917.23000000004}]
[95395,"Stg. Inst. van Opv. Ing. Door Luiten.-Admiraal v. Kinsbergen","Algemeen bijzonder",{"$f":"SUMIF(Leerlingaantallen[Werkgevernummer],BevoegdGezag!A807,Leerlingaantallen[Bedrag])","v":20434.93}]
[95421,"Enschedese Schoolvereniging","Algemeen bijzonder",{"$f":"SUMIF(Leerlingaantallen[Werkgevernummer],BevoegdGezag!A808,Leerlingaantallen[Bedrag])","v":57166.070000000007}]
[95655,"School Ver. Neutraal Bijzonder Onderwijs Casimir","Algemeen bijzonder",{"$f":"SUMIF(Leerlingaantallen[Werkgevernummer],BevoegdGezag!A809,Leerlingaantallen[Bedrag])","v":99329.279999999999}]
[95681,"Schoolvereniging Wolters","Algemeen bijzonder",{"$f":"SUMIF(Leerlingaantallen[Werkgevernummer],BevoegdGezag!A810,Leerlingaantallen[Bedrag])","v":113814.8}]
[95694,"Stichting Haagsche Schoolvereeniging","Algemeen bijzonder",{"$f":"SUMIF(Leerlingaantallen[Werkgevernummer],BevoegdGezag!A811,Leerlingaantallen[Bedrag])","v":326700.70999999996}]
[95746,"Vereniging Montessorischool Waalsdorp","Algemeen bijzonder",{"$f":"SUMIF(Leerlingaantallen[Werkgevernummer],BevoegdGezag!A812,Leerlingaantallen[Bedrag])","v":76824.990000000005}]
[95785,"Stichting Vrijescholen ZW Nederland","Antroposofisch",{"$f":"SUMIF(Leerlingaantallen[Werkgevernummer],BevoegdGezag!A813,Leerlingaantallen[Bedrag])","v":121057.56000000001}]
[95954,"De Haarlemse Montessorischool","Algemeen bijzonder",{"$f":"SUMIF(Leerlingaantallen[Werkgevernummer],BevoegdGezag!A814,Leerlingaantallen[Bedrag])","v":77601}]
[96266,"Hilversumse Schoolvereniging","Algemeen bijzonder",{"$f":"SUMIF(Leerlingaantallen[Werkgevernummer],BevoegdGezag!A815,Leerlingaantallen[Bedrag])","v":62080.800000000003}]
[96292,"Godelinde Schoolvereniging","Algemeen bijzonder",{"$f":"SUMIF(Leerlingaantallen[Werkgevernummer],BevoegdGezag!A816,Leerlingaantallen[Bedrag])","v":61046.12}]
[96409,"Vereniging De Flevoschool te Huizen","Algemeen bijzonder",{"$f":"SUMIF(Leerlingaantallen[Werkgevernummer],BevoegdGezag!A817,Leerlingaantallen[Bedrag])","v":62856.810000000005}]
[96617,"Eerste Leidse Schoolvereniging","Algemeen bijzonder",{"$f":"SUMIF(Leerlingaantallen[Werkgevernummer],BevoegdGezag!A818,Leerlingaantallen[Bedrag])","v":76824.990000000005}]
[97137,"De Kralingsche School","Algemeen bijzonder",{"$f":"SUMIF(Leerlingaantallen[Werkgevernummer],BevoegdGezag!A819,Leerlingaantallen[Bedrag])","v":54838.04}]
[97176,"De Vereniging DV Oldenbarneveltsch. voor abo","Algemeen bijzonder",{"$f":"SUMIF(Leerlingaantallen[Werkgevernummer],BevoegdGezag!A820,Leerlingaantallen[Bedrag])","v":61046.12}]
[97358,"Stichting 'van der Huchtscholen'","Algemeen bijzonder",{"$f":"SUMIF(Leerlingaantallen[Werkgevernummer],BevoegdGezag!A821,Leerlingaantallen[Bedrag])","v":175378.26}]
[98190,"Wageningse Schoolvereniging","Algemeen bijzonder",{"$f":"SUMIF(Leerlingaantallen[Werkgevernummer],BevoegdGezag!A822,Leerlingaantallen[Bedrag])","v":63374.15}]
[98255,"Vereniging Montessorischool Wassenaar","Algemeen bijzonder",{"$f":"SUMIF(Leerlingaantallen[Werkgevernummer],BevoegdGezag!A823,Leerlingaantallen[Bedrag])","v":36213.800000000003}]
[98398,"Ver. tot Opr. en Instandhoud. van een Neutraal Bijz. School","Algemeen bijzonder",{"$f":"SUMIF(Leerlingaantallen[Werkgevernummer],BevoegdGezag!A824,Leerlingaantallen[Bedrag])","v":26384.34}]
[98463,"Zeister Schoolvereeniging","Algemeen bijzonder",{"$f":"SUMIF(Leerlingaantallen[Werkgevernummer],BevoegdGezag!A825,Leerlingaantallen[Bedrag])","v":62339.47}]
[98489,"Stichting De Zeister Vrije School","Algemeen bijzonder",{"$f":"SUMIF(Leerlingaantallen[Werkgevernummer],BevoegdGezag!A826,Leerlingaantallen[Bedrag])","v":160375.40000000002}]
[99594,"Ver. Protestants-Christelijk Basisonderwijs te Vroomshoop","Protestants-Christelijk",{"$f":"SUMIF(Leerlingaantallen[Werkgevernummer],BevoegdGezag!A827,Leerlingaantallen[Bedrag])","v":160634.07}]
[99672,"Ver. vr Prot.-Christelijke Basisonderwijs te Beerzerveld","Protestants-Christelijk",{"$f":"SUMIF(Leerlingaantallen[Werkgevernummer],BevoegdGezag!A828,Leerlingaantallen[Bedrag])","v":20952.27}]
[99711,"Stichting Christelijk Onderw. De Roerganger",null,{"$f":"SUMIF(Leerlingaantallen[Werkgevernummer],BevoegdGezag!A829,Leerlingaantallen[Bedrag])","v":44491.240000000005}]

{"sheet":"Schalen_ineengeschoven","index":4,"n_rows":108,"n_cols":39,"rows_kept":108,"cut":false,"hidden":true,"merged":[]}
["VfPf"]
["Organisatie:",null,null,null,"Participatiefonds",null,null,null,null,null,"Uitleg:"]
["Project:",null,null,null,"VUIST",null,null,null,null,null,"Schaalcodes (kolom A) bevat een lijst met alle codes die gekozen kunnen worden"]
["Deelproject:",null,null,null,"Reglement"]
["Onderdeel:",null,null,null,"Bekostigingstool"]
["Onderwerp:",null,null,null,"Salarisschalen PO ineengeschoven (Uitloop niet weergegeven)"]
[]
[]
[]
["Schaalcodes",null,"(Adjunct-) Directeuren / Meerhoofdige schoolleiding",null,null,null,null,null,null,null,null,null,null,"Leraren",null,null,null,null,"Leraren",null,null,null,null,"Onderwijs Ondersteunend Personeel / ID banen"]
[{"$f":"E11","v":"AB"},null,"nr","id","AB","AC","AD","AE","DA","DB","DC","DD","DE","L10","L11","L12","L13","L14","LA","LB","LC","LD","LE",1,2,3,4,5,6,7,8,9,10,11,12,13,14,15,16]
[{"$f":"F11","v":"AC"},null,"a1",1,0,0,0,0,0,0,0,0,0,0,0,0,0,0,0,0,0,0,0,0,0,0,0,0,0,0,0,0,0,0,0,0,0,0,0]
[{"$f":"G11","v":"AD"},null,"a2",2,0,0,0,0,0,0,0,0,0,0,0,0,0,0,0,0,0,0,0,0,0,0,0,0,0,0,0,0,0,0,0,0,0,0,0]
[{"$f":"H11","v":"AE"},null,1,3,2768,2826,2962,3107,3018,3134,3253,3302,3424,2678,2758,2812,2812,3544,2346,2432,2446,2455,3159,1733,1733,1733,1733,1750,1816,1939,2192,2534,2516,2643,3549,4302,4925,5169,5604]
[{"$f":"I11","v":"DA"},null,2,4,2891,2962,3107,3365,3134,3368,3603,3545,3676,2761,2851,2933,2933,3677,2394,2491,2565,2602,3278,1733,1750,1816,1784,1784,1890,1995,2254,2661,2766,2766,3682,4431,5050,5294,5760]
[{"$f":"J11","v":"DB"},null,3,5,3025,3107,3365,3608,3253,3603,3836,3793,3912,2846,2948,3059,3094,3796,2446,2558,2685,2754,3386,1784,1816,1890,1853,1890,2128,2128,2374,2919,2901,2901,3798,4553,5294,5448,5914]
[{"$f":"K11","v":"DC"},null,4,6,3173,3237,3608,3860,3368,3719,4069,4031,4162,2935,3047,3190,3265,4035,2498,2622,2809,2908,3600,1816,1890,1995,1939,1995,2254,2374,2618,3066,3048,3048,3920,4678,5448,5760,6237]
[{"$f":"L11","v":"DD"},null,5,7,3300,3365,3742,4099,3484,3836,4303,4294,4422,3026,3150,3327,3436,4299,2550,2686,2929,3062,3838,1853,1939,2063,2063,2128,2315,2491,2739,3193,3175,3175,4038,4796,5604,5914,6404]
[{"$f":"M11","v":"DE"},null,6,8,3429,3489,3860,4364,2603,3951,4422,4422,4668,3119,3257,3470,3615,4466,2611,2760,3055,3223,3988,1890,1995,2128,2128,2192,2374,2557,2873,3323,3305,3305,4171,5050,5760,6071,6578]
[{"$f":"N11","v":"L10"},null,7,9,3550,3608,3980,4490,3719,4069,4539,4544,4914,3217,3367,3619,3800,4635,2674,2839,3182,3390,4139,1939,2063,2192,2192,2254,2434,2618,2949,3445,3427,3427,4431,5169,5914,6237,6785]
[{"$f":"O11","v":"L11"},null,8,10,3672,3742,4099,4614,3836,4187,4654,4668,5037,3316,3481,3776,3989,4803,2743,2925,3314,3559,4291,0,2128,2254,2254,2315,2491,2677,3018,3567,3549,3682,4553,5294,6071,6404,7003]
[{"$f":"P11","v":"L12"},null,9,11,3803,3860,4230,4737,3951,4303,4771,4786,5157,3419,3598,3937,4187,4872,2820,3025,3451,3737,4443,0,0,2315,2315,2374,2557,2739,3080,3700,3682,3798,4678,5448,6237,6578,7225]
[{"$f":"Q11","v":"L13"},null,10,12,3924,3980,4364,4858,4069,4422,4887,4914,5280,3525,3720,4107,4393,5139,2899,3128,3591,3922,4594,0,0,0,2374,2434,2618,2805,3146,3817,3798,3920,4796,5604,6404,6785,7455]
[{"$f":"R11","v":"L14"},null,11,13,4041,4099,4490,4985,4187,4539,5006,5037,5435,3634,3845,4283,4605,5310,2986,3237,3732,4113,4747,0,0,0,2434,2491,2677,2873,3212,0,3920,4038,4925,5760,6578,7003,7689]
[{"$f":"S11","v":"LA"},null,12,14,4161,4230,4614,5110,4303,4654,5122,5157,5589,3747,3976,4468,4823,5479,3077,3349,3879,4309,4898,0,0,0,0,2557,0,2949,3273,0,4038,4171,5050,5914,0,7225,7934]
[{"$f":"T11","v":"LB"},null,13,15,4364,4364,4737,5228,4422,4771,5240,5280,5743,3862,4110,4660,5050,5648,3175,3468,4030,4514,5051,0,0,0,0,0,0,0,3331,0,4171,4302,5169,6578,0,0,0]
[{"$f":"U11","v":"LC"},null,14,16,0,4490,4858,5354,0,4887,5355,5435,5898,3982,4249,4861,5283,5816,3276,3590,4183,4722,5202,0,0,0,0,0,0,0,0,0,0,4431,5294,0,0,0,0]
[{"$f":"V11","v":"LD"},null,15,17,0,4614,4985,5510,0,5006,5472,5589,6054,4113,4434,5070,5532,5990,3354,3686,4300,4892,5306,0,0,0,0,0,0,0,0,0,0,4553,5448,0,0,0,0]
[{"$f":"W11","v":"LE"},null,16,18,0,4737,5110,5663,0,0,5591,5743,6218,0,0,0,0,0,0,0,0,0,0,0,0,0,0,0,0,0,0,0,0,4678,5527,0,0,0,0]
[{"$f":"X11","v":1},null,17,19,0,4858,5228,5820,0,0,0,5898,6386,0,0,0,0,0,0,0,0,0,0,0,0,0,0,0,0,0,0,0,0,4796,0,0,0,0,0]
[{"$f":"Y11","v":2},null,18,20,0,4921,5354,5976,0,0,0,5972,6559,0,0,0,0,0,0,0,0,0,0,0,0,0,0,0,0,0,0,0,0,4861,0,0,0,0,0]
[{"$f":"Z11","v":3},null,19,21,0,0,5510,6050,0,0,0,0,0,0,0,0,0,0,0,0,0,0,0,0,0,0,0,0,0,0,0,0,0,0,0,0,0,0,0]
[{"$f":"AA11","v":4},null,20,22,0,0,5586,0,0,0,0,0,0,0,0,0,0,0,0,0,0,0,0,0,0,0,0,0,0,0,0,0,0,0,0,0,0,0,0]
[{"$f":"AB11","v":5}]
[{"$f":"AC11","v":6}]
[{"$f":"AD11","v":7}]
[{"$f":"AE11","v":8}]
[{"$f":"AF11","v":9}]
[{"$f":"AG11","v":10}]
[{"$f":"AH11","v":11}]
[{"$f":"AI11","v":12}]
[{"$f":"AJ11","v":13}]
[{"$f":"AK11","v":14}]
[{"$f":"AL11","v":15}]
[{"$f":"AM11","v":16}]
[]
[]
[]
[]
[]
[]
[]
[]
[]
[]
[]
[]
[]
[]
[]
[]
[]
[]
[]
[]
[]
[]
[]
[]
[]
[]
[]
[]
[]
[]
[]
[]
[]
[]
[null,"Artikel"]
[]
[]
[null,"6.1, 6.8, 6.9, 6.31"]
[]
[null,"6.13"]
[]
[]
[]
[]
[null,"6.14"]
[]
[]
[]
[null,"6.14a"]
[]
[null,"6.14b"]
[]
[]
[null,"6.15"]
[]
[null,"6.33"]
[]
[]
[null,"6.29a"]
[]
[]
[]
[null,"6.14c"]

{"sheet":"RekentoolUitleg","index":5,"n_rows":57,"n_cols":12,"rows_kept":57,"cut":false,"hidden":true,"merged":[]}
["Participatiefonds"]
["Project:",null,null,null,null,"VUIST"]
["Deelproject:",null,null,null,null,"Reglementen"]
["Onderdeel:",null,null,null,null,"Rekentool Bekostiging"]
["Onderwerp:",null,null,null,null,"Uitleg Concepttool"]
[]
[null,null,null,null,null,"Dit is een concept Rekentool t.b.v. ontslagaanvragen o.b.v. de oude artikelen 7 (vast en tijdelijk) en 7a (tijdelijk)"]
[]
[null,null,null,null,null,"Dit tool omvat de volgende werkbladen die door de schoolbesturen kunnen worden ingevuld (de velden in blauw moeten worden ingevuld):"]
[]
[null,null,null,null,null,"-","DUO_CFI",null,null,null,"In dit werkblad worden door het schoolbestuur een aantal bedragen ingevuld die kunnen worden overgenomen van de website DUO-CFI.nl"]
[null,null,null,null,null,null,null,null,null,null,null,"Deze bedragen worden ingevuld in de kolommen N tm V"]
[]
[null,null,null,null,null,"-","Bijlage 1",null,null,null,"In dit werkblad worden door het schoolbestuur de relevante overige bekostingen opgevoerd."]
[null,null,null,null,null,null,null,null,null,null,null,"Hiervoor worden de kolommen K (naamgeving bekostiging),  Q en S (bedragen) gebruikt "]
[]
[null,null,null,null,null,"-","Bijlage 2",null,null,null,"In dit werkblad worden door het schoolbestuur de ontslaggegevens ingevuld. "]
[null,null,null,null,null,null,null,null,null,null,null,"In de kolom H wordt de naam, onder K de datum beëindiging, in M de soort ontslag en in kolom N de Netto loonkosten op jaarbasis ingevuld."]
[null,null,null,null,null,null,null,null,null,null,null,"Door in de kolom M een \"v\" in te vullen, wordt het betreffende ontslag meegerekend in de ontslagruimte."]
[null,null,null,null,null,null,null,null,null,null,null,"De Netto ontslagvergoedingen v.w.b. de typen (T - tijdelijk, W - beëindiging met wederzijds goedvinden en V - ontslag uit vaste dienst) zijn zichtbaar binnen de omlijsting in kolom N (regels 10 tem 12)"]
[null,null,null,null,null,null,null,null,null,null,null,"In het werkblad \"Consolidatie\" komt het resultaat van de aangevinkte ontslagen tot uiting en wordt meegenomen in het tonen van de validiteit van de aangevinkte ontslagen"]
[]
[null,null,null,null,null,"-","Consolidatie",null,null,null,"Dit werkblad consolideert alle gegevens uit voorgaande werkbladen in één overzicht, waarbij alle benodigde berekeningen"]
[null,null,null,null,null,null,null,null,null,null,"(zoals toepassing van het deelpercentage van 65% voor Personeels- en arbeidsmarktbeleid) worden doorgevoerd."]
[null,null,null,null,null,null,null,null,null,null,null,"Het verschil (Bekostiging -  Ontslagen) tenslotte laat zien in hoeverre de ontslagen volgens opgave rechtmatig zijn (bedrag moet <= 0 zijn)"]
[null,null,null,null,null,null,null,null,null,null,null,"In bijlage 2 kan het resultaat van deze berekening worden beïnvloed door het al dan niet aanvinken van opgegegevn ontslagen."]
[]
[]
[null,null,null,null,null,"T.b.v. DUO-Upf zijn aan de verschillende werkbladen een aantal controle en correctiekolommen toegevoegd en er is een extra werkblad toegevoegd waarin het eindresultaat te zien is"]
[]
[null,null,null,null,null,"NB:"]
[null,null,null,null,null,"Zeer waarschijnlijk is het gebruik onderstaande functionaliteit niet toegestaan omdat het waarschijnlijk om juridische redenen niet is toegestaan nog wijzingen aan te brengen op een ingevuld en ingediend document."]
[null,null,null,null,null,"Het definitieve tool mag deze functionaliteit waarschijnlijk niet bevatten; reden om deze in eerste instantie ook gewoon weg te laten"]
[]
[null,null,null,null,null,"NB:",null,"Om deze controle- en correctiekolommen te kunnen openen moeten de beveiliging van de betreffende werkbladen worden verwijderd (Menu > Controleren > Beveiligen blad opheffen)"]
[]
[null,null,null,null,null,"-","DUO_CFI",null,null,null,"In dit werkblad worden door het schoolbestuur een aantal bedragen ingevuld die allen kunnen worden overgenomen van de website DUO-CFI.nl"]
[null,null,null,null,null,null,null,null,null,null,null,"Door te drukken op het plusje (+) boven in het werkblad worden een aantal extra kolommen zichtbaar voor controle en correctie"]
[null,null,null,null,null,null,null,null,null,null,null,"Door in kolom S een \"v\" in te voeren worden de door het schoolbestuur ingevulde waarden geaccordeerd."]
[null,null,null,null,null,null,null,null,null,null,null,"Indien de ingevulde waarden niet correct zijn kunnen de correcte waarden in de kolommen V, X en Z worden ingevoerd."]
[null,null,null,null,null,null,null,null,null,null,null,"De kolommen AB, AD en AF tenslotte worden gebruikt voor de eindberekening (hierin zijn de geaccordeerde dan wel gecorrigeerde bedragen weergegeven)."]
[]
[null,null,null,null,null,"-","Bijlage 1",null,null,null,"In dit werkblad wordendoor het schoolbestuur de relevante overige bekostingen opgevoerd."]
[null,null,null,null,null,null,null,null,null,null,null,"Door te drukken op het plusje (+) boven in het werkblad worden een aantal extra kolommen zichtbaar voor controle en correctie"]
[null,null,null,null,null,null,null,null,null,null,null,"Door in kolom U een \"v\" in te voeren worden de door het schoolbestuur ingevulde waarden geaccordeerd."]
[null,null,null,null,null,null,null,null,null,null,null,"Indien de ingevulde waarden niet correct zijn kunnen de correcte waarden in de kolommen W en Y worden ingevoerd."]
[null,null,null,null,null,null,null,null,null,null,null,"De kolommen AA en AC tenslotte worden gebruikt voor de eindberekening (hierin zijn de geaccordeerde dan wel gecorrigeerde bedragen weergegeven)."]
[]
[null,null,null,null,null,"-","Bijlage 2",null,null,null,"In dit werkblad worden door het schoolbestuur de ontslaggegevens ingevuld. "]
[null,null,null,null,null,null,null,null,null,null,null,"Door te drukken op het plusje (+) boven in het werkblad worden een aantal extra kolommen zichtbaar voor controle en correctie"]
[null,null,null,null,null,null,null,null,null,null,null,"Door in kolom R een \"v\" in te voeren worden de door het schoolbestuur ingevulde waarden geaccordeerd."]
[null,null,null,null,null,null,null,null,null,null,null,"Indien de ingevulde waarden niet correct zijn kunnen de correcte waarden in de kolommen T en U worden ingevoerd."]
[null,null,null,null,null,null,null,null,null,null,null,"De Netto ontslagvergoedingen v.w.b. de typen (T - tijdelijk, W - beëindiging met wederzijds goedvinden en V - ontslag uit vaste dienst) zijn zichtbaar binnen de omlijsting in kolom X (regels 10 tem 12)"]
[]
[null,null,null,null,null,"Tenslotte is er nog een aantal werkblad in deze map:"]
[]
[null,null,null,null,null,"-","Vragen",null,null,null,"Waarin een aantal openstaande en beantwoorde vragen zijn verwoord (vervalt in het definitieve tool).(op dit moment geen courante vragen)"]

{"sheet":"Algoritmes","index":6,"n_rows":47,"n_cols":16,"rows_kept":47,"cut":false,"hidden":true,"merged":[]}
["Participatiefonds"]
["Project:",null,null,null,null,"VUIST"]
["Deelproject:",null,null,null,null,"Reglementen"]
["Onderdeel:",null,null,null,null,"Rekentool Bekostiging - personeel"]
["Onderwerp:",null,null,null,null,"Algoritmes"]
[]
[]
[null,null,null,"1.",null,"a.","Op tabblad DUO-CFI worden bedragen overgenomen die betrekking hebben op het betreffende schoolbestuurd en die op website van DUO-CFI zijn gepubliceerd."]
[null,null,null,null,null,"b.","Op tabblad Bijlage 1: moeten onder 1. de Bijdragen van derden en onder 2. de inkomsten Zorgformatie volgens opgave Bestuur worden opgegegeven."]
[null,null,null,null,null,"c.","Op het tabblad Consolidatie worden alle relevante bedragen, met eventueel onderliggende berekeningen, verzameld"]
[null,null,null,null,null,"d.","Hierbij wordt de som van alle bedragen (DUO-CFI en Bijlage 1) van het huidige schooljaar vergeleken met de som van die bedragen van het vorige schooljaar"]
[null,null,null,null,null,"e.","Het verschil SOM (huidig schooljaar) - SOM (vorig schooljaar) wordt berekend en indien dit getal negatief is, is er sprake van ontslagruimte"]
[null,null,null,null,null,"f.","Die ontslagruimte mag worden gevuld door de ontslagen die op bijlage 2 worden aangemeld op basis van loonkosten."]
[null,null,null,null,null,"g.","De som van de loonkosten voor de ontslagen worden daartoe opgeteld bij het negatieve saldo van de ontslagruimte "]
[null,null,null,null,null,"h.","Het uiteindelijke saldo moet daarbij negatief blijven, anders zijn er teveel mensen ontslagen."]
[null,null,null,null,null,"i.","Dit bekostigingstool wordt éénmalig per schooljaar door het schoolbestuur ingevuld en meegezonden met het vergoedingsverzoek voor het ontslag (binnen de ontslagruimte)"]
[]
[null,null,null,"2.",null,"De bedragen op werkblad DUO-CFI worden overgezet naar werkblad Consolidatie met de onderliggende bewerkingen:"]
[null,null,null,null,null,"a.","Alleen de bedragen waarvan kolom L (werkblad DUO-CFI) leeg is tellen mee; als er in deze kolom 'niet relevant' staat dan wordt de waarde in de consolidatie 0,00"]
[null,null,null,null,null,"b.","Bedragen van kalenderjaren worden toegewezen aan schooljaren als volgt:"]
[null,null,null,null,null,null,"- ","Voor schooljaar m / n geldt: (5/12 x m) + (7/12 x n)"]
[null,null,null,null,null,"c.","Soms is er sprake dat slechts 65% van de bekostiging meetelt; in kolom K (werkblad DUO-CFI) staat dan dit percentage vermeld "]
[]
[null,null,null,"3.",null,"Op werkblad Bijlage_1 vinden de volgende bewerkingen plaats:"]
[null,null,null,null,null,"a.","Handmatig ingeven van:"]
[null,null,null,null,null,null,"-","Financiële bijdragen van derden"]
[null,null,null,null,null,null,"-","Zorgformatie opgave bestuur (niet van toepassing voor instellingen onder de WEC)"]
[null,null,null,null,null,"b.","Deze bedragen worden 1:1 overgezet naar het werkblad Consolidatie (zonder aanvullende berekeningen)"]
[]
[null,null,null,"4.",null,"Op werkblad Bijlage_2 worden de voorgenomen ontslagen ingevuld op basis van jaarsalaris volgens de loonkostenberekening"]
[null,null,null,null,null,"a.","Onderscheid wordt gemaakt tussen 3 categoriën:"]
[null,null,null,null,null,null,"-","Beëindigingen - Tijdelijke dienstverbanden"]
[null,null,null,null,null,null,"-","Beëindigingen - Vaste dienstverbanden met wederzijds goedvinden "]
[null,null,null,null,null,null,"-","Ontslagen - Vaste dienstverbanden "]
[null,null,null,null,null,"b.","In kolom P (Vink) heeft de werkgever de mogelijkheid om aan te geven welke ontslagen meedoen in de vergelijking"]
[]
[null,null,null,"5.",null,"Op werkblad Consolidatie worden bepaald:"]
[null,null,null,null,null,"a.","De totalen Bekostiging voor 2 opeenvolgende schooljaren op basis van hetgeen verwoord is onder 2. en 3."]
[null,null,null,null,null,"b.","Het verschil tussen Bekostingen (Huidig - voorgaand) wordt bepaald"]
[null,null,null,null,null,"c.","Indien dit resultaat een negatief bedrag is, vormt dat de ontslagruimte voor het huidige schooljaar"]
[null,null,null,null,null,"d.","Het totaal van de aangevinkte ontslagen van Bijlage_2 wordt opgeteld bij het resultaat van b. "]
[null,null,null,null,null,"e.","Zolang het resultaat van d. negatief blijft, is er sprake van ontslag binnen ontslagruimte en komt een vergoedingsverzoek op grond van dit tool voor vergoeding in aanmerking "]
[null,null,null,null,null,"f.","Werkgevers kunnen zelf d.m.v. vinkjes (kolom P van Bijlage_2) ervoor zorgen dat zij binnen de ontslagruimte blijven."]
[null,null,null,null,null,"g.","De volgorde van aanvinken is als volgt:"]
[null,null,null,null,null,null,"a.","Eerst alle Beëindigingen - Tijdelijke dienstverbanden",null,null,null,null,null,null,null,"- deze mogen random worden aangevinkt"]
[null,null,null,null,null,null,"b.","Daarna alle Beëindigingen - Vaste dienstverbanden met wederzijds goedvinden ",null,null,null,null,null,null,null,"- deze moeten in volgorde boven naar beneden worden aangevinkt als a. vol is"]
[null,null,null,null,null,null,"c.","Daarna alle Beëindigingen - Ontslagen - Vaste dienstverbanden ",null,null,null,null,null,null,null,"- deze moeten in volgorde boven naar beneden worden aangevinkt als a. en b. vol zijn"]

{"sheet":"DUO-CFI","index":7,"n_rows":89,"n_cols":44,"rows_kept":89,"cut":false,"hidden":true,"merged":[]}
["Participatiefonds"]
["Project:",null,null,null,null,"VUIST"]
["Deelproject:",null,null,null,null,"Reglementen"]
["Onderdeel:",null,null,null,null,"Rekentool - personele bekostiging"]
["Behorend bij:",null,null,null,null,"Reglement 2013 - 2014"]
["Onderwerp:",null,null,null,null,"Opgave DUO-CFI"]
[]
[null,"Opgave van:",null,null,null,null,null,"Stichting BOOR"]
[]
[null,"Werkgeversnummer:",null,null,null,null,null,41775]
[]
[null,null,null,null,null,null,null,null,null,null,null,"Kolommen:",null,"N",null,"P",null,"R",null,"T",null,"V",null,"X",null,"Z",null,"AB",null,"AD",null,"AF",null,"AH",null,"AJ",null,"AL",null,"AN",null,"AP",null,"AR"]
[]
["Opgave DUO-CFI via website",null,null,null,null,null,null,null,null,null,null,null,null,null,null,null,null,"Overzicht DUO - CFI",null,null,null,null,null,null,null,null,null,null,null,"Uitsluitend voor gebruik DUO-CFI",null,null,null,null,null,null,null,null,null,"Voor gebruik Rekentool"]
[]
[null,null,null,null,null,null,null,null,null,null,null,null,null,null,null,null,null,"Opgave",null,null,null,null,null,null,null,null,null,null,null,"Correctie",null,null,null,null,null,null,null,null,null,"Definitief"]
[]
[null,"Bekostigingsonderwerp",null,null,null,null,null,null,null,null,"Percentage",null,null,{"$f":"YEAR(Peildatum)-1","v":2021},null,{"$f":"$N$18&\" - \"&$R$18","v":"2021 - 2022"},null,{"$f":"YEAR(Peildatum)","v":2022},null,{"$f":"$R$18&\" - \"&$V$18","v":"2022 - 2023"},null,{"$f":"YEAR(Peildatum)+1","v":2023},null,null,null,{"$f":"N18","v":2021},null,{"$f":"P18","v":"2021 - 2022"},null,{"$f":"R18","v":2022},null,{"$f":"T18","v":"2022 - 2023"},null,{"$f":"V18","v":2023},null,{"$f":"N18","v":2021},null,{"$f":"P18","v":"2021 - 2022"},null,{"$f":"R18","v":2022},null,{"$f":"T18","v":"2022 - 2023"},null,{"$f":"V18","v":2023}]
[]
[null,1,"Bekostiging impulsgebieden",null,null,null,null,null,null,null,null,null,null,null,null,{"$f":"Data_1213RijksBekost01","v":0},null,null,null,{"$f":"Data_1314RijksBekost01","v":0},null,null,null,"v",null,null,null,null,null,null,null,null,null,null,null,{"$f":"IF($X20=\"v\",N20,Z20)","v":0},null,{"$f":"IF($X20=\"v\",P20,AB20)","v":0},null,{"$f":"IF($X20=\"v\",R20,AD20)","v":0},null,{"$f":"IF($X20=\"v\",T20,AF20)","v":0},null,{"$f":"IF($X20=\"v\",V20,AH20)","v":0}]
[]
[null,2,"Bijzondere bekostiging aanwezigheid visueel gehandicapte kinderen",null,null,null,null,null,null,null,null,null,null,null,null,{"$f":"Data_1213RijksBekost02","v":0},null,null,null,{"$f":"Data_1314RijksBekost02","v":0},null,null,null,"v",null,null,null,null,null,null,null,null,null,null,null,{"$f":"IF($X22=\"v\",N22,Z22)","v":0},null,{"$f":"IF($X22=\"v\",P22,AB22)","v":0},null,{"$f":"IF($X22=\"v\",R22,AD22)","v":0},null,{"$f":"IF($X22=\"v\",T22,AF22)","v":0},null,{"$f":"IF($X22=\"v\",V22,AH22)","v":0}]
[]
[null,3,"Bijzondere bekostiging aanwezigheid schipperskinderen",null,null,null,null,null,null,null,null,null,null,null,null,{"$f":"Data_1213RijksBekost03","v":0},null,null,null,{"$f":"Data_1314RijksBekost03","v":0},null,null,null,"v",null,null,null,null,null,null,null,null,null,null,null,{"$f":"IF($X24=\"v\",N24,Z24)","v":0},null,{"$f":"IF($X24=\"v\",P24,AB24)","v":0},null,{"$f":"IF($X24=\"v\",R24,AD24)","v":0},null,{"$f":"IF($X24=\"v\",T24,AF24)","v":0},null,{"$f":"IF($X24=\"v\",V24,AH24)","v":0}]
[]
[null,4,"Bijzondere bekostiging aanwezigheid zigeunerkinderen",null,null,null,null,null,null,null,null,null,null,null,null,{"$f":"Data_1213RijksBekost04","v":0},null,null,null,{"$f":"Data_1314RijksBekost04","v":0},null,null,null,"v",null,null,null,null,null,null,null,null,null,null,null,{"$f":"IF($X26=\"v\",N26,Z26)","v":0},null,{"$f":"IF($X26=\"v\",P26,AB26)","v":0},null,{"$f":"IF($X26=\"v\",R26,AD26)","v":0},null,{"$f":"IF($X26=\"v\",T26,AF26)","v":0},null,{"$f":"IF($X26=\"v\",V26,AH26)","v":0}]
[]
[null,5,"Bijzondere bekostiging eerste opvang vreemdelingen",null,null,null,null,null,null,null,null,null,null,null,null,{"$f":"Data_1213RijksBekost05","v":0},null,null,null,{"$f":"Data_1314RijksBekost05","v":0},null,null,null,"v",null,null,null,null,null,null,null,null,null,null,null,{"$f":"IF($X28=\"v\",N28,Z28)","v":0},null,{"$f":"IF($X28=\"v\",P28,AB28)","v":0},null,{"$f":"IF($X28=\"v\",R28,AD28)","v":0},null,{"$f":"IF($X28=\"v\",T28,AF28)","v":0},null,{"$f":"IF($X28=\"v\",V28,AH28)","v":0}]
[]
[null,6,"Bijzondere bekostiging groei scholen voor (V)SO",null,null,null,null,null,null,null,null,null,null,null,null,{"$f":"Data_1213RijksBekost06","v":0},null,null,null,{"$f":"Data_1314RijksBekost06","v":0},null,null,null,"v",null,null,null,null,null,null,null,null,null,null,null,{"$f":"IF($X30=\"v\",N30,Z30)","v":0},null,{"$f":"IF($X30=\"v\",P30,AB30)","v":0},null,{"$f":"IF($X30=\"v\",R30,AD30)","v":0},null,{"$f":"IF($X30=\"v\",T30,AF30)","v":0},null,{"$f":"IF($X30=\"v\",V30,AH30)","v":0}]
[]
[null,7,"Bijzondere bekostiging justitiele jeugdinrichtingen (V)SO ZMOK",null,null,null,null,null,null,null,null,null,null,null,null,{"$f":"Data_1213RijksBekost07","v":0},null,null,null,{"$f":"Data_1314RijksBekost07","v":0},null,null,null,"v",null,null,null,null,null,null,null,null,null,null,null,{"$f":"IF($X32=\"v\",N32,Z32)","v":0},null,{"$f":"IF($X32=\"v\",P32,AB32)","v":0},null,{"$f":"IF($X32=\"v\",R32,AD32)","v":0},null,{"$f":"IF($X32=\"v\",T32,AF32)","v":0},null,{"$f":"IF($X32=\"v\",V32,AH32)","v":0}]
[]
[null,8,"Bijzondere bekostiging leerlingen uit blijf van mijn lijf huizen",null,null,null,null,null,null,null,null,null,null,null,null,{"$f":"Data_1213RijksBekost08","v":0},null,null,null,{"$f":"Data_1314RijksBekost08","v":0},null,null,null,"v",null,null,null,null,null,null,null,null,null,null,null,{"$f":"IF($X34=\"v\",N34,Z34)","v":0},null,{"$f":"IF($X34=\"v\",P34,AB34)","v":0},null,{"$f":"IF($X34=\"v\",R34,AD34)","v":0},null,{"$f":"IF($X34=\"v\",T34,AF34)","v":0},null,{"$f":"IF($X34=\"v\",V34,AH34)","v":0}]
[]
[null,9,"Bijzondere bekostiging leerlingen van wie de ouders een trekkend bestaan leiden",null,null,null,null,null,null,null,null,null,null,null,null,{"$f":"Data_1213RijksBekost09","v":0},null,null,null,{"$f":"Data_1314RijksBekost09","v":0},null,null,null,"v",null,null,null,null,null,null,null,null,null,null,null,{"$f":"IF($X36=\"v\",N36,Z36)","v":0},null,{"$f":"IF($X36=\"v\",P36,AB36)","v":0},null,{"$f":"IF($X36=\"v\",R36,AD36)","v":0},null,{"$f":"IF($X36=\"v\",T36,AF36)","v":0},null,{"$f":"IF($X36=\"v\",V36,AH36)","v":0}]
[]
[null,10,"Bijzondere bekostiging opvang en begeleiding van leerlingen met autisme",null,null,null,null,null,null,null,null,null,null,null,null,{"$f":"Data_1213RijksBekost10","v":0},null,null,null,{"$f":"Data_1314RijksBekost10","v":0},null,null,null,"v",null,null,null,null,null,null,null,null,null,null,null,{"$f":"IF($X38=\"v\",N38,Z38)","v":0},null,{"$f":"IF($X38=\"v\",P38,AB38)","v":0},null,{"$f":"IF($X38=\"v\",R38,AD38)","v":0},null,{"$f":"IF($X38=\"v\",T38,AF38)","v":0},null,{"$f":"IF($X38=\"v\",V38,AH38)","v":0}]
[]
[null,11,"Bijzondere bekostiging toename aantal asielzoekerskinderen",null,null,null,null,null,null,null,null,null,null,null,null,{"$f":"Data_1213RijksBekost11","v":0},null,null,null,{"$f":"Data_1314RijksBekost11","v":0},null,null,null,"v",null,null,null,null,null,null,null,null,null,null,null,{"$f":"IF($X40=\"v\",N40,Z40)","v":0},null,{"$f":"IF($X40=\"v\",P40,AB40)","v":0},null,{"$f":"IF($X40=\"v\",R40,AD40)","v":0},null,{"$f":"IF($X40=\"v\",T40,AF40)","v":0},null,{"$f":"IF($X40=\"v\",V40,AH40)","v":0}]
[]
[null,"10a","Bijzondere bekostiging Professionalisering schoolleiding",null,null,null,null,null,null,null,{"$f":"12/7","v":1.7142857142857142},null,null,null,null,"NVT 16-5-14",null,null,null,"NVT 16-5-14",null,null,null,"v",null,null,null,null,null,null,null,null,null,null,null,{"$f":"IF($X42=\"v\",N42,Z42)","v":0},null,{"$f":"IF($X42=\"v\",P42,AB42)","v":"NVT 16-5-14"},null,{"$f":"IF($X42=\"v\",R42,AD42)","v":0},null,{"$f":"IF($X42=\"v\",T42,AF42)","v":"NVT 16-5-14"},null,{"$f":"IF($X42=\"v\",V42,AH42)","v":0}]
[]
[null,12,"Bijzondere bekostiging wegens samenvoeging",null,null,null,null,null,null,null,null,null,null,null,null,{"$f":"Data_1213RijksBekost12","v":0},null,null,null,{"$f":"Data_1314RijksBekost12","v":0},null,null,null,"v",null,null,null,null,null,null,null,null,null,null,null,{"$f":"IF($X44=\"v\",N44,Z44)","v":0},null,{"$f":"IF($X44=\"v\",P44,AB44)","v":0},null,{"$f":"IF($X44=\"v\",R44,AD44)","v":0},null,{"$f":"IF($X44=\"v\",T44,AF44)","v":0},null,{"$f":"IF($X44=\"v\",V44,AH44)","v":0}]
[]
[null,13,"Bijzondere bekostiging ZMLK-leerlingen in de groepen 3 tm 8  ",null,null,null,null,null,null,null,null,null,null,null,null,{"$f":"Data_1213RijksBekost13","v":0},null,null,null,{"$f":"Data_1314RijksBekost13","v":0},null,null,null,"v",null,null,null,null,null,null,null,null,null,null,null,{"$f":"IF($X46=\"v\",N46,Z46)","v":0},null,{"$f":"IF($X46=\"v\",P46,AB46)","v":0},null,{"$f":"IF($X46=\"v\",R46,AD46)","v":0},null,{"$f":"IF($X46=\"v\",T46,AF46)","v":0},null,{"$f":"IF($X46=\"v\",V46,AH46)","v":0}]
[]
[null,14,"Internationaal georiënteerd basisonderwijs",null,null,null,null,null,null,null,null,null,null,null,null,{"$f":"Data_1213RijksBekost14","v":0},null,null,null,{"$f":"Data_1314RijksBekost14","v":0},null,null,null,"v",null,null,null,null,null,null,null,null,null,null,null,{"$f":"IF($X48=\"v\",N48,Z48)","v":0},null,{"$f":"IF($X48=\"v\",P48,AB48)","v":0},null,{"$f":"IF($X48=\"v\",R48,AD48)","v":0},null,{"$f":"IF($X48=\"v\",T48,AF48)","v":0},null,{"$f":"IF($X48=\"v\",V48,AH48)","v":0}]
[]
[null,15,"Personeels- en arbeidsmarktbeleid",null,null,null,null,null,null,null,0.65,null,null,null,null,{"$f":"Data_1213RijksBekost15","v":0},null,null,null,{"$f":"Data_1314RijksBekost15","v":0},null,null,null,"v",null,null,null,null,null,null,null,null,null,null,null,{"$f":"IF($X50=\"v\",N50,Z50)","v":0},null,{"$f":"IF($X50=\"v\",P50,AB50)","v":0},null,{"$f":"IF($X50=\"v\",R50,AD50)","v":0},null,{"$f":"IF($X50=\"v\",T50,AF50)","v":0},null,{"$f":"IF($X50=\"v\",V50,AH50)","v":0}]
[]
[null,16,"Correctie werkdrukgelden",null,null,null,null,null,null,null,null,null,null,null,null,{"$f":"Data_1213RijksBekost16","v":158996.72},null,null,null,{"$f":"Data_1314RijksBekost16","v":158996.72},null,null,null,"v",null,null,null,null,null,null,null,null,null,null,null,{"$f":"IF($X52=\"v\",N52,Z52)","v":0},null,{"$f":"IF($X52=\"v\",P52,AB52)","v":158996.72},null,{"$f":"IF($X52=\"v\",R52,AD52)","v":0},null,{"$f":"IF($X52=\"v\",T52,AF52)","v":158996.72},null,{"$f":"IF($X52=\"v\",V52,AH52)","v":0}]
[]
[null,17,"Personele bekostiging groei 1-10",null,null,null,null,null,null,null,null,null,null,null,null,{"$f":"Data_1213RijksBekost17","v":0},null,null,null,{"$f":"Data_1314RijksBekost17","v":0},null,null,null,"v",null,null,null,null,null,null,null,null,null,null,null,{"$f":"IF($X54=\"v\",N54,Z54)","v":0},null,{"$f":"IF($X54=\"v\",P54,AB54)","v":0},null,{"$f":"IF($X54=\"v\",R54,AD54)","v":0},null,{"$f":"IF($X54=\"v\",T54,AF54)","v":0},null,{"$f":"IF($X54=\"v\",V54,AH54)","v":0}]
[]
[null,18,"Personele bekostiging groei 16-1",null,null,null,null,null,null,null,null,null,null,null,null,{"$f":"Data_1213RijksBekost18","v":0},null,null,null,{"$f":"Data_1314RijksBekost18","v":0},null,null,null,"v",null,null,null,null,null,null,null,null,null,null,null,{"$f":"IF($X56=\"v\",N56,Z56)","v":0},null,{"$f":"IF($X56=\"v\",P56,AB56)","v":0},null,{"$f":"IF($X56=\"v\",R56,AD56)","v":0},null,{"$f":"IF($X56=\"v\",T56,AF56)","v":0},null,{"$f":"IF($X56=\"v\",V56,AH56)","v":0}]
[]
[null,19,"Personele bekostiging regulier",null,null,null,null,null,null,null,null,null,null,null,null,{"$f":"Data_1213RijksBekost19","v":0},null,null,null,{"$f":"Data_1314RijksBekost19","v":0},null,null,null,"v",null,null,null,null,null,null,null,null,null,null,null,{"$f":"IF($X58=\"v\",N58,Z58)","v":0},null,{"$f":"IF($X58=\"v\",P58,AB58)","v":0},null,{"$f":"IF($X58=\"v\",R58,AD58)","v":0},null,{"$f":"IF($X58=\"v\",T58,AF58)","v":0},null,{"$f":"IF($X58=\"v\",V58,AH58)","v":0}]
[]
[null,20,"Middelen fusiecompensatieregeling",null,null,null,null,null,null,null,null,null,null,null,null,{"$f":"Data_1213RijksBekost20","v":0},null,null,null,{"$f":"Data_1314RijksBekost20","v":0},null,null,null,"v",null,null,null,null,null,null,null,null,null,null,null,{"$f":"IF($X60=\"v\",N60,Z60)","v":0},null,{"$f":"IF($X60=\"v\",P60,AB60)","v":0},null,{"$f":"IF($X60=\"v\",R60,AD60)","v":0},null,{"$f":"IF($X60=\"v\",T60,AF60)","v":0},null,{"$f":"IF($X60=\"v\",V60,AH60)","v":0}]
[]
[null,21,"Prestatiebox Primair Onderwijs",null,null,null,null,null,null,null,0.65,null,null,null,null,{"$f":"Data_1213RijksBekost21","v":0},null,null,null,{"$f":"Data_1314RijksBekost21","v":0},null,null,null,"v",null,null,null,null,null,null,null,null,null,null,null,{"$f":"IF($X62=\"v\",N62,Z62)","v":0},null,{"$f":"IF($X62=\"v\",P62,AB62)","v":0},null,{"$f":"IF($X62=\"v\",R62,AD62)","v":0},null,{"$f":"IF($X62=\"v\",T62,AF62)","v":0},null,{"$f":"IF($X62=\"v\",V62,AH62)","v":0}]
[]
[null,22,"Aanvullende bekostiging onderwijsachterstandenbeleid",null,null,null,null,null,null,null,null,null,null,null,null,{"$f":"Data_1213RijksBekost22","v":0},null,null,null,{"$f":"Data_1314RijksBekost22","v":0},null,null,null,"v",null,null,null,null,null,null,null,null,null,null,null,{"$f":"IF($X64=\"v\",N64,Z64)","v":0},null,{"$f":"IF($X64=\"v\",P64,AB64)","v":0},null,{"$f":"IF($X64=\"v\",R64,AD64)","v":0},null,{"$f":"IF($X64=\"v\",T64,AF64)","v":0},null,{"$f":"IF($X64=\"v\",V64,AH64)","v":0}]
[]
[null,23,{"$f":"IF(ISBLANK(Data_RijksBekost23),\"\",Data_RijksBekost23)","v":""},null,null,null,null,null,null,null,null,null,null,null,null,{"$f":"IF(ISBLANK(Data_1213RijksBekost23),\"\",Data_1213RijksBekost23)","v":""},null,null,null,{"$f":"IF(ISBLANK(Data_1314RijksBekost23),\"\",Data_1314RijksBekost23)","v":""},null,null,null,"v",null,null,null,null,null,null,null,null,null,null,null,{"$f":"IF($X66=\"v\",N66,Z66)","v":0},null,{"$f":"IF($X66=\"v\",P66,AB66)","v":""},null,{"$f":"IF($X66=\"v\",R66,AD66)","v":0},null,{"$f":"IF($X66=\"v\",T66,AF66)","v":""},null,{"$f":"IF($X66=\"v\",V66,AH66)","v":0}]
[]
[null,24,{"$f":"IF(ISBLANK(Data_RijksBekost24),\"\",Data_RijksBekost24)","v":""},null,null,null,null,null,null,null,0.65,null,null,null,null,{"$f":"IF(ISBLANK(Data_1213RijksBekost24),\"\",Data_1213RijksBekost24)","v":""},null,null,null,{"$f":"IF(ISBLANK(Data_1314RijksBekost24),\"\",Data_1314RijksBekost24)","v":""},null,null,null,"v",null,null,null,null,null,null,null,null,null,null,null,{"$f":"IF($X68=\"v\",N68,Z68)","v":0},null,{"$f":"IF($X68=\"v\",P68,AB68)","v":""},null,{"$f":"IF($X68=\"v\",R68,AD68)","v":0},null,{"$f":"IF($X68=\"v\",T68,AF68)","v":""},null,{"$f":"IF($X68=\"v\",V68,AH68)","v":0}]
[]
[null,null,null,null,null,null,null,"Aanvullen",null,null,"Percentage"]
[]
[]
[null,null,"Totaal",null,null,null,null,null,null,null,null,null,null,{"$f":"SUM(N20:N69)","v":0},null,{"$f":"SUM(P20:P69)","v":158996.72},null,{"$f":"SUM(R20:R69)","v":0},null,{"$f":"SUM(T20:T69)","v":158996.72},null,{"$f":"SUM(V20:V69)","v":0},null,null,null,null,null,null,null,null,null,null,null,null,null,{"$f":"SUM(AJ20:AJ69)","v":0},null,{"$f":"SUM(AL20:AL69)","v":158996.72},null,{"$f":"SUM(AN20:AN69)","v":0},null,{"$f":"SUM(AP20:AP69)","v":158996.72},null,{"$f":"SUM(AR20:AR69)","v":0}]
[]
[]
[]
[]
[]
[]
[]
[]
[]
[]
[]
[]
[]
[]
[]
[null,null,null,null,null,null,null,"–      Justitiële jeugdinrichtingen en instellingen voor gesloten jeugdzorg verbonden aan scholen voor Cluster 4 (artikel 35)"]

{"sheet":"DerdenEnZorg","index":8,"n_rows":43,"n_cols":29,"rows_kept":43,"cut":false,"hidden":true,"merged":[]}
["Participatiefonds"]
["Project:",null,null,null,null,"VUIST"]
["Deelproject:",null,null,null,null,"Reglementen"]
["Onderdeel:",null,null,null,null,"Rekentool"]
["Onderwerp:",null,null,null,null,"Bijlage 1: Financiële bijdragen van derden en zorgformatie"]
[]
[null,null,null,null,null,"Kolommen:",null,null,null,null,"K",null,null,null,null,null,"Q",null,"S",null,"U",null,"W",null,"Y",null,"AA",null,"AC"]
[]
[]
[null,null,null,null,null,"Bijlage 1 -Financiële bijdragen van derden en zorgformatie",null,null,null,null,null,null,null,null,null,null,{"$f":"'DUO-CFI'!P18","v":"2021 - 2022"},null,{"$f":"'DUO-CFI'!T18","v":"2022 - 2023"},null,null,null,{"$f":"Q10","v":"2021 - 2022"},null,{"$f":"S10","v":"2022 - 2023"},null,{"$f":"W10","v":"2021 - 2022"},null,{"$f":"Y10","v":"2022 - 2023"}]
[]
[null,null,null,null,null,null,null,null,null,null,null,null,null,null,null,null,"Opgave ",null,null,null,null,null,"Correctie",null,null,null,"Definitief"]
[]
[]
[null,null,null,null,null,null,null,"1.",null,"Financiële bijdragen van derden"]
[]
[null,null,null,null,null,null,null,null,null,1,{"$f":"IF(Data_BekostDerdenLabel01=\"\",\"\",Data_BekostDerdenLabel01)","v":"Gemeentelijke subsidies"},null,null,null,null,null,{"$f":"Data_1213BekostDerden01","v":0},null,{"$f":"Data_1314BekostDerden01","v":0},null,"v",null,null,null,null,null,{"$f":"IF($U17=\"v\",Q17,W17)","v":0},null,{"$f":"IF($U17=\"v\",S17,Y17)","v":0}]
[null,null,null,null,null,null,null,null,null,2,{"$f":"IF(Data_BekostDerdenLabel02=\"\",\"\",Data_BekostDerdenLabel02)","v":"Contractactiviteiten"},null,null,null,null,null,{"$f":"Data_1213BekostDerden02","v":0},null,{"$f":"Data_1314BekostDerden02","v":0},null,"v",null,null,null,null,null,0,null,0]
[null,null,null,null,null,null,null,null,null,3,{"$f":"IF(Data_BekostDerdenLabel03=\"\",\"\",Data_BekostDerdenLabel03)","v":"ESF-subsidies"},null,null,null,null,null,{"$f":"Data_1213BekostDerden03","v":0},null,{"$f":"Data_1314BekostDerden03","v":0},null,"v",null,null,null,null,null,0,null,0]
[null,null,null,null,null,null,null,null,null,4,{"$f":"IF(Data_BekostDerdenLabel04=\"\",\"\",Data_BekostDerdenLabel04)","v":"Loonkostensubsidie OOP"},null,null,null,null,null,{"$f":"Data_1213BekostDerden04","v":0},null,{"$f":"Data_1314BekostDerden04","v":0},null,"v",null,null,null,null,null,0,null,0]
[null,null,null,null,null,null,null,null,null,5,{"$f":"IF(Data_BekostDerdenLabel05=\"\",\"\",Data_BekostDerdenLabel05)","v":""},null,null,null,null,null,{"$f":"Data_1213BekostDerden05","v":0},null,{"$f":"Data_1314BekostDerden05","v":0},null,"v",null,null,null,null,null,0,null,0]
[null,null,null,null,null,null,null,null,null,6,{"$f":"IF(Data_BekostDerdenLabel06=\"\",\"\",Data_BekostDerdenLabel06)","v":""},null,null,null,null,null,{"$f":"Data_1213BekostDerden06","v":0},null,{"$f":"Data_1314BekostDerden06","v":0},null,"v",null,null,null,null,null,0,null,0]
[null,null,null,null,null,null,null,null,null,7,{"$f":"IF(Data_BekostDerdenLabel07=\"\",\"\",Data_BekostDerdenLabel07)","v":""},null,null,null,null,null,{"$f":"Data_1213BekostDerden07","v":0},null,{"$f":"Data_1314BekostDerden07","v":0},null,"v",null,null,null,null,null,0,null,0]
[null,null,null,null,null,null,null,null,null,8,{"$f":"IF(Data_BekostDerdenLabel08=\"\",\"\",Data_BekostDerdenLabel08)","v":""},null,null,null,null,null,{"$f":"Data_1213BekostDerden08","v":0},null,{"$f":"Data_1314BekostDerden08","v":0},null,"v",null,null,null,null,null,0,null,0]
[null,null,null,null,null,null,null,null,null,9,{"$f":"IF(Data_BekostDerdenLabel09=\"\",\"\",Data_BekostDerdenLabel09)","v":""},null,null,null,null,null,{"$f":"Data_1213BekostDerden09","v":0},null,{"$f":"Data_1314BekostDerden09","v":0},null,"v",null,null,null,null,null,0,null,0]
[null,null,null,null,null,null,null,null,null,10,{"$f":"IF(Data_BekostDerdenLabel10=\"\",\"\",Data_BekostDerdenLabel10)","v":""},null,null,null,null,null,{"$f":"Data_1213BekostDerden10","v":0},null,{"$f":"Data_1314BekostDerden10","v":0},null,"v",null,null,null,null,null,0,null,0]
[]
[null,null,null,null,null,null,null,null,null,null,"Totaal",null,null,null,null,null,{"$f":"SUM(Q17:Q27)","v":0},null,{"$f":"SUM(S17:S26)","v":0},null,"v",null,null,null,null,null,{"$f":"IF($U28=\"v\",Q28,SUM(AA17:AA26))","v":0},null,{"$f":"IF($U28=\"v\",S28,SUM(AC17:AC26))","v":0}]
[]
[null,null,null,null,null,null,null,"2.",null,"Zorgformatie opgave bestuur (niet van toepassing voor instellingen onder de WEC)"]
[]
[null,null,null,null,null,null,null,null,null,1,{"$f":"IF(Data_BekostZorginfLabel01=\"\",\"\",Data_BekostZorginfLabel01)","v":"Formatie vanuit ondersteuningsplan"},null,null,null,null,null,{"$f":"Data_1213BekostZorginf01","v":0},null,{"$f":"Data_1314BekostZorginf01","v":0},null,"v",null,null,null,null,null,{"$f":"IF($U32=\"v\",Q32,W32)","v":0},null,{"$f":"IF($U32=\"v\",S32,Y32)","v":0}]
[null,null,null,null,null,null,null,null,null,2,{"$f":"IF(Data_BekostZorginfLabel02=\"\",\"\",Data_BekostZorginfLabel02)","v":""},null,null,null,null,null,{"$f":"Data_1213BekostZorginf02","v":0},null,{"$f":"Data_1314BekostZorginf02","v":0},null,"v",null,null,null,null,null,{"$f":"IF($U33=\"v\",Q33,W33)","v":0},null,{"$f":"IF($U33=\"v\",S33,Y33)","v":0}]
[null,null,null,null,null,null,null,null,null,3,{"$f":"IF(Data_BekostZorginfLabel03=\"\",\"\",Data_BekostZorginfLabel03)","v":""},null,null,null,null,null,{"$f":"Data_1213BekostZorginf03","v":0},null,{"$f":"Data_1314BekostZorginf03","v":0},null,"v",null,null,null,null,null,{"$f":"IF($U34=\"v\",Q34,W34)","v":0},null,{"$f":"IF($U34=\"v\",S34,Y34)","v":0}]
[null,null,null,null,null,null,null,null,null,4,{"$f":"IF(Data_BekostZorginfLabel04=\"\",\"\",Data_BekostZorginfLabel04)","v":""},null,null,null,null,null,{"$f":"Data_1213BekostZorginf04","v":0},null,{"$f":"Data_1314BekostZorginf04","v":0},null,"v",null,null,null,null,null,{"$f":"IF($U35=\"v\",Q35,W35)","v":0},null,{"$f":"IF($U35=\"v\",S35,Y35)","v":0}]
[null,null,null,null,null,null,null,null,null,5,{"$f":"IF(Data_BekostZorginfLabel05=\"\",\"\",Data_BekostZorginfLabel05)","v":""},null,null,null,null,null,{"$f":"Data_1213BekostZorginf05","v":0},null,{"$f":"Data_1314BekostZorginf05","v":0},null,"v",null,null,null,null,null,{"$f":"IF($U36=\"v\",Q36,W36)","v":0},null,{"$f":"IF($U36=\"v\",S36,Y36)","v":0}]
[null,null,null,null,null,null,null,null,null,6,{"$f":"IF(Data_BekostZorginfLabel06=\"\",\"\",Data_BekostZorginfLabel06)","v":""},null,null,null,null,null,{"$f":"Data_1213BekostZorginf06","v":0},null,{"$f":"Data_1314BekostZorginf06","v":0},null,"v",null,null,null,null,null,0,null,0]
[null,null,null,null,null,null,null,null,null,7,{"$f":"IF(Data_BekostZorginfLabel07=\"\",\"\",Data_BekostZorginfLabel07)","v":""},null,null,null,null,null,{"$f":"Data_1213BekostZorginf07","v":0},null,{"$f":"Data_1314BekostZorginf07","v":0},null,"v",null,null,null,null,null,0,null,0]
[null,null,null,null,null,null,null,null,null,8,{"$f":"IF(Data_BekostZorginfLabel08=\"\",\"\",Data_BekostZorginfLabel08)","v":""},null,null,null,null,null,{"$f":"Data_1213BekostZorginf08","v":0},null,{"$f":"Data_1314BekostZorginf08","v":0},null,"v",null,null,null,null,null,0,null,0]
[null,null,null,null,null,null,null,null,null,9,{"$f":"IF(Data_BekostZorginfLabel09=\"\",\"\",Data_BekostZorginfLabel09)","v":""},null,null,null,null,null,{"$f":"Data_1213BekostZorginf09","v":0},null,{"$f":"Data_1314BekostZorginf09","v":0},null,"v",null,null,null,null,null,0,null,0]
[null,null,null,null,null,null,null,null,null,10,{"$f":"IF(Data_BekostZorginfLabel10=\"\",\"\",Data_BekostZorginfLabel10)","v":""},null,null,null,null,null,{"$f":"Data_1213BekostZorginf10","v":0},null,{"$f":"Data_1314BekostZorginf10","v":0},null,"v",null,null,null,null,null,0,null,0]
[]
[null,null,null,null,null,null,null,null,null,null,"Totaal",null,null,null,null,null,{"$f":"SUM(Q32:Q41)","v":0},null,{"$f":"SUM(S32:S41)","v":0},null,"v",null,null,null,null,null,{"$f":"IF($U43=\"v\",Q43,SUM(AA32:AA35))","v":0},null,{"$f":"IF($U43=\"v\",S43,SUM(AC32:AC35))","v":0}]

{"sheet":"Personeel","index":9,"n_rows":524,"n_cols":87,"rows_kept":524,"cut":false,"hidden":true,"merged":[]}
["Participatiefonds"]
["Project:",null,null,null,null,"VUIST"]
["Deelproject:",null,null,null,null,"Reglementen"]
["Onderdeel:",null,null,null,null,"Rekentool"]
["Onderwerp:",null,null,null,null,"Bijlage 2: Beëindigingen / ontslagen"]
[]
[]
[null,"Kolommen:",null,null,null,null,null,"H",null,null,"K",null,"M","N",null,"P",null,"R",null,"T","U",null,"W","X"]
[]
[null,"Bijlage 2 - beëindigingen / ontslagen",null,null,null,null,null,null,null,null,null,"Natuurlijk verloop e.d.","N",{"$f":"SUM(N24:N524)","v":63539.51},null,null,null,null,null,"N",null,null,"N",{"$f":"SUM(X24:X524)","v":63539.51}]
[null,null,null,null,null,null,null,null,null,null,null,"Tijdelijken","T",{"$f":"SUM(AM24:AM524)","v":0},null,null,null,null,null,"T",null,null,"T",{"$f":"SUM(AW24:AW524)","v":0}]
[null,null,null,null,null,null,null,null,null,null,null,"Vast - wederzijds goedvinden","W",{"$f":"SUM(BG24:BG524)","v":0},null,null,null,null,null,"W",null,null,"W",{"$f":"SUM(BQ24:BQ524)","v":0}]
[null,null,null,null,null,null,null,null,null,null,null,"Vast - ontslag","V",{"$f":"SUM(BY24:BY524)","v":0},null,null,null,null,null,"V",null,null,"V",{"$f":"SUM(CI24:CI524)","v":0}]
[]
[null,null,null,null,null,null,null,"Ontslagruimte (uitsluitend als negatief)",null,null,null,null,null,{"$f":"Consolidatie!Q43","v":0}]
[null,null,null,null,null,null,null,"Verschil ontslagruimte - aangevinkt (moet negatief blijven)",null,null,null,null,null,{"$f":"Consolidatie!Q53","v":63539.51}]
[null,null,null,null,null,null,null,null,null,null,null,null,null,{"$f":"Consolidatie!Q44","v":0}]
[null,null,null,null,null,null,null,"Naam",null,null,"Beëindigings",null,null,"Netto loonkosten",null,"Vink",null,null,null,"Correctie",null,null,"Resultaat"]
[null,null,null,null,null,null,null,null,null,null,"datum",null,null,"op jaarbasis"]
[null,1,"Beëindigingen - Natuurlijk verloop en andere…",null,null,null,null,null,null,null,null,null,null,null,null,null,null,null,null,null,null,null,null,null,null,null,2,"Beëindigingen - Tijdelijke dienstverbanden ",null,null,null,null,null,null,null,null,null,null,null,null,null,null,null,null,null,null,null,null,null,null,null,3,"Beëindigingen - Vaste dienstverbanden met wederzijds goedvinden",null,null,null,null,null,null,null,null,null,null,null,null,null,null,null,null,4,"Ontslagen - Vaste dienstverbanden"]
[null,null,null,"(deze moeten zijn aangevinkt)",null,null,null,null,null,null,null,null,null,null,null,null,null,null,null,null,null,null,null,null,null,null,null,null,"(deze mogen in willekeurige volgorde worden aangevinkt)",null,null,null,null,null,null,null,null,null,null,null,null,null,null,null,null,null,null,null,null,null,null,null,null,"(deze moeten in volgorde beëindigingsdatum worden aangevinkt)",null,null,null,null,null,null,null,null,null,null,null,null,null,null,null,null,null,"(moeten in volgorde ontslag volgens CAO worden aangevinkt)"]
[]
[null,null,null,null,null,null,null,"naam",null,null,"datum beeidiging",null,null,"loonkosten",null,null,null,null,null,null,null,null,null,null,null,null,null,null,null,null,null,null,"naam",null,null,"datum beeidiging",null,null,"loonkosten",null,null,null,null,null,null,null,null,null,null,null,null,null,"naam",null,null,"datum beeidiging",null,null,"loonkosten",null,null,null,null,null,null,null,null,null,null,null,"naam",null,null,"datum beeidiging",null,null,"loonkosten"]
[null,null,null,null,null,null,null,{"$f":"IF(Data_NaamPersoonNatVerloop001=\"\",\"\",Data_NaamPersoonNatVerloop001)","v":"x"},null,null,{"$f":"IF(Data_BeeindigingsdatumNatVerloop001=\"\",\"\",Data_BeeindigingsdatumNatVerloop001)","v":"2021-01-01"},null,null,{"$f":"IF(Data_LoonkostenNatVerloop001=\"\",\"\",Data_LoonkostenNatVerloop001)","v":63539.51},null,"v",null,"v",null,null,null,null,{"$f":"IF($P24=\"v\",M24,T24)","v":0},{"$f":"IF(AND($P24=\"v\",$R24=\"v\"),N24,IF(AND($P24=\"v\",$R24<>\"v\"),U24,0))","v":63539.51},null,null,null,null,null,null,null,null,{"$f":"IF(Data_NaamPersoonTijd001=\"\",\"\",Data_NaamPersoonTijd001)","v":""},null,null,{"$f":"IF(Data_BeeindigingsdatumTijd001=\"\",\"\",Data_BeeindigingsdatumTijd001)","v":""},null,null,{"$f":"IF(Data_LoonkostenTijd001=\"\",\"\",Data_LoonkostenTijd001)","v":""},null,{"$f":"IF(Data_PersoonAanUitTijd001=-1,\"v\",\"\")","v":""},null,"v",null,null,null,null,{"$f":"IF($AO24=\"v\",AL24,AS24)","v":0},{"$f":"IF(AND($AO24=\"v\",$AQ24=\"v\"),AM24,IF(AND($AO24=\"v\",$AQ24<>\"v\"),AT24,0))","v":0},null,null,null,{"$f":"IF(Data_NaamPersoonVastVrij001=\"\",\"\",Data_NaamPersoonVastVrij001)","v":""},null,null,{"$f":"IF(Data_BeeindigingsdatumVastVrij001=\"\",\"\",Data_BeeindigingsdatumVastVrij001)","v":""},null,null,{"$f":"IF(Data_LoonkostenVastVrij001=\"\",\"\",Data_LoonkostenVastVrij001)","v":""},null,{"$f":"IF(Data_PersoonAanUitVastVrij001=-1,\"v\",\"\")","v":""},null,"v",null,null,null,null,{"$f":"IF($BI24=\"v\",BF24,BM24)","v":0},{"$f":"IF(AND($BI24=\"v\",$BK24=\"v\"),BG24,IF(AND($BI24=\"v\",$BK24<>\"v\"),BN24,0))","v":0},null,{"$f":"IF(Data_NaamPersoonVastOntslag001=\"\",\"\",Data_NaamPersoonVastOntslag001)","v":""},null,null,{"$f":"IF(Data_BeeindigingsdatumVastOntslag001=\"\",\"\",Data_BeeindigingsdatumVastOntslag001)","v":""},null,null,{"$f":"IF(Data_LoonkostenVastOntslag001=\"\",\"\",Data_LoonkostenVastOntslag001)","v":""},null,{"$f":"IF(Data_PersoonAanUitVastOntslag001=-1,\"v\",\"\")","v":""},null,"v",null,null,null,null,{"$f":"IF($CA24=\"v\",BX24,CE24)","v":0},{"$f":"IF(AND($CA24=\"v\",$CC24=\"v\"),BY24,IF(AND($CA24=\"v\",$CC24<>\"v\"),CF23,0))","v":0}]
[null,null,null,null,null,null,null,{"$f":"IF(Data_NaamPersoonNatVerloop002=\"\",\"\",Data_NaamPersoonNatVerloop002)","v":""},null,null,{"$f":"IF(Data_BeeindigingsdatumNatVerloop002=\"\",\"\",Data_BeeindigingsdatumNatVerloop002)","v":""},null,null,{"$f":"IF(Data_LoonkostenNatVerloop002=\"\",\"\",Data_LoonkostenNatVerloop002)","v":""},null,"v",null,"v",null,null,null,null,{"$f":"IF($AO25=\"v\",M25,T25)","v":0},"",null,null,null,null,null,null,null,null,{"$f":"IF(Data_NaamPersoonTijd002=\"\",\"\",Data_NaamPersoonTijd002)","v":""},null,null,{"$f":"IF(Data_BeeindigingsdatumTijd002=\"\",\"\",Data_BeeindigingsdatumTijd002)","v":""},null,null,{"$f":"IF(Data_LoonkostenTijd002=\"\",\"\",Data_LoonkostenTijd002)","v":""},null,{"$f":"IF(Data_PersoonAanUitTijd002=-1,\"v\",\"\")","v":""},null,"v",null,null,null,null,{"$f":"IF($AO25=\"v\",AL25,AS25)","v":0},{"$f":"IF(AND($AO25=\"v\",$AQ25=\"v\"),AM25,IF(AND($AO25=\"v\",$AQ25<>\"v\"),AT25,0))","v":0},null,null,null,{"$f":"IF(Data_NaamPersoonVastVrij002=\"\",\"\",Data_NaamPersoonVastVrij002)","v":""},null,null,{"$f":"IF(Data_BeeindigingsdatumVastVrij002=\"\",\"\",Data_BeeindigingsdatumVastVrij002)","v":""},null,null,{"$f":"IF(Data_LoonkostenVastVrij002=\"\",\"\",Data_LoonkostenVastVrij002)","v":""},null,{"$f":"IF(Data_PersoonAanUitVastVrij002=-1,\"v\",\"\")","v":""},null,"v",null,null,null,null,{"$f":"IF($BI25=\"v\",BF25,BM25)","v":0},0,null,{"$f":"IF(Data_NaamPersoonVastOntslag002=\"\",\"\",Data_NaamPersoonVastOntslag002)","v":""},null,null,{"$f":"IF(Data_BeeindigingsdatumVastOntslag002=\"\",\"\",Data_BeeindigingsdatumVastOntslag002)","v":""},null,null,{"$f":"IF(Data_LoonkostenVastOntslag002=\"\",\"\",Data_LoonkostenVastOntslag002)","v":""},null,{"$f":"IF(Data_PersoonAanUitVastOntslag002=-1,\"v\",\"\")","v":""},null,"v",null,null,null,null,{"$f":"IF($CA25=\"v\",BX25,CE25)","v":0},0]
[null,null,null,null,null,null,null,{"$f":"IF(Data_NaamPersoonNatVerloop003=\"\",\"\",Data_NaamPersoonNatVerloop003)","v":""},null,null,{"$f":"IF(Data_BeeindigingsdatumNatVerloop003=\"\",\"\",Data_BeeindigingsdatumNatVerloop003)","v":""},null,null,{"$f":"IF(Data_LoonkostenNatVerloop003=\"\",\"\",Data_LoonkostenNatVerloop003)","v":""},null,"v",null,"v",null,null,null,null,0,"",null,null,null,null,null,null,null,null,{"$f":"IF(Data_NaamPersoonTijd003=\"\",\"\",Data_NaamPersoonTijd003)","v":""},null,null,{"$f":"IF(Data_BeeindigingsdatumTijd003=\"\",\"\",Data_BeeindigingsdatumTijd003)","v":""},null,null,{"$f":"IF(Data_LoonkostenTijd003=\"\",\"\",Data_LoonkostenTijd003)","v":""},null,{"$f":"IF(Data_PersoonAanUitTijd003=-1,\"v\",\"\")","v":""},null,"v",null,null,null,null,0,0,null,null,null,{"$f":"IF(Data_NaamPersoonVastVrij003=\"\",\"\",Data_NaamPersoonVastVrij003)","v":""},null,null,{"$f":"IF(Data_BeeindigingsdatumVastVrij003=\"\",\"\",Data_BeeindigingsdatumVastVrij003)","v":""},null,null,{"$f":"IF(Data_LoonkostenVastVrij003=\"\",\"\",Data_LoonkostenVastVrij003)","v":""},null,{"$f":"IF(Data_PersoonAanUitVastVrij003=-1,\"v\",\"\")","v":""},null,"v",null,null,null,null,0,0,null,{"$f":"IF(Data_NaamPersoonVastOntslag003=\"\",\"\",Data_NaamPersoonVastOntslag003)","v":""},null,null,{"$f":"IF(Data_BeeindigingsdatumVastOntslag003=\"\",\"\",Data_BeeindigingsdatumVastOntslag003)","v":""},null,null,{"$f":"IF(Data_LoonkostenVastOntslag003=\"\",\"\",Data_LoonkostenVastOntslag003)","v":""},null,{"$f":"IF(Data_PersoonAanUitVastOntslag003=-1,\"v\",\"\")","v":""},null,"v",null,null,null,null,0,0]
[null,null,null,null,null,null,null,{"$f":"IF(Data_NaamPersoonNatVerloop004=\"\",\"\",Data_NaamPersoonNatVerloop004)","v":""},null,null,{"$f":"IF(Data_BeeindigingsdatumNatVerloop004=\"\",\"\",Data_BeeindigingsdatumNatVerloop004)","v":""},null,null,{"$f":"IF(Data_LoonkostenNatVerloop004=\"\",\"\",Data_LoonkostenNatVerloop004)","v":""},null,"v",null,"v",null,null,null,null,0,"",null,null,null,null,null,null,null,null,{"$f":"IF(Data_NaamPersoonTijd004=\"\",\"\",Data_NaamPersoonTijd004)","v":""},null,null,{"$f":"IF(Data_BeeindigingsdatumTijd004=\"\",\"\",Data_BeeindigingsdatumTijd004)","v":""},null,null,{"$f":"IF(Data_LoonkostenTijd004=\"\",\"\",Data_LoonkostenTijd004)","v":""},null,{"$f":"IF(Data_PersoonAanUitTijd004=-1,\"v\",\"\")","v":""},null,"v",null,null,null,null,0,0,null,null,null,{"$f":"IF(Data_NaamPersoonVastVrij004=\"\",\"\",Data_NaamPersoonVastVrij004)","v":""},null,null,{"$f":"IF(Data_BeeindigingsdatumVastVrij004=\"\",\"\",Data_BeeindigingsdatumVastVrij004)","v":""},null,null,{"$f":"IF(Data_LoonkostenVastVrij004=\"\",\"\",Data_LoonkostenVastVrij004)","v":""},null,{"$f":"IF(Data_PersoonAanUitVastVrij004=-1,\"v\",\"\")","v":""},null,"v",null,null,null,null,0,0,null,{"$f":"IF(Data_NaamPersoonVastOntslag004=\"\",\"\",Data_NaamPersoonVastOntslag004)","v":""},null,null,{"$f":"IF(Data_BeeindigingsdatumVastOntslag004=\"\",\"\",Data_BeeindigingsdatumVastOntslag004)","v":""},null,null,{"$f":"IF(Data_LoonkostenVastOntslag004=\"\",\"\",Data_LoonkostenVastOntslag004)","v":""},null,{"$f":"IF(Data_PersoonAanUitVastOntslag004=-1,\"v\",\"\")","v":""},null,"v",null,null,null,null,0,0]
[null,null,null,null,null,null,null,{"$f":"IF(Data_NaamPersoonNatVerloop005=\"\",\"\",Data_NaamPersoonNatVerloop005)","v":""},null,null,{"$f":"IF(Data_BeeindigingsdatumNatVerloop005=\"\",\"\",Data_BeeindigingsdatumNatVerloop005)","v":""},null,null,{"$f":"IF(Data_LoonkostenNatVerloop005=\"\",\"\",Data_LoonkostenNatVerloop005)","v":""},null,"v",null,"v",null,null,null,null,0,"",null,null,null,null,null,null,null,null,{"$f":"IF(Data_NaamPersoonTijd005=\"\",\"\",Data_NaamPersoonTijd005)","v":""},null,null,{"$f":"IF(Data_BeeindigingsdatumTijd005=\"\",\"\",Data_BeeindigingsdatumTijd005)","v":""},null,null,{"$f":"IF(Data_LoonkostenTijd005=\"\",\"\",Data_LoonkostenTijd005)","v":""},null,{"$f":"IF(Data_PersoonAanUitTijd005=-1,\"v\",\"\")","v":""},null,"v",null,null,null,null,0,0,null,null,null,{"$f":"IF(Data_NaamPersoonVastVrij005=\"\",\"\",Data_NaamPersoonVastVrij005)","v":""},null,null,{"$f":"IF(Data_BeeindigingsdatumVastVrij005=\"\",\"\",Data_BeeindigingsdatumVastVrij005)","v":""},null,null,{"$f":"IF(Data_LoonkostenVastVrij005=\"\",\"\",Data_LoonkostenVastVrij005)","v":""},null,{"$f":"IF(Data_PersoonAanUitVastVrij005=-1,\"v\",\"\")","v":""},null,"v",null,null,null,null,0,0,null,{"$f":"IF(Data_NaamPersoonVastOntslag005=\"\",\"\",Data_NaamPersoonVastOntslag005)","v":""},null,null,{"$f":"IF(Data_BeeindigingsdatumVastOntslag005=\"\",\"\",Data_BeeindigingsdatumVastOntslag005)","v":""},null,null,{"$f":"IF(Data_LoonkostenVastOntslag005=\"\",\"\",Data_LoonkostenVastOntslag005)","v":""},null,{"$f":"IF(Data_PersoonAanUitVastOntslag005=-1,\"v\",\"\")","v":""},null,"v",null,null,null,null,0,0]
[null,null,null,null,null,null,null,{"$f":"IF(Data_NaamPersoonNatVerloop006=\"\",\"\",Data_NaamPersoonNatVerloop006)","v":""},null,null,{"$f":"IF(Data_BeeindigingsdatumNatVerloop006=\"\",\"\",Data_BeeindigingsdatumNatVerloop006)","v":""},null,null,{"$f":"IF(Data_LoonkostenNatVerloop006=\"\",\"\",Data_LoonkostenNatVerloop006)","v":""},null,"v",null,"v",null,null,null,null,0,"",null,null,null,null,null,null,null,null,{"$f":"IF(Data_NaamPersoonTijd006=\"\",\"\",Data_NaamPersoonTijd006)","v":""},null,null,{"$f":"IF(Data_BeeindigingsdatumTijd006=\"\",\"\",Data_BeeindigingsdatumTijd006)","v":""},null,null,{"$f":"IF(Data_LoonkostenTijd006=\"\",\"\",Data_LoonkostenTijd006)","v":""},null,{"$f":"IF(Data_PersoonAanUitTijd006=-1,\"v\",\"\")","v":""},null,"v",null,null,null,null,0,0,null,null,null,{"$f":"IF(Data_NaamPersoonVastVrij006=\"\",\"\",Data_NaamPersoonVastVrij006)","v":""},null,null,{"$f":"IF(Data_BeeindigingsdatumVastVrij006=\"\",\"\",Data_BeeindigingsdatumVastVrij006)","v":""},null,null,{"$f":"IF(Data_LoonkostenVastVrij006=\"\",\"\",Data_LoonkostenVastVrij006)","v":""},null,{"$f":"IF(Data_PersoonAanUitVastVrij006=-1,\"v\",\"\")","v":""},null,"v",null,null,null,null,0,0,null,{"$f":"IF(Data_NaamPersoonVastOntslag006=\"\",\"\",Data_NaamPersoonVastOntslag006)","v":""},null,null,{"$f":"IF(Data_BeeindigingsdatumVastOntslag006=\"\",\"\",Data_BeeindigingsdatumVastOntslag006)","v":""},null,null,{"$f":"IF(Data_LoonkostenVastOntslag006=\"\",\"\",Data_LoonkostenVastOntslag006)","v":""},null,{"$f":"IF(Data_PersoonAanUitVastOntslag006=-1,\"v\",\"\")","v":""},null,"v",null,null,null,null,0,0]
[null,null,null,null,null,null,null,{"$f":"IF(Data_NaamPersoonNatVerloop007=\"\",\"\",Data_NaamPersoonNatVerloop007)","v":""},null,null,{"$f":"IF(Data_BeeindigingsdatumNatVerloop007=\"\",\"\",Data_BeeindigingsdatumNatVerloop007)","v":""},null,null,{"$f":"IF(Data_LoonkostenNatVerloop007=\"\",\"\",Data_LoonkostenNatVerloop007)","v":""},null,"v",null,"v",null,null,null,null,0,"",null,null,null,null,null,null,null,null,{"$f":"IF(Data_NaamPersoonTijd007=\"\",\"\",Data_NaamPersoonTijd007)","v":""},null,null,{"$f":"IF(Data_BeeindigingsdatumTijd007=\"\",\"\",Data_BeeindigingsdatumTijd007)","v":""},null,null,{"$f":"IF(Data_LoonkostenTijd007=\"\",\"\",Data_LoonkostenTijd007)","v":""},null,{"$f":"IF(Data_PersoonAanUitTijd007=-1,\"v\",\"\")","v":""},null,"v",null,null,null,null,0,0,null,null,null,{"$f":"IF(Data_NaamPersoonVastVrij007=\"\",\"\",Data_NaamPersoonVastVrij007)","v":""},null,null,{"$f":"IF(Data_BeeindigingsdatumVastVrij007=\"\",\"\",Data_BeeindigingsdatumVastVrij007)","v":""},null,null,{"$f":"IF(Data_LoonkostenVastVrij007=\"\",\"\",Data_LoonkostenVastVrij007)","v":""},null,{"$f":"IF(Data_PersoonAanUitVastVrij007=-1,\"v\",\"\")","v":""},null,"v",null,null,null,null,0,0,null,{"$f":"IF(Data_NaamPersoonVastOntslag007=\"\",\"\",Data_NaamPersoonVastOntslag007)","v":""},null,null,{"$f":"IF(Data_BeeindigingsdatumVastOntslag007=\"\",\"\",Data_BeeindigingsdatumVastOntslag007)","v":""},null,null,{"$f":"IF(Data_LoonkostenVastOntslag007=\"\",\"\",Data_LoonkostenVastOntslag007)","v":""},null,{"$f":"IF(Data_PersoonAanUitVastOntslag007=-1,\"v\",\"\")","v":""},null,"v",null,null,null,null,0,0]
[null,null,null,null,null,null,null,{"$f":"IF(Data_NaamPersoonNatVerloop008=\"\",\"\",Data_NaamPersoonNatVerloop008)","v":""},null,null,{"$f":"IF(Data_BeeindigingsdatumNatVerloop008=\"\",\"\",Data_BeeindigingsdatumNatVerloop008)","v":""},null,null,{"$f":"IF(Data_LoonkostenNatVerloop008=\"\",\"\",Data_LoonkostenNatVerloop008)","v":""},null,"v",null,"v",null,null,null,null,0,"",null,null,null,null,null,null,null,null,{"$f":"IF(Data_NaamPersoonTijd008=\"\",\"\",Data_NaamPersoonTijd008)","v":""},null,null,{"$f":"IF(Data_BeeindigingsdatumTijd008=\"\",\"\",Data_BeeindigingsdatumTijd008)","v":""},null,null,{"$f":"IF(Data_LoonkostenTijd008=\"\",\"\",Data_LoonkostenTijd008)","v":""},null,{"$f":"IF(Data_PersoonAanUitTijd008=-1,\"v\",\"\")","v":""},null,"v",null,null,null,null,0,0,null,null,null,{"$f":"IF(Data_NaamPersoonVastVrij008=\"\",\"\",Data_NaamPersoonVastVrij008)","v":""},null,null,{"$f":"IF(Data_BeeindigingsdatumVastVrij008=\"\",\"\",Data_BeeindigingsdatumVastVrij008)","v":""},null,null,{"$f":"IF(Data_LoonkostenVastVrij008=\"\",\"\",Data_LoonkostenVastVrij008)","v":""},null,{"$f":"IF(Data_PersoonAanUitVastVrij008=-1,\"v\",\"\")","v":""},null,"v",null,null,null,null,0,0,null,{"$f":"IF(Data_NaamPersoonVastOntslag008=\"\",\"\",Data_NaamPersoonVastOntslag008)","v":""},null,null,{"$f":"IF(Data_BeeindigingsdatumVastOntslag008=\"\",\"\",Data_BeeindigingsdatumVastOntslag008)","v":""},null,null,{"$f":"IF(Data_LoonkostenVastOntslag008=\"\",\"\",Data_LoonkostenVastOntslag008)","v":""},null,{"$f":"IF(Data_PersoonAanUitVastOntslag008=-1,\"v\",\"\")","v":""},null,"v",null,null,null,null,0,0]
[null,null,null,null,null,null,null,{"$f":"IF(Data_NaamPersoonNatVerloop009=\"\",\"\",Data_NaamPersoonNatVerloop009)","v":""},null,null,{"$f":"IF(Data_BeeindigingsdatumNatVerloop009=\"\",\"\",Data_BeeindigingsdatumNatVerloop009)","v":""},null,null,{"$f":"IF(Data_LoonkostenNatVerloop009=\"\",\"\",Data_LoonkostenNatVerloop009)","v":""},null,"v",null,"v",null,null,null,null,0,"",null,null,null,null,null,null,null,null,{"$f":"IF(Data_NaamPersoonTijd009=\"\",\"\",Data_NaamPersoonTijd009)","v":""},null,null,{"$f":"IF(Data_BeeindigingsdatumTijd009=\"\",\"\",Data_BeeindigingsdatumTijd009)","v":""},null,null,{"$f":"IF(Data_LoonkostenTijd009=\"\",\"\",Data_LoonkostenTijd009)","v":""},null,{"$f":"IF(Data_PersoonAanUitTijd009=-1,\"v\",\"\")","v":""},null,"v",null,null,null,null,0,0,null,null,null,{"$f":"IF(Data_NaamPersoonVastVrij009=\"\",\"\",Data_NaamPersoonVastVrij009)","v":""},null,null,{"$f":"IF(Data_BeeindigingsdatumVastVrij009=\"\",\"\",Data_BeeindigingsdatumVastVrij009)","v":""},null,null,{"$f":"IF(Data_LoonkostenVastVrij009=\"\",\"\",Data_LoonkostenVastVrij009)","v":""},null,{"$f":"IF(Data_PersoonAanUitVastVrij009=-1,\"v\",\"\")","v":""},null,"v",null,null,null,null,0,0,null,{"$f":"IF(Data_NaamPersoonVastOntslag009=\"\",\"\",Data_NaamPersoonVastOntslag009)","v":""},null,null,{"$f":"IF(Data_BeeindigingsdatumVastOntslag009=\"\",\"\",Data_BeeindigingsdatumVastOntslag009)","v":""},null,null,{"$f":"IF(Data_LoonkostenVastOntslag009=\"\",\"\",Data_LoonkostenVastOntslag009)","v":""},null,{"$f":"IF(Data_PersoonAanUitVastOntslag009=-1,\"v\",\"\")","v":""},null,"v",null,null,null,null,0,0]
[null,null,null,null,null,null,null,{"$f":"IF(Data_NaamPersoonNatVerloop010=\"\",\"\",Data_NaamPersoonNatVerloop010)","v":""},null,null,{"$f":"IF(Data_BeeindigingsdatumNatVerloop010=\"\",\"\",Data_BeeindigingsdatumNatVerloop010)","v":""},null,null,{"$f":"IF(Data_LoonkostenNatVerloop010=\"\",\"\",Data_LoonkostenNatVerloop010)","v":""},null,"v",null,"v",null,null,null,null,0,"",null,null,null,null,null,null,null,null,{"$f":"IF(Data_NaamPersoonTijd010=\"\",\"\",Data_NaamPersoonTijd010)","v":""},null,null,{"$f":"IF(Data_BeeindigingsdatumTijd010=\"\",\"\",Data_BeeindigingsdatumTijd010)","v":""},null,null,{"$f":"IF(Data_LoonkostenTijd010=\"\",\"\",Data_LoonkostenTijd010)","v":""},null,{"$f":"IF(Data_PersoonAanUitTijd010=-1,\"v\",\"\")","v":""},null,"v",null,null,null,null,0,0,null,null,null,{"$f":"IF(Data_NaamPersoonVastVrij010=\"\",\"\",Data_NaamPersoonVastVrij010)","v":""},null,null,{"$f":"IF(Data_BeeindigingsdatumVastVrij010=\"\",\"\",Data_BeeindigingsdatumVastVrij010)","v":""},null,null,{"$f":"IF(Data_LoonkostenVastVrij010=\"\",\"\",Data_LoonkostenVastVrij010)","v":""},null,{"$f":"IF(Data_PersoonAanUitVastVrij010=-1,\"v\",\"\")","v":""},null,"v",null,null,null,null,0,0,null,{"$f":"IF(Data_NaamPersoonVastOntslag010=\"\",\"\",Data_NaamPersoonVastOntslag010)","v":""},null,null,{"$f":"IF(Data_BeeindigingsdatumVastOntslag010=\"\",\"\",Data_BeeindigingsdatumVastOntslag010)","v":""},null,null,{"$f":"IF(Data_LoonkostenVastOntslag010=\"\",\"\",Data_LoonkostenVastOntslag010)","v":""},null,{"$f":"IF(Data_PersoonAanUitVastOntslag010=-1,\"v\",\"\")","v":""},null,"v",null,null,null,null,0,0]
[null,null,null,null,null,null,null,{"$f":"IF(Data_NaamPersoonNatVerloop011=\"\",\"\",Data_NaamPersoonNatVerloop011)","v":""},null,null,{"$f":"IF(Data_BeeindigingsdatumNatVerloop011=\"\",\"\",Data_BeeindigingsdatumNatVerloop011)","v":""},null,null,{"$f":"IF(Data_LoonkostenNatVerloop011=\"\",\"\",Data_LoonkostenNatVerloop011)","v":""},null,"v",null,"v",null,null,null,null,0,"",null,null,null,null,null,null,null,null,{"$f":"IF(Data_NaamPersoonTijd011=\"\",\"\",Data_NaamPersoonTijd011)","v":""},null,null,{"$f":"IF(Data_BeeindigingsdatumTijd011=\"\",\"\",Data_BeeindigingsdatumTijd011)","v":""},null,null,{"$f":"IF(Data_LoonkostenTijd011=\"\",\"\",Data_LoonkostenTijd011)","v":""},null,{"$f":"IF(Data_PersoonAanUitTijd011=-1,\"v\",\"\")","v":""},null,"v",null,null,null,null,0,0,null,null,null,{"$f":"IF(Data_NaamPersoonVastVrij011=\"\",\"\",Data_NaamPersoonVastVrij011)","v":""},null,null,{"$f":"IF(Data_BeeindigingsdatumVastVrij011=\"\",\"\",Data_BeeindigingsdatumVastVrij011)","v":""},null,null,{"$f":"IF(Data_LoonkostenVastVrij011=\"\",\"\",Data_LoonkostenVastVrij011)","v":""},null,{"$f":"IF(Data_PersoonAanUitVastVrij011=-1,\"v\",\"\")","v":""},null,"v",null,null,null,null,0,0,null,{"$f":"IF(Data_NaamPersoonVastOntslag011=\"\",\"\",Data_NaamPersoonVastOntslag011)","v":""},null,null,{"$f":"IF(Data_BeeindigingsdatumVastOntslag011=\"\",\"\",Data_BeeindigingsdatumVastOntslag011)","v":""},null,null,{"$f":"IF(Data_LoonkostenVastOntslag011=\"\",\"\",Data_LoonkostenVastOntslag011)","v":""},null,{"$f":"IF(Data_PersoonAanUitVastOntslag011=-1,\"v\",\"\")","v":""},null,"v",null,null,null,null,0,0]
[null,null,null,null,null,null,null,{"$f":"IF(Data_NaamPersoonNatVerloop012=\"\",\"\",Data_NaamPersoonNatVerloop012)","v":""},null,null,{"$f":"IF(Data_BeeindigingsdatumNatVerloop012=\"\",\"\",Data_BeeindigingsdatumNatVerloop012)","v":""},null,null,{"$f":"IF(Data_LoonkostenNatVerloop012=\"\",\"\",Data_LoonkostenNatVerloop012)","v":""},null,"v",null,"v",null,null,null,null,0,"",null,null,null,null,null,null,null,null,{"$f":"IF(Data_NaamPersoonTijd012=\"\",\"\",Data_NaamPersoonTijd012)","v":""},null,null,{"$f":"IF(Data_BeeindigingsdatumTijd012=\"\",\"\",Data_BeeindigingsdatumTijd012)","v":""},null,null,{"$f":"IF(Data_LoonkostenTijd012=\"\",\"\",Data_LoonkostenTijd012)","v":""},null,{"$f":"IF(Data_PersoonAanUitTijd012=-1,\"v\",\"\")","v":""},null,"v",null,null,null,null,0,0,null,null,null,{"$f":"IF(Data_NaamPersoonVastVrij012=\"\",\"\",Data_NaamPersoonVastVrij012)","v":""},null,null,{"$f":"IF(Data_BeeindigingsdatumVastVrij012=\"\",\"\",Data_BeeindigingsdatumVastVrij012)","v":""},null,null,{"$f":"IF(Data_LoonkostenVastVrij012=\"\",\"\",Data_LoonkostenVastVrij012)","v":""},null,{"$f":"IF(Data_PersoonAanUitVastVrij012=-1,\"v\",\"\")","v":""},null,"v",null,null,null,null,0,0,null,{"$f":"IF(Data_NaamPersoonVastOntslag012=\"\",\"\",Data_NaamPersoonVastOntslag012)","v":""},null,null,{"$f":"IF(Data_BeeindigingsdatumVastOntslag012=\"\",\"\",Data_BeeindigingsdatumVastOntslag012)","v":""},null,null,{"$f":"IF(Data_LoonkostenVastOntslag012=\"\",\"\",Data_LoonkostenVastOntslag012)","v":""},null,{"$f":"IF(Data_PersoonAanUitVastOntslag012=-1,\"v\",\"\")","v":""},null,"v",null,null,null,null,0,0]
[null,null,null,null,null,null,null,{"$f":"IF(Data_NaamPersoonNatVerloop013=\"\",\"\",Data_NaamPersoonNatVerloop013)","v":""},null,null,{"$f":"IF(Data_BeeindigingsdatumNatVerloop013=\"\",\"\",Data_BeeindigingsdatumNatVerloop013)","v":""},null,null,{"$f":"IF(Data_LoonkostenNatVerloop013=\"\",\"\",Data_LoonkostenNatVerloop013)","v":""},null,"v",null,"v",null,null,null,null,0,"",null,null,null,null,null,null,null,null,{"$f":"IF(Data_NaamPersoonTijd013=\"\",\"\",Data_NaamPersoonTijd013)","v":""},null,null,{"$f":"IF(Data_BeeindigingsdatumTijd013=\"\",\"\",Data_BeeindigingsdatumTijd013)","v":""},null,null,{"$f":"IF(Data_LoonkostenTijd013=\"\",\"\",Data_LoonkostenTijd013)","v":""},null,{"$f":"IF(Data_PersoonAanUitTijd013=-1,\"v\",\"\")","v":""},null,"v",null,null,null,null,0,0,null,null,null,{"$f":"IF(Data_NaamPersoonVastVrij013=\"\",\"\",Data_NaamPersoonVastVrij013)","v":""},null,null,{"$f":"IF(Data_BeeindigingsdatumVastVrij013=\"\",\"\",Data_BeeindigingsdatumVastVrij013)","v":""},null,null,{"$f":"IF(Data_LoonkostenVastVrij013=\"\",\"\",Data_LoonkostenVastVrij013)","v":""},null,{"$f":"IF(Data_PersoonAanUitVastVrij013=-1,\"v\",\"\")","v":""},null,"v",null,null,null,null,0,0,null,{"$f":"IF(Data_NaamPersoonVastOntslag013=\"\",\"\",Data_NaamPersoonVastOntslag013)","v":""},null,null,{"$f":"IF(Data_BeeindigingsdatumVastOntslag013=\"\",\"\",Data_BeeindigingsdatumVastOntslag013)","v":""},null,null,{"$f":"IF(Data_LoonkostenVastOntslag013=\"\",\"\",Data_LoonkostenVastOntslag013)","v":""},null,{"$f":"IF(Data_PersoonAanUitVastOntslag013=-1,\"v\",\"\")","v":""},null,"v",null,null,null,null,0,0]
[null,null,null,null,null,null,null,{"$f":"IF(Data_NaamPersoonNatVerloop014=\"\",\"\",Data_NaamPersoonNatVerloop014)","v":""},null,null,{"$f":"IF(Data_BeeindigingsdatumNatVerloop014=\"\",\"\",Data_BeeindigingsdatumNatVerloop014)","v":""},null,null,{"$f":"IF(Data_LoonkostenNatVerloop014=\"\",\"\",Data_LoonkostenNatVerloop014)","v":""},null,"v",null,"v",null,null,null,null,0,"",null,null,null,null,null,null,null,null,{"$f":"IF(Data_NaamPersoonTijd014=\"\",\"\",Data_NaamPersoonTijd014)","v":""},null,null,{"$f":"IF(Data_BeeindigingsdatumTijd014=\"\",\"\",Data_BeeindigingsdatumTijd014)","v":""},null,null,{"$f":"IF(Data_LoonkostenTijd014=\"\",\"\",Data_LoonkostenTijd014)","v":""},null,{"$f":"IF(Data_PersoonAanUitTijd014=-1,\"v\",\"\")","v":""},null,"v",null,null,null,null,0,0,null,null,null,{"$f":"IF(Data_NaamPersoonVastVrij014=\"\",\"\",Data_NaamPersoonVastVrij014)","v":""},null,null,{"$f":"IF(Data_BeeindigingsdatumVastVrij014=\"\",\"\",Data_BeeindigingsdatumVastVrij014)","v":""},null,null,{"$f":"IF(Data_LoonkostenVastVrij014=\"\",\"\",Data_LoonkostenVastVrij014)","v":""},null,{"$f":"IF(Data_PersoonAanUitVastVrij014=-1,\"v\",\"\")","v":""},null,"v",null,null,null,null,0,0,null,{"$f":"IF(Data_NaamPersoonVastOntslag014=\"\",\"\",Data_NaamPersoonVastOntslag014)","v":""},null,null,{"$f":"IF(Data_BeeindigingsdatumVastOntslag014=\"\",\"\",Data_BeeindigingsdatumVastOntslag014)","v":""},null,null,{"$f":"IF(Data_LoonkostenVastOntslag014=\"\",\"\",Data_LoonkostenVastOntslag014)","v":""},null,{"$f":"IF(Data_PersoonAanUitVastOntslag014=-1,\"v\",\"\")","v":""},null,"v",null,null,null,null,{"$f":"IF($CA37=\"v\",BX37,CE37)","v":0},0]
[null,null,null,null,null,null,null,{"$f":"IF(Data_NaamPersoonNatVerloop015=\"\",\"\",Data_NaamPersoonNatVerloop015)","v":""},null,null,{"$f":"IF(Data_BeeindigingsdatumNatVerloop015=\"\",\"\",Data_BeeindigingsdatumNatVerloop015)","v":""},null,null,{"$f":"IF(Data_LoonkostenNatVerloop015=\"\",\"\",Data_LoonkostenNatVerloop015)","v":""},null,"v",null,"v",null,null,null,null,0,"",null,null,null,null,null,null,null,null,{"$f":"IF(Data_NaamPersoonTijd015=\"\",\"\",Data_NaamPersoonTijd015)","v":""},null,null,{"$f":"IF(Data_BeeindigingsdatumTijd015=\"\",\"\",Data_BeeindigingsdatumTijd015)","v":""},null,null,{"$f":"IF(Data_LoonkostenTijd015=\"\",\"\",Data_LoonkostenTijd015)","v":""},null,{"$f":"IF(Data_PersoonAanUitTijd015=-1,\"v\",\"\")","v":""},null,"v",null,null,null,null,0,0,null,null,null,{"$f":"IF(Data_NaamPersoonVastVrij015=\"\",\"\",Data_NaamPersoonVastVrij015)","v":""},null,null,{"$f":"IF(Data_BeeindigingsdatumVastVrij015=\"\",\"\",Data_BeeindigingsdatumVastVrij015)","v":""},null,null,{"$f":"IF(Data_LoonkostenVastVrij015=\"\",\"\",Data_LoonkostenVastVrij015)","v":""},null,{"$f":"IF(Data_PersoonAanUitVastVrij015=-1,\"v\",\"\")","v":""},null,"v",null,null,null,null,0,0,null,{"$f":"IF(Data_NaamPersoonVastOntslag015=\"\",\"\",Data_NaamPersoonVastOntslag015)","v":""},null,null,{"$f":"IF(Data_BeeindigingsdatumVastOntslag015=\"\",\"\",Data_BeeindigingsdatumVastOntslag015)","v":""},null,null,{"$f":"IF(Data_LoonkostenVastOntslag015=\"\",\"\",Data_LoonkostenVastOntslag015)","v":""},null,{"$f":"IF(Data_PersoonAanUitVastOntslag015=-1,\"v\",\"\")","v":""},null,"v",null,null,null,null,0,0]
[null,null,null,null,null,null,null,{"$f":"IF(Data_NaamPersoonNatVerloop016=\"\",\"\",Data_NaamPersoonNatVerloop016)","v":""},null,null,{"$f":"IF(Data_BeeindigingsdatumNatVerloop016=\"\",\"\",Data_BeeindigingsdatumNatVerloop016)","v":""},null,null,{"$f":"IF(Data_LoonkostenNatVerloop016=\"\",\"\",Data_LoonkostenNatVerloop016)","v":""},null,"v",null,"v",null,null,null,null,0,"",null,null,null,null,null,null,null,null,{"$f":"IF(Data_NaamPersoonTijd016=\"\",\"\",Data_NaamPersoonTijd016)","v":""},null,null,{"$f":"IF(Data_BeeindigingsdatumTijd016=\"\",\"\",Data_BeeindigingsdatumTijd016)","v":""},null,null,{"$f":"IF(Data_LoonkostenTijd016=\"\",\"\",Data_LoonkostenTijd016)","v":""},null,{"$f":"IF(Data_PersoonAanUitTijd016=-1,\"v\",\"\")","v":""},null,"v",null,null,null,null,0,0,null,null,null,{"$f":"IF(Data_NaamPersoonVastVrij016=\"\",\"\",Data_NaamPersoonVastVrij016)","v":""},null,null,{"$f":"IF(Data_BeeindigingsdatumVastVrij016=\"\",\"\",Data_BeeindigingsdatumVastVrij016)","v":""},null,null,{"$f":"IF(Data_LoonkostenVastVrij016=\"\",\"\",Data_LoonkostenVastVrij016)","v":""},null,{"$f":"IF(Data_PersoonAanUitVastVrij016=-1,\"v\",\"\")","v":""},null,"v",null,null,null,null,0,0,null,{"$f":"IF(Data_NaamPersoonVastOntslag016=\"\",\"\",Data_NaamPersoonVastOntslag016)","v":""},null,null,{"$f":"IF(Data_BeeindigingsdatumVastOntslag016=\"\",\"\",Data_BeeindigingsdatumVastOntslag016)","v":""},null,null,{"$f":"IF(Data_LoonkostenVastOntslag016=\"\",\"\",Data_LoonkostenVastOntslag016)","v":""},null,{"$f":"IF(Data_PersoonAanUitVastOntslag016=-1,\"v\",\"\")","v":""},null,"v",null,null,null,null,0,0]
[null,null,null,null,null,null,null,{"$f":"IF(Data_NaamPersoonNatVerloop017=\"\",\"\",Data_NaamPersoonNatVerloop017)","v":""},null,null,{"$f":"IF(Data_BeeindigingsdatumNatVerloop017=\"\",\"\",Data_BeeindigingsdatumNatVerloop017)","v":""},null,null,{"$f":"IF(Data_LoonkostenNatVerloop017=\"\",\"\",Data_LoonkostenNatVerloop017)","v":""},null,"v",null,"v",null,null,null,null,0,"",null,null,null,null,null,null,null,null,{"$f":"IF(Data_NaamPersoonTijd017=\"\",\"\",Data_NaamPersoonTijd017)","v":""},null,null,{"$f":"IF(Data_BeeindigingsdatumTijd017=\"\",\"\",Data_BeeindigingsdatumTijd017)","v":""},null,null,{"$f":"IF(Data_LoonkostenTijd017=\"\",\"\",Data_LoonkostenTijd017)","v":""},null,{"$f":"IF(Data_PersoonAanUitTijd017=-1,\"v\",\"\")","v":""},null,"v",null,null,null,null,0,0,null,null,null,{"$f":"IF(Data_NaamPersoonVastVrij017=\"\",\"\",Data_NaamPersoonVastVrij017)","v":""},null,null,{"$f":"IF(Data_BeeindigingsdatumVastVrij017=\"\",\"\",Data_BeeindigingsdatumVastVrij017)","v":""},null,null,{"$f":"IF(Data_LoonkostenVastVrij017=\"\",\"\",Data_LoonkostenVastVrij017)","v":""},null,{"$f":"IF(Data_PersoonAanUitVastVrij017=-1,\"v\",\"\")","v":""},null,"v",null,null,null,null,0,0,null,{"$f":"IF(Data_NaamPersoonVastOntslag017=\"\",\"\",Data_NaamPersoonVastOntslag017)","v":""},null,null,{"$f":"IF(Data_BeeindigingsdatumVastOntslag017=\"\",\"\",Data_BeeindigingsdatumVastOntslag017)","v":""},null,null,{"$f":"IF(Data_LoonkostenVastOntslag017=\"\",\"\",Data_LoonkostenVastOntslag017)","v":""},null,{"$f":"IF(Data_PersoonAanUitVastOntslag017=-1,\"v\",\"\")","v":""},null,"v",null,null,null,null,0,0]
[null,null,null,null,null,null,null,{"$f":"IF(Data_NaamPersoonNatVerloop018=\"\",\"\",Data_NaamPersoonNatVerloop018)","v":""},null,null,{"$f":"IF(Data_BeeindigingsdatumNatVerloop018=\"\",\"\",Data_BeeindigingsdatumNatVerloop018)","v":""},null,null,{"$f":"IF(Data_LoonkostenNatVerloop018=\"\",\"\",Data_LoonkostenNatVerloop018)","v":""},null,"v",null,"v",null,null,null,null,0,"",null,null,null,null,null,null,null,null,{"$f":"IF(Data_NaamPersoonTijd018=\"\",\"\",Data_NaamPersoonTijd018)","v":""},null,null,{"$f":"IF(Data_BeeindigingsdatumTijd018=\"\",\"\",Data_BeeindigingsdatumTijd018)","v":""},null,null,{"$f":"IF(Data_LoonkostenTijd018=\"\",\"\",Data_LoonkostenTijd018)","v":""},null,{"$f":"IF(Data_PersoonAanUitTijd018=-1,\"v\",\"\")","v":""},null,"v",null,null,null,null,0,0,null,null,null,{"$f":"IF(Data_NaamPersoonVastVrij018=\"\",\"\",Data_NaamPersoonVastVrij018)","v":""},null,null,{"$f":"IF(Data_BeeindigingsdatumVastVrij018=\"\",\"\",Data_BeeindigingsdatumVastVrij018)","v":""},null,null,{"$f":"IF(Data_LoonkostenVastVrij018=\"\",\"\",Data_LoonkostenVastVrij018)","v":""},null,{"$f":"IF(Data_PersoonAanUitVastVrij018=-1,\"v\",\"\")","v":""},null,"v",null,null,null,null,0,0,null,{"$f":"IF(Data_NaamPersoonVastOntslag018=\"\",\"\",Data_NaamPersoonVastOntslag018)","v":""},null,null,{"$f":"IF(Data_BeeindigingsdatumVastOntslag018=\"\",\"\",Data_BeeindigingsdatumVastOntslag018)","v":""},null,null,{"$f":"IF(Data_LoonkostenVastOntslag018=\"\",\"\",Data_LoonkostenVastOntslag018)","v":""},null,{"$f":"IF(Data_PersoonAanUitVastOntslag018=-1,\"v\",\"\")","v":""},null,"v",null,null,null,null,0,0]
[null,null,null,null,null,null,null,{"$f":"IF(Data_NaamPersoonNatVerloop019=\"\",\"\",Data_NaamPersoonNatVerloop019)","v":""},null,null,{"$f":"IF(Data_BeeindigingsdatumNatVerloop019=\"\",\"\",Data_BeeindigingsdatumNatVerloop019)","v":""},null,null,{"$f":"IF(Data_LoonkostenNatVerloop019=\"\",\"\",Data_LoonkostenNatVerloop019)","v":""},null,"v",null,"v",null,null,null,null,0,"",null,null,null,null,null,null,null,null,{"$f":"IF(Data_NaamPersoonTijd019=\"\",\"\",Data_NaamPersoonTijd019)","v":""},null,null,{"$f":"IF(Data_BeeindigingsdatumTijd019=\"\",\"\",Data_BeeindigingsdatumTijd019)","v":""},null,null,{"$f":"IF(Data_LoonkostenTijd019=\"\",\"\",Data_LoonkostenTijd019)","v":""},null,{"$f":"IF(Data_PersoonAanUitTijd019=-1,\"v\",\"\")","v":""},null,"v",null,null,null,null,0,0,null,null,null,{"$f":"IF(Data_NaamPersoonVastVrij019=\"\",\"\",Data_NaamPersoonVastVrij019)","v":""},null,null,{"$f":"IF(Data_BeeindigingsdatumVastVrij019=\"\",\"\",Data_BeeindigingsdatumVastVrij019)","v":""},null,null,{"$f":"IF(Data_LoonkostenVastVrij019=\"\",\"\",Data_LoonkostenVastVrij019)","v":""},null,{"$f":"IF(Data_PersoonAanUitVastVrij019=-1,\"v\",\"\")","v":""},null,"v",null,null,null,null,0,0,null,{"$f":"IF(Data_NaamPersoonVastOntslag019=\"\",\"\",Data_NaamPersoonVastOntslag019)","v":""},null,null,{"$f":"IF(Data_BeeindigingsdatumVastOntslag019=\"\",\"\",Data_BeeindigingsdatumVastOntslag019)","v":""},null,null,{"$f":"IF(Data_LoonkostenVastOntslag019=\"\",\"\",Data_LoonkostenVastOntslag019)","v":""},null,{"$f":"IF(Data_PersoonAanUitVastOntslag019=-1,\"v\",\"\")","v":""},null,"v",null,null,null,null,0,0]
[null,null,null,null,null,null,null,{"$f":"IF(Data_NaamPersoonNatVerloop020=\"\",\"\",Data_NaamPersoonNatVerloop020)","v":""},null,null,{"$f":"IF(Data_BeeindigingsdatumNatVerloop020=\"\",\"\",Data_BeeindigingsdatumNatVerloop020)","v":""},null,null,{"$f":"IF(Data_LoonkostenNatVerloop020=\"\",\"\",Data_LoonkostenNatVerloop020)","v":""},null,"v",null,"v",null,null,null,null,0,"",null,null,null,null,null,null,null,null,{"$f":"IF(Data_NaamPersoonTijd020=\"\",\"\",Data_NaamPersoonTijd020)","v":""},null,null,{"$f":"IF(Data_BeeindigingsdatumTijd020=\"\",\"\",Data_BeeindigingsdatumTijd020)","v":""},null,null,{"$f":"IF(Data_LoonkostenTijd020=\"\",\"\",Data_LoonkostenTijd020)","v":""},null,{"$f":"IF(Data_PersoonAanUitTijd020=-1,\"v\",\"\")","v":""},null,"v",null,null,null,null,0,0,null,null,null,{"$f":"IF(Data_NaamPersoonVastVrij020=\"\",\"\",Data_NaamPersoonVastVrij020)","v":""},null,null,{"$f":"IF(Data_BeeindigingsdatumVastVrij020=\"\",\"\",Data_BeeindigingsdatumVastVrij020)","v":""},null,null,{"$f":"IF(Data_LoonkostenVastVrij020=\"\",\"\",Data_LoonkostenVastVrij020)","v":""},null,{"$f":"IF(Data_PersoonAanUitVastVrij020=-1,\"v\",\"\")","v":""},null,"v",null,null,null,null,0,0,null,{"$f":"IF(Data_NaamPersoonVastOntslag020=\"\",\"\",Data_NaamPersoonVastOntslag020)","v":""},null,null,{"$f":"IF(Data_BeeindigingsdatumVastOntslag020=\"\",\"\",Data_BeeindigingsdatumVastOntslag020)","v":""},null,null,{"$f":"IF(Data_LoonkostenVastOntslag020=\"\",\"\",Data_LoonkostenVastOntslag020)","v":""},null,{"$f":"IF(Data_PersoonAanUitVastOntslag020=-1,\"v\",\"\")","v":""},null,"v",null,null,null,null,0,0]
[null,null,null,null,null,null,null,{"$f":"IF(Data_NaamPersoonNatVerloop021=\"\",\"\",Data_NaamPersoonNatVerloop021)","v":""},null,null,{"$f":"IF(Data_BeeindigingsdatumNatVerloop021=\"\",\"\",Data_BeeindigingsdatumNatVerloop021)","v":""},null,null,{"$f":"IF(Data_LoonkostenNatVerloop021=\"\",\"\",Data_LoonkostenNatVerloop021)","v":""},null,"v",null,"v",null,null,null,null,0,"",null,null,null,null,null,null,null,null,{"$f":"IF(Data_NaamPersoonTijd021=\"\",\"\",Data_NaamPersoonTijd021)","v":""},null,null,{"$f":"IF(Data_BeeindigingsdatumTijd021=\"\",\"\",Data_BeeindigingsdatumTijd021)","v":""},null,null,{"$f":"IF(Data_LoonkostenTijd021=\"\",\"\",Data_LoonkostenTijd021)","v":""},null,{"$f":"IF(Data_PersoonAanUitTijd021=-1,\"v\",\"\")","v":""},null,"v",null,null,null,null,0,0,null,null,null,{"$f":"IF(Data_NaamPersoonVastVrij021=\"\",\"\",Data_NaamPersoonVastVrij021)","v":""},null,null,{"$f":"IF(Data_BeeindigingsdatumVastVrij021=\"\",\"\",Data_BeeindigingsdatumVastVrij021)","v":""},null,null,{"$f":"IF(Data_LoonkostenVastVrij021=\"\",\"\",Data_LoonkostenVastVrij021)","v":""},null,{"$f":"IF(Data_PersoonAanUitVastVrij021=-1,\"v\",\"\")","v":""},null,"v",null,null,null,null,0,0,null,{"$f":"IF(Data_NaamPersoonVastOntslag021=\"\",\"\",Data_NaamPersoonVastOntslag021)","v":""},null,null,{"$f":"IF(Data_BeeindigingsdatumVastOntslag021=\"\",\"\",Data_BeeindigingsdatumVastOntslag021)","v":""},null,null,{"$f":"IF(Data_LoonkostenVastOntslag021=\"\",\"\",Data_LoonkostenVastOntslag021)","v":""},null,{"$f":"IF(Data_PersoonAanUitVastOntslag021=-1,\"v\",\"\")","v":""},null,"v",null,null,null,null,0,0]
[null,null,null,null,null,null,null,{"$f":"IF(Data_NaamPersoonNatVerloop022=\"\",\"\",Data_NaamPersoonNatVerloop022)","v":""},null,null,{"$f":"IF(Data_BeeindigingsdatumNatVerloop022=\"\",\"\",Data_BeeindigingsdatumNatVerloop022)","v":""},null,null,{"$f":"IF(Data_LoonkostenNatVerloop022=\"\",\"\",Data_LoonkostenNatVerloop022)","v":""},null,"v",null,"v",null,null,null,null,0,"",null,null,null,null,null,null,null,null,{"$f":"IF(Data_NaamPersoonTijd022=\"\",\"\",Data_NaamPersoonTijd022)","v":""},null,null,{"$f":"IF(Data_BeeindigingsdatumTijd022=\"\",\"\",Data_BeeindigingsdatumTijd022)","v":""},null,null,{"$f":"IF(Data_LoonkostenTijd022=\"\",\"\",Data_LoonkostenTijd022)","v":""},null,{"$f":"IF(Data_PersoonAanUitTijd022=-1,\"v\",\"\")","v":""},null,"v",null,null,null,null,0,0,null,null,null,{"$f":"IF(Data_NaamPersoonVastVrij022=\"\",\"\",Data_NaamPersoonVastVrij022)","v":""},null,null,{"$f":"IF(Data_BeeindigingsdatumVastVrij022=\"\",\"\",Data_BeeindigingsdatumVastVrij022)","v":""},null,null,{"$f":"IF(Data_LoonkostenVastVrij022=\"\",\"\",Data_LoonkostenVastVrij022)","v":""},null,{"$f":"IF(Data_PersoonAanUitVastVrij022=-1,\"v\",\"\")","v":""},null,"v",null,null,null,null,0,0,null,{"$f":"IF(Data_NaamPersoonVastOntslag022=\"\",\"\",Data_NaamPersoonVastOntslag022)","v":""},null,null,{"$f":"IF(Data_BeeindigingsdatumVastOntslag022=\"\",\"\",Data_BeeindigingsdatumVastOntslag022)","v":""},null,null,{"$f":"IF(Data_LoonkostenVastOntslag022=\"\",\"\",Data_LoonkostenVastOntslag022)","v":""},null,{"$f":"IF(Data_PersoonAanUitVastOntslag022=-1,\"v\",\"\")","v":""},null,"v",null,null,null,null,0,0]
[null,null,null,null,null,null,null,{"$f":"IF(Data_NaamPersoonNatVerloop023=\"\",\"\",Data_NaamPersoonNatVerloop023)","v":""},null,null,{"$f":"IF(Data_BeeindigingsdatumNatVerloop023=\"\",\"\",Data_BeeindigingsdatumNatVerloop023)","v":""},null,null,{"$f":"IF(Data_LoonkostenNatVerloop023=\"\",\"\",Data_LoonkostenNatVerloop023)","v":""},null,"v",null,"v",null,null,null,null,0,"",null,null,null,null,null,null,null,null,{"$f":"IF(Data_NaamPersoonTijd023=\"\",\"\",Data_NaamPersoonTijd023)","v":""},null,null,{"$f":"IF(Data_BeeindigingsdatumTijd023=\"\",\"\",Data_BeeindigingsdatumTijd023)","v":""},null,null,{"$f":"IF(Data_LoonkostenTijd023=\"\",\"\",Data_LoonkostenTijd023)","v":""},null,{"$f":"IF(Data_PersoonAanUitTijd023=-1,\"v\",\"\")","v":""},null,"v",null,null,null,null,0,0,null,null,null,{"$f":"IF(Data_NaamPersoonVastVrij023=\"\",\"\",Data_NaamPersoonVastVrij023)","v":""},null,null,{"$f":"IF(Data_BeeindigingsdatumVastVrij023=\"\",\"\",Data_BeeindigingsdatumVastVrij023)","v":""},null,null,{"$f":"IF(Data_LoonkostenVastVrij023=\"\",\"\",Data_LoonkostenVastVrij023)","v":""},null,{"$f":"IF(Data_PersoonAanUitVastVrij023=-1,\"v\",\"\")","v":""},null,"v",null,null,null,null,0,0,null,{"$f":"IF(Data_NaamPersoonVastOntslag023=\"\",\"\",Data_NaamPersoonVastOntslag023)","v":""},null,null,{"$f":"IF(Data_BeeindigingsdatumVastOntslag023=\"\",\"\",Data_BeeindigingsdatumVastOntslag023)","v":""},null,null,{"$f":"IF(Data_LoonkostenVastOntslag023=\"\",\"\",Data_LoonkostenVastOntslag023)","v":""},null,{"$f":"IF(Data_PersoonAanUitVastOntslag023=-1,\"v\",\"\")","v":""},null,"v",null,null,null,null,0,0]
[null,null,null,null,null,null,null,{"$f":"IF(Data_NaamPersoonNatVerloop024=\"\",\"\",Data_NaamPersoonNatVerloop024)","v":""},null,null,{"$f":"IF(Data_BeeindigingsdatumNatVerloop024=\"\",\"\",Data_BeeindigingsdatumNatVerloop024)","v":""},null,null,{"$f":"IF(Data_LoonkostenNatVerloop024=\"\",\"\",Data_LoonkostenNatVerloop024)","v":""},null,"v",null,"v",null,null,null,null,0,"",null,null,null,null,null,null,null,null,{"$f":"IF(Data_NaamPersoonTijd024=\"\",\"\",Data_NaamPersoonTijd024)","v":""},null,null,{"$f":"IF(Data_BeeindigingsdatumTijd024=\"\",\"\",Data_BeeindigingsdatumTijd024)","v":""},null,null,{"$f":"IF(Data_LoonkostenTijd024=\"\",\"\",Data_LoonkostenTijd024)","v":""},null,{"$f":"IF(Data_PersoonAanUitTijd024=-1,\"v\",\"\")","v":""},null,"v",null,null,null,null,0,0,null,null,null,{"$f":"IF(Data_NaamPersoonVastVrij024=\"\",\"\",Data_NaamPersoonVastVrij024)","v":""},null,null,{"$f":"IF(Data_BeeindigingsdatumVastVrij024=\"\",\"\",Data_BeeindigingsdatumVastVrij024)","v":""},null,null,{"$f":"IF(Data_LoonkostenVastVrij024=\"\",\"\",Data_LoonkostenVastVrij024)","v":""},null,{"$f":"IF(Data_PersoonAanUitVastVrij024=-1,\"v\",\"\")","v":""},null,"v",null,null,null,null,0,0,null,{"$f":"IF(Data_NaamPersoonVastOntslag024=\"\",\"\",Data_NaamPersoonVastOntslag024)","v":""},null,null,{"$f":"IF(Data_BeeindigingsdatumVastOntslag024=\"\",\"\",Data_BeeindigingsdatumVastOntslag024)","v":""},null,null,{"$f":"IF(Data_LoonkostenVastOntslag024=\"\",\"\",Data_LoonkostenVastOntslag024)","v":""},null,{"$f":"IF(Data_PersoonAanUitVastOntslag024=-1,\"v\",\"\")","v":""},null,"v",null,null,null,null,0,0]
[null,null,null,null,null,null,null,{"$f":"IF(Data_NaamPersoonNatVerloop025=\"\",\"\",Data_NaamPersoonNatVerloop025)","v":""},null,null,{"$f":"IF(Data_BeeindigingsdatumNatVerloop025=\"\",\"\",Data_BeeindigingsdatumNatVerloop025)","v":""},null,null,{"$f":"IF(Data_LoonkostenNatVerloop025=\"\",\"\",Data_LoonkostenNatVerloop025)","v":""},null,"v",null,"v",null,null,null,null,0,"",null,null,null,null,null,null,null,null,{"$f":"IF(Data_NaamPersoonTijd025=\"\",\"\",Data_NaamPersoonTijd025)","v":""},null,null,{"$f":"IF(Data_BeeindigingsdatumTijd025=\"\",\"\",Data_BeeindigingsdatumTijd025)","v":""},null,null,{"$f":"IF(Data_LoonkostenTijd025=\"\",\"\",Data_LoonkostenTijd025)","v":""},null,{"$f":"IF(Data_PersoonAanUitTijd025=-1,\"v\",\"\")","v":""},null,"v",null,null,null,null,0,0,null,null,null,{"$f":"IF(Data_NaamPersoonVastVrij025=\"\",\"\",Data_NaamPersoonVastVrij025)","v":""},null,null,{"$f":"IF(Data_BeeindigingsdatumVastVrij025=\"\",\"\",Data_BeeindigingsdatumVastVrij025)","v":""},null,null,{"$f":"IF(Data_LoonkostenVastVrij025=\"\",\"\",Data_LoonkostenVastVrij025)","v":""},null,{"$f":"IF(Data_PersoonAanUitVastVrij025=-1,\"v\",\"\")","v":""},null,"v",null,null,null,null,0,0,null,{"$f":"IF(Data_NaamPersoonVastOntslag025=\"\",\"\",Data_NaamPersoonVastOntslag025)","v":""},null,null,{"$f":"IF(Data_BeeindigingsdatumVastOntslag025=\"\",\"\",Data_BeeindigingsdatumVastOntslag025)","v":""},null,null,{"$f":"IF(Data_LoonkostenVastOntslag025=\"\",\"\",Data_LoonkostenVastOntslag025)","v":""},null,{"$f":"IF(Data_PersoonAanUitVastOntslag025=-1,\"v\",\"\")","v":""},null,"v",null,null,null,null,0,0]
[null,null,null,null,null,null,null,{"$f":"IF(Data_NaamPersoonNatVerloop026=\"\",\"\",Data_NaamPersoonNatVerloop026)","v":""},null,null,{"$f":"IF(Data_BeeindigingsdatumNatVerloop026=\"\",\"\",Data_BeeindigingsdatumNatVerloop026)","v":""},null,null,{"$f":"IF(Data_LoonkostenNatVerloop026=\"\",\"\",Data_LoonkostenNatVerloop026)","v":""},null,"v",null,"v",null,null,null,null,0,"",null,null,null,null,null,null,null,null,{"$f":"IF(Data_NaamPersoonTijd026=\"\",\"\",Data_NaamPersoonTijd026)","v":""},null,null,{"$f":"IF(Data_BeeindigingsdatumTijd026=\"\",\"\",Data_BeeindigingsdatumTijd026)","v":""},null,null,{"$f":"IF(Data_LoonkostenTijd026=\"\",\"\",Data_LoonkostenTijd026)","v":""},null,{"$f":"IF(Data_PersoonAanUitTijd026=-1,\"v\",\"\")","v":""},null,"v",null,null,null,null,0,0,null,null,null,{"$f":"IF(Data_NaamPersoonVastVrij026=\"\",\"\",Data_NaamPersoonVastVrij026)","v":""},null,null,{"$f":"IF(Data_BeeindigingsdatumVastVrij026=\"\",\"\",Data_BeeindigingsdatumVastVrij026)","v":""},null,null,{"$f":"IF(Data_LoonkostenVastVrij026=\"\",\"\",Data_LoonkostenVastVrij026)","v":""},null,{"$f":"IF(Data_PersoonAanUitVastVrij026=-1,\"v\",\"\")","v":""},null,"v",null,null,null,null,0,0,null,{"$f":"IF(Data_NaamPersoonVastOntslag026=\"\",\"\",Data_NaamPersoonVastOntslag026)","v":""},null,null,{"$f":"IF(Data_BeeindigingsdatumVastOntslag026=\"\",\"\",Data_BeeindigingsdatumVastOntslag026)","v":""},null,null,{"$f":"IF(Data_LoonkostenVastOntslag026=\"\",\"\",Data_LoonkostenVastOntslag026)","v":""},null,{"$f":"IF(Data_PersoonAanUitVastOntslag026=-1,\"v\",\"\")","v":""},null,"v",null,null,null,null,0,0]
[null,null,null,null,null,null,null,{"$f":"IF(Data_NaamPersoonNatVerloop027=\"\",\"\",Data_NaamPersoonNatVerloop027)","v":""},null,null,{"$f":"IF(Data_BeeindigingsdatumNatVerloop027=\"\",\"\",Data_BeeindigingsdatumNatVerloop027)","v":""},null,null,{"$f":"IF(Data_LoonkostenNatVerloop027=\"\",\"\",Data_LoonkostenNatVerloop027)","v":""},null,"v",null,"v",null,null,null,null,0,"",null,null,null,null,null,null,null,null,{"$f":"IF(Data_NaamPersoonTijd027=\"\",\"\",Data_NaamPersoonTijd027)","v":""},null,null,{"$f":"IF(Data_BeeindigingsdatumTijd027=\"\",\"\",Data_BeeindigingsdatumTijd027)","v":""},null,null,{"$f":"IF(Data_LoonkostenTijd027=\"\",\"\",Data_LoonkostenTijd027)","v":""},null,{"$f":"IF(Data_PersoonAanUitTijd027=-1,\"v\",\"\")","v":""},null,"v",null,null,null,null,0,0,null,null,null,{"$f":"IF(Data_NaamPersoonVastVrij027=\"\",\"\",Data_NaamPersoonVastVrij027)","v":""},null,null,{"$f":"IF(Data_BeeindigingsdatumVastVrij027=\"\",\"\",Data_BeeindigingsdatumVastVrij027)","v":""},null,null,{"$f":"IF(Data_LoonkostenVastVrij027=\"\",\"\",Data_LoonkostenVastVrij027)","v":""},null,{"$f":"IF(Data_PersoonAanUitVastVrij027=-1,\"v\",\"\")","v":""},null,"v",null,null,null,null,0,0,null,{"$f":"IF(Data_NaamPersoonVastOntslag027=\"\",\"\",Data_NaamPersoonVastOntslag027)","v":""},null,null,{"$f":"IF(Data_BeeindigingsdatumVastOntslag027=\"\",\"\",Data_BeeindigingsdatumVastOntslag027)","v":""},null,null,{"$f":"IF(Data_LoonkostenVastOntslag027=\"\",\"\",Data_LoonkostenVastOntslag027)","v":""},null,{"$f":"IF(Data_PersoonAanUitVastOntslag027=-1,\"v\",\"\")","v":""},null,"v",null,null,null,null,0,0]
[null,null,null,null,null,null,null,{"$f":"IF(Data_NaamPersoonNatVerloop028=\"\",\"\",Data_NaamPersoonNatVerloop028)","v":""},null,null,{"$f":"IF(Data_BeeindigingsdatumNatVerloop028=\"\",\"\",Data_BeeindigingsdatumNatVerloop028)","v":""},null,null,{"$f":"IF(Data_LoonkostenNatVerloop028=\"\",\"\",Data_LoonkostenNatVerloop028)","v":""},null,"v",null,"v",null,null,null,null,0,"",null,null,null,null,null,null,null,null,{"$f":"IF(Data_NaamPersoonTijd028=\"\",\"\",Data_NaamPersoonTijd028)","v":""},null,null,{"$f":"IF(Data_BeeindigingsdatumTijd028=\"\",\"\",Data_BeeindigingsdatumTijd028)","v":""},null,null,{"$f":"IF(Data_LoonkostenTijd028=\"\",\"\",Data_LoonkostenTijd028)","v":""},null,{"$f":"IF(Data_PersoonAanUitTijd028=-1,\"v\",\"\")","v":""},null,"v",null,null,null,null,0,0,null,null,null,{"$f":"IF(Data_NaamPersoonVastVrij028=\"\",\"\",Data_NaamPersoonVastVrij028)","v":""},null,null,{"$f":"IF(Data_BeeindigingsdatumVastVrij028=\"\",\"\",Data_BeeindigingsdatumVastVrij028)","v":""},null,null,{"$f":"IF(Data_LoonkostenVastVrij028=\"\",\"\",Data_LoonkostenVastVrij028)","v":""},null,{"$f":"IF(Data_PersoonAanUitVastVrij028=-1,\"v\",\"\")","v":""},null,"v",null,null,null,null,0,0,null,{"$f":"IF(Data_NaamPersoonVastOntslag028=\"\",\"\",Data_NaamPersoonVastOntslag028)","v":""},null,null,{"$f":"IF(Data_BeeindigingsdatumVastOntslag028=\"\",\"\",Data_BeeindigingsdatumVastOntslag028)","v":""},null,null,{"$f":"IF(Data_LoonkostenVastOntslag028=\"\",\"\",Data_LoonkostenVastOntslag028)","v":""},null,{"$f":"IF(Data_PersoonAanUitVastOntslag028=-1,\"v\",\"\")","v":""},null,"v",null,null,null,null,0,0]
[null,null,null,null,null,null,null,{"$f":"IF(Data_NaamPersoonNatVerloop029=\"\",\"\",Data_NaamPersoonNatVerloop029)","v":""},null,null,{"$f":"IF(Data_BeeindigingsdatumNatVerloop029=\"\",\"\",Data_BeeindigingsdatumNatVerloop029)","v":""},null,null,{"$f":"IF(Data_LoonkostenNatVerloop029=\"\",\"\",Data_LoonkostenNatVerloop029)","v":""},null,"v",null,"v",null,null,null,null,0,"",null,null,null,null,null,null,null,null,{"$f":"IF(Data_NaamPersoonTijd029=\"\",\"\",Data_NaamPersoonTijd029)","v":""},null,null,{"$f":"IF(Data_BeeindigingsdatumTijd029=\"\",\"\",Data_BeeindigingsdatumTijd029)","v":""},null,null,{"$f":"IF(Data_LoonkostenTijd029=\"\",\"\",Data_LoonkostenTijd029)","v":""},null,{"$f":"IF(Data_PersoonAanUitTijd029=-1,\"v\",\"\")","v":""},null,"v",null,null,null,null,0,0,null,null,null,{"$f":"IF(Data_NaamPersoonVastVrij029=\"\",\"\",Data_NaamPersoonVastVrij029)","v":""},null,null,{"$f":"IF(Data_BeeindigingsdatumVastVrij029=\"\",\"\",Data_BeeindigingsdatumVastVrij029)","v":""},null,null,{"$f":"IF(Data_LoonkostenVastVrij029=\"\",\"\",Data_LoonkostenVastVrij029)","v":""},null,{"$f":"IF(Data_PersoonAanUitVastVrij029=-1,\"v\",\"\")","v":""},null,"v",null,null,null,null,0,0,null,{"$f":"IF(Data_NaamPersoonVastOntslag029=\"\",\"\",Data_NaamPersoonVastOntslag029)","v":""},null,null,{"$f":"IF(Data_BeeindigingsdatumVastOntslag029=\"\",\"\",Data_BeeindigingsdatumVastOntslag029)","v":""},null,null,{"$f":"IF(Data_LoonkostenVastOntslag029=\"\",\"\",Data_LoonkostenVastOntslag029)","v":""},null,{"$f":"IF(Data_PersoonAanUitVastOntslag029=-1,\"v\",\"\")","v":""},null,"v",null,null,null,null,0,0]
[null,null,null,null,null,null,null,{"$f":"IF(Data_NaamPersoonNatVerloop030=\"\",\"\",Data_NaamPersoonNatVerloop030)","v":""},null,null,{"$f":"IF(Data_BeeindigingsdatumNatVerloop030=\"\",\"\",Data_BeeindigingsdatumNatVerloop030)","v":""},null,null,{"$f":"IF(Data_LoonkostenNatVerloop030=\"\",\"\",Data_LoonkostenNatVerloop030)","v":""},null,"v",null,"v",null,null,null,null,0,"",null,null,null,null,null,null,null,null,{"$f":"IF(Data_NaamPersoonTijd030=\"\",\"\",Data_NaamPersoonTijd030)","v":""},null,null,{"$f":"IF(Data_BeeindigingsdatumTijd030=\"\",\"\",Data_BeeindigingsdatumTijd030)","v":""},null,null,{"$f":"IF(Data_LoonkostenTijd030=\"\",\"\",Data_LoonkostenTijd030)","v":""},null,{"$f":"IF(Data_PersoonAanUitTijd030=-1,\"v\",\"\")","v":""},null,"v",null,null,null,null,0,0,null,null,null,{"$f":"IF(Data_NaamPersoonVastVrij030=\"\",\"\",Data_NaamPersoonVastVrij030)","v":""},null,null,{"$f":"IF(Data_BeeindigingsdatumVastVrij030=\"\",\"\",Data_BeeindigingsdatumVastVrij030)","v":""},null,null,{"$f":"IF(Data_LoonkostenVastVrij030=\"\",\"\",Data_LoonkostenVastVrij030)","v":""},null,{"$f":"IF(Data_PersoonAanUitVastVrij030=-1,\"v\",\"\")","v":""},null,"v",null,null,null,null,0,0,null,{"$f":"IF(Data_NaamPersoonVastOntslag030=\"\",\"\",Data_NaamPersoonVastOntslag030)","v":""},null,null,{"$f":"IF(Data_BeeindigingsdatumVastOntslag030=\"\",\"\",Data_BeeindigingsdatumVastOntslag030)","v":""},null,null,{"$f":"IF(Data_LoonkostenVastOntslag030=\"\",\"\",Data_LoonkostenVastOntslag030)","v":""},null,{"$f":"IF(Data_PersoonAanUitVastOntslag030=-1,\"v\",\"\")","v":""},null,"v",null,null,null,null,0,0]
[null,null,null,null,null,null,null,{"$f":"IF(Data_NaamPersoonNatVerloop031=\"\",\"\",Data_NaamPersoonNatVerloop031)","v":""},null,null,{"$f":"IF(Data_BeeindigingsdatumNatVerloop031=\"\",\"\",Data_BeeindigingsdatumNatVerloop031)","v":""},null,null,{"$f":"IF(Data_LoonkostenNatVerloop031=\"\",\"\",Data_LoonkostenNatVerloop031)","v":""},null,"v",null,"v",null,null,null,null,0,"",null,null,null,null,null,null,null,null,{"$f":"IF(Data_NaamPersoonTijd031=\"\",\"\",Data_NaamPersoonTijd031)","v":""},null,null,{"$f":"IF(Data_BeeindigingsdatumTijd031=\"\",\"\",Data_BeeindigingsdatumTijd031)","v":""},null,null,{"$f":"IF(Data_LoonkostenTijd031=\"\",\"\",Data_LoonkostenTijd031)","v":""},null,{"$f":"IF(Data_PersoonAanUitTijd031=-1,\"v\",\"\")","v":""},null,"v",null,null,null,null,0,0,null,null,null,{"$f":"IF(Data_NaamPersoonVastVrij031=\"\",\"\",Data_NaamPersoonVastVrij031)","v":""},null,null,{"$f":"IF(Data_BeeindigingsdatumVastVrij031=\"\",\"\",Data_BeeindigingsdatumVastVrij031)","v":""},null,null,{"$f":"IF(Data_LoonkostenVastVrij031=\"\",\"\",Data_LoonkostenVastVrij031)","v":""},null,{"$f":"IF(Data_PersoonAanUitVastVrij031=-1,\"v\",\"\")","v":""},null,"v",null,null,null,null,0,0,null,{"$f":"IF(Data_NaamPersoonVastOntslag031=\"\",\"\",Data_NaamPersoonVastOntslag031)","v":""},null,null,{"$f":"IF(Data_BeeindigingsdatumVastOntslag031=\"\",\"\",Data_BeeindigingsdatumVastOntslag031)","v":""},null,null,{"$f":"IF(Data_LoonkostenVastOntslag031=\"\",\"\",Data_LoonkostenVastOntslag031)","v":""},null,{"$f":"IF(Data_PersoonAanUitVastOntslag031=-1,\"v\",\"\")","v":""},null,"v",null,null,null,null,0,0]
[null,null,null,null,null,null,null,{"$f":"IF(Data_NaamPersoonNatVerloop032=\"\",\"\",Data_NaamPersoonNatVerloop032)","v":""},null,null,{"$f":"IF(Data_BeeindigingsdatumNatVerloop032=\"\",\"\",Data_BeeindigingsdatumNatVerloop032)","v":""},null,null,{"$f":"IF(Data_LoonkostenNatVerloop032=\"\",\"\",Data_LoonkostenNatVerloop032)","v":""},null,"v",null,"v",null,null,null,null,0,"",null,null,null,null,null,null,null,null,{"$f":"IF(Data_NaamPersoonTijd032=\"\",\"\",Data_NaamPersoonTijd032)","v":""},null,null,{"$f":"IF(Data_BeeindigingsdatumTijd032=\"\",\"\",Data_BeeindigingsdatumTijd032)","v":""},null,null,{"$f":"IF(Data_LoonkostenTijd032=\"\",\"\",Data_LoonkostenTijd032)","v":""},null,{"$f":"IF(Data_PersoonAanUitTijd032=-1,\"v\",\"\")","v":""},null,"v",null,null,null,null,0,0,null,null,null,{"$f":"IF(Data_NaamPersoonVastVrij032=\"\",\"\",Data_NaamPersoonVastVrij032)","v":""},null,null,{"$f":"IF(Data_BeeindigingsdatumVastVrij032=\"\",\"\",Data_BeeindigingsdatumVastVrij032)","v":""},null,null,{"$f":"IF(Data_LoonkostenVastVrij032=\"\",\"\",Data_LoonkostenVastVrij032)","v":""},null,{"$f":"IF(Data_PersoonAanUitVastVrij032=-1,\"v\",\"\")","v":""},null,"v",null,null,null,null,0,0,null,{"$f":"IF(Data_NaamPersoonVastOntslag032=\"\",\"\",Data_NaamPersoonVastOntslag032)","v":""},null,null,{"$f":"IF(Data_BeeindigingsdatumVastOntslag032=\"\",\"\",Data_BeeindigingsdatumVastOntslag032)","v":""},null,null,{"$f":"IF(Data_LoonkostenVastOntslag032=\"\",\"\",Data_LoonkostenVastOntslag032)","v":""},null,{"$f":"IF(Data_PersoonAanUitVastOntslag032=-1,\"v\",\"\")","v":""},null,"v",null,null,null,null,0,0]
[null,null,null,null,null,null,null,{"$f":"IF(Data_NaamPersoonNatVerloop033=\"\",\"\",Data_NaamPersoonNatVerloop033)","v":""},null,null,{"$f":"IF(Data_BeeindigingsdatumNatVerloop033=\"\",\"\",Data_BeeindigingsdatumNatVerloop033)","v":""},null,null,{"$f":"IF(Data_LoonkostenNatVerloop033=\"\",\"\",Data_LoonkostenNatVerloop033)","v":""},null,"v",null,"v",null,null,null,null,0,"",null,null,null,null,null,null,null,null,{"$f":"IF(Data_NaamPersoonTijd033=\"\",\"\",Data_NaamPersoonTijd033)","v":""},null,null,{"$f":"IF(Data_BeeindigingsdatumTijd033=\"\",\"\",Data_BeeindigingsdatumTijd033)","v":""},null,null,{"$f":"IF(Data_LoonkostenTijd033=\"\",\"\",Data_LoonkostenTijd033)","v":""},null,{"$f":"IF(Data_PersoonAanUitTijd033=-1,\"v\",\"\")","v":""},null,"v",null,null,null,null,0,0,null,null,null,{"$f":"IF(Data_NaamPersoonVastVrij033=\"\",\"\",Data_NaamPersoonVastVrij033)","v":""},null,null,{"$f":"IF(Data_BeeindigingsdatumVastVrij033=\"\",\"\",Data_BeeindigingsdatumVastVrij033)","v":""},null,null,{"$f":"IF(Data_LoonkostenVastVrij033=\"\",\"\",Data_LoonkostenVastVrij033)","v":""},null,{"$f":"IF(Data_PersoonAanUitVastVrij033=-1,\"v\",\"\")","v":""},null,"v",null,null,null,null,0,0,null,{"$f":"IF(Data_NaamPersoonVastOntslag033=\"\",\"\",Data_NaamPersoonVastOntslag033)","v":""},null,null,{"$f":"IF(Data_BeeindigingsdatumVastOntslag033=\"\",\"\",Data_BeeindigingsdatumVastOntslag033)","v":""},null,null,{"$f":"IF(Data_LoonkostenVastOntslag033=\"\",\"\",Data_LoonkostenVastOntslag033)","v":""},null,{"$f":"IF(Data_PersoonAanUitVastOntslag033=-1,\"v\",\"\")","v":""},null,"v",null,null,null,null,0,0]
[null,null,null,null,null,null,null,{"$f":"IF(Data_NaamPersoonNatVerloop034=\"\",\"\",Data_NaamPersoonNatVerloop034)","v":""},null,null,{"$f":"IF(Data_BeeindigingsdatumNatVerloop034=\"\",\"\",Data_BeeindigingsdatumNatVerloop034)","v":""},null,null,{"$f":"IF(Data_LoonkostenNatVerloop034=\"\",\"\",Data_LoonkostenNatVerloop034)","v":""},null,"v",null,"v",null,null,null,null,0,"",null,null,null,null,null,null,null,null,{"$f":"IF(Data_NaamPersoonTijd034=\"\",\"\",Data_NaamPersoonTijd034)","v":""},null,null,{"$f":"IF(Data_BeeindigingsdatumTijd034=\"\",\"\",Data_BeeindigingsdatumTijd034)","v":""},null,null,{"$f":"IF(Data_LoonkostenTijd034=\"\",\"\",Data_LoonkostenTijd034)","v":""},null,{"$f":"IF(Data_PersoonAanUitTijd034=-1,\"v\",\"\")","v":""},null,"v",null,null,null,null,0,0,null,null,null,{"$f":"IF(Data_NaamPersoonVastVrij034=\"\",\"\",Data_NaamPersoonVastVrij034)","v":""},null,null,{"$f":"IF(Data_BeeindigingsdatumVastVrij034=\"\",\"\",Data_BeeindigingsdatumVastVrij034)","v":""},null,null,{"$f":"IF(Data_LoonkostenVastVrij034=\"\",\"\",Data_LoonkostenVastVrij034)","v":""},null,{"$f":"IF(Data_PersoonAanUitVastVrij034=-1,\"v\",\"\")","v":""},null,"v",null,null,null,null,0,0,null,{"$f":"IF(Data_NaamPersoonVastOntslag034=\"\",\"\",Data_NaamPersoonVastOntslag034)","v":""},null,null,{"$f":"IF(Data_BeeindigingsdatumVastOntslag034=\"\",\"\",Data_BeeindigingsdatumVastOntslag034)","v":""},null,null,{"$f":"IF(Data_LoonkostenVastOntslag034=\"\",\"\",Data_LoonkostenVastOntslag034)","v":""},null,{"$f":"IF(Data_PersoonAanUitVastOntslag034=-1,\"v\",\"\")","v":""},null,"v",null,null,null,null,0,0]
[null,null,null,null,null,null,null,{"$f":"IF(Data_NaamPersoonNatVerloop035=\"\",\"\",Data_NaamPersoonNatVerloop035)","v":""},null,null,{"$f":"IF(Data_BeeindigingsdatumNatVerloop035=\"\",\"\",Data_BeeindigingsdatumNatVerloop035)","v":""},null,null,{"$f":"IF(Data_LoonkostenNatVerloop035=\"\",\"\",Data_LoonkostenNatVerloop035)","v":""},null,"v",null,"v",null,null,null,null,0,"",null,null,null,null,null,null,null,null,{"$f":"IF(Data_NaamPersoonTijd035=\"\",\"\",Data_NaamPersoonTijd035)","v":""},null,null,{"$f":"IF(Data_BeeindigingsdatumTijd035=\"\",\"\",Data_BeeindigingsdatumTijd035)","v":""},null,null,{"$f":"IF(Data_LoonkostenTijd035=\"\",\"\",Data_LoonkostenTijd035)","v":""},null,{"$f":"IF(Data_PersoonAanUitTijd035=-1,\"v\",\"\")","v":""},null,"v",null,null,null,null,0,0,null,null,null,{"$f":"IF(Data_NaamPersoonVastVrij035=\"\",\"\",Data_NaamPersoonVastVrij035)","v":""},null,null,{"$f":"IF(Data_BeeindigingsdatumVastVrij035=\"\",\"\",Data_BeeindigingsdatumVastVrij035)","v":""},null,null,{"$f":"IF(Data_LoonkostenVastVrij035=\"\",\"\",Data_LoonkostenVastVrij035)","v":""},null,{"$f":"IF(Data_PersoonAanUitVastVrij035=-1,\"v\",\"\")","v":""},null,"v",null,null,null,null,0,0,null,{"$f":"IF(Data_NaamPersoonVastOntslag035=\"\",\"\",Data_NaamPersoonVastOntslag035)","v":""},null,null,{"$f":"IF(Data_BeeindigingsdatumVastOntslag035=\"\",\"\",Data_BeeindigingsdatumVastOntslag035)","v":""},null,null,{"$f":"IF(Data_LoonkostenVastOntslag035=\"\",\"\",Data_LoonkostenVastOntslag035)","v":""},null,{"$f":"IF(Data_PersoonAanUitVastOntslag035=-1,\"v\",\"\")","v":""},null,"v",null,null,null,null,0,0]
[null,null,null,null,null,null,null,{"$f":"IF(Data_NaamPersoonNatVerloop036=\"\",\"\",Data_NaamPersoonNatVerloop036)","v":""},null,null,{"$f":"IF(Data_BeeindigingsdatumNatVerloop036=\"\",\"\",Data_BeeindigingsdatumNatVerloop036)","v":""},null,null,{"$f":"IF(Data_LoonkostenNatVerloop036=\"\",\"\",Data_LoonkostenNatVerloop036)","v":""},null,"v",null,"v",null,null,null,null,0,"",null,null,null,null,null,null,null,null,{"$f":"IF(Data_NaamPersoonTijd036=\"\",\"\",Data_NaamPersoonTijd036)","v":""},null,null,{"$f":"IF(Data_BeeindigingsdatumTijd036=\"\",\"\",Data_BeeindigingsdatumTijd036)","v":""},null,null,{"$f":"IF(Data_LoonkostenTijd036=\"\",\"\",Data_LoonkostenTijd036)","v":""},null,{"$f":"IF(Data_PersoonAanUitTijd036=-1,\"v\",\"\")","v":""},null,"v",null,null,null,null,0,0,null,null,null,{"$f":"IF(Data_NaamPersoonVastVrij036=\"\",\"\",Data_NaamPersoonVastVrij036)","v":""},null,null,{"$f":"IF(Data_BeeindigingsdatumVastVrij036=\"\",\"\",Data_BeeindigingsdatumVastVrij036)","v":""},null,null,{"$f":"IF(Data_LoonkostenVastVrij036=\"\",\"\",Data_LoonkostenVastVrij036)","v":""},null,{"$f":"IF(Data_PersoonAanUitVastVrij036=-1,\"v\",\"\")","v":""},null,"v",null,null,null,null,0,0,null,{"$f":"IF(Data_NaamPersoonVastOntslag036=\"\",\"\",Data_NaamPersoonVastOntslag036)","v":""},null,null,{"$f":"IF(Data_BeeindigingsdatumVastOntslag036=\"\",\"\",Data_BeeindigingsdatumVastOntslag036)","v":""},null,null,{"$f":"IF(Data_LoonkostenVastOntslag036=\"\",\"\",Data_LoonkostenVastOntslag036)","v":""},null,{"$f":"IF(Data_PersoonAanUitVastOntslag036=-1,\"v\",\"\")","v":""},null,"v",null,null,null,null,0,0]
[null,null,null,null,null,null,null,{"$f":"IF(Data_NaamPersoonNatVerloop037=\"\",\"\",Data_NaamPersoonNatVerloop037)","v":""},null,null,{"$f":"IF(Data_BeeindigingsdatumNatVerloop037=\"\",\"\",Data_BeeindigingsdatumNatVerloop037)","v":""},null,null,{"$f":"IF(Data_LoonkostenNatVerloop037=\"\",\"\",Data_LoonkostenNatVerloop037)","v":""},null,"v",null,"v",null,null,null,null,0,"",null,null,null,null,null,null,null,null,{"$f":"IF(Data_NaamPersoonTijd037=\"\",\"\",Data_NaamPersoonTijd037)","v":""},null,null,{"$f":"IF(Data_BeeindigingsdatumTijd037=\"\",\"\",Data_BeeindigingsdatumTijd037)","v":""},null,null,{"$f":"IF(Data_LoonkostenTijd037=\"\",\"\",Data_LoonkostenTijd037)","v":""},null,{"$f":"IF(Data_PersoonAanUitTijd037=-1,\"v\",\"\")","v":""},null,"v",null,null,null,null,0,0,null,null,null,{"$f":"IF(Data_NaamPersoonVastVrij037=\"\",\"\",Data_NaamPersoonVastVrij037)","v":""},null,null,{"$f":"IF(Data_BeeindigingsdatumVastVrij037=\"\",\"\",Data_BeeindigingsdatumVastVrij037)","v":""},null,null,{"$f":"IF(Data_LoonkostenVastVrij037=\"\",\"\",Data_LoonkostenVastVrij037)","v":""},null,{"$f":"IF(Data_PersoonAanUitVastVrij037=-1,\"v\",\"\")","v":""},null,"v",null,null,null,null,0,0,null,{"$f":"IF(Data_NaamPersoonVastOntslag037=\"\",\"\",Data_NaamPersoonVastOntslag037)","v":""},null,null,{"$f":"IF(Data_BeeindigingsdatumVastOntslag037=\"\",\"\",Data_BeeindigingsdatumVastOntslag037)","v":""},null,null,{"$f":"IF(Data_LoonkostenVastOntslag037=\"\",\"\",Data_LoonkostenVastOntslag037)","v":""},null,{"$f":"IF(Data_PersoonAanUitVastOntslag037=-1,\"v\",\"\")","v":""},null,"v",null,null,null,null,0,0]
[null,null,null,null,null,null,null,{"$f":"IF(Data_NaamPersoonNatVerloop038=\"\",\"\",Data_NaamPersoonNatVerloop038)","v":""},null,null,{"$f":"IF(Data_BeeindigingsdatumNatVerloop038=\"\",\"\",Data_BeeindigingsdatumNatVerloop038)","v":""},null,null,{"$f":"IF(Data_LoonkostenNatVerloop038=\"\",\"\",Data_LoonkostenNatVerloop038)","v":""},null,"v",null,"v",null,null,null,null,0,"",null,null,null,null,null,null,null,null,{"$f":"IF(Data_NaamPersoonTijd038=\"\",\"\",Data_NaamPersoonTijd038)","v":""},null,null,{"$f":"IF(Data_BeeindigingsdatumTijd038=\"\",\"\",Data_BeeindigingsdatumTijd038)","v":""},null,null,{"$f":"IF(Data_LoonkostenTijd038=\"\",\"\",Data_LoonkostenTijd038)","v":""},null,{"$f":"IF(Data_PersoonAanUitTijd038=-1,\"v\",\"\")","v":""},null,"v",null,null,null,null,0,0,null,null,null,{"$f":"IF(Data_NaamPersoonVastVrij038=\"\",\"\",Data_NaamPersoonVastVrij038)","v":""},null,null,{"$f":"IF(Data_BeeindigingsdatumVastVrij038=\"\",\"\",Data_BeeindigingsdatumVastVrij038)","v":""},null,null,{"$f":"IF(Data_LoonkostenVastVrij038=\"\",\"\",Data_LoonkostenVastVrij038)","v":""},null,{"$f":"IF(Data_PersoonAanUitVastVrij038=-1,\"v\",\"\")","v":""},null,"v",null,null,null,null,0,0,null,{"$f":"IF(Data_NaamPersoonVastOntslag038=\"\",\"\",Data_NaamPersoonVastOntslag038)","v":""},null,null,{"$f":"IF(Data_BeeindigingsdatumVastOntslag038=\"\",\"\",Data_BeeindigingsdatumVastOntslag038)","v":""},null,null,{"$f":"IF(Data_LoonkostenVastOntslag038=\"\",\"\",Data_LoonkostenVastOntslag038)","v":""},null,{"$f":"IF(Data_PersoonAanUitVastOntslag038=-1,\"v\",\"\")","v":""},null,"v",null,null,null,null,0,0]
[null,null,null,null,null,null,null,{"$f":"IF(Data_NaamPersoonNatVerloop039=\"\",\"\",Data_NaamPersoonNatVerloop039)","v":""},null,null,{"$f":"IF(Data_BeeindigingsdatumNatVerloop039=\"\",\"\",Data_BeeindigingsdatumNatVerloop039)","v":""},null,null,{"$f":"IF(Data_LoonkostenNatVerloop039=\"\",\"\",Data_LoonkostenNatVerloop039)","v":""},null,"v",null,"v",null,null,null,null,0,"",null,null,null,null,null,null,null,null,{"$f":"IF(Data_NaamPersoonTijd039=\"\",\"\",Data_NaamPersoonTijd039)","v":""},null,null,{"$f":"IF(Data_BeeindigingsdatumTijd039=\"\",\"\",Data_BeeindigingsdatumTijd039)","v":""},null,null,{"$f":"IF(Data_LoonkostenTijd039=\"\",\"\",Data_LoonkostenTijd039)","v":""},null,{"$f":"IF(Data_PersoonAanUitTijd039=-1,\"v\",\"\")","v":""},null,"v",null,null,null,null,0,0,null,null,null,{"$f":"IF(Data_NaamPersoonVastVrij039=\"\",\"\",Data_NaamPersoonVastVrij039)","v":""},null,null,{"$f":"IF(Data_BeeindigingsdatumVastVrij039=\"\",\"\",Data_BeeindigingsdatumVastVrij039)","v":""},null,null,{"$f":"IF(Data_LoonkostenVastVrij039=\"\",\"\",Data_LoonkostenVastVrij039)","v":""},null,{"$f":"IF(Data_PersoonAanUitVastVrij039=-1,\"v\",\"\")","v":""},null,"v",null,null,null,null,0,0,null,{"$f":"IF(Data_NaamPersoonVastOntslag039=\"\",\"\",Data_NaamPersoonVastOntslag039)","v":""},null,null,{"$f":"IF(Data_BeeindigingsdatumVastOntslag039=\"\",\"\",Data_BeeindigingsdatumVastOntslag039)","v":""},null,null,{"$f":"IF(Data_LoonkostenVastOntslag039=\"\",\"\",Data_LoonkostenVastOntslag039)","v":""},null,{"$f":"IF(Data_PersoonAanUitVastOntslag039=-1,\"v\",\"\")","v":""},null,"v",null,null,null,null,0,0]
[null,null,null,null,null,null,null,{"$f":"IF(Data_NaamPersoonNatVerloop040=\"\",\"\",Data_NaamPersoonNatVerloop040)","v":""},null,null,{"$f":"IF(Data_BeeindigingsdatumNatVerloop040=\"\",\"\",Data_BeeindigingsdatumNatVerloop040)","v":""},null,null,{"$f":"IF(Data_LoonkostenNatVerloop040=\"\",\"\",Data_LoonkostenNatVerloop040)","v":""},null,"v",null,"v",null,null,null,null,0,"",null,null,null,null,null,null,null,null,{"$f":"IF(Data_NaamPersoonTijd040=\"\",\"\",Data_NaamPersoonTijd040)","v":""},null,null,{"$f":"IF(Data_BeeindigingsdatumTijd040=\"\",\"\",Data_BeeindigingsdatumTijd040)","v":""},null,null,{"$f":"IF(Data_LoonkostenTijd040=\"\",\"\",Data_LoonkostenTijd040)","v":""},null,{"$f":"IF(Data_PersoonAanUitTijd040=-1,\"v\",\"\")","v":""},null,"v",null,null,null,null,0,0,null,null,null,{"$f":"IF(Data_NaamPersoonVastVrij040=\"\",\"\",Data_NaamPersoonVastVrij040)","v":""},null,null,{"$f":"IF(Data_BeeindigingsdatumVastVrij040=\"\",\"\",Data_BeeindigingsdatumVastVrij040)","v":""},null,null,{"$f":"IF(Data_LoonkostenVastVrij040=\"\",\"\",Data_LoonkostenVastVrij040)","v":""},null,{"$f":"IF(Data_PersoonAanUitVastVrij040=-1,\"v\",\"\")","v":""},null,"v",null,null,null,null,0,0,null,{"$f":"IF(Data_NaamPersoonVastOntslag040=\"\",\"\",Data_NaamPersoonVastOntslag040)","v":""},null,null,{"$f":"IF(Data_BeeindigingsdatumVastOntslag040=\"\",\"\",Data_BeeindigingsdatumVastOntslag040)","v":""},null,null,{"$f":"IF(Data_LoonkostenVastOntslag040=\"\",\"\",Data_LoonkostenVastOntslag040)","v":""},null,{"$f":"IF(Data_PersoonAanUitVastOntslag040=-1,\"v\",\"\")","v":""},null,"v",null,null,null,null,0,0]
[null,null,null,null,null,null,null,{"$f":"IF(Data_NaamPersoonNatVerloop041=\"\",\"\",Data_NaamPersoonNatVerloop041)","v":""},null,null,{"$f":"IF(Data_BeeindigingsdatumNatVerloop041=\"\",\"\",Data_BeeindigingsdatumNatVerloop041)","v":""},null,null,{"$f":"IF(Data_LoonkostenNatVerloop041=\"\",\"\",Data_LoonkostenNatVerloop041)","v":""},null,"v",null,"v",null,null,null,null,0,"",null,null,null,null,null,null,null,null,{"$f":"IF(Data_NaamPersoonTijd041=\"\",\"\",Data_NaamPersoonTijd041)","v":""},null,null,{"$f":"IF(Data_BeeindigingsdatumTijd041=\"\",\"\",Data_BeeindigingsdatumTijd041)","v":""},null,null,{"$f":"IF(Data_LoonkostenTijd041=\"\",\"\",Data_LoonkostenTijd041)","v":""},null,{"$f":"IF(Data_PersoonAanUitTijd041=-1,\"v\",\"\")","v":""},null,"v",null,null,null,null,0,0,null,null,null,{"$f":"IF(Data_NaamPersoonVastVrij041=\"\",\"\",Data_NaamPersoonVastVrij041)","v":""},null,null,{"$f":"IF(Data_BeeindigingsdatumVastVrij041=\"\",\"\",Data_BeeindigingsdatumVastVrij041)","v":""},null,null,{"$f":"IF(Data_LoonkostenVastVrij041=\"\",\"\",Data_LoonkostenVastVrij041)","v":""},null,{"$f":"IF(Data_PersoonAanUitVastVrij041=-1,\"v\",\"\")","v":""},null,"v",null,null,null,null,0,0,null,{"$f":"IF(Data_NaamPersoonVastOntslag041=\"\",\"\",Data_NaamPersoonVastOntslag041)","v":""},null,null,{"$f":"IF(Data_BeeindigingsdatumVastOntslag041=\"\",\"\",Data_BeeindigingsdatumVastOntslag041)","v":""},null,null,{"$f":"IF(Data_LoonkostenVastOntslag041=\"\",\"\",Data_LoonkostenVastOntslag041)","v":""},null,{"$f":"IF(Data_PersoonAanUitVastOntslag041=-1,\"v\",\"\")","v":""},null,"v",null,null,null,null,0,0]
[null,null,null,null,null,null,null,{"$f":"IF(Data_NaamPersoonNatVerloop042=\"\",\"\",Data_NaamPersoonNatVerloop042)","v":""},null,null,{"$f":"IF(Data_BeeindigingsdatumNatVerloop042=\"\",\"\",Data_BeeindigingsdatumNatVerloop042)","v":""},null,null,{"$f":"IF(Data_LoonkostenNatVerloop042=\"\",\"\",Data_LoonkostenNatVerloop042)","v":""},null,"v",null,"v",null,null,null,null,0,"",null,null,null,null,null,null,null,null,{"$f":"IF(Data_NaamPersoonTijd042=\"\",\"\",Data_NaamPersoonTijd042)","v":""},null,null,{"$f":"IF(Data_BeeindigingsdatumTijd042=\"\",\"\",Data_BeeindigingsdatumTijd042)","v":""},null,null,{"$f":"IF(Data_LoonkostenTijd042=\"\",\"\",Data_LoonkostenTijd042)","v":""},null,{"$f":"IF(Data_PersoonAanUitTijd042=-1,\"v\",\"\")","v":""},null,"v",null,null,null,null,0,0,null,null,null,{"$f":"IF(Data_NaamPersoonVastVrij042=\"\",\"\",Data_NaamPersoonVastVrij042)","v":""},null,null,{"$f":"IF(Data_BeeindigingsdatumVastVrij042=\"\",\"\",Data_BeeindigingsdatumVastVrij042)","v":""},null,null,{"$f":"IF(Data_LoonkostenVastVrij042=\"\",\"\",Data_LoonkostenVastVrij042)","v":""},null,{"$f":"IF(Data_PersoonAanUitVastVrij042=-1,\"v\",\"\")","v":""},null,"v",null,null,null,null,0,0,null,{"$f":"IF(Data_NaamPersoonVastOntslag042=\"\",\"\",Data_NaamPersoonVastOntslag042)","v":""},null,null,{"$f":"IF(Data_BeeindigingsdatumVastOntslag042=\"\",\"\",Data_BeeindigingsdatumVastOntslag042)","v":""},null,null,{"$f":"IF(Data_LoonkostenVastOntslag042=\"\",\"\",Data_LoonkostenVastOntslag042)","v":""},null,{"$f":"IF(Data_PersoonAanUitVastOntslag042=-1,\"v\",\"\")","v":""},null,"v",null,null,null,null,0,0]
[null,null,null,null,null,null,null,{"$f":"IF(Data_NaamPersoonNatVerloop043=\"\",\"\",Data_NaamPersoonNatVerloop043)","v":""},null,null,{"$f":"IF(Data_BeeindigingsdatumNatVerloop043=\"\",\"\",Data_BeeindigingsdatumNatVerloop043)","v":""},null,null,{"$f":"IF(Data_LoonkostenNatVerloop043=\"\",\"\",Data_LoonkostenNatVerloop043)","v":""},null,"v",null,"v",null,null,null,null,0,"",null,null,null,null,null,null,null,null,{"$f":"IF(Data_NaamPersoonTijd043=\"\",\"\",Data_NaamPersoonTijd043)","v":""},null,null,{"$f":"IF(Data_BeeindigingsdatumTijd043=\"\",\"\",Data_BeeindigingsdatumTijd043)","v":""},null,null,{"$f":"IF(Data_LoonkostenTijd043=\"\",\"\",Data_LoonkostenTijd043)","v":""},null,{"$f":"IF(Data_PersoonAanUitTijd043=-1,\"v\",\"\")","v":""},null,"v",null,null,null,null,0,0,null,null,null,{"$f":"IF(Data_NaamPersoonVastVrij043=\"\",\"\",Data_NaamPersoonVastVrij043)","v":""},null,null,{"$f":"IF(Data_BeeindigingsdatumVastVrij043=\"\",\"\",Data_BeeindigingsdatumVastVrij043)","v":""},null,null,{"$f":"IF(Data_LoonkostenVastVrij043=\"\",\"\",Data_LoonkostenVastVrij043)","v":""},null,{"$f":"IF(Data_PersoonAanUitVastVrij043=-1,\"v\",\"\")","v":""},null,"v",null,null,null,null,0,0,null,{"$f":"IF(Data_NaamPersoonVastOntslag043=\"\",\"\",Data_NaamPersoonVastOntslag043)","v":""},null,null,{"$f":"IF(Data_BeeindigingsdatumVastOntslag043=\"\",\"\",Data_BeeindigingsdatumVastOntslag043)","v":""},null,null,{"$f":"IF(Data_LoonkostenVastOntslag043=\"\",\"\",Data_LoonkostenVastOntslag043)","v":""},null,{"$f":"IF(Data_PersoonAanUitVastOntslag043=-1,\"v\",\"\")","v":""},null,"v",null,null,null,null,0,0]
[null,null,null,null,null,null,null,{"$f":"IF(Data_NaamPersoonNatVerloop044=\"\",\"\",Data_NaamPersoonNatVerloop044)","v":""},null,null,{"$f":"IF(Data_BeeindigingsdatumNatVerloop044=\"\",\"\",Data_BeeindigingsdatumNatVerloop044)","v":""},null,null,{"$f":"IF(Data_LoonkostenNatVerloop044=\"\",\"\",Data_LoonkostenNatVerloop044)","v":""},null,"v",null,"v",null,null,null,null,0,"",null,null,null,null,null,null,null,null,{"$f":"IF(Data_NaamPersoonTijd044=\"\",\"\",Data_NaamPersoonTijd044)","v":""},null,null,{"$f":"IF(Data_BeeindigingsdatumTijd044=\"\",\"\",Data_BeeindigingsdatumTijd044)","v":""},null,null,{"$f":"IF(Data_LoonkostenTijd044=\"\",\"\",Data_LoonkostenTijd044)","v":""},null,{"$f":"IF(Data_PersoonAanUitTijd044=-1,\"v\",\"\")","v":""},null,"v",null,null,null,null,0,0,null,null,null,{"$f":"IF(Data_NaamPersoonVastVrij044=\"\",\"\",Data_NaamPersoonVastVrij044)","v":""},null,null,{"$f":"IF(Data_BeeindigingsdatumVastVrij044=\"\",\"\",Data_BeeindigingsdatumVastVrij044)","v":""},null,null,{"$f":"IF(Data_LoonkostenVastVrij044=\"\",\"\",Data_LoonkostenVastVrij044)","v":""},null,{"$f":"IF(Data_PersoonAanUitVastVrij044=-1,\"v\",\"\")","v":""},null,"v",null,null,null,null,0,0,null,{"$f":"IF(Data_NaamPersoonVastOntslag044=\"\",\"\",Data_NaamPersoonVastOntslag044)","v":""},null,null,{"$f":"IF(Data_BeeindigingsdatumVastOntslag044=\"\",\"\",Data_BeeindigingsdatumVastOntslag044)","v":""},null,null,{"$f":"IF(Data_LoonkostenVastOntslag044=\"\",\"\",Data_LoonkostenVastOntslag044)","v":""},null,{"$f":"IF(Data_PersoonAanUitVastOntslag044=-1,\"v\",\"\")","v":""},null,"v",null,null,null,null,0,0]
[null,null,null,null,null,null,null,{"$f":"IF(Data_NaamPersoonNatVerloop045=\"\",\"\",Data_NaamPersoonNatVerloop045)","v":""},null,null,{"$f":"IF(Data_BeeindigingsdatumNatVerloop045=\"\",\"\",Data_BeeindigingsdatumNatVerloop045)","v":""},null,null,{"$f":"IF(Data_LoonkostenNatVerloop045=\"\",\"\",Data_LoonkostenNatVerloop045)","v":""},null,"v",null,"v",null,null,null,null,0,"",null,null,null,null,null,null,null,null,{"$f":"IF(Data_NaamPersoonTijd045=\"\",\"\",Data_NaamPersoonTijd045)","v":""},null,null,{"$f":"IF(Data_BeeindigingsdatumTijd045=\"\",\"\",Data_BeeindigingsdatumTijd045)","v":""},null,null,{"$f":"IF(Data_LoonkostenTijd045=\"\",\"\",Data_LoonkostenTijd045)","v":""},null,{"$f":"IF(Data_PersoonAanUitTijd045=-1,\"v\",\"\")","v":""},null,"v",null,null,null,null,0,0,null,null,null,{"$f":"IF(Data_NaamPersoonVastVrij045=\"\",\"\",Data_NaamPersoonVastVrij045)","v":""},null,null,{"$f":"IF(Data_BeeindigingsdatumVastVrij045=\"\",\"\",Data_BeeindigingsdatumVastVrij045)","v":""},null,null,{"$f":"IF(Data_LoonkostenVastVrij045=\"\",\"\",Data_LoonkostenVastVrij045)","v":""},null,{"$f":"IF(Data_PersoonAanUitVastVrij045=-1,\"v\",\"\")","v":""},null,"v",null,null,null,null,0,0,null,{"$f":"IF(Data_NaamPersoonVastOntslag045=\"\",\"\",Data_NaamPersoonVastOntslag045)","v":""},null,null,{"$f":"IF(Data_BeeindigingsdatumVastOntslag045=\"\",\"\",Data_BeeindigingsdatumVastOntslag045)","v":""},null,null,{"$f":"IF(Data_LoonkostenVastOntslag045=\"\",\"\",Data_LoonkostenVastOntslag045)","v":""},null,{"$f":"IF(Data_PersoonAanUitVastOntslag045=-1,\"v\",\"\")","v":""},null,"v",null,null,null,null,0,0]
[null,null,null,null,null,null,null,{"$f":"IF(Data_NaamPersoonNatVerloop046=\"\",\"\",Data_NaamPersoonNatVerloop046)","v":""},null,null,{"$f":"IF(Data_BeeindigingsdatumNatVerloop046=\"\",\"\",Data_BeeindigingsdatumNatVerloop046)","v":""},null,null,{"$f":"IF(Data_LoonkostenNatVerloop046=\"\",\"\",Data_LoonkostenNatVerloop046)","v":""},null,"v",null,"v",null,null,null,null,0,"",null,null,null,null,null,null,null,null,{"$f":"IF(Data_NaamPersoonTijd046=\"\",\"\",Data_NaamPersoonTijd046)","v":""},null,null,{"$f":"IF(Data_BeeindigingsdatumTijd046=\"\",\"\",Data_BeeindigingsdatumTijd046)","v":""},null,null,{"$f":"IF(Data_LoonkostenTijd046=\"\",\"\",Data_LoonkostenTijd046)","v":""},null,{"$f":"IF(Data_PersoonAanUitTijd046=-1,\"v\",\"\")","v":""},null,"v",null,null,null,null,0,0,null,null,null,{"$f":"IF(Data_NaamPersoonVastVrij046=\"\",\"\",Data_NaamPersoonVastVrij046)","v":""},null,null,{"$f":"IF(Data_BeeindigingsdatumVastVrij046=\"\",\"\",Data_BeeindigingsdatumVastVrij046)","v":""},null,null,{"$f":"IF(Data_LoonkostenVastVrij046=\"\",\"\",Data_LoonkostenVastVrij046)","v":""},null,{"$f":"IF(Data_PersoonAanUitVastVrij046=-1,\"v\",\"\")","v":""},null,"v",null,null,null,null,0,0,null,{"$f":"IF(Data_NaamPersoonVastOntslag046=\"\",\"\",Data_NaamPersoonVastOntslag046)","v":""},null,null,{"$f":"IF(Data_BeeindigingsdatumVastOntslag046=\"\",\"\",Data_BeeindigingsdatumVastOntslag046)","v":""},null,null,{"$f":"IF(Data_LoonkostenVastOntslag046=\"\",\"\",Data_LoonkostenVastOntslag046)","v":""},null,{"$f":"IF(Data_PersoonAanUitVastOntslag046=-1,\"v\",\"\")","v":""},null,"v",null,null,null,null,0,0]
[null,null,null,null,null,null,null,{"$f":"IF(Data_NaamPersoonNatVerloop047=\"\",\"\",Data_NaamPersoonNatVerloop047)","v":""},null,null,{"$f":"IF(Data_BeeindigingsdatumNatVerloop047=\"\",\"\",Data_BeeindigingsdatumNatVerloop047)","v":""},null,null,{"$f":"IF(Data_LoonkostenNatVerloop047=\"\",\"\",Data_LoonkostenNatVerloop047)","v":""},null,"v",null,"v",null,null,null,null,0,"",null,null,null,null,null,null,null,null,{"$f":"IF(Data_NaamPersoonTijd047=\"\",\"\",Data_NaamPersoonTijd047)","v":""},null,null,{"$f":"IF(Data_BeeindigingsdatumTijd047=\"\",\"\",Data_BeeindigingsdatumTijd047)","v":""},null,null,{"$f":"IF(Data_LoonkostenTijd047=\"\",\"\",Data_LoonkostenTijd047)","v":""},null,{"$f":"IF(Data_PersoonAanUitTijd047=-1,\"v\",\"\")","v":""},null,"v",null,null,null,null,0,0,null,null,null,{"$f":"IF(Data_NaamPersoonVastVrij047=\"\",\"\",Data_NaamPersoonVastVrij047)","v":""},null,null,{"$f":"IF(Data_BeeindigingsdatumVastVrij047=\"\",\"\",Data_BeeindigingsdatumVastVrij047)","v":""},null,null,{"$f":"IF(Data_LoonkostenVastVrij047=\"\",\"\",Data_LoonkostenVastVrij047)","v":""},null,{"$f":"IF(Data_PersoonAanUitVastVrij047=-1,\"v\",\"\")","v":""},null,"v",null,null,null,null,0,0,null,{"$f":"IF(Data_NaamPersoonVastOntslag047=\"\",\"\",Data_NaamPersoonVastOntslag047)","v":""},null,null,{"$f":"IF(Data_BeeindigingsdatumVastOntslag047=\"\",\"\",Data_BeeindigingsdatumVastOntslag047)","v":""},null,null,{"$f":"IF(Data_LoonkostenVastOntslag047=\"\",\"\",Data_LoonkostenVastOntslag047)","v":""},null,{"$f":"IF(Data_PersoonAanUitVastOntslag047=-1,\"v\",\"\")","v":""},null,"v",null,null,null,null,0,0]
[null,null,null,null,null,null,null,{"$f":"IF(Data_NaamPersoonNatVerloop048=\"\",\"\",Data_NaamPersoonNatVerloop048)","v":""},null,null,{"$f":"IF(Data_BeeindigingsdatumNatVerloop048=\"\",\"\",Data_BeeindigingsdatumNatVerloop048)","v":""},null,null,{"$f":"IF(Data_LoonkostenNatVerloop048=\"\",\"\",Data_LoonkostenNatVerloop048)","v":""},null,"v",null,"v",null,null,null,null,0,"",null,null,null,null,null,null,null,null,{"$f":"IF(Data_NaamPersoonTijd048=\"\",\"\",Data_NaamPersoonTijd048)","v":""},null,null,{"$f":"IF(Data_BeeindigingsdatumTijd048=\"\",\"\",Data_BeeindigingsdatumTijd048)","v":""},null,null,{"$f":"IF(Data_LoonkostenTijd048=\"\",\"\",Data_LoonkostenTijd048)","v":""},null,{"$f":"IF(Data_PersoonAanUitTijd048=-1,\"v\",\"\")","v":""},null,"v",null,null,null,null,0,0,null,null,null,{"$f":"IF(Data_NaamPersoonVastVrij048=\"\",\"\",Data_NaamPersoonVastVrij048)","v":""},null,null,{"$f":"IF(Data_BeeindigingsdatumVastVrij048=\"\",\"\",Data_BeeindigingsdatumVastVrij048)","v":""},null,null,{"$f":"IF(Data_LoonkostenVastVrij048=\"\",\"\",Data_LoonkostenVastVrij048)","v":""},null,{"$f":"IF(Data_PersoonAanUitVastVrij048=-1,\"v\",\"\")","v":""},null,"v",null,null,null,null,0,0,null,{"$f":"IF(Data_NaamPersoonVastOntslag048=\"\",\"\",Data_NaamPersoonVastOntslag048)","v":""},null,null,{"$f":"IF(Data_BeeindigingsdatumVastOntslag048=\"\",\"\",Data_BeeindigingsdatumVastOntslag048)","v":""},null,null,{"$f":"IF(Data_LoonkostenVastOntslag048=\"\",\"\",Data_LoonkostenVastOntslag048)","v":""},null,{"$f":"IF(Data_PersoonAanUitVastOntslag048=-1,\"v\",\"\")","v":""},null,"v",null,null,null,null,0,0]
[null,null,null,null,null,null,null,{"$f":"IF(Data_NaamPersoonNatVerloop049=\"\",\"\",Data_NaamPersoonNatVerloop049)","v":""},null,null,{"$f":"IF(Data_BeeindigingsdatumNatVerloop049=\"\",\"\",Data_BeeindigingsdatumNatVerloop049)","v":""},null,null,{"$f":"IF(Data_LoonkostenNatVerloop049=\"\",\"\",Data_LoonkostenNatVerloop049)","v":""},null,"v",null,"v",null,null,null,null,0,"",null,null,null,null,null,null,null,null,{"$f":"IF(Data_NaamPersoonTijd049=\"\",\"\",Data_NaamPersoonTijd049)","v":""},null,null,{"$f":"IF(Data_BeeindigingsdatumTijd049=\"\",\"\",Data_BeeindigingsdatumTijd049)","v":""},null,null,{"$f":"IF(Data_LoonkostenTijd049=\"\",\"\",Data_LoonkostenTijd049)","v":""},null,{"$f":"IF(Data_PersoonAanUitTijd049=-1,\"v\",\"\")","v":""},null,"v",null,null,null,null,0,0,null,null,null,{"$f":"IF(Data_NaamPersoonVastVrij049=\"\",\"\",Data_NaamPersoonVastVrij049)","v":""},null,null,{"$f":"IF(Data_BeeindigingsdatumVastVrij049=\"\",\"\",Data_BeeindigingsdatumVastVrij049)","v":""},null,null,{"$f":"IF(Data_LoonkostenVastVrij049=\"\",\"\",Data_LoonkostenVastVrij049)","v":""},null,{"$f":"IF(Data_PersoonAanUitVastVrij049=-1,\"v\",\"\")","v":""},null,"v",null,null,null,null,0,0,null,{"$f":"IF(Data_NaamPersoonVastOntslag049=\"\",\"\",Data_NaamPersoonVastOntslag049)","v":""},null,null,{"$f":"IF(Data_BeeindigingsdatumVastOntslag049=\"\",\"\",Data_BeeindigingsdatumVastOntslag049)","v":""},null,null,{"$f":"IF(Data_LoonkostenVastOntslag049=\"\",\"\",Data_LoonkostenVastOntslag049)","v":""},null,{"$f":"IF(Data_PersoonAanUitVastOntslag049=-1,\"v\",\"\")","v":""},null,"v",null,null,null,null,0,0]
[null,null,null,null,null,null,null,{"$f":"IF(Data_NaamPersoonNatVerloop050=\"\",\"\",Data_NaamPersoonNatVerloop050)","v":""},null,null,{"$f":"IF(Data_BeeindigingsdatumNatVerloop050=\"\",\"\",Data_BeeindigingsdatumNatVerloop050)","v":""},null,null,{"$f":"IF(Data_LoonkostenNatVerloop050=\"\",\"\",Data_LoonkostenNatVerloop050)","v":""},null,"v",null,"v",null,null,null,null,0,"",null,null,null,null,null,null,null,null,{"$f":"IF(Data_NaamPersoonTijd050=\"\",\"\",Data_NaamPersoonTijd050)","v":""},null,null,{"$f":"IF(Data_BeeindigingsdatumTijd050=\"\",\"\",Data_BeeindigingsdatumTijd050)","v":""},null,null,{"$f":"IF(Data_LoonkostenTijd050=\"\",\"\",Data_LoonkostenTijd050)","v":""},null,{"$f":"IF(Data_PersoonAanUitTijd050=-1,\"v\",\"\")","v":""},null,"v",null,null,null,null,0,0,null,null,null,{"$f":"IF(Data_NaamPersoonVastVrij050=\"\",\"\",Data_NaamPersoonVastVrij050)","v":""},null,null,{"$f":"IF(Data_BeeindigingsdatumVastVrij050=\"\",\"\",Data_BeeindigingsdatumVastVrij050)","v":""},null,null,{"$f":"IF(Data_LoonkostenVastVrij050=\"\",\"\",Data_LoonkostenVastVrij050)","v":""},null,{"$f":"IF(Data_PersoonAanUitVastVrij050=-1,\"v\",\"\")","v":""},null,"v",null,null,null,null,0,0,null,{"$f":"IF(Data_NaamPersoonVastOntslag050=\"\",\"\",Data_NaamPersoonVastOntslag050)","v":""},null,null,{"$f":"IF(Data_BeeindigingsdatumVastOntslag050=\"\",\"\",Data_BeeindigingsdatumVastOntslag050)","v":""},null,null,{"$f":"IF(Data_LoonkostenVastOntslag050=\"\",\"\",Data_LoonkostenVastOntslag050)","v":""},null,{"$f":"IF(Data_PersoonAanUitVastOntslag050=-1,\"v\",\"\")","v":""},null,"v",null,null,null,null,0,0]
[null,null,null,null,null,null,null,{"$f":"IF(Data_NaamPersoonNatVerloop051=\"\",\"\",Data_NaamPersoonNatVerloop051)","v":""},null,null,{"$f":"IF(Data_BeeindigingsdatumNatVerloop051=\"\",\"\",Data_BeeindigingsdatumNatVerloop051)","v":""},null,null,{"$f":"IF(Data_LoonkostenNatVerloop051=\"\",\"\",Data_LoonkostenNatVerloop051)","v":""},null,"v",null,"v",null,null,null,null,0,"",null,null,null,null,null,null,null,null,{"$f":"IF(Data_NaamPersoonTijd051=\"\",\"\",Data_NaamPersoonTijd051)","v":""},null,null,{"$f":"IF(Data_BeeindigingsdatumTijd051=\"\",\"\",Data_BeeindigingsdatumTijd051)","v":""},null,null,{"$f":"IF(Data_LoonkostenTijd051=\"\",\"\",Data_LoonkostenTijd051)","v":""},null,{"$f":"IF(Data_PersoonAanUitTijd051=-1,\"v\",\"\")","v":""},null,"v",null,null,null,null,0,0,null,null,null,{"$f":"IF(Data_NaamPersoonVastVrij051=\"\",\"\",Data_NaamPersoonVastVrij051)","v":""},null,null,{"$f":"IF(Data_BeeindigingsdatumVastVrij051=\"\",\"\",Data_BeeindigingsdatumVastVrij051)","v":""},null,null,{"$f":"IF(Data_LoonkostenVastVrij051=\"\",\"\",Data_LoonkostenVastVrij051)","v":""},null,{"$f":"IF(Data_PersoonAanUitVastVrij051=-1,\"v\",\"\")","v":""},null,"v",null,null,null,null,0,0,null,{"$f":"IF(Data_NaamPersoonVastOntslag051=\"\",\"\",Data_NaamPersoonVastOntslag051)","v":""},null,null,{"$f":"IF(Data_BeeindigingsdatumVastOntslag051=\"\",\"\",Data_BeeindigingsdatumVastOntslag051)","v":""},null,null,{"$f":"IF(Data_LoonkostenVastOntslag051=\"\",\"\",Data_LoonkostenVastOntslag051)","v":""},null,{"$f":"IF(Data_PersoonAanUitVastOntslag051=-1,\"v\",\"\")","v":""},null,"v",null,null,null,null,0,0]
[null,null,null,null,null,null,null,{"$f":"IF(Data_NaamPersoonNatVerloop052=\"\",\"\",Data_NaamPersoonNatVerloop052)","v":""},null,null,{"$f":"IF(Data_BeeindigingsdatumNatVerloop052=\"\",\"\",Data_BeeindigingsdatumNatVerloop052)","v":""},null,null,{"$f":"IF(Data_LoonkostenNatVerloop052=\"\",\"\",Data_LoonkostenNatVerloop052)","v":""},null,"v",null,"v",null,null,null,null,0,"",null,null,null,null,null,null,null,null,{"$f":"IF(Data_NaamPersoonTijd052=\"\",\"\",Data_NaamPersoonTijd052)","v":""},null,null,{"$f":"IF(Data_BeeindigingsdatumTijd052=\"\",\"\",Data_BeeindigingsdatumTijd052)","v":""},null,null,{"$f":"IF(Data_LoonkostenTijd052=\"\",\"\",Data_LoonkostenTijd052)","v":""},null,{"$f":"IF(Data_PersoonAanUitTijd052=-1,\"v\",\"\")","v":""},null,"v",null,null,null,null,0,0,null,null,null,{"$f":"IF(Data_NaamPersoonVastVrij052=\"\",\"\",Data_NaamPersoonVastVrij052)","v":""},null,null,{"$f":"IF(Data_BeeindigingsdatumVastVrij052=\"\",\"\",Data_BeeindigingsdatumVastVrij052)","v":""},null,null,{"$f":"IF(Data_LoonkostenVastVrij052=\"\",\"\",Data_LoonkostenVastVrij052)","v":""},null,{"$f":"IF(Data_PersoonAanUitVastVrij052=-1,\"v\",\"\")","v":""},null,"v",null,null,null,null,0,0,null,{"$f":"IF(Data_NaamPersoonVastOntslag052=\"\",\"\",Data_NaamPersoonVastOntslag052)","v":""},null,null,{"$f":"IF(Data_BeeindigingsdatumVastOntslag052=\"\",\"\",Data_BeeindigingsdatumVastOntslag052)","v":""},null,null,{"$f":"IF(Data_LoonkostenVastOntslag052=\"\",\"\",Data_LoonkostenVastOntslag052)","v":""},null,{"$f":"IF(Data_PersoonAanUitVastOntslag052=-1,\"v\",\"\")","v":""},null,"v",null,null,null,null,0,0]
[null,null,null,null,null,null,null,{"$f":"IF(Data_NaamPersoonNatVerloop053=\"\",\"\",Data_NaamPersoonNatVerloop053)","v":""},null,null,{"$f":"IF(Data_BeeindigingsdatumNatVerloop053=\"\",\"\",Data_BeeindigingsdatumNatVerloop053)","v":""},null,null,{"$f":"IF(Data_LoonkostenNatVerloop053=\"\",\"\",Data_LoonkostenNatVerloop053)","v":""},null,"v",null,"v",null,null,null,null,0,"",null,null,null,null,null,null,null,null,{"$f":"IF(Data_NaamPersoonTijd053=\"\",\"\",Data_NaamPersoonTijd053)","v":""},null,null,{"$f":"IF(Data_BeeindigingsdatumTijd053=\"\",\"\",Data_BeeindigingsdatumTijd053)","v":""},null,null,{"$f":"IF(Data_LoonkostenTijd053=\"\",\"\",Data_LoonkostenTijd053)","v":""},null,{"$f":"IF(Data_PersoonAanUitTijd053=-1,\"v\",\"\")","v":""},null,"v",null,null,null,null,0,0,null,null,null,{"$f":"IF(Data_NaamPersoonVastVrij053=\"\",\"\",Data_NaamPersoonVastVrij053)","v":""},null,null,{"$f":"IF(Data_BeeindigingsdatumVastVrij053=\"\",\"\",Data_BeeindigingsdatumVastVrij053)","v":""},null,null,{"$f":"IF(Data_LoonkostenVastVrij053=\"\",\"\",Data_LoonkostenVastVrij053)","v":""},null,{"$f":"IF(Data_PersoonAanUitVastVrij053=-1,\"v\",\"\")","v":""},null,"v",null,null,null,null,0,0,null,{"$f":"IF(Data_NaamPersoonVastOntslag053=\"\",\"\",Data_NaamPersoonVastOntslag053)","v":""},null,null,{"$f":"IF(Data_BeeindigingsdatumVastOntslag053=\"\",\"\",Data_BeeindigingsdatumVastOntslag053)","v":""},null,null,{"$f":"IF(Data_LoonkostenVastOntslag053=\"\",\"\",Data_LoonkostenVastOntslag053)","v":""},null,{"$f":"IF(Data_PersoonAanUitVastOntslag053=-1,\"v\",\"\")","v":""},null,"v",null,null,null,null,0,0]
[null,null,null,null,null,null,null,{"$f":"IF(Data_NaamPersoonNatVerloop054=\"\",\"\",Data_NaamPersoonNatVerloop054)","v":""},null,null,{"$f":"IF(Data_BeeindigingsdatumNatVerloop054=\"\",\"\",Data_BeeindigingsdatumNatVerloop054)","v":""},null,null,{"$f":"IF(Data_LoonkostenNatVerloop054=\"\",\"\",Data_LoonkostenNatVerloop054)","v":""},null,"v",null,"v",null,null,null,null,0,"",null,null,null,null,null,null,null,null,{"$f":"IF(Data_NaamPersoonTijd054=\"\",\"\",Data_NaamPersoonTijd054)","v":""},null,null,{"$f":"IF(Data_BeeindigingsdatumTijd054=\"\",\"\",Data_BeeindigingsdatumTijd054)","v":""},null,null,{"$f":"IF(Data_LoonkostenTijd054=\"\",\"\",Data_LoonkostenTijd054)","v":""},null,{"$f":"IF(Data_PersoonAanUitTijd054=-1,\"v\",\"\")","v":""},null,"v",null,null,null,null,0,0,null,null,null,{"$f":"IF(Data_NaamPersoonVastVrij054=\"\",\"\",Data_NaamPersoonVastVrij054)","v":""},null,null,{"$f":"IF(Data_BeeindigingsdatumVastVrij054=\"\",\"\",Data_BeeindigingsdatumVastVrij054)","v":""},null,null,{"$f":"IF(Data_LoonkostenVastVrij054=\"\",\"\",Data_LoonkostenVastVrij054)","v":""},null,{"$f":"IF(Data_PersoonAanUitVastVrij054=-1,\"v\",\"\")","v":""},null,"v",null,null,null,null,0,0,null,{"$f":"IF(Data_NaamPersoonVastOntslag054=\"\",\"\",Data_NaamPersoonVastOntslag054)","v":""},null,null,{"$f":"IF(Data_BeeindigingsdatumVastOntslag054=\"\",\"\",Data_BeeindigingsdatumVastOntslag054)","v":""},null,null,{"$f":"IF(Data_LoonkostenVastOntslag054=\"\",\"\",Data_LoonkostenVastOntslag054)","v":""},null,{"$f":"IF(Data_PersoonAanUitVastOntslag054=-1,\"v\",\"\")","v":""},null,"v",null,null,null,null,0,0]
[null,null,null,null,null,null,null,{"$f":"IF(Data_NaamPersoonNatVerloop055=\"\",\"\",Data_NaamPersoonNatVerloop055)","v":""},null,null,{"$f":"IF(Data_BeeindigingsdatumNatVerloop055=\"\",\"\",Data_BeeindigingsdatumNatVerloop055)","v":""},null,null,{"$f":"IF(Data_LoonkostenNatVerloop055=\"\",\"\",Data_LoonkostenNatVerloop055)","v":""},null,"v",null,"v",null,null,null,null,0,"",null,null,null,null,null,null,null,null,{"$f":"IF(Data_NaamPersoonTijd055=\"\",\"\",Data_NaamPersoonTijd055)","v":""},null,null,{"$f":"IF(Data_BeeindigingsdatumTijd055=\"\",\"\",Data_BeeindigingsdatumTijd055)","v":""},null,null,{"$f":"IF(Data_LoonkostenTijd055=\"\",\"\",Data_LoonkostenTijd055)","v":""},null,{"$f":"IF(Data_PersoonAanUitTijd055=-1,\"v\",\"\")","v":""},null,"v",null,null,null,null,0,0,null,null,null,{"$f":"IF(Data_NaamPersoonVastVrij055=\"\",\"\",Data_NaamPersoonVastVrij055)","v":""},null,null,{"$f":"IF(Data_BeeindigingsdatumVastVrij055=\"\",\"\",Data_BeeindigingsdatumVastVrij055)","v":""},null,null,{"$f":"IF(Data_LoonkostenVastVrij055=\"\",\"\",Data_LoonkostenVastVrij055)","v":""},null,{"$f":"IF(Data_PersoonAanUitVastVrij055=-1,\"v\",\"\")","v":""},null,"v",null,null,null,null,0,0,null,{"$f":"IF(Data_NaamPersoonVastOntslag055=\"\",\"\",Data_NaamPersoonVastOntslag055)","v":""},null,null,{"$f":"IF(Data_BeeindigingsdatumVastOntslag055=\"\",\"\",Data_BeeindigingsdatumVastOntslag055)","v":""},null,null,{"$f":"IF(Data_LoonkostenVastOntslag055=\"\",\"\",Data_LoonkostenVastOntslag055)","v":""},null,{"$f":"IF(Data_PersoonAanUitVastOntslag055=-1,\"v\",\"\")","v":""},null,"v",null,null,null,null,0,0]
[null,null,null,null,null,null,null,{"$f":"IF(Data_NaamPersoonNatVerloop056=\"\",\"\",Data_NaamPersoonNatVerloop056)","v":""},null,null,{"$f":"IF(Data_BeeindigingsdatumNatVerloop056=\"\",\"\",Data_BeeindigingsdatumNatVerloop056)","v":""},null,null,{"$f":"IF(Data_LoonkostenNatVerloop056=\"\",\"\",Data_LoonkostenNatVerloop056)","v":""},null,"v",null,"v",null,null,null,null,0,"",null,null,null,null,null,null,null,null,{"$f":"IF(Data_NaamPersoonTijd056=\"\",\"\",Data_NaamPersoonTijd056)","v":""},null,null,{"$f":"IF(Data_BeeindigingsdatumTijd056=\"\",\"\",Data_BeeindigingsdatumTijd056)","v":""},null,null,{"$f":"IF(Data_LoonkostenTijd056=\"\",\"\",Data_LoonkostenTijd056)","v":""},null,{"$f":"IF(Data_PersoonAanUitTijd056=-1,\"v\",\"\")","v":""},null,"v",null,null,null,null,0,0,null,null,null,{"$f":"IF(Data_NaamPersoonVastVrij056=\"\",\"\",Data_NaamPersoonVastVrij056)","v":""},null,null,{"$f":"IF(Data_BeeindigingsdatumVastVrij056=\"\",\"\",Data_BeeindigingsdatumVastVrij056)","v":""},null,null,{"$f":"IF(Data_LoonkostenVastVrij056=\"\",\"\",Data_LoonkostenVastVrij056)","v":""},null,{"$f":"IF(Data_PersoonAanUitVastVrij056=-1,\"v\",\"\")","v":""},null,"v",null,null,null,null,0,0,null,{"$f":"IF(Data_NaamPersoonVastOntslag056=\"\",\"\",Data_NaamPersoonVastOntslag056)","v":""},null,null,{"$f":"IF(Data_BeeindigingsdatumVastOntslag056=\"\",\"\",Data_BeeindigingsdatumVastOntslag056)","v":""},null,null,{"$f":"IF(Data_LoonkostenVastOntslag056=\"\",\"\",Data_LoonkostenVastOntslag056)","v":""},null,{"$f":"IF(Data_PersoonAanUitVastOntslag056=-1,\"v\",\"\")","v":""},null,"v",null,null,null,null,0,0]
[null,null,null,null,null,null,null,{"$f":"IF(Data_NaamPersoonNatVerloop057=\"\",\"\",Data_NaamPersoonNatVerloop057)","v":""},null,null,{"$f":"IF(Data_BeeindigingsdatumNatVerloop057=\"\",\"\",Data_BeeindigingsdatumNatVerloop057)","v":""},null,null,{"$f":"IF(Data_LoonkostenNatVerloop057=\"\",\"\",Data_LoonkostenNatVerloop057)","v":""},null,"v",null,"v",null,null,null,null,0,"",null,null,null,null,null,null,null,null,{"$f":"IF(Data_NaamPersoonTijd057=\"\",\"\",Data_NaamPersoonTijd057)","v":""},null,null,{"$f":"IF(Data_BeeindigingsdatumTijd057=\"\",\"\",Data_BeeindigingsdatumTijd057)","v":""},null,null,{"$f":"IF(Data_LoonkostenTijd057=\"\",\"\",Data_LoonkostenTijd057)","v":""},null,{"$f":"IF(Data_PersoonAanUitTijd057=-1,\"v\",\"\")","v":""},null,"v",null,null,null,null,0,0,null,null,null,{"$f":"IF(Data_NaamPersoonVastVrij057=\"\",\"\",Data_NaamPersoonVastVrij057)","v":""},null,null,{"$f":"IF(Data_BeeindigingsdatumVastVrij057=\"\",\"\",Data_BeeindigingsdatumVastVrij057)","v":""},null,null,{"$f":"IF(Data_LoonkostenVastVrij057=\"\",\"\",Data_LoonkostenVastVrij057)","v":""},null,{"$f":"IF(Data_PersoonAanUitVastVrij057=-1,\"v\",\"\")","v":""},null,"v",null,null,null,null,0,0,null,{"$f":"IF(Data_NaamPersoonVastOntslag057=\"\",\"\",Data_NaamPersoonVastOntslag057)","v":""},null,null,{"$f":"IF(Data_BeeindigingsdatumVastOntslag057=\"\",\"\",Data_BeeindigingsdatumVastOntslag057)","v":""},null,null,{"$f":"IF(Data_LoonkostenVastOntslag057=\"\",\"\",Data_LoonkostenVastOntslag057)","v":""},null,{"$f":"IF(Data_PersoonAanUitVastOntslag057=-1,\"v\",\"\")","v":""},null,"v",null,null,null,null,0,0]
[null,null,null,null,null,null,null,{"$f":"IF(Data_NaamPersoonNatVerloop058=\"\",\"\",Data_NaamPersoonNatVerloop058)","v":""},null,null,{"$f":"IF(Data_BeeindigingsdatumNatVerloop058=\"\",\"\",Data_BeeindigingsdatumNatVerloop058)","v":""},null,null,{"$f":"IF(Data_LoonkostenNatVerloop058=\"\",\"\",Data_LoonkostenNatVerloop058)","v":""},null,"v",null,"v",null,null,null,null,0,"",null,null,null,null,null,null,null,null,{"$f":"IF(Data_NaamPersoonTijd058=\"\",\"\",Data_NaamPersoonTijd058)","v":""},null,null,{"$f":"IF(Data_BeeindigingsdatumTijd058=\"\",\"\",Data_BeeindigingsdatumTijd058)","v":""},null,null,{"$f":"IF(Data_LoonkostenTijd058=\"\",\"\",Data_LoonkostenTijd058)","v":""},null,{"$f":"IF(Data_PersoonAanUitTijd058=-1,\"v\",\"\")","v":""},null,"v",null,null,null,null,0,0,null,null,null,{"$f":"IF(Data_NaamPersoonVastVrij058=\"\",\"\",Data_NaamPersoonVastVrij058)","v":""},null,null,{"$f":"IF(Data_BeeindigingsdatumVastVrij058=\"\",\"\",Data_BeeindigingsdatumVastVrij058)","v":""},null,null,{"$f":"IF(Data_LoonkostenVastVrij058=\"\",\"\",Data_LoonkostenVastVrij058)","v":""},null,{"$f":"IF(Data_PersoonAanUitVastVrij058=-1,\"v\",\"\")","v":""},null,"v",null,null,null,null,0,0,null,{"$f":"IF(Data_NaamPersoonVastOntslag058=\"\",\"\",Data_NaamPersoonVastOntslag058)","v":""},null,null,{"$f":"IF(Data_BeeindigingsdatumVastOntslag058=\"\",\"\",Data_BeeindigingsdatumVastOntslag058)","v":""},null,null,{"$f":"IF(Data_LoonkostenVastOntslag058=\"\",\"\",Data_LoonkostenVastOntslag058)","v":""},null,{"$f":"IF(Data_PersoonAanUitVastOntslag058=-1,\"v\",\"\")","v":""},null,"v",null,null,null,null,0,0]
[null,null,null,null,null,null,null,{"$f":"IF(Data_NaamPersoonNatVerloop059=\"\",\"\",Data_NaamPersoonNatVerloop059)","v":""},null,null,{"$f":"IF(Data_BeeindigingsdatumNatVerloop059=\"\",\"\",Data_BeeindigingsdatumNatVerloop059)","v":""},null,null,{"$f":"IF(Data_LoonkostenNatVerloop059=\"\",\"\",Data_LoonkostenNatVerloop059)","v":""},null,"v",null,"v",null,null,null,null,0,"",null,null,null,null,null,null,null,null,{"$f":"IF(Data_NaamPersoonTijd059=\"\",\"\",Data_NaamPersoonTijd059)","v":""},null,null,{"$f":"IF(Data_BeeindigingsdatumTijd059=\"\",\"\",Data_BeeindigingsdatumTijd059)","v":""},null,null,{"$f":"IF(Data_LoonkostenTijd059=\"\",\"\",Data_LoonkostenTijd059)","v":""},null,{"$f":"IF(Data_PersoonAanUitTijd059=-1,\"v\",\"\")","v":""},null,"v",null,null,null,null,0,0,null,null,null,{"$f":"IF(Data_NaamPersoonVastVrij059=\"\",\"\",Data_NaamPersoonVastVrij059)","v":""},null,null,{"$f":"IF(Data_BeeindigingsdatumVastVrij059=\"\",\"\",Data_BeeindigingsdatumVastVrij059)","v":""},null,null,{"$f":"IF(Data_LoonkostenVastVrij059=\"\",\"\",Data_LoonkostenVastVrij059)","v":""},null,{"$f":"IF(Data_PersoonAanUitVastVrij059=-1,\"v\",\"\")","v":""},null,"v",null,null,null,null,0,0,null,{"$f":"IF(Data_NaamPersoonVastOntslag059=\"\",\"\",Data_NaamPersoonVastOntslag059)","v":""},null,null,{"$f":"IF(Data_BeeindigingsdatumVastOntslag059=\"\",\"\",Data_BeeindigingsdatumVastOntslag059)","v":""},null,null,{"$f":"IF(Data_LoonkostenVastOntslag059=\"\",\"\",Data_LoonkostenVastOntslag059)","v":""},null,{"$f":"IF(Data_PersoonAanUitVastOntslag059=-1,\"v\",\"\")","v":""},null,"v",null,null,null,null,0,0]
[null,null,null,null,null,null,null,{"$f":"IF(Data_NaamPersoonNatVerloop060=\"\",\"\",Data_NaamPersoonNatVerloop060)","v":""},null,null,{"$f":"IF(Data_BeeindigingsdatumNatVerloop060=\"\",\"\",Data_BeeindigingsdatumNatVerloop060)","v":""},null,null,{"$f":"IF(Data_LoonkostenNatVerloop060=\"\",\"\",Data_LoonkostenNatVerloop060)","v":""},null,"v",null,"v",null,null,null,null,0,"",null,null,null,null,null,null,null,null,{"$f":"IF(Data_NaamPersoonTijd060=\"\",\"\",Data_NaamPersoonTijd060)","v":""},null,null,{"$f":"IF(Data_BeeindigingsdatumTijd060=\"\",\"\",Data_BeeindigingsdatumTijd060)","v":""},null,null,{"$f":"IF(Data_LoonkostenTijd060=\"\",\"\",Data_LoonkostenTijd060)","v":""},null,{"$f":"IF(Data_PersoonAanUitTijd060=-1,\"v\",\"\")","v":""},null,"v",null,null,null,null,0,0,null,null,null,{"$f":"IF(Data_NaamPersoonVastVrij060=\"\",\"\",Data_NaamPersoonVastVrij060)","v":""},null,null,{"$f":"IF(Data_BeeindigingsdatumVastVrij060=\"\",\"\",Data_BeeindigingsdatumVastVrij060)","v":""},null,null,{"$f":"IF(Data_LoonkostenVastVrij060=\"\",\"\",Data_LoonkostenVastVrij060)","v":""},null,{"$f":"IF(Data_PersoonAanUitVastVrij060=-1,\"v\",\"\")","v":""},null,"v",null,null,null,null,0,0,null,{"$f":"IF(Data_NaamPersoonVastOntslag060=\"\",\"\",Data_NaamPersoonVastOntslag060)","v":""},null,null,{"$f":"IF(Data_BeeindigingsdatumVastOntslag060=\"\",\"\",Data_BeeindigingsdatumVastOntslag060)","v":""},null,null,{"$f":"IF(Data_LoonkostenVastOntslag060=\"\",\"\",Data_LoonkostenVastOntslag060)","v":""},null,{"$f":"IF(Data_PersoonAanUitVastOntslag060=-1,\"v\",\"\")","v":""},null,"v",null,null,null,null,0,0]
[null,null,null,null,null,null,null,{"$f":"IF(Data_NaamPersoonNatVerloop061=\"\",\"\",Data_NaamPersoonNatVerloop061)","v":""},null,null,{"$f":"IF(Data_BeeindigingsdatumNatVerloop061=\"\",\"\",Data_BeeindigingsdatumNatVerloop061)","v":""},null,null,{"$f":"IF(Data_LoonkostenNatVerloop061=\"\",\"\",Data_LoonkostenNatVerloop061)","v":""},null,"v",null,"v",null,null,null,null,0,"",null,null,null,null,null,null,null,null,{"$f":"IF(Data_NaamPersoonTijd061=\"\",\"\",Data_NaamPersoonTijd061)","v":""},null,null,{"$f":"IF(Data_BeeindigingsdatumTijd061=\"\",\"\",Data_BeeindigingsdatumTijd061)","v":""},null,null,{"$f":"IF(Data_LoonkostenTijd061=\"\",\"\",Data_LoonkostenTijd061)","v":""},null,{"$f":"IF(Data_PersoonAanUitTijd061=-1,\"v\",\"\")","v":""},null,"v",null,null,null,null,0,0,null,null,null,{"$f":"IF(Data_NaamPersoonVastVrij061=\"\",\"\",Data_NaamPersoonVastVrij061)","v":""},null,null,{"$f":"IF(Data_BeeindigingsdatumVastVrij061=\"\",\"\",Data_BeeindigingsdatumVastVrij061)","v":""},null,null,{"$f":"IF(Data_LoonkostenVastVrij061=\"\",\"\",Data_LoonkostenVastVrij061)","v":""},null,{"$f":"IF(Data_PersoonAanUitVastVrij061=-1,\"v\",\"\")","v":""},null,"v",null,null,null,null,0,0,null,{"$f":"IF(Data_NaamPersoonVastOntslag061=\"\",\"\",Data_NaamPersoonVastOntslag061)","v":""},null,null,{"$f":"IF(Data_BeeindigingsdatumVastOntslag061=\"\",\"\",Data_BeeindigingsdatumVastOntslag061)","v":""},null,null,{"$f":"IF(Data_LoonkostenVastOntslag061=\"\",\"\",Data_LoonkostenVastOntslag061)","v":""},null,{"$f":"IF(Data_PersoonAanUitVastOntslag061=-1,\"v\",\"\")","v":""},null,"v",null,null,null,null,0,0]
[null,null,null,null,null,null,null,{"$f":"IF(Data_NaamPersoonNatVerloop062=\"\",\"\",Data_NaamPersoonNatVerloop062)","v":""},null,null,{"$f":"IF(Data_BeeindigingsdatumNatVerloop062=\"\",\"\",Data_BeeindigingsdatumNatVerloop062)","v":""},null,null,{"$f":"IF(Data_LoonkostenNatVerloop062=\"\",\"\",Data_LoonkostenNatVerloop062)","v":""},null,"v",null,"v",null,null,null,null,0,"",null,null,null,null,null,null,null,null,{"$f":"IF(Data_NaamPersoonTijd062=\"\",\"\",Data_NaamPersoonTijd062)","v":""},null,null,{"$f":"IF(Data_BeeindigingsdatumTijd062=\"\",\"\",Data_BeeindigingsdatumTijd062)","v":""},null,null,{"$f":"IF(Data_LoonkostenTijd062=\"\",\"\",Data_LoonkostenTijd062)","v":""},null,{"$f":"IF(Data_PersoonAanUitTijd062=-1,\"v\",\"\")","v":""},null,"v",null,null,null,null,0,0,null,null,null,{"$f":"IF(Data_NaamPersoonVastVrij062=\"\",\"\",Data_NaamPersoonVastVrij062)","v":""},null,null,{"$f":"IF(Data_BeeindigingsdatumVastVrij062=\"\",\"\",Data_BeeindigingsdatumVastVrij062)","v":""},null,null,{"$f":"IF(Data_LoonkostenVastVrij062=\"\",\"\",Data_LoonkostenVastVrij062)","v":""},null,{"$f":"IF(Data_PersoonAanUitVastVrij062=-1,\"v\",\"\")","v":""},null,"v",null,null,null,null,0,0,null,{"$f":"IF(Data_NaamPersoonVastOntslag062=\"\",\"\",Data_NaamPersoonVastOntslag062)","v":""},null,null,{"$f":"IF(Data_BeeindigingsdatumVastOntslag062=\"\",\"\",Data_BeeindigingsdatumVastOntslag062)","v":""},null,null,{"$f":"IF(Data_LoonkostenVastOntslag062=\"\",\"\",Data_LoonkostenVastOntslag062)","v":""},null,{"$f":"IF(Data_PersoonAanUitVastOntslag062=-1,\"v\",\"\")","v":""},null,"v",null,null,null,null,0,0]
[null,null,null,null,null,null,null,{"$f":"IF(Data_NaamPersoonNatVerloop063=\"\",\"\",Data_NaamPersoonNatVerloop063)","v":""},null,null,{"$f":"IF(Data_BeeindigingsdatumNatVerloop063=\"\",\"\",Data_BeeindigingsdatumNatVerloop063)","v":""},null,null,{"$f":"IF(Data_LoonkostenNatVerloop063=\"\",\"\",Data_LoonkostenNatVerloop063)","v":""},null,"v",null,"v",null,null,null,null,0,"",null,null,null,null,null,null,null,null,{"$f":"IF(Data_NaamPersoonTijd063=\"\",\"\",Data_NaamPersoonTijd063)","v":""},null,null,{"$f":"IF(Data_BeeindigingsdatumTijd063=\"\",\"\",Data_BeeindigingsdatumTijd063)","v":""},null,null,{"$f":"IF(Data_LoonkostenTijd063=\"\",\"\",Data_LoonkostenTijd063)","v":""},null,{"$f":"IF(Data_PersoonAanUitTijd063=-1,\"v\",\"\")","v":""},null,"v",null,null,null,null,0,0,null,null,null,{"$f":"IF(Data_NaamPersoonVastVrij063=\"\",\"\",Data_NaamPersoonVastVrij063)","v":""},null,null,{"$f":"IF(Data_BeeindigingsdatumVastVrij063=\"\",\"\",Data_BeeindigingsdatumVastVrij063)","v":""},null,null,{"$f":"IF(Data_LoonkostenVastVrij063=\"\",\"\",Data_LoonkostenVastVrij063)","v":""},null,{"$f":"IF(Data_PersoonAanUitVastVrij063=-1,\"v\",\"\")","v":""},null,"v",null,null,null,null,0,0,null,{"$f":"IF(Data_NaamPersoonVastOntslag063=\"\",\"\",Data_NaamPersoonVastOntslag063)","v":""},null,null,{"$f":"IF(Data_BeeindigingsdatumVastOntslag063=\"\",\"\",Data_BeeindigingsdatumVastOntslag063)","v":""},null,null,{"$f":"IF(Data_LoonkostenVastOntslag063=\"\",\"\",Data_LoonkostenVastOntslag063)","v":""},null,{"$f":"IF(Data_PersoonAanUitVastOntslag063=-1,\"v\",\"\")","v":""},null,"v",null,null,null,null,0,0]
[null,null,null,null,null,null,null,{"$f":"IF(Data_NaamPersoonNatVerloop064=\"\",\"\",Data_NaamPersoonNatVerloop064)","v":""},null,null,{"$f":"IF(Data_BeeindigingsdatumNatVerloop064=\"\",\"\",Data_BeeindigingsdatumNatVerloop064)","v":""},null,null,{"$f":"IF(Data_LoonkostenNatVerloop064=\"\",\"\",Data_LoonkostenNatVerloop064)","v":""},null,"v",null,"v",null,null,null,null,0,"",null,null,null,null,null,null,null,null,{"$f":"IF(Data_NaamPersoonTijd064=\"\",\"\",Data_NaamPersoonTijd064)","v":""},null,null,{"$f":"IF(Data_BeeindigingsdatumTijd064=\"\",\"\",Data_BeeindigingsdatumTijd064)","v":""},null,null,{"$f":"IF(Data_LoonkostenTijd064=\"\",\"\",Data_LoonkostenTijd064)","v":""},null,{"$f":"IF(Data_PersoonAanUitTijd064=-1,\"v\",\"\")","v":""},null,"v",null,null,null,null,0,0,null,null,null,{"$f":"IF(Data_NaamPersoonVastVrij064=\"\",\"\",Data_NaamPersoonVastVrij064)","v":""},null,null,{"$f":"IF(Data_BeeindigingsdatumVastVrij064=\"\",\"\",Data_BeeindigingsdatumVastVrij064)","v":""},null,null,{"$f":"IF(Data_LoonkostenVastVrij064=\"\",\"\",Data_LoonkostenVastVrij064)","v":""},null,{"$f":"IF(Data_PersoonAanUitVastVrij064=-1,\"v\",\"\")","v":""},null,"v",null,null,null,null,0,0,null,{"$f":"IF(Data_NaamPersoonVastOntslag064=\"\",\"\",Data_NaamPersoonVastOntslag064)","v":""},null,null,{"$f":"IF(Data_BeeindigingsdatumVastOntslag064=\"\",\"\",Data_BeeindigingsdatumVastOntslag064)","v":""},null,null,{"$f":"IF(Data_LoonkostenVastOntslag064=\"\",\"\",Data_LoonkostenVastOntslag064)","v":""},null,{"$f":"IF(Data_PersoonAanUitVastOntslag064=-1,\"v\",\"\")","v":""},null,"v",null,null,null,null,0,0]
[null,null,null,null,null,null,null,{"$f":"IF(Data_NaamPersoonNatVerloop065=\"\",\"\",Data_NaamPersoonNatVerloop065)","v":""},null,null,{"$f":"IF(Data_BeeindigingsdatumNatVerloop065=\"\",\"\",Data_BeeindigingsdatumNatVerloop065)","v":""},null,null,{"$f":"IF(Data_LoonkostenNatVerloop065=\"\",\"\",Data_LoonkostenNatVerloop065)","v":""},null,"v",null,"v",null,null,null,null,{"$f":"IF($AO88=\"v\",M88,T88)","v":0},"",null,null,null,null,null,null,null,null,{"$f":"IF(Data_NaamPersoonTijd065=\"\",\"\",Data_NaamPersoonTijd065)","v":""},null,null,{"$f":"IF(Data_BeeindigingsdatumTijd065=\"\",\"\",Data_BeeindigingsdatumTijd065)","v":""},null,null,{"$f":"IF(Data_LoonkostenTijd065=\"\",\"\",Data_LoonkostenTijd065)","v":""},null,{"$f":"IF(Data_PersoonAanUitTijd065=-1,\"v\",\"\")","v":""},null,"v",null,null,null,null,{"$f":"IF($AO88=\"v\",AL88,AS88)","v":0},{"$f":"IF(AND($AO88=\"v\",$AQ88=\"v\"),AM88,IF(AND($AO88=\"v\",$AQ88<>\"v\"),AT88,0))","v":0},null,null,null,{"$f":"IF(Data_NaamPersoonVastVrij065=\"\",\"\",Data_NaamPersoonVastVrij065)","v":""},null,null,{"$f":"IF(Data_BeeindigingsdatumVastVrij065=\"\",\"\",Data_BeeindigingsdatumVastVrij065)","v":""},null,null,{"$f":"IF(Data_LoonkostenVastVrij065=\"\",\"\",Data_LoonkostenVastVrij065)","v":""},null,{"$f":"IF(Data_PersoonAanUitVastVrij065=-1,\"v\",\"\")","v":""},null,"v",null,null,null,null,{"$f":"IF($BI88=\"v\",BF88,BM88)","v":0},{"$f":"IF(AND($BI88=\"v\",$BK88=\"v\"),BG88,IF(AND($BI88=\"v\",$BK88<>\"v\"),BN88,0))","v":0},null,{"$f":"IF(Data_NaamPersoonVastOntslag065=\"\",\"\",Data_NaamPersoonVastOntslag065)","v":""},null,null,{"$f":"IF(Data_BeeindigingsdatumVastOntslag065=\"\",\"\",Data_BeeindigingsdatumVastOntslag065)","v":""},null,null,{"$f":"IF(Data_LoonkostenVastOntslag065=\"\",\"\",Data_LoonkostenVastOntslag065)","v":""},null,{"$f":"IF(Data_PersoonAanUitVastOntslag065=-1,\"v\",\"\")","v":""},null,"v",null,null,null,null,0,{"$f":"IF(AND($CA88=\"v\",$CC88=\"v\"),BY88,IF(AND($CA88=\"v\",$CC88<>\"v\"),CF87,0))","v":0}]
[null,null,null,null,null,null,null,{"$f":"IF(Data_NaamPersoonNatVerloop066=\"\",\"\",Data_NaamPersoonNatVerloop066)","v":""},null,null,{"$f":"IF(Data_BeeindigingsdatumNatVerloop066=\"\",\"\",Data_BeeindigingsdatumNatVerloop066)","v":""},null,null,{"$f":"IF(Data_LoonkostenNatVerloop066=\"\",\"\",Data_LoonkostenNatVerloop066)","v":""},null,"v",null,"v",null,null,null,null,0,{"$f":"IF(AND($P89=\"v\",$R89=\"v\"),N89,IF(AND($P89=\"v\",$R89<>\"v\"),U89,0))","v":""},null,null,null,null,null,null,null,null,{"$f":"IF(Data_NaamPersoonTijd066=\"\",\"\",Data_NaamPersoonTijd066)","v":""},null,null,{"$f":"IF(Data_BeeindigingsdatumTijd066=\"\",\"\",Data_BeeindigingsdatumTijd066)","v":""},null,null,{"$f":"IF(Data_LoonkostenTijd066=\"\",\"\",Data_LoonkostenTijd066)","v":""},null,{"$f":"IF(Data_PersoonAanUitTijd066=-1,\"v\",\"\")","v":""},null,"v",null,null,null,null,0,0,null,null,null,{"$f":"IF(Data_NaamPersoonVastVrij066=\"\",\"\",Data_NaamPersoonVastVrij066)","v":""},null,null,{"$f":"IF(Data_BeeindigingsdatumVastVrij066=\"\",\"\",Data_BeeindigingsdatumVastVrij066)","v":""},null,null,{"$f":"IF(Data_LoonkostenVastVrij066=\"\",\"\",Data_LoonkostenVastVrij066)","v":""},null,{"$f":"IF(Data_PersoonAanUitVastVrij066=-1,\"v\",\"\")","v":""},null,"v",null,null,null,null,0,0,null,{"$f":"IF(Data_NaamPersoonVastOntslag066=\"\",\"\",Data_NaamPersoonVastOntslag066)","v":""},null,null,{"$f":"IF(Data_BeeindigingsdatumVastOntslag066=\"\",\"\",Data_BeeindigingsdatumVastOntslag066)","v":""},null,null,{"$f":"IF(Data_LoonkostenVastOntslag066=\"\",\"\",Data_LoonkostenVastOntslag066)","v":""},null,{"$f":"IF(Data_PersoonAanUitVastOntslag066=-1,\"v\",\"\")","v":""},null,"v",null,null,null,null,{"$f":"IF($CA89=\"v\",BX89,CE89)","v":0},0]
[null,null,null,null,null,null,null,{"$f":"IF(Data_NaamPersoonNatVerloop067=\"\",\"\",Data_NaamPersoonNatVerloop067)","v":""},null,null,{"$f":"IF(Data_BeeindigingsdatumNatVerloop067=\"\",\"\",Data_BeeindigingsdatumNatVerloop067)","v":""},null,null,{"$f":"IF(Data_LoonkostenNatVerloop067=\"\",\"\",Data_LoonkostenNatVerloop067)","v":""},null,"v",null,"v",null,null,null,null,0,"",null,null,null,null,null,null,null,null,{"$f":"IF(Data_NaamPersoonTijd067=\"\",\"\",Data_NaamPersoonTijd067)","v":""},null,null,{"$f":"IF(Data_BeeindigingsdatumTijd067=\"\",\"\",Data_BeeindigingsdatumTijd067)","v":""},null,null,{"$f":"IF(Data_LoonkostenTijd067=\"\",\"\",Data_LoonkostenTijd067)","v":""},null,{"$f":"IF(Data_PersoonAanUitTijd067=-1,\"v\",\"\")","v":""},null,"v",null,null,null,null,0,0,null,null,null,{"$f":"IF(Data_NaamPersoonVastVrij067=\"\",\"\",Data_NaamPersoonVastVrij067)","v":""},null,null,{"$f":"IF(Data_BeeindigingsdatumVastVrij067=\"\",\"\",Data_BeeindigingsdatumVastVrij067)","v":""},null,null,{"$f":"IF(Data_LoonkostenVastVrij067=\"\",\"\",Data_LoonkostenVastVrij067)","v":""},null,{"$f":"IF(Data_PersoonAanUitVastVrij067=-1,\"v\",\"\")","v":""},null,"v",null,null,null,null,0,0,null,{"$f":"IF(Data_NaamPersoonVastOntslag067=\"\",\"\",Data_NaamPersoonVastOntslag067)","v":""},null,null,{"$f":"IF(Data_BeeindigingsdatumVastOntslag067=\"\",\"\",Data_BeeindigingsdatumVastOntslag067)","v":""},null,null,{"$f":"IF(Data_LoonkostenVastOntslag067=\"\",\"\",Data_LoonkostenVastOntslag067)","v":""},null,{"$f":"IF(Data_PersoonAanUitVastOntslag067=-1,\"v\",\"\")","v":""},null,"v",null,null,null,null,0,0]
[null,null,null,null,null,null,null,{"$f":"IF(Data_NaamPersoonNatVerloop068=\"\",\"\",Data_NaamPersoonNatVerloop068)","v":""},null,null,{"$f":"IF(Data_BeeindigingsdatumNatVerloop068=\"\",\"\",Data_BeeindigingsdatumNatVerloop068)","v":""},null,null,{"$f":"IF(Data_LoonkostenNatVerloop068=\"\",\"\",Data_LoonkostenNatVerloop068)","v":""},null,"v",null,"v",null,null,null,null,0,"",null,null,null,null,null,null,null,null,{"$f":"IF(Data_NaamPersoonTijd068=\"\",\"\",Data_NaamPersoonTijd068)","v":""},null,null,{"$f":"IF(Data_BeeindigingsdatumTijd068=\"\",\"\",Data_BeeindigingsdatumTijd068)","v":""},null,null,{"$f":"IF(Data_LoonkostenTijd068=\"\",\"\",Data_LoonkostenTijd068)","v":""},null,{"$f":"IF(Data_PersoonAanUitTijd068=-1,\"v\",\"\")","v":""},null,"v",null,null,null,null,0,0,null,null,null,{"$f":"IF(Data_NaamPersoonVastVrij068=\"\",\"\",Data_NaamPersoonVastVrij068)","v":""},null,null,{"$f":"IF(Data_BeeindigingsdatumVastVrij068=\"\",\"\",Data_BeeindigingsdatumVastVrij068)","v":""},null,null,{"$f":"IF(Data_LoonkostenVastVrij068=\"\",\"\",Data_LoonkostenVastVrij068)","v":""},null,{"$f":"IF(Data_PersoonAanUitVastVrij068=-1,\"v\",\"\")","v":""},null,"v",null,null,null,null,0,0,null,{"$f":"IF(Data_NaamPersoonVastOntslag068=\"\",\"\",Data_NaamPersoonVastOntslag068)","v":""},null,null,{"$f":"IF(Data_BeeindigingsdatumVastOntslag068=\"\",\"\",Data_BeeindigingsdatumVastOntslag068)","v":""},null,null,{"$f":"IF(Data_LoonkostenVastOntslag068=\"\",\"\",Data_LoonkostenVastOntslag068)","v":""},null,{"$f":"IF(Data_PersoonAanUitVastOntslag068=-1,\"v\",\"\")","v":""},null,"v",null,null,null,null,0,0]
[null,null,null,null,null,null,null,{"$f":"IF(Data_NaamPersoonNatVerloop069=\"\",\"\",Data_NaamPersoonNatVerloop069)","v":""},null,null,{"$f":"IF(Data_BeeindigingsdatumNatVerloop069=\"\",\"\",Data_BeeindigingsdatumNatVerloop069)","v":""},null,null,{"$f":"IF(Data_LoonkostenNatVerloop069=\"\",\"\",Data_LoonkostenNatVerloop069)","v":""},null,"v",null,"v",null,null,null,null,0,"",null,null,null,null,null,null,null,null,{"$f":"IF(Data_NaamPersoonTijd069=\"\",\"\",Data_NaamPersoonTijd069)","v":""},null,null,{"$f":"IF(Data_BeeindigingsdatumTijd069=\"\",\"\",Data_BeeindigingsdatumTijd069)","v":""},null,null,{"$f":"IF(Data_LoonkostenTijd069=\"\",\"\",Data_LoonkostenTijd069)","v":""},null,{"$f":"IF(Data_PersoonAanUitTijd069=-1,\"v\",\"\")","v":""},null,"v",null,null,null,null,0,0,null,null,null,{"$f":"IF(Data_NaamPersoonVastVrij069=\"\",\"\",Data_NaamPersoonVastVrij069)","v":""},null,null,{"$f":"IF(Data_BeeindigingsdatumVastVrij069=\"\",\"\",Data_BeeindigingsdatumVastVrij069)","v":""},null,null,{"$f":"IF(Data_LoonkostenVastVrij069=\"\",\"\",Data_LoonkostenVastVrij069)","v":""},null,{"$f":"IF(Data_PersoonAanUitVastVrij069=-1,\"v\",\"\")","v":""},null,"v",null,null,null,null,0,0,null,{"$f":"IF(Data_NaamPersoonVastOntslag069=\"\",\"\",Data_NaamPersoonVastOntslag069)","v":""},null,null,{"$f":"IF(Data_BeeindigingsdatumVastOntslag069=\"\",\"\",Data_BeeindigingsdatumVastOntslag069)","v":""},null,null,{"$f":"IF(Data_LoonkostenVastOntslag069=\"\",\"\",Data_LoonkostenVastOntslag069)","v":""},null,{"$f":"IF(Data_PersoonAanUitVastOntslag069=-1,\"v\",\"\")","v":""},null,"v",null,null,null,null,0,0]
[null,null,null,null,null,null,null,{"$f":"IF(Data_NaamPersoonNatVerloop070=\"\",\"\",Data_NaamPersoonNatVerloop070)","v":""},null,null,{"$f":"IF(Data_BeeindigingsdatumNatVerloop070=\"\",\"\",Data_BeeindigingsdatumNatVerloop070)","v":""},null,null,{"$f":"IF(Data_LoonkostenNatVerloop070=\"\",\"\",Data_LoonkostenNatVerloop070)","v":""},null,"v",null,"v",null,null,null,null,0,"",null,null,null,null,null,null,null,null,{"$f":"IF(Data_NaamPersoonTijd070=\"\",\"\",Data_NaamPersoonTijd070)","v":""},null,null,{"$f":"IF(Data_BeeindigingsdatumTijd070=\"\",\"\",Data_BeeindigingsdatumTijd070)","v":""},null,null,{"$f":"IF(Data_LoonkostenTijd070=\"\",\"\",Data_LoonkostenTijd070)","v":""},null,{"$f":"IF(Data_PersoonAanUitTijd070=-1,\"v\",\"\")","v":""},null,"v",null,null,null,null,0,0,null,null,null,{"$f":"IF(Data_NaamPersoonVastVrij070=\"\",\"\",Data_NaamPersoonVastVrij070)","v":""},null,null,{"$f":"IF(Data_BeeindigingsdatumVastVrij070=\"\",\"\",Data_BeeindigingsdatumVastVrij070)","v":""},null,null,{"$f":"IF(Data_LoonkostenVastVrij070=\"\",\"\",Data_LoonkostenVastVrij070)","v":""},null,{"$f":"IF(Data_PersoonAanUitVastVrij070=-1,\"v\",\"\")","v":""},null,"v",null,null,null,null,0,0,null,{"$f":"IF(Data_NaamPersoonVastOntslag070=\"\",\"\",Data_NaamPersoonVastOntslag070)","v":""},null,null,{"$f":"IF(Data_BeeindigingsdatumVastOntslag070=\"\",\"\",Data_BeeindigingsdatumVastOntslag070)","v":""},null,null,{"$f":"IF(Data_LoonkostenVastOntslag070=\"\",\"\",Data_LoonkostenVastOntslag070)","v":""},null,{"$f":"IF(Data_PersoonAanUitVastOntslag070=-1,\"v\",\"\")","v":""},null,"v",null,null,null,null,0,0]
[null,null,null,null,null,null,null,{"$f":"IF(Data_NaamPersoonNatVerloop071=\"\",\"\",Data_NaamPersoonNatVerloop071)","v":""},null,null,{"$f":"IF(Data_BeeindigingsdatumNatVerloop071=\"\",\"\",Data_BeeindigingsdatumNatVerloop071)","v":""},null,null,{"$f":"IF(Data_LoonkostenNatVerloop071=\"\",\"\",Data_LoonkostenNatVerloop071)","v":""},null,"v",null,"v",null,null,null,null,0,"",null,null,null,null,null,null,null,null,{"$f":"IF(Data_NaamPersoonTijd071=\"\",\"\",Data_NaamPersoonTijd071)","v":""},null,null,{"$f":"IF(Data_BeeindigingsdatumTijd071=\"\",\"\",Data_BeeindigingsdatumTijd071)","v":""},null,null,{"$f":"IF(Data_LoonkostenTijd071=\"\",\"\",Data_LoonkostenTijd071)","v":""},null,{"$f":"IF(Data_PersoonAanUitTijd071=-1,\"v\",\"\")","v":""},null,"v",null,null,null,null,0,0,null,null,null,{"$f":"IF(Data_NaamPersoonVastVrij071=\"\",\"\",Data_NaamPersoonVastVrij071)","v":""},null,null,{"$f":"IF(Data_BeeindigingsdatumVastVrij071=\"\",\"\",Data_BeeindigingsdatumVastVrij071)","v":""},null,null,{"$f":"IF(Data_LoonkostenVastVrij071=\"\",\"\",Data_LoonkostenVastVrij071)","v":""},null,{"$f":"IF(Data_PersoonAanUitVastVrij071=-1,\"v\",\"\")","v":""},null,"v",null,null,null,null,0,0,null,{"$f":"IF(Data_NaamPersoonVastOntslag071=\"\",\"\",Data_NaamPersoonVastOntslag071)","v":""},null,null,{"$f":"IF(Data_BeeindigingsdatumVastOntslag071=\"\",\"\",Data_BeeindigingsdatumVastOntslag071)","v":""},null,null,{"$f":"IF(Data_LoonkostenVastOntslag071=\"\",\"\",Data_LoonkostenVastOntslag071)","v":""},null,{"$f":"IF(Data_PersoonAanUitVastOntslag071=-1,\"v\",\"\")","v":""},null,"v",null,null,null,null,0,0]
[null,null,null,null,null,null,null,{"$f":"IF(Data_NaamPersoonNatVerloop072=\"\",\"\",Data_NaamPersoonNatVerloop072)","v":""},null,null,{"$f":"IF(Data_BeeindigingsdatumNatVerloop072=\"\",\"\",Data_BeeindigingsdatumNatVerloop072)","v":""},null,null,{"$f":"IF(Data_LoonkostenNatVerloop072=\"\",\"\",Data_LoonkostenNatVerloop072)","v":""},null,"v",null,"v",null,null,null,null,0,"",null,null,null,null,null,null,null,null,{"$f":"IF(Data_NaamPersoonTijd072=\"\",\"\",Data_NaamPersoonTijd072)","v":""},null,null,{"$f":"IF(Data_BeeindigingsdatumTijd072=\"\",\"\",Data_BeeindigingsdatumTijd072)","v":""},null,null,{"$f":"IF(Data_LoonkostenTijd072=\"\",\"\",Data_LoonkostenTijd072)","v":""},null,{"$f":"IF(Data_PersoonAanUitTijd072=-1,\"v\",\"\")","v":""},null,"v",null,null,null,null,0,0,null,null,null,{"$f":"IF(Data_NaamPersoonVastVrij072=\"\",\"\",Data_NaamPersoonVastVrij072)","v":""},null,null,{"$f":"IF(Data_BeeindigingsdatumVastVrij072=\"\",\"\",Data_BeeindigingsdatumVastVrij072)","v":""},null,null,{"$f":"IF(Data_LoonkostenVastVrij072=\"\",\"\",Data_LoonkostenVastVrij072)","v":""},null,{"$f":"IF(Data_PersoonAanUitVastVrij072=-1,\"v\",\"\")","v":""},null,"v",null,null,null,null,0,0,null,{"$f":"IF(Data_NaamPersoonVastOntslag072=\"\",\"\",Data_NaamPersoonVastOntslag072)","v":""},null,null,{"$f":"IF(Data_BeeindigingsdatumVastOntslag072=\"\",\"\",Data_BeeindigingsdatumVastOntslag072)","v":""},null,null,{"$f":"IF(Data_LoonkostenVastOntslag072=\"\",\"\",Data_LoonkostenVastOntslag072)","v":""},null,{"$f":"IF(Data_PersoonAanUitVastOntslag072=-1,\"v\",\"\")","v":""},null,"v",null,null,null,null,0,0]
[null,null,null,null,null,null,null,{"$f":"IF(Data_NaamPersoonNatVerloop073=\"\",\"\",Data_NaamPersoonNatVerloop073)","v":""},null,null,{"$f":"IF(Data_BeeindigingsdatumNatVerloop073=\"\",\"\",Data_BeeindigingsdatumNatVerloop073)","v":""},null,null,{"$f":"IF(Data_LoonkostenNatVerloop073=\"\",\"\",Data_LoonkostenNatVerloop073)","v":""},null,"v",null,"v",null,null,null,null,0,"",null,null,null,null,null,null,null,null,{"$f":"IF(Data_NaamPersoonTijd073=\"\",\"\",Data_NaamPersoonTijd073)","v":""},null,null,{"$f":"IF(Data_BeeindigingsdatumTijd073=\"\",\"\",Data_BeeindigingsdatumTijd073)","v":""},null,null,{"$f":"IF(Data_LoonkostenTijd073=\"\",\"\",Data_LoonkostenTijd073)","v":""},null,{"$f":"IF(Data_PersoonAanUitTijd073=-1,\"v\",\"\")","v":""},null,"v",null,null,null,null,0,0,null,null,null,{"$f":"IF(Data_NaamPersoonVastVrij073=\"\",\"\",Data_NaamPersoonVastVrij073)","v":""},null,null,{"$f":"IF(Data_BeeindigingsdatumVastVrij073=\"\",\"\",Data_BeeindigingsdatumVastVrij073)","v":""},null,null,{"$f":"IF(Data_LoonkostenVastVrij073=\"\",\"\",Data_LoonkostenVastVrij073)","v":""},null,{"$f":"IF(Data_PersoonAanUitVastVrij073=-1,\"v\",\"\")","v":""},null,"v",null,null,null,null,0,0,null,{"$f":"IF(Data_NaamPersoonVastOntslag073=\"\",\"\",Data_NaamPersoonVastOntslag073)","v":""},null,null,{"$f":"IF(Data_BeeindigingsdatumVastOntslag073=\"\",\"\",Data_BeeindigingsdatumVastOntslag073)","v":""},null,null,{"$f":"IF(Data_LoonkostenVastOntslag073=\"\",\"\",Data_LoonkostenVastOntslag073)","v":""},null,{"$f":"IF(Data_PersoonAanUitVastOntslag073=-1,\"v\",\"\")","v":""},null,"v",null,null,null,null,0,0]
[null,null,null,null,null,null,null,{"$f":"IF(Data_NaamPersoonNatVerloop074=\"\",\"\",Data_NaamPersoonNatVerloop074)","v":""},null,null,{"$f":"IF(Data_BeeindigingsdatumNatVerloop074=\"\",\"\",Data_BeeindigingsdatumNatVerloop074)","v":""},null,null,{"$f":"IF(Data_LoonkostenNatVerloop074=\"\",\"\",Data_LoonkostenNatVerloop074)","v":""},null,"v",null,"v",null,null,null,null,0,"",null,null,null,null,null,null,null,null,{"$f":"IF(Data_NaamPersoonTijd074=\"\",\"\",Data_NaamPersoonTijd074)","v":""},null,null,{"$f":"IF(Data_BeeindigingsdatumTijd074=\"\",\"\",Data_BeeindigingsdatumTijd074)","v":""},null,null,{"$f":"IF(Data_LoonkostenTijd074=\"\",\"\",Data_LoonkostenTijd074)","v":""},null,{"$f":"IF(Data_PersoonAanUitTijd074=-1,\"v\",\"\")","v":""},null,"v",null,null,null,null,0,0,null,null,null,{"$f":"IF(Data_NaamPersoonVastVrij074=\"\",\"\",Data_NaamPersoonVastVrij074)","v":""},null,null,{"$f":"IF(Data_BeeindigingsdatumVastVrij074=\"\",\"\",Data_BeeindigingsdatumVastVrij074)","v":""},null,null,{"$f":"IF(Data_LoonkostenVastVrij074=\"\",\"\",Data_LoonkostenVastVrij074)","v":""},null,{"$f":"IF(Data_PersoonAanUitVastVrij074=-1,\"v\",\"\")","v":""},null,"v",null,null,null,null,0,0,null,{"$f":"IF(Data_NaamPersoonVastOntslag074=\"\",\"\",Data_NaamPersoonVastOntslag074)","v":""},null,null,{"$f":"IF(Data_BeeindigingsdatumVastOntslag074=\"\",\"\",Data_BeeindigingsdatumVastOntslag074)","v":""},null,null,{"$f":"IF(Data_LoonkostenVastOntslag074=\"\",\"\",Data_LoonkostenVastOntslag074)","v":""},null,{"$f":"IF(Data_PersoonAanUitVastOntslag074=-1,\"v\",\"\")","v":""},null,"v",null,null,null,null,0,0]
[null,null,null,null,null,null,null,{"$f":"IF(Data_NaamPersoonNatVerloop075=\"\",\"\",Data_NaamPersoonNatVerloop075)","v":""},null,null,{"$f":"IF(Data_BeeindigingsdatumNatVerloop075=\"\",\"\",Data_BeeindigingsdatumNatVerloop075)","v":""},null,null,{"$f":"IF(Data_LoonkostenNatVerloop075=\"\",\"\",Data_LoonkostenNatVerloop075)","v":""},null,"v",null,"v",null,null,null,null,0,"",null,null,null,null,null,null,null,null,{"$f":"IF(Data_NaamPersoonTijd075=\"\",\"\",Data_NaamPersoonTijd075)","v":""},null,null,{"$f":"IF(Data_BeeindigingsdatumTijd075=\"\",\"\",Data_BeeindigingsdatumTijd075)","v":""},null,null,{"$f":"IF(Data_LoonkostenTijd075=\"\",\"\",Data_LoonkostenTijd075)","v":""},null,{"$f":"IF(Data_PersoonAanUitTijd075=-1,\"v\",\"\")","v":""},null,"v",null,null,null,null,0,0,null,null,null,{"$f":"IF(Data_NaamPersoonVastVrij075=\"\",\"\",Data_NaamPersoonVastVrij075)","v":""},null,null,{"$f":"IF(Data_BeeindigingsdatumVastVrij075=\"\",\"\",Data_BeeindigingsdatumVastVrij075)","v":""},null,null,{"$f":"IF(Data_LoonkostenVastVrij075=\"\",\"\",Data_LoonkostenVastVrij075)","v":""},null,{"$f":"IF(Data_PersoonAanUitVastVrij075=-1,\"v\",\"\")","v":""},null,"v",null,null,null,null,0,0,null,{"$f":"IF(Data_NaamPersoonVastOntslag075=\"\",\"\",Data_NaamPersoonVastOntslag075)","v":""},null,null,{"$f":"IF(Data_BeeindigingsdatumVastOntslag075=\"\",\"\",Data_BeeindigingsdatumVastOntslag075)","v":""},null,null,{"$f":"IF(Data_LoonkostenVastOntslag075=\"\",\"\",Data_LoonkostenVastOntslag075)","v":""},null,{"$f":"IF(Data_PersoonAanUitVastOntslag075=-1,\"v\",\"\")","v":""},null,"v",null,null,null,null,0,0]
[null,null,null,null,null,null,null,{"$f":"IF(Data_NaamPersoonNatVerloop076=\"\",\"\",Data_NaamPersoonNatVerloop076)","v":""},null,null,{"$f":"IF(Data_BeeindigingsdatumNatVerloop076=\"\",\"\",Data_BeeindigingsdatumNatVerloop076)","v":""},null,null,{"$f":"IF(Data_LoonkostenNatVerloop076=\"\",\"\",Data_LoonkostenNatVerloop076)","v":""},null,"v",null,"v",null,null,null,null,0,"",null,null,null,null,null,null,null,null,{"$f":"IF(Data_NaamPersoonTijd076=\"\",\"\",Data_NaamPersoonTijd076)","v":""},null,null,{"$f":"IF(Data_BeeindigingsdatumTijd076=\"\",\"\",Data_BeeindigingsdatumTijd076)","v":""},null,null,{"$f":"IF(Data_LoonkostenTijd076=\"\",\"\",Data_LoonkostenTijd076)","v":""},null,{"$f":"IF(Data_PersoonAanUitTijd076=-1,\"v\",\"\")","v":""},null,"v",null,null,null,null,0,0,null,null,null,{"$f":"IF(Data_NaamPersoonVastVrij076=\"\",\"\",Data_NaamPersoonVastVrij076)","v":""},null,null,{"$f":"IF(Data_BeeindigingsdatumVastVrij076=\"\",\"\",Data_BeeindigingsdatumVastVrij076)","v":""},null,null,{"$f":"IF(Data_LoonkostenVastVrij076=\"\",\"\",Data_LoonkostenVastVrij076)","v":""},null,{"$f":"IF(Data_PersoonAanUitVastVrij076=-1,\"v\",\"\")","v":""},null,"v",null,null,null,null,0,0,null,{"$f":"IF(Data_NaamPersoonVastOntslag076=\"\",\"\",Data_NaamPersoonVastOntslag076)","v":""},null,null,{"$f":"IF(Data_BeeindigingsdatumVastOntslag076=\"\",\"\",Data_BeeindigingsdatumVastOntslag076)","v":""},null,null,{"$f":"IF(Data_LoonkostenVastOntslag076=\"\",\"\",Data_LoonkostenVastOntslag076)","v":""},null,{"$f":"IF(Data_PersoonAanUitVastOntslag076=-1,\"v\",\"\")","v":""},null,"v",null,null,null,null,0,0]
[null,null,null,null,null,null,null,{"$f":"IF(Data_NaamPersoonNatVerloop077=\"\",\"\",Data_NaamPersoonNatVerloop077)","v":""},null,null,{"$f":"IF(Data_BeeindigingsdatumNatVerloop077=\"\",\"\",Data_BeeindigingsdatumNatVerloop077)","v":""},null,null,{"$f":"IF(Data_LoonkostenNatVerloop077=\"\",\"\",Data_LoonkostenNatVerloop077)","v":""},null,"v",null,"v",null,null,null,null,0,"",null,null,null,null,null,null,null,null,{"$f":"IF(Data_NaamPersoonTijd077=\"\",\"\",Data_NaamPersoonTijd077)","v":""},null,null,{"$f":"IF(Data_BeeindigingsdatumTijd077=\"\",\"\",Data_BeeindigingsdatumTijd077)","v":""},null,null,{"$f":"IF(Data_LoonkostenTijd077=\"\",\"\",Data_LoonkostenTijd077)","v":""},null,{"$f":"IF(Data_PersoonAanUitTijd077=-1,\"v\",\"\")","v":""},null,"v",null,null,null,null,0,0,null,null,null,{"$f":"IF(Data_NaamPersoonVastVrij077=\"\",\"\",Data_NaamPersoonVastVrij077)","v":""},null,null,{"$f":"IF(Data_BeeindigingsdatumVastVrij077=\"\",\"\",Data_BeeindigingsdatumVastVrij077)","v":""},null,null,{"$f":"IF(Data_LoonkostenVastVrij077=\"\",\"\",Data_LoonkostenVastVrij077)","v":""},null,{"$f":"IF(Data_PersoonAanUitVastVrij077=-1,\"v\",\"\")","v":""},null,"v",null,null,null,null,0,0,null,{"$f":"IF(Data_NaamPersoonVastOntslag077=\"\",\"\",Data_NaamPersoonVastOntslag077)","v":""},null,null,{"$f":"IF(Data_BeeindigingsdatumVastOntslag077=\"\",\"\",Data_BeeindigingsdatumVastOntslag077)","v":""},null,null,{"$f":"IF(Data_LoonkostenVastOntslag077=\"\",\"\",Data_LoonkostenVastOntslag077)","v":""},null,{"$f":"IF(Data_PersoonAanUitVastOntslag077=-1,\"v\",\"\")","v":""},null,"v",null,null,null,null,0,0]
[null,null,null,null,null,null,null,{"$f":"IF(Data_NaamPersoonNatVerloop078=\"\",\"\",Data_NaamPersoonNatVerloop078)","v":""},null,null,{"$f":"IF(Data_BeeindigingsdatumNatVerloop078=\"\",\"\",Data_BeeindigingsdatumNatVerloop078)","v":""},null,null,{"$f":"IF(Data_LoonkostenNatVerloop078=\"\",\"\",Data_LoonkostenNatVerloop078)","v":""},null,"v",null,"v",null,null,null,null,0,"",null,null,null,null,null,null,null,null,{"$f":"IF(Data_NaamPersoonTijd078=\"\",\"\",Data_NaamPersoonTijd078)","v":""},null,null,{"$f":"IF(Data_BeeindigingsdatumTijd078=\"\",\"\",Data_BeeindigingsdatumTijd078)","v":""},null,null,{"$f":"IF(Data_LoonkostenTijd078=\"\",\"\",Data_LoonkostenTijd078)","v":""},null,{"$f":"IF(Data_PersoonAanUitTijd078=-1,\"v\",\"\")","v":""},null,"v",null,null,null,null,0,0,null,null,null,{"$f":"IF(Data_NaamPersoonVastVrij078=\"\",\"\",Data_NaamPersoonVastVrij078)","v":""},null,null,{"$f":"IF(Data_BeeindigingsdatumVastVrij078=\"\",\"\",Data_BeeindigingsdatumVastVrij078)","v":""},null,null,{"$f":"IF(Data_LoonkostenVastVrij078=\"\",\"\",Data_LoonkostenVastVrij078)","v":""},null,{"$f":"IF(Data_PersoonAanUitVastVrij078=-1,\"v\",\"\")","v":""},null,"v",null,null,null,null,0,0,null,{"$f":"IF(Data_NaamPersoonVastOntslag078=\"\",\"\",Data_NaamPersoonVastOntslag078)","v":""},null,null,{"$f":"IF(Data_BeeindigingsdatumVastOntslag078=\"\",\"\",Data_BeeindigingsdatumVastOntslag078)","v":""},null,null,{"$f":"IF(Data_LoonkostenVastOntslag078=\"\",\"\",Data_LoonkostenVastOntslag078)","v":""},null,{"$f":"IF(Data_PersoonAanUitVastOntslag078=-1,\"v\",\"\")","v":""},null,"v",null,null,null,null,0,0]
[null,null,null,null,null,null,null,{"$f":"IF(Data_NaamPersoonNatVerloop079=\"\",\"\",Data_NaamPersoonNatVerloop079)","v":""},null,null,{"$f":"IF(Data_BeeindigingsdatumNatVerloop079=\"\",\"\",Data_BeeindigingsdatumNatVerloop079)","v":""},null,null,{"$f":"IF(Data_LoonkostenNatVerloop079=\"\",\"\",Data_LoonkostenNatVerloop079)","v":""},null,"v",null,"v",null,null,null,null,0,"",null,null,null,null,null,null,null,null,{"$f":"IF(Data_NaamPersoonTijd079=\"\",\"\",Data_NaamPersoonTijd079)","v":""},null,null,{"$f":"IF(Data_BeeindigingsdatumTijd079=\"\",\"\",Data_BeeindigingsdatumTijd079)","v":""},null,null,{"$f":"IF(Data_LoonkostenTijd079=\"\",\"\",Data_LoonkostenTijd079)","v":""},null,{"$f":"IF(Data_PersoonAanUitTijd079=-1,\"v\",\"\")","v":""},null,"v",null,null,null,null,0,0,null,null,null,{"$f":"IF(Data_NaamPersoonVastVrij079=\"\",\"\",Data_NaamPersoonVastVrij079)","v":""},null,null,{"$f":"IF(Data_BeeindigingsdatumVastVrij079=\"\",\"\",Data_BeeindigingsdatumVastVrij079)","v":""},null,null,{"$f":"IF(Data_LoonkostenVastVrij079=\"\",\"\",Data_LoonkostenVastVrij079)","v":""},null,{"$f":"IF(Data_PersoonAanUitVastVrij079=-1,\"v\",\"\")","v":""},null,"v",null,null,null,null,0,0,null,{"$f":"IF(Data_NaamPersoonVastOntslag079=\"\",\"\",Data_NaamPersoonVastOntslag079)","v":""},null,null,{"$f":"IF(Data_BeeindigingsdatumVastOntslag079=\"\",\"\",Data_BeeindigingsdatumVastOntslag079)","v":""},null,null,{"$f":"IF(Data_LoonkostenVastOntslag079=\"\",\"\",Data_LoonkostenVastOntslag079)","v":""},null,{"$f":"IF(Data_PersoonAanUitVastOntslag079=-1,\"v\",\"\")","v":""},null,"v",null,null,null,null,0,0]
[null,null,null,null,null,null,null,{"$f":"IF(Data_NaamPersoonNatVerloop080=\"\",\"\",Data_NaamPersoonNatVerloop080)","v":""},null,null,{"$f":"IF(Data_BeeindigingsdatumNatVerloop080=\"\",\"\",Data_BeeindigingsdatumNatVerloop080)","v":""},null,null,{"$f":"IF(Data_LoonkostenNatVerloop080=\"\",\"\",Data_LoonkostenNatVerloop080)","v":""},null,"v",null,"v",null,null,null,null,0,"",null,null,null,null,null,null,null,null,{"$f":"IF(Data_NaamPersoonTijd080=\"\",\"\",Data_NaamPersoonTijd080)","v":""},null,null,{"$f":"IF(Data_BeeindigingsdatumTijd080=\"\",\"\",Data_BeeindigingsdatumTijd080)","v":""},null,null,{"$f":"IF(Data_LoonkostenTijd080=\"\",\"\",Data_LoonkostenTijd080)","v":""},null,{"$f":"IF(Data_PersoonAanUitTijd080=-1,\"v\",\"\")","v":""},null,"v",null,null,null,null,0,0,null,null,null,{"$f":"IF(Data_NaamPersoonVastVrij080=\"\",\"\",Data_NaamPersoonVastVrij080)","v":""},null,null,{"$f":"IF(Data_BeeindigingsdatumVastVrij080=\"\",\"\",Data_BeeindigingsdatumVastVrij080)","v":""},null,null,{"$f":"IF(Data_LoonkostenVastVrij080=\"\",\"\",Data_LoonkostenVastVrij080)","v":""},null,{"$f":"IF(Data_PersoonAanUitVastVrij080=-1,\"v\",\"\")","v":""},null,"v",null,null,null,null,0,0,null,{"$f":"IF(Data_NaamPersoonVastOntslag080=\"\",\"\",Data_NaamPersoonVastOntslag080)","v":""},null,null,{"$f":"IF(Data_BeeindigingsdatumVastOntslag080=\"\",\"\",Data_BeeindigingsdatumVastOntslag080)","v":""},null,null,{"$f":"IF(Data_LoonkostenVastOntslag080=\"\",\"\",Data_LoonkostenVastOntslag080)","v":""},null,{"$f":"IF(Data_PersoonAanUitVastOntslag080=-1,\"v\",\"\")","v":""},null,"v",null,null,null,null,0,0]
[null,null,null,null,null,null,null,{"$f":"IF(Data_NaamPersoonNatVerloop081=\"\",\"\",Data_NaamPersoonNatVerloop081)","v":""},null,null,{"$f":"IF(Data_BeeindigingsdatumNatVerloop081=\"\",\"\",Data_BeeindigingsdatumNatVerloop081)","v":""},null,null,{"$f":"IF(Data_LoonkostenNatVerloop081=\"\",\"\",Data_LoonkostenNatVerloop081)","v":""},null,"v",null,"v",null,null,null,null,0,"",null,null,null,null,null,null,null,null,{"$f":"IF(Data_NaamPersoonTijd081=\"\",\"\",Data_NaamPersoonTijd081)","v":""},null,null,{"$f":"IF(Data_BeeindigingsdatumTijd081=\"\",\"\",Data_BeeindigingsdatumTijd081)","v":""},null,null,{"$f":"IF(Data_LoonkostenTijd081=\"\",\"\",Data_LoonkostenTijd081)","v":""},null,{"$f":"IF(Data_PersoonAanUitTijd081=-1,\"v\",\"\")","v":""},null,"v",null,null,null,null,0,0,null,null,null,{"$f":"IF(Data_NaamPersoonVastVrij081=\"\",\"\",Data_NaamPersoonVastVrij081)","v":""},null,null,{"$f":"IF(Data_BeeindigingsdatumVastVrij081=\"\",\"\",Data_BeeindigingsdatumVastVrij081)","v":""},null,null,{"$f":"IF(Data_LoonkostenVastVrij081=\"\",\"\",Data_LoonkostenVastVrij081)","v":""},null,{"$f":"IF(Data_PersoonAanUitVastVrij081=-1,\"v\",\"\")","v":""},null,"v",null,null,null,null,0,0,null,{"$f":"IF(Data_NaamPersoonVastOntslag081=\"\",\"\",Data_NaamPersoonVastOntslag081)","v":""},null,null,{"$f":"IF(Data_BeeindigingsdatumVastOntslag081=\"\",\"\",Data_BeeindigingsdatumVastOntslag081)","v":""},null,null,{"$f":"IF(Data_LoonkostenVastOntslag081=\"\",\"\",Data_LoonkostenVastOntslag081)","v":""},null,{"$f":"IF(Data_PersoonAanUitVastOntslag081=-1,\"v\",\"\")","v":""},null,"v",null,null,null,null,0,0]
[null,null,null,null,null,null,null,{"$f":"IF(Data_NaamPersoonNatVerloop082=\"\",\"\",Data_NaamPersoonNatVerloop082)","v":""},null,null,{"$f":"IF(Data_BeeindigingsdatumNatVerloop082=\"\",\"\",Data_BeeindigingsdatumNatVerloop082)","v":""},null,null,{"$f":"IF(Data_LoonkostenNatVerloop082=\"\",\"\",Data_LoonkostenNatVerloop082)","v":""},null,"v",null,"v",null,null,null,null,0,"",null,null,null,null,null,null,null,null,{"$f":"IF(Data_NaamPersoonTijd082=\"\",\"\",Data_NaamPersoonTijd082)","v":""},null,null,{"$f":"IF(Data_BeeindigingsdatumTijd082=\"\",\"\",Data_BeeindigingsdatumTijd082)","v":""},null,null,{"$f":"IF(Data_LoonkostenTijd082=\"\",\"\",Data_LoonkostenTijd082)","v":""},null,{"$f":"IF(Data_PersoonAanUitTijd082=-1,\"v\",\"\")","v":""},null,"v",null,null,null,null,0,0,null,null,null,{"$f":"IF(Data_NaamPersoonVastVrij082=\"\",\"\",Data_NaamPersoonVastVrij082)","v":""},null,null,{"$f":"IF(Data_BeeindigingsdatumVastVrij082=\"\",\"\",Data_BeeindigingsdatumVastVrij082)","v":""},null,null,{"$f":"IF(Data_LoonkostenVastVrij082=\"\",\"\",Data_LoonkostenVastVrij082)","v":""},null,{"$f":"IF(Data_PersoonAanUitVastVrij082=-1,\"v\",\"\")","v":""},null,"v",null,null,null,null,0,0,null,{"$f":"IF(Data_NaamPersoonVastOntslag082=\"\",\"\",Data_NaamPersoonVastOntslag082)","v":""},null,null,{"$f":"IF(Data_BeeindigingsdatumVastOntslag082=\"\",\"\",Data_BeeindigingsdatumVastOntslag082)","v":""},null,null,{"$f":"IF(Data_LoonkostenVastOntslag082=\"\",\"\",Data_LoonkostenVastOntslag082)","v":""},null,{"$f":"IF(Data_PersoonAanUitVastOntslag082=-1,\"v\",\"\")","v":""},null,"v",null,null,null,null,0,0]
[null,null,null,null,null,null,null,{"$f":"IF(Data_NaamPersoonNatVerloop083=\"\",\"\",Data_NaamPersoonNatVerloop083)","v":""},null,null,{"$f":"IF(Data_BeeindigingsdatumNatVerloop083=\"\",\"\",Data_BeeindigingsdatumNatVerloop083)","v":""},null,null,{"$f":"IF(Data_LoonkostenNatVerloop083=\"\",\"\",Data_LoonkostenNatVerloop083)","v":""},null,"v",null,"v",null,null,null,null,0,"",null,null,null,null,null,null,null,null,{"$f":"IF(Data_NaamPersoonTijd083=\"\",\"\",Data_NaamPersoonTijd083)","v":""},null,null,{"$f":"IF(Data_BeeindigingsdatumTijd083=\"\",\"\",Data_BeeindigingsdatumTijd083)","v":""},null,null,{"$f":"IF(Data_LoonkostenTijd083=\"\",\"\",Data_LoonkostenTijd083)","v":""},null,{"$f":"IF(Data_PersoonAanUitTijd083=-1,\"v\",\"\")","v":""},null,"v",null,null,null,null,0,0,null,null,null,{"$f":"IF(Data_NaamPersoonVastVrij083=\"\",\"\",Data_NaamPersoonVastVrij083)","v":""},null,null,{"$f":"IF(Data_BeeindigingsdatumVastVrij083=\"\",\"\",Data_BeeindigingsdatumVastVrij083)","v":""},null,null,{"$f":"IF(Data_LoonkostenVastVrij083=\"\",\"\",Data_LoonkostenVastVrij083)","v":""},null,{"$f":"IF(Data_PersoonAanUitVastVrij083=-1,\"v\",\"\")","v":""},null,"v",null,null,null,null,0,0,null,{"$f":"IF(Data_NaamPersoonVastOntslag083=\"\",\"\",Data_NaamPersoonVastOntslag083)","v":""},null,null,{"$f":"IF(Data_BeeindigingsdatumVastOntslag083=\"\",\"\",Data_BeeindigingsdatumVastOntslag083)","v":""},null,null,{"$f":"IF(Data_LoonkostenVastOntslag083=\"\",\"\",Data_LoonkostenVastOntslag083)","v":""},null,{"$f":"IF(Data_PersoonAanUitVastOntslag083=-1,\"v\",\"\")","v":""},null,"v",null,null,null,null,0,0]
[null,null,null,null,null,null,null,{"$f":"IF(Data_NaamPersoonNatVerloop084=\"\",\"\",Data_NaamPersoonNatVerloop084)","v":""},null,null,{"$f":"IF(Data_BeeindigingsdatumNatVerloop084=\"\",\"\",Data_BeeindigingsdatumNatVerloop084)","v":""},null,null,{"$f":"IF(Data_LoonkostenNatVerloop084=\"\",\"\",Data_LoonkostenNatVerloop084)","v":""},null,"v",null,"v",null,null,null,null,0,"",null,null,null,null,null,null,null,null,{"$f":"IF(Data_NaamPersoonTijd084=\"\",\"\",Data_NaamPersoonTijd084)","v":""},null,null,{"$f":"IF(Data_BeeindigingsdatumTijd084=\"\",\"\",Data_BeeindigingsdatumTijd084)","v":""},null,null,{"$f":"IF(Data_LoonkostenTijd084=\"\",\"\",Data_LoonkostenTijd084)","v":""},null,{"$f":"IF(Data_PersoonAanUitTijd084=-1,\"v\",\"\")","v":""},null,"v",null,null,null,null,0,0,null,null,null,{"$f":"IF(Data_NaamPersoonVastVrij084=\"\",\"\",Data_NaamPersoonVastVrij084)","v":""},null,null,{"$f":"IF(Data_BeeindigingsdatumVastVrij084=\"\",\"\",Data_BeeindigingsdatumVastVrij084)","v":""},null,null,{"$f":"IF(Data_LoonkostenVastVrij084=\"\",\"\",Data_LoonkostenVastVrij084)","v":""},null,{"$f":"IF(Data_PersoonAanUitVastVrij084=-1,\"v\",\"\")","v":""},null,"v",null,null,null,null,0,0,null,{"$f":"IF(Data_NaamPersoonVastOntslag084=\"\",\"\",Data_NaamPersoonVastOntslag084)","v":""},null,null,{"$f":"IF(Data_BeeindigingsdatumVastOntslag084=\"\",\"\",Data_BeeindigingsdatumVastOntslag084)","v":""},null,null,{"$f":"IF(Data_LoonkostenVastOntslag084=\"\",\"\",Data_LoonkostenVastOntslag084)","v":""},null,{"$f":"IF(Data_PersoonAanUitVastOntslag084=-1,\"v\",\"\")","v":""},null,"v",null,null,null,null,0,0]
[null,null,null,null,null,null,null,{"$f":"IF(Data_NaamPersoonNatVerloop085=\"\",\"\",Data_NaamPersoonNatVerloop085)","v":""},null,null,{"$f":"IF(Data_BeeindigingsdatumNatVerloop085=\"\",\"\",Data_BeeindigingsdatumNatVerloop085)","v":""},null,null,{"$f":"IF(Data_LoonkostenNatVerloop085=\"\",\"\",Data_LoonkostenNatVerloop085)","v":""},null,"v",null,"v",null,null,null,null,0,"",null,null,null,null,null,null,null,null,{"$f":"IF(Data_NaamPersoonTijd085=\"\",\"\",Data_NaamPersoonTijd085)","v":""},null,null,{"$f":"IF(Data_BeeindigingsdatumTijd085=\"\",\"\",Data_BeeindigingsdatumTijd085)","v":""},null,null,{"$f":"IF(Data_LoonkostenTijd085=\"\",\"\",Data_LoonkostenTijd085)","v":""},null,{"$f":"IF(Data_PersoonAanUitTijd085=-1,\"v\",\"\")","v":""},null,"v",null,null,null,null,0,0,null,null,null,{"$f":"IF(Data_NaamPersoonVastVrij085=\"\",\"\",Data_NaamPersoonVastVrij085)","v":""},null,null,{"$f":"IF(Data_BeeindigingsdatumVastVrij085=\"\",\"\",Data_BeeindigingsdatumVastVrij085)","v":""},null,null,{"$f":"IF(Data_LoonkostenVastVrij085=\"\",\"\",Data_LoonkostenVastVrij085)","v":""},null,{"$f":"IF(Data_PersoonAanUitVastVrij085=-1,\"v\",\"\")","v":""},null,"v",null,null,null,null,0,0,null,{"$f":"IF(Data_NaamPersoonVastOntslag085=\"\",\"\",Data_NaamPersoonVastOntslag085)","v":""},null,null,{"$f":"IF(Data_BeeindigingsdatumVastOntslag085=\"\",\"\",Data_BeeindigingsdatumVastOntslag085)","v":""},null,null,{"$f":"IF(Data_LoonkostenVastOntslag085=\"\",\"\",Data_LoonkostenVastOntslag085)","v":""},null,{"$f":"IF(Data_PersoonAanUitVastOntslag085=-1,\"v\",\"\")","v":""},null,"v",null,null,null,null,0,0]
[null,null,null,null,null,null,null,{"$f":"IF(Data_NaamPersoonNatVerloop086=\"\",\"\",Data_NaamPersoonNatVerloop086)","v":""},null,null,{"$f":"IF(Data_BeeindigingsdatumNatVerloop086=\"\",\"\",Data_BeeindigingsdatumNatVerloop086)","v":""},null,null,{"$f":"IF(Data_LoonkostenNatVerloop086=\"\",\"\",Data_LoonkostenNatVerloop086)","v":""},null,"v",null,"v",null,null,null,null,0,"",null,null,null,null,null,null,null,null,{"$f":"IF(Data_NaamPersoonTijd086=\"\",\"\",Data_NaamPersoonTijd086)","v":""},null,null,{"$f":"IF(Data_BeeindigingsdatumTijd086=\"\",\"\",Data_BeeindigingsdatumTijd086)","v":""},null,null,{"$f":"IF(Data_LoonkostenTijd086=\"\",\"\",Data_LoonkostenTijd086)","v":""},null,{"$f":"IF(Data_PersoonAanUitTijd086=-1,\"v\",\"\")","v":""},null,"v",null,null,null,null,0,0,null,null,null,{"$f":"IF(Data_NaamPersoonVastVrij086=\"\",\"\",Data_NaamPersoonVastVrij086)","v":""},null,null,{"$f":"IF(Data_BeeindigingsdatumVastVrij086=\"\",\"\",Data_BeeindigingsdatumVastVrij086)","v":""},null,null,{"$f":"IF(Data_LoonkostenVastVrij086=\"\",\"\",Data_LoonkostenVastVrij086)","v":""},null,{"$f":"IF(Data_PersoonAanUitVastVrij086=-1,\"v\",\"\")","v":""},null,"v",null,null,null,null,0,0,null,{"$f":"IF(Data_NaamPersoonVastOntslag086=\"\",\"\",Data_NaamPersoonVastOntslag086)","v":""},null,null,{"$f":"IF(Data_BeeindigingsdatumVastOntslag086=\"\",\"\",Data_BeeindigingsdatumVastOntslag086)","v":""},null,null,{"$f":"IF(Data_LoonkostenVastOntslag086=\"\",\"\",Data_LoonkostenVastOntslag086)","v":""},null,{"$f":"IF(Data_PersoonAanUitVastOntslag086=-1,\"v\",\"\")","v":""},null,"v",null,null,null,null,0,0]
[null,null,null,null,null,null,null,{"$f":"IF(Data_NaamPersoonNatVerloop087=\"\",\"\",Data_NaamPersoonNatVerloop087)","v":""},null,null,{"$f":"IF(Data_BeeindigingsdatumNatVerloop087=\"\",\"\",Data_BeeindigingsdatumNatVerloop087)","v":""},null,null,{"$f":"IF(Data_LoonkostenNatVerloop087=\"\",\"\",Data_LoonkostenNatVerloop087)","v":""},null,"v",null,"v",null,null,null,null,0,"",null,null,null,null,null,null,null,null,{"$f":"IF(Data_NaamPersoonTijd087=\"\",\"\",Data_NaamPersoonTijd087)","v":""},null,null,{"$f":"IF(Data_BeeindigingsdatumTijd087=\"\",\"\",Data_BeeindigingsdatumTijd087)","v":""},null,null,{"$f":"IF(Data_LoonkostenTijd087=\"\",\"\",Data_LoonkostenTijd087)","v":""},null,{"$f":"IF(Data_PersoonAanUitTijd087=-1,\"v\",\"\")","v":""},null,"v",null,null,null,null,0,0,null,null,null,{"$f":"IF(Data_NaamPersoonVastVrij087=\"\",\"\",Data_NaamPersoonVastVrij087)","v":""},null,null,{"$f":"IF(Data_BeeindigingsdatumVastVrij087=\"\",\"\",Data_BeeindigingsdatumVastVrij087)","v":""},null,null,{"$f":"IF(Data_LoonkostenVastVrij087=\"\",\"\",Data_LoonkostenVastVrij087)","v":""},null,{"$f":"IF(Data_PersoonAanUitVastVrij087=-1,\"v\",\"\")","v":""},null,"v",null,null,null,null,0,0,null,{"$f":"IF(Data_NaamPersoonVastOntslag087=\"\",\"\",Data_NaamPersoonVastOntslag087)","v":""},null,null,{"$f":"IF(Data_BeeindigingsdatumVastOntslag087=\"\",\"\",Data_BeeindigingsdatumVastOntslag087)","v":""},null,null,{"$f":"IF(Data_LoonkostenVastOntslag087=\"\",\"\",Data_LoonkostenVastOntslag087)","v":""},null,{"$f":"IF(Data_PersoonAanUitVastOntslag087=-1,\"v\",\"\")","v":""},null,"v",null,null,null,null,0,0]
[null,null,null,null,null,null,null,{"$f":"IF(Data_NaamPersoonNatVerloop088=\"\",\"\",Data_NaamPersoonNatVerloop088)","v":""},null,null,{"$f":"IF(Data_BeeindigingsdatumNatVerloop088=\"\",\"\",Data_BeeindigingsdatumNatVerloop088)","v":""},null,null,{"$f":"IF(Data_LoonkostenNatVerloop088=\"\",\"\",Data_LoonkostenNatVerloop088)","v":""},null,"v",null,"v",null,null,null,null,0,"",null,null,null,null,null,null,null,null,{"$f":"IF(Data_NaamPersoonTijd088=\"\",\"\",Data_NaamPersoonTijd088)","v":""},null,null,{"$f":"IF(Data_BeeindigingsdatumTijd088=\"\",\"\",Data_BeeindigingsdatumTijd088)","v":""},null,null,{"$f":"IF(Data_LoonkostenTijd088=\"\",\"\",Data_LoonkostenTijd088)","v":""},null,{"$f":"IF(Data_PersoonAanUitTijd088=-1,\"v\",\"\")","v":""},null,"v",null,null,null,null,0,0,null,null,null,{"$f":"IF(Data_NaamPersoonVastVrij088=\"\",\"\",Data_NaamPersoonVastVrij088)","v":""},null,null,{"$f":"IF(Data_BeeindigingsdatumVastVrij088=\"\",\"\",Data_BeeindigingsdatumVastVrij088)","v":""},null,null,{"$f":"IF(Data_LoonkostenVastVrij088=\"\",\"\",Data_LoonkostenVastVrij088)","v":""},null,{"$f":"IF(Data_PersoonAanUitVastVrij088=-1,\"v\",\"\")","v":""},null,"v",null,null,null,null,0,0,null,{"$f":"IF(Data_NaamPersoonVastOntslag088=\"\",\"\",Data_NaamPersoonVastOntslag088)","v":""},null,null,{"$f":"IF(Data_BeeindigingsdatumVastOntslag088=\"\",\"\",Data_BeeindigingsdatumVastOntslag088)","v":""},null,null,{"$f":"IF(Data_LoonkostenVastOntslag088=\"\",\"\",Data_LoonkostenVastOntslag088)","v":""},null,{"$f":"IF(Data_PersoonAanUitVastOntslag088=-1,\"v\",\"\")","v":""},null,"v",null,null,null,null,0,0]
[null,null,null,null,null,null,null,{"$f":"IF(Data_NaamPersoonNatVerloop089=\"\",\"\",Data_NaamPersoonNatVerloop089)","v":""},null,null,{"$f":"IF(Data_BeeindigingsdatumNatVerloop089=\"\",\"\",Data_BeeindigingsdatumNatVerloop089)","v":""},null,null,{"$f":"IF(Data_LoonkostenNatVerloop089=\"\",\"\",Data_LoonkostenNatVerloop089)","v":""},null,"v",null,"v",null,null,null,null,0,"",null,null,null,null,null,null,null,null,{"$f":"IF(Data_NaamPersoonTijd089=\"\",\"\",Data_NaamPersoonTijd089)","v":""},null,null,{"$f":"IF(Data_BeeindigingsdatumTijd089=\"\",\"\",Data_BeeindigingsdatumTijd089)","v":""},null,null,{"$f":"IF(Data_LoonkostenTijd089=\"\",\"\",Data_LoonkostenTijd089)","v":""},null,{"$f":"IF(Data_PersoonAanUitTijd089=-1,\"v\",\"\")","v":""},null,"v",null,null,null,null,0,0,null,null,null,{"$f":"IF(Data_NaamPersoonVastVrij089=\"\",\"\",Data_NaamPersoonVastVrij089)","v":""},null,null,{"$f":"IF(Data_BeeindigingsdatumVastVrij089=\"\",\"\",Data_BeeindigingsdatumVastVrij089)","v":""},null,null,{"$f":"IF(Data_LoonkostenVastVrij089=\"\",\"\",Data_LoonkostenVastVrij089)","v":""},null,{"$f":"IF(Data_PersoonAanUitVastVrij089=-1,\"v\",\"\")","v":""},null,"v",null,null,null,null,0,0,null,{"$f":"IF(Data_NaamPersoonVastOntslag089=\"\",\"\",Data_NaamPersoonVastOntslag089)","v":""},null,null,{"$f":"IF(Data_BeeindigingsdatumVastOntslag089=\"\",\"\",Data_BeeindigingsdatumVastOntslag089)","v":""},null,null,{"$f":"IF(Data_LoonkostenVastOntslag089=\"\",\"\",Data_LoonkostenVastOntslag089)","v":""},null,{"$f":"IF(Data_PersoonAanUitVastOntslag089=-1,\"v\",\"\")","v":""},null,"v",null,null,null,null,0,0]
[null,null,null,null,null,null,null,{"$f":"IF(Data_NaamPersoonNatVerloop090=\"\",\"\",Data_NaamPersoonNatVerloop090)","v":""},null,null,{"$f":"IF(Data_BeeindigingsdatumNatVerloop090=\"\",\"\",Data_BeeindigingsdatumNatVerloop090)","v":""},null,null,{"$f":"IF(Data_LoonkostenNatVerloop090=\"\",\"\",Data_LoonkostenNatVerloop090)","v":""},null,"v",null,"v",null,null,null,null,0,"",null,null,null,null,null,null,null,null,{"$f":"IF(Data_NaamPersoonTijd090=\"\",\"\",Data_NaamPersoonTijd090)","v":""},null,null,{"$f":"IF(Data_BeeindigingsdatumTijd090=\"\",\"\",Data_BeeindigingsdatumTijd090)","v":""},null,null,{"$f":"IF(Data_LoonkostenTijd090=\"\",\"\",Data_LoonkostenTijd090)","v":""},null,{"$f":"IF(Data_PersoonAanUitTijd090=-1,\"v\",\"\")","v":""},null,"v",null,null,null,null,0,0,null,null,null,{"$f":"IF(Data_NaamPersoonVastVrij090=\"\",\"\",Data_NaamPersoonVastVrij090)","v":""},null,null,{"$f":"IF(Data_BeeindigingsdatumVastVrij090=\"\",\"\",Data_BeeindigingsdatumVastVrij090)","v":""},null,null,{"$f":"IF(Data_LoonkostenVastVrij090=\"\",\"\",Data_LoonkostenVastVrij090)","v":""},null,{"$f":"IF(Data_PersoonAanUitVastVrij090=-1,\"v\",\"\")","v":""},null,"v",null,null,null,null,0,0,null,{"$f":"IF(Data_NaamPersoonVastOntslag090=\"\",\"\",Data_NaamPersoonVastOntslag090)","v":""},null,null,{"$f":"IF(Data_BeeindigingsdatumVastOntslag090=\"\",\"\",Data_BeeindigingsdatumVastOntslag090)","v":""},null,null,{"$f":"IF(Data_LoonkostenVastOntslag090=\"\",\"\",Data_LoonkostenVastOntslag090)","v":""},null,{"$f":"IF(Data_PersoonAanUitVastOntslag090=-1,\"v\",\"\")","v":""},null,"v",null,null,null,null,0,0]
[null,null,null,null,null,null,null,{"$f":"IF(Data_NaamPersoonNatVerloop091=\"\",\"\",Data_NaamPersoonNatVerloop091)","v":""},null,null,{"$f":"IF(Data_BeeindigingsdatumNatVerloop091=\"\",\"\",Data_BeeindigingsdatumNatVerloop091)","v":""},null,null,{"$f":"IF(Data_LoonkostenNatVerloop091=\"\",\"\",Data_LoonkostenNatVerloop091)","v":""},null,"v",null,"v",null,null,null,null,0,"",null,null,null,null,null,null,null,null,{"$f":"IF(Data_NaamPersoonTijd091=\"\",\"\",Data_NaamPersoonTijd091)","v":""},null,null,{"$f":"IF(Data_BeeindigingsdatumTijd091=\"\",\"\",Data_BeeindigingsdatumTijd091)","v":""},null,null,{"$f":"IF(Data_LoonkostenTijd091=\"\",\"\",Data_LoonkostenTijd091)","v":""},null,{"$f":"IF(Data_PersoonAanUitTijd091=-1,\"v\",\"\")","v":""},null,"v",null,null,null,null,0,0,null,null,null,{"$f":"IF(Data_NaamPersoonVastVrij091=\"\",\"\",Data_NaamPersoonVastVrij091)","v":""},null,null,{"$f":"IF(Data_BeeindigingsdatumVastVrij091=\"\",\"\",Data_BeeindigingsdatumVastVrij091)","v":""},null,null,{"$f":"IF(Data_LoonkostenVastVrij091=\"\",\"\",Data_LoonkostenVastVrij091)","v":""},null,{"$f":"IF(Data_PersoonAanUitVastVrij091=-1,\"v\",\"\")","v":""},null,"v",null,null,null,null,0,0,null,{"$f":"IF(Data_NaamPersoonVastOntslag091=\"\",\"\",Data_NaamPersoonVastOntslag091)","v":""},null,null,{"$f":"IF(Data_BeeindigingsdatumVastOntslag091=\"\",\"\",Data_BeeindigingsdatumVastOntslag091)","v":""},null,null,{"$f":"IF(Data_LoonkostenVastOntslag091=\"\",\"\",Data_LoonkostenVastOntslag091)","v":""},null,{"$f":"IF(Data_PersoonAanUitVastOntslag091=-1,\"v\",\"\")","v":""},null,"v",null,null,null,null,0,0]
[null,null,null,null,null,null,null,{"$f":"IF(Data_NaamPersoonNatVerloop092=\"\",\"\",Data_NaamPersoonNatVerloop092)","v":""},null,null,{"$f":"IF(Data_BeeindigingsdatumNatVerloop092=\"\",\"\",Data_BeeindigingsdatumNatVerloop092)","v":""},null,null,{"$f":"IF(Data_LoonkostenNatVerloop092=\"\",\"\",Data_LoonkostenNatVerloop092)","v":""},null,"v",null,"v",null,null,null,null,0,"",null,null,null,null,null,null,null,null,{"$f":"IF(Data_NaamPersoonTijd092=\"\",\"\",Data_NaamPersoonTijd092)","v":""},null,null,{"$f":"IF(Data_BeeindigingsdatumTijd092=\"\",\"\",Data_BeeindigingsdatumTijd092)","v":""},null,null,{"$f":"IF(Data_LoonkostenTijd092=\"\",\"\",Data_LoonkostenTijd092)","v":""},null,{"$f":"IF(Data_PersoonAanUitTijd092=-1,\"v\",\"\")","v":""},null,"v",null,null,null,null,0,0,null,null,null,{"$f":"IF(Data_NaamPersoonVastVrij092=\"\",\"\",Data_NaamPersoonVastVrij092)","v":""},null,null,{"$f":"IF(Data_BeeindigingsdatumVastVrij092=\"\",\"\",Data_BeeindigingsdatumVastVrij092)","v":""},null,null,{"$f":"IF(Data_LoonkostenVastVrij092=\"\",\"\",Data_LoonkostenVastVrij092)","v":""},null,{"$f":"IF(Data_PersoonAanUitVastVrij092=-1,\"v\",\"\")","v":""},null,"v",null,null,null,null,0,0,null,{"$f":"IF(Data_NaamPersoonVastOntslag092=\"\",\"\",Data_NaamPersoonVastOntslag092)","v":""},null,null,{"$f":"IF(Data_BeeindigingsdatumVastOntslag092=\"\",\"\",Data_BeeindigingsdatumVastOntslag092)","v":""},null,null,{"$f":"IF(Data_LoonkostenVastOntslag092=\"\",\"\",Data_LoonkostenVastOntslag092)","v":""},null,{"$f":"IF(Data_PersoonAanUitVastOntslag092=-1,\"v\",\"\")","v":""},null,"v",null,null,null,null,0,0]
[null,null,null,null,null,null,null,{"$f":"IF(Data_NaamPersoonNatVerloop093=\"\",\"\",Data_NaamPersoonNatVerloop093)","v":""},null,null,{"$f":"IF(Data_BeeindigingsdatumNatVerloop093=\"\",\"\",Data_BeeindigingsdatumNatVerloop093)","v":""},null,null,{"$f":"IF(Data_LoonkostenNatVerloop093=\"\",\"\",Data_LoonkostenNatVerloop093)","v":""},null,"v",null,"v",null,null,null,null,0,"",null,null,null,null,null,null,null,null,{"$f":"IF(Data_NaamPersoonTijd093=\"\",\"\",Data_NaamPersoonTijd093)","v":""},null,null,{"$f":"IF(Data_BeeindigingsdatumTijd093=\"\",\"\",Data_BeeindigingsdatumTijd093)","v":""},null,null,{"$f":"IF(Data_LoonkostenTijd093=\"\",\"\",Data_LoonkostenTijd093)","v":""},null,{"$f":"IF(Data_PersoonAanUitTijd093=-1,\"v\",\"\")","v":""},null,"v",null,null,null,null,0,0,null,null,null,{"$f":"IF(Data_NaamPersoonVastVrij093=\"\",\"\",Data_NaamPersoonVastVrij093)","v":""},null,null,{"$f":"IF(Data_BeeindigingsdatumVastVrij093=\"\",\"\",Data_BeeindigingsdatumVastVrij093)","v":""},null,null,{"$f":"IF(Data_LoonkostenVastVrij093=\"\",\"\",Data_LoonkostenVastVrij093)","v":""},null,{"$f":"IF(Data_PersoonAanUitVastVrij093=-1,\"v\",\"\")","v":""},null,"v",null,null,null,null,0,0,null,{"$f":"IF(Data_NaamPersoonVastOntslag093=\"\",\"\",Data_NaamPersoonVastOntslag093)","v":""},null,null,{"$f":"IF(Data_BeeindigingsdatumVastOntslag093=\"\",\"\",Data_BeeindigingsdatumVastOntslag093)","v":""},null,null,{"$f":"IF(Data_LoonkostenVastOntslag093=\"\",\"\",Data_LoonkostenVastOntslag093)","v":""},null,{"$f":"IF(Data_PersoonAanUitVastOntslag093=-1,\"v\",\"\")","v":""},null,"v",null,null,null,null,0,0]
[null,null,null,null,null,null,null,{"$f":"IF(Data_NaamPersoonNatVerloop094=\"\",\"\",Data_NaamPersoonNatVerloop094)","v":""},null,null,{"$f":"IF(Data_BeeindigingsdatumNatVerloop094=\"\",\"\",Data_BeeindigingsdatumNatVerloop094)","v":""},null,null,{"$f":"IF(Data_LoonkostenNatVerloop094=\"\",\"\",Data_LoonkostenNatVerloop094)","v":""},null,"v",null,"v",null,null,null,null,0,"",null,null,null,null,null,null,null,null,{"$f":"IF(Data_NaamPersoonTijd094=\"\",\"\",Data_NaamPersoonTijd094)","v":""},null,null,{"$f":"IF(Data_BeeindigingsdatumTijd094=\"\",\"\",Data_BeeindigingsdatumTijd094)","v":""},null,null,{"$f":"IF(Data_LoonkostenTijd094=\"\",\"\",Data_LoonkostenTijd094)","v":""},null,{"$f":"IF(Data_PersoonAanUitTijd094=-1,\"v\",\"\")","v":""},null,"v",null,null,null,null,0,0,null,null,null,{"$f":"IF(Data_NaamPersoonVastVrij094=\"\",\"\",Data_NaamPersoonVastVrij094)","v":""},null,null,{"$f":"IF(Data_BeeindigingsdatumVastVrij094=\"\",\"\",Data_BeeindigingsdatumVastVrij094)","v":""},null,null,{"$f":"IF(Data_LoonkostenVastVrij094=\"\",\"\",Data_LoonkostenVastVrij094)","v":""},null,{"$f":"IF(Data_PersoonAanUitVastVrij094=-1,\"v\",\"\")","v":""},null,"v",null,null,null,null,0,0,null,{"$f":"IF(Data_NaamPersoonVastOntslag094=\"\",\"\",Data_NaamPersoonVastOntslag094)","v":""},null,null,{"$f":"IF(Data_BeeindigingsdatumVastOntslag094=\"\",\"\",Data_BeeindigingsdatumVastOntslag094)","v":""},null,null,{"$f":"IF(Data_LoonkostenVastOntslag094=\"\",\"\",Data_LoonkostenVastOntslag094)","v":""},null,{"$f":"IF(Data_PersoonAanUitVastOntslag094=-1,\"v\",\"\")","v":""},null,"v",null,null,null,null,0,0]
[null,null,null,null,null,null,null,{"$f":"IF(Data_NaamPersoonNatVerloop095=\"\",\"\",Data_NaamPersoonNatVerloop095)","v":""},null,null,{"$f":"IF(Data_BeeindigingsdatumNatVerloop095=\"\",\"\",Data_BeeindigingsdatumNatVerloop095)","v":""},null,null,{"$f":"IF(Data_LoonkostenNatVerloop095=\"\",\"\",Data_LoonkostenNatVerloop095)","v":""},null,"v",null,"v",null,null,null,null,0,"",null,null,null,null,null,null,null,null,{"$f":"IF(Data_NaamPersoonTijd095=\"\",\"\",Data_NaamPersoonTijd095)","v":""},null,null,{"$f":"IF(Data_BeeindigingsdatumTijd095=\"\",\"\",Data_BeeindigingsdatumTijd095)","v":""},null,null,{"$f":"IF(Data_LoonkostenTijd095=\"\",\"\",Data_LoonkostenTijd095)","v":""},null,{"$f":"IF(Data_PersoonAanUitTijd095=-1,\"v\",\"\")","v":""},null,"v",null,null,null,null,0,0,null,null,null,{"$f":"IF(Data_NaamPersoonVastVrij095=\"\",\"\",Data_NaamPersoonVastVrij095)","v":""},null,null,{"$f":"IF(Data_BeeindigingsdatumVastVrij095=\"\",\"\",Data_BeeindigingsdatumVastVrij095)","v":""},null,null,{"$f":"IF(Data_LoonkostenVastVrij095=\"\",\"\",Data_LoonkostenVastVrij095)","v":""},null,{"$f":"IF(Data_PersoonAanUitVastVrij095=-1,\"v\",\"\")","v":""},null,"v",null,null,null,null,0,0,null,{"$f":"IF(Data_NaamPersoonVastOntslag095=\"\",\"\",Data_NaamPersoonVastOntslag095)","v":""},null,null,{"$f":"IF(Data_BeeindigingsdatumVastOntslag095=\"\",\"\",Data_BeeindigingsdatumVastOntslag095)","v":""},null,null,{"$f":"IF(Data_LoonkostenVastOntslag095=\"\",\"\",Data_LoonkostenVastOntslag095)","v":""},null,{"$f":"IF(Data_PersoonAanUitVastOntslag095=-1,\"v\",\"\")","v":""},null,"v",null,null,null,null,0,0]
[null,null,null,null,null,null,null,{"$f":"IF(Data_NaamPersoonNatVerloop096=\"\",\"\",Data_NaamPersoonNatVerloop096)","v":""},null,null,{"$f":"IF(Data_BeeindigingsdatumNatVerloop096=\"\",\"\",Data_BeeindigingsdatumNatVerloop096)","v":""},null,null,{"$f":"IF(Data_LoonkostenNatVerloop096=\"\",\"\",Data_LoonkostenNatVerloop096)","v":""},null,"v",null,"v",null,null,null,null,0,"",null,null,null,null,null,null,null,null,{"$f":"IF(Data_NaamPersoonTijd096=\"\",\"\",Data_NaamPersoonTijd096)","v":""},null,null,{"$f":"IF(Data_BeeindigingsdatumTijd096=\"\",\"\",Data_BeeindigingsdatumTijd096)","v":""},null,null,{"$f":"IF(Data_LoonkostenTijd096=\"\",\"\",Data_LoonkostenTijd096)","v":""},null,{"$f":"IF(Data_PersoonAanUitTijd096=-1,\"v\",\"\")","v":""},null,"v",null,null,null,null,0,0,null,null,null,{"$f":"IF(Data_NaamPersoonVastVrij096=\"\",\"\",Data_NaamPersoonVastVrij096)","v":""},null,null,{"$f":"IF(Data_BeeindigingsdatumVastVrij096=\"\",\"\",Data_BeeindigingsdatumVastVrij096)","v":""},null,null,{"$f":"IF(Data_LoonkostenVastVrij096=\"\",\"\",Data_LoonkostenVastVrij096)","v":""},null,{"$f":"IF(Data_PersoonAanUitVastVrij096=-1,\"v\",\"\")","v":""},null,"v",null,null,null,null,0,0,null,{"$f":"IF(Data_NaamPersoonVastOntslag096=\"\",\"\",Data_NaamPersoonVastOntslag096)","v":""},null,null,{"$f":"IF(Data_BeeindigingsdatumVastOntslag096=\"\",\"\",Data_BeeindigingsdatumVastOntslag096)","v":""},null,null,{"$f":"IF(Data_LoonkostenVastOntslag096=\"\",\"\",Data_LoonkostenVastOntslag096)","v":""},null,{"$f":"IF(Data_PersoonAanUitVastOntslag096=-1,\"v\",\"\")","v":""},null,"v",null,null,null,null,0,0]
[null,null,null,null,null,null,null,{"$f":"IF(Data_NaamPersoonNatVerloop097=\"\",\"\",Data_NaamPersoonNatVerloop097)","v":""},null,null,{"$f":"IF(Data_BeeindigingsdatumNatVerloop097=\"\",\"\",Data_BeeindigingsdatumNatVerloop097)","v":""},null,null,{"$f":"IF(Data_LoonkostenNatVerloop097=\"\",\"\",Data_LoonkostenNatVerloop097)","v":""},null,"v",null,"v",null,null,null,null,0,"",null,null,null,null,null,null,null,null,{"$f":"IF(Data_NaamPersoonTijd097=\"\",\"\",Data_NaamPersoonTijd097)","v":""},null,null,{"$f":"IF(Data_BeeindigingsdatumTijd097=\"\",\"\",Data_BeeindigingsdatumTijd097)","v":""},null,null,{"$f":"IF(Data_LoonkostenTijd097=\"\",\"\",Data_LoonkostenTijd097)","v":""},null,{"$f":"IF(Data_PersoonAanUitTijd097=-1,\"v\",\"\")","v":""},null,"v",null,null,null,null,0,0,null,null,null,{"$f":"IF(Data_NaamPersoonVastVrij097=\"\",\"\",Data_NaamPersoonVastVrij097)","v":""},null,null,{"$f":"IF(Data_BeeindigingsdatumVastVrij097=\"\",\"\",Data_BeeindigingsdatumVastVrij097)","v":""},null,null,{"$f":"IF(Data_LoonkostenVastVrij097=\"\",\"\",Data_LoonkostenVastVrij097)","v":""},null,{"$f":"IF(Data_PersoonAanUitVastVrij097=-1,\"v\",\"\")","v":""},null,"v",null,null,null,null,0,0,null,{"$f":"IF(Data_NaamPersoonVastOntslag097=\"\",\"\",Data_NaamPersoonVastOntslag097)","v":""},null,null,{"$f":"IF(Data_BeeindigingsdatumVastOntslag097=\"\",\"\",Data_BeeindigingsdatumVastOntslag097)","v":""},null,null,{"$f":"IF(Data_LoonkostenVastOntslag097=\"\",\"\",Data_LoonkostenVastOntslag097)","v":""},null,{"$f":"IF(Data_PersoonAanUitVastOntslag097=-1,\"v\",\"\")","v":""},null,"v",null,null,null,null,0,0]
[null,null,null,null,null,null,null,{"$f":"IF(Data_NaamPersoonNatVerloop098=\"\",\"\",Data_NaamPersoonNatVerloop098)","v":""},null,null,{"$f":"IF(Data_BeeindigingsdatumNatVerloop098=\"\",\"\",Data_BeeindigingsdatumNatVerloop098)","v":""},null,null,{"$f":"IF(Data_LoonkostenNatVerloop098=\"\",\"\",Data_LoonkostenNatVerloop098)","v":""},null,"v",null,"v",null,null,null,null,0,"",null,null,null,null,null,null,null,null,{"$f":"IF(Data_NaamPersoonTijd098=\"\",\"\",Data_NaamPersoonTijd098)","v":""},null,null,{"$f":"IF(Data_BeeindigingsdatumTijd098=\"\",\"\",Data_BeeindigingsdatumTijd098)","v":""},null,null,{"$f":"IF(Data_LoonkostenTijd098=\"\",\"\",Data_LoonkostenTijd098)","v":""},null,{"$f":"IF(Data_PersoonAanUitTijd098=-1,\"v\",\"\")","v":""},null,"v",null,null,null,null,0,0,null,null,null,{"$f":"IF(Data_NaamPersoonVastVrij098=\"\",\"\",Data_NaamPersoonVastVrij098)","v":""},null,null,{"$f":"IF(Data_BeeindigingsdatumVastVrij098=\"\",\"\",Data_BeeindigingsdatumVastVrij098)","v":""},null,null,{"$f":"IF(Data_LoonkostenVastVrij098=\"\",\"\",Data_LoonkostenVastVrij098)","v":""},null,{"$f":"IF(Data_PersoonAanUitVastVrij098=-1,\"v\",\"\")","v":""},null,"v",null,null,null,null,0,0,null,{"$f":"IF(Data_NaamPersoonVastOntslag098=\"\",\"\",Data_NaamPersoonVastOntslag098)","v":""},null,null,{"$f":"IF(Data_BeeindigingsdatumVastOntslag098=\"\",\"\",Data_BeeindigingsdatumVastOntslag098)","v":""},null,null,{"$f":"IF(Data_LoonkostenVastOntslag098=\"\",\"\",Data_LoonkostenVastOntslag098)","v":""},null,{"$f":"IF(Data_PersoonAanUitVastOntslag098=-1,\"v\",\"\")","v":""},null,"v",null,null,null,null,0,0]
[null,null,null,null,null,null,null,{"$f":"IF(Data_NaamPersoonNatVerloop099=\"\",\"\",Data_NaamPersoonNatVerloop099)","v":""},null,null,{"$f":"IF(Data_BeeindigingsdatumNatVerloop099=\"\",\"\",Data_BeeindigingsdatumNatVerloop099)","v":""},null,null,{"$f":"IF(Data_LoonkostenNatVerloop099=\"\",\"\",Data_LoonkostenNatVerloop099)","v":""},null,"v",null,"v",null,null,null,null,0,"",null,null,null,null,null,null,null,null,{"$f":"IF(Data_NaamPersoonTijd099=\"\",\"\",Data_NaamPersoonTijd099)","v":""},null,null,{"$f":"IF(Data_BeeindigingsdatumTijd099=\"\",\"\",Data_BeeindigingsdatumTijd099)","v":""},null,null,{"$f":"IF(Data_LoonkostenTijd099=\"\",\"\",Data_LoonkostenTijd099)","v":""},null,{"$f":"IF(Data_PersoonAanUitTijd099=-1,\"v\",\"\")","v":""},null,"v",null,null,null,null,0,0,null,null,null,{"$f":"IF(Data_NaamPersoonVastVrij099=\"\",\"\",Data_NaamPersoonVastVrij099)","v":""},null,null,{"$f":"IF(Data_BeeindigingsdatumVastVrij099=\"\",\"\",Data_BeeindigingsdatumVastVrij099)","v":""},null,null,{"$f":"IF(Data_LoonkostenVastVrij099=\"\",\"\",Data_LoonkostenVastVrij099)","v":""},null,{"$f":"IF(Data_PersoonAanUitVastVrij099=-1,\"v\",\"\")","v":""},null,"v",null,null,null,null,0,0,null,{"$f":"IF(Data_NaamPersoonVastOntslag099=\"\",\"\",Data_NaamPersoonVastOntslag099)","v":""},null,null,{"$f":"IF(Data_BeeindigingsdatumVastOntslag099=\"\",\"\",Data_BeeindigingsdatumVastOntslag099)","v":""},null,null,{"$f":"IF(Data_LoonkostenVastOntslag099=\"\",\"\",Data_LoonkostenVastOntslag099)","v":""},null,{"$f":"IF(Data_PersoonAanUitVastOntslag099=-1,\"v\",\"\")","v":""},null,"v",null,null,null,null,0,0]
[null,null,null,null,null,null,null,{"$f":"IF(Data_NaamPersoonNatVerloop100=\"\",\"\",Data_NaamPersoonNatVerloop100)","v":""},null,null,{"$f":"IF(Data_BeeindigingsdatumNatVerloop100=\"\",\"\",Data_BeeindigingsdatumNatVerloop100)","v":""},null,null,{"$f":"IF(Data_LoonkostenNatVerloop100=\"\",\"\",Data_LoonkostenNatVerloop100)","v":""},null,"v",null,"v",null,null,null,null,0,"",null,null,null,null,null,null,null,null,{"$f":"IF(Data_NaamPersoonTijd100=\"\",\"\",Data_NaamPersoonTijd100)","v":""},null,null,{"$f":"IF(Data_BeeindigingsdatumTijd100=\"\",\"\",Data_BeeindigingsdatumTijd100)","v":""},null,null,{"$f":"IF(Data_LoonkostenTijd100=\"\",\"\",Data_LoonkostenTijd100)","v":""},null,{"$f":"IF(Data_PersoonAanUitTijd100=-1,\"v\",\"\")","v":""},null,"v",null,null,null,null,0,0,null,null,null,{"$f":"IF(Data_NaamPersoonVastVrij100=\"\",\"\",Data_NaamPersoonVastVrij100)","v":""},null,null,{"$f":"IF(Data_BeeindigingsdatumVastVrij100=\"\",\"\",Data_BeeindigingsdatumVastVrij100)","v":""},null,null,{"$f":"IF(Data_LoonkostenVastVrij100=\"\",\"\",Data_LoonkostenVastVrij100)","v":""},null,{"$f":"IF(Data_PersoonAanUitVastVrij100=-1,\"v\",\"\")","v":""},null,"v",null,null,null,null,0,0,null,{"$f":"IF(Data_NaamPersoonVastOntslag100=\"\",\"\",Data_NaamPersoonVastOntslag100)","v":""},null,null,{"$f":"IF(Data_BeeindigingsdatumVastOntslag100=\"\",\"\",Data_BeeindigingsdatumVastOntslag100)","v":""},null,null,{"$f":"IF(Data_LoonkostenVastOntslag100=\"\",\"\",Data_LoonkostenVastOntslag100)","v":""},null,{"$f":"IF(Data_PersoonAanUitVastOntslag100=-1,\"v\",\"\")","v":""},null,"v",null,null,null,null,0,0]
[null,null,null,null,null,null,null,{"$f":"IF(Data_NaamPersoonNatVerloop101=\"\",\"\",Data_NaamPersoonNatVerloop101)","v":""},null,null,{"$f":"IF(Data_BeeindigingsdatumNatVerloop101=\"\",\"\",Data_BeeindigingsdatumNatVerloop101)","v":""},null,null,{"$f":"IF(Data_LoonkostenNatVerloop101=\"\",\"\",Data_LoonkostenNatVerloop101)","v":""},null,"v",null,"v",null,null,null,null,0,"",null,null,null,null,null,null,null,null,{"$f":"IF(Data_NaamPersoonTijd101=\"\",\"\",Data_NaamPersoonTijd101)","v":""},null,null,{"$f":"IF(Data_BeeindigingsdatumTijd101=\"\",\"\",Data_BeeindigingsdatumTijd101)","v":""},null,null,{"$f":"IF(Data_LoonkostenTijd101=\"\",\"\",Data_LoonkostenTijd101)","v":""},null,{"$f":"IF(Data_PersoonAanUitTijd101=-1,\"v\",\"\")","v":""},null,"v",null,null,null,null,0,0,null,null,null,{"$f":"IF(Data_NaamPersoonVastVrij101=\"\",\"\",Data_NaamPersoonVastVrij101)","v":""},null,null,{"$f":"IF(Data_BeeindigingsdatumVastVrij101=\"\",\"\",Data_BeeindigingsdatumVastVrij101)","v":""},null,null,{"$f":"IF(Data_LoonkostenVastVrij101=\"\",\"\",Data_LoonkostenVastVrij101)","v":""},null,{"$f":"IF(Data_PersoonAanUitVastVrij101=-1,\"v\",\"\")","v":""},null,"v",null,null,null,null,0,0,null,{"$f":"IF(Data_NaamPersoonVastOntslag101=\"\",\"\",Data_NaamPersoonVastOntslag101)","v":""},null,null,{"$f":"IF(Data_BeeindigingsdatumVastOntslag101=\"\",\"\",Data_BeeindigingsdatumVastOntslag101)","v":""},null,null,{"$f":"IF(Data_LoonkostenVastOntslag101=\"\",\"\",Data_LoonkostenVastOntslag101)","v":""},null,{"$f":"IF(Data_PersoonAanUitVastOntslag101=-1,\"v\",\"\")","v":""},null,"v",null,null,null,null,0,0]
[null,null,null,null,null,null,null,{"$f":"IF(Data_NaamPersoonNatVerloop102=\"\",\"\",Data_NaamPersoonNatVerloop102)","v":""},null,null,{"$f":"IF(Data_BeeindigingsdatumNatVerloop102=\"\",\"\",Data_BeeindigingsdatumNatVerloop102)","v":""},null,null,{"$f":"IF(Data_LoonkostenNatVerloop102=\"\",\"\",Data_LoonkostenNatVerloop102)","v":""},null,"v",null,"v",null,null,null,null,0,"",null,null,null,null,null,null,null,null,{"$f":"IF(Data_NaamPersoonTijd102=\"\",\"\",Data_NaamPersoonTijd102)","v":""},null,null,{"$f":"IF(Data_BeeindigingsdatumTijd102=\"\",\"\",Data_BeeindigingsdatumTijd102)","v":""},null,null,{"$f":"IF(Data_LoonkostenTijd102=\"\",\"\",Data_LoonkostenTijd102)","v":""},null,{"$f":"IF(Data_PersoonAanUitTijd102=-1,\"v\",\"\")","v":""},null,"v",null,null,null,null,0,0,null,null,null,{"$f":"IF(Data_NaamPersoonVastVrij102=\"\",\"\",Data_NaamPersoonVastVrij102)","v":""},null,null,{"$f":"IF(Data_BeeindigingsdatumVastVrij102=\"\",\"\",Data_BeeindigingsdatumVastVrij102)","v":""},null,null,{"$f":"IF(Data_LoonkostenVastVrij102=\"\",\"\",Data_LoonkostenVastVrij102)","v":""},null,{"$f":"IF(Data_PersoonAanUitVastVrij102=-1,\"v\",\"\")","v":""},null,"v",null,null,null,null,0,0,null,{"$f":"IF(Data_NaamPersoonVastOntslag102=\"\",\"\",Data_NaamPersoonVastOntslag102)","v":""},null,null,{"$f":"IF(Data_BeeindigingsdatumVastOntslag102=\"\",\"\",Data_BeeindigingsdatumVastOntslag102)","v":""},null,null,{"$f":"IF(Data_LoonkostenVastOntslag102=\"\",\"\",Data_LoonkostenVastOntslag102)","v":""},null,{"$f":"IF(Data_PersoonAanUitVastOntslag102=-1,\"v\",\"\")","v":""},null,"v",null,null,null,null,0,0]
[null,null,null,null,null,null,null,{"$f":"IF(Data_NaamPersoonNatVerloop103=\"\",\"\",Data_NaamPersoonNatVerloop103)","v":""},null,null,{"$f":"IF(Data_BeeindigingsdatumNatVerloop103=\"\",\"\",Data_BeeindigingsdatumNatVerloop103)","v":""},null,null,{"$f":"IF(Data_LoonkostenNatVerloop103=\"\",\"\",Data_LoonkostenNatVerloop103)","v":""},null,"v",null,"v",null,null,null,null,0,"",null,null,null,null,null,null,null,null,{"$f":"IF(Data_NaamPersoonTijd103=\"\",\"\",Data_NaamPersoonTijd103)","v":""},null,null,{"$f":"IF(Data_BeeindigingsdatumTijd103=\"\",\"\",Data_BeeindigingsdatumTijd103)","v":""},null,null,{"$f":"IF(Data_LoonkostenTijd103=\"\",\"\",Data_LoonkostenTijd103)","v":""},null,{"$f":"IF(Data_PersoonAanUitTijd103=-1,\"v\",\"\")","v":""},null,"v",null,null,null,null,0,0,null,null,null,{"$f":"IF(Data_NaamPersoonVastVrij103=\"\",\"\",Data_NaamPersoonVastVrij103)","v":""},null,null,{"$f":"IF(Data_BeeindigingsdatumVastVrij103=\"\",\"\",Data_BeeindigingsdatumVastVrij103)","v":""},null,null,{"$f":"IF(Data_LoonkostenVastVrij103=\"\",\"\",Data_LoonkostenVastVrij103)","v":""},null,{"$f":"IF(Data_PersoonAanUitVastVrij103=-1,\"v\",\"\")","v":""},null,"v",null,null,null,null,0,0,null,{"$f":"IF(Data_NaamPersoonVastOntslag103=\"\",\"\",Data_NaamPersoonVastOntslag103)","v":""},null,null,{"$f":"IF(Data_BeeindigingsdatumVastOntslag103=\"\",\"\",Data_BeeindigingsdatumVastOntslag103)","v":""},null,null,{"$f":"IF(Data_LoonkostenVastOntslag103=\"\",\"\",Data_LoonkostenVastOntslag103)","v":""},null,{"$f":"IF(Data_PersoonAanUitVastOntslag103=-1,\"v\",\"\")","v":""},null,"v",null,null,null,null,0,0]
[null,null,null,null,null,null,null,{"$f":"IF(Data_NaamPersoonNatVerloop104=\"\",\"\",Data_NaamPersoonNatVerloop104)","v":""},null,null,{"$f":"IF(Data_BeeindigingsdatumNatVerloop104=\"\",\"\",Data_BeeindigingsdatumNatVerloop104)","v":""},null,null,{"$f":"IF(Data_LoonkostenNatVerloop104=\"\",\"\",Data_LoonkostenNatVerloop104)","v":""},null,"v",null,"v",null,null,null,null,0,"",null,null,null,null,null,null,null,null,{"$f":"IF(Data_NaamPersoonTijd104=\"\",\"\",Data_NaamPersoonTijd104)","v":""},null,null,{"$f":"IF(Data_BeeindigingsdatumTijd104=\"\",\"\",Data_BeeindigingsdatumTijd104)","v":""},null,null,{"$f":"IF(Data_LoonkostenTijd104=\"\",\"\",Data_LoonkostenTijd104)","v":""},null,{"$f":"IF(Data_PersoonAanUitTijd104=-1,\"v\",\"\")","v":""},null,"v",null,null,null,null,0,0,null,null,null,{"$f":"IF(Data_NaamPersoonVastVrij104=\"\",\"\",Data_NaamPersoonVastVrij104)","v":""},null,null,{"$f":"IF(Data_BeeindigingsdatumVastVrij104=\"\",\"\",Data_BeeindigingsdatumVastVrij104)","v":""},null,null,{"$f":"IF(Data_LoonkostenVastVrij104=\"\",\"\",Data_LoonkostenVastVrij104)","v":""},null,{"$f":"IF(Data_PersoonAanUitVastVrij104=-1,\"v\",\"\")","v":""},null,"v",null,null,null,null,0,0,null,{"$f":"IF(Data_NaamPersoonVastOntslag104=\"\",\"\",Data_NaamPersoonVastOntslag104)","v":""},null,null,{"$f":"IF(Data_BeeindigingsdatumVastOntslag104=\"\",\"\",Data_BeeindigingsdatumVastOntslag104)","v":""},null,null,{"$f":"IF(Data_LoonkostenVastOntslag104=\"\",\"\",Data_LoonkostenVastOntslag104)","v":""},null,{"$f":"IF(Data_PersoonAanUitVastOntslag104=-1,\"v\",\"\")","v":""},null,"v",null,null,null,null,0,0]
[null,null,null,null,null,null,null,{"$f":"IF(Data_NaamPersoonNatVerloop105=\"\",\"\",Data_NaamPersoonNatVerloop105)","v":""},null,null,{"$f":"IF(Data_BeeindigingsdatumNatVerloop105=\"\",\"\",Data_BeeindigingsdatumNatVerloop105)","v":""},null,null,{"$f":"IF(Data_LoonkostenNatVerloop105=\"\",\"\",Data_LoonkostenNatVerloop105)","v":""},null,"v",null,"v",null,null,null,null,0,"",null,null,null,null,null,null,null,null,{"$f":"IF(Data_NaamPersoonTijd105=\"\",\"\",Data_NaamPersoonTijd105)","v":""},null,null,{"$f":"IF(Data_BeeindigingsdatumTijd105=\"\",\"\",Data_BeeindigingsdatumTijd105)","v":""},null,null,{"$f":"IF(Data_LoonkostenTijd105=\"\",\"\",Data_LoonkostenTijd105)","v":""},null,{"$f":"IF(Data_PersoonAanUitTijd105=-1,\"v\",\"\")","v":""},null,"v",null,null,null,null,0,0,null,null,null,{"$f":"IF(Data_NaamPersoonVastVrij105=\"\",\"\",Data_NaamPersoonVastVrij105)","v":""},null,null,{"$f":"IF(Data_BeeindigingsdatumVastVrij105=\"\",\"\",Data_BeeindigingsdatumVastVrij105)","v":""},null,null,{"$f":"IF(Data_LoonkostenVastVrij105=\"\",\"\",Data_LoonkostenVastVrij105)","v":""},null,{"$f":"IF(Data_PersoonAanUitVastVrij105=-1,\"v\",\"\")","v":""},null,"v",null,null,null,null,0,0,null,{"$f":"IF(Data_NaamPersoonVastOntslag105=\"\",\"\",Data_NaamPersoonVastOntslag105)","v":""},null,null,{"$f":"IF(Data_BeeindigingsdatumVastOntslag105=\"\",\"\",Data_BeeindigingsdatumVastOntslag105)","v":""},null,null,{"$f":"IF(Data_LoonkostenVastOntslag105=\"\",\"\",Data_LoonkostenVastOntslag105)","v":""},null,{"$f":"IF(Data_PersoonAanUitVastOntslag105=-1,\"v\",\"\")","v":""},null,"v",null,null,null,null,0,0]
[null,null,null,null,null,null,null,{"$f":"IF(Data_NaamPersoonNatVerloop106=\"\",\"\",Data_NaamPersoonNatVerloop106)","v":""},null,null,{"$f":"IF(Data_BeeindigingsdatumNatVerloop106=\"\",\"\",Data_BeeindigingsdatumNatVerloop106)","v":""},null,null,{"$f":"IF(Data_LoonkostenNatVerloop106=\"\",\"\",Data_LoonkostenNatVerloop106)","v":""},null,"v",null,"v",null,null,null,null,0,"",null,null,null,null,null,null,null,null,{"$f":"IF(Data_NaamPersoonTijd106=\"\",\"\",Data_NaamPersoonTijd106)","v":""},null,null,{"$f":"IF(Data_BeeindigingsdatumTijd106=\"\",\"\",Data_BeeindigingsdatumTijd106)","v":""},null,null,{"$f":"IF(Data_LoonkostenTijd106=\"\",\"\",Data_LoonkostenTijd106)","v":""},null,{"$f":"IF(Data_PersoonAanUitTijd106=-1,\"v\",\"\")","v":""},null,"v",null,null,null,null,0,0,null,null,null,{"$f":"IF(Data_NaamPersoonVastVrij106=\"\",\"\",Data_NaamPersoonVastVrij106)","v":""},null,null,{"$f":"IF(Data_BeeindigingsdatumVastVrij106=\"\",\"\",Data_BeeindigingsdatumVastVrij106)","v":""},null,null,{"$f":"IF(Data_LoonkostenVastVrij106=\"\",\"\",Data_LoonkostenVastVrij106)","v":""},null,{"$f":"IF(Data_PersoonAanUitVastVrij106=-1,\"v\",\"\")","v":""},null,"v",null,null,null,null,0,0,null,{"$f":"IF(Data_NaamPersoonVastOntslag106=\"\",\"\",Data_NaamPersoonVastOntslag106)","v":""},null,null,{"$f":"IF(Data_BeeindigingsdatumVastOntslag106=\"\",\"\",Data_BeeindigingsdatumVastOntslag106)","v":""},null,null,{"$f":"IF(Data_LoonkostenVastOntslag106=\"\",\"\",Data_LoonkostenVastOntslag106)","v":""},null,{"$f":"IF(Data_PersoonAanUitVastOntslag106=-1,\"v\",\"\")","v":""},null,"v",null,null,null,null,0,0]
[null,null,null,null,null,null,null,{"$f":"IF(Data_NaamPersoonNatVerloop107=\"\",\"\",Data_NaamPersoonNatVerloop107)","v":""},null,null,{"$f":"IF(Data_BeeindigingsdatumNatVerloop107=\"\",\"\",Data_BeeindigingsdatumNatVerloop107)","v":""},null,null,{"$f":"IF(Data_LoonkostenNatVerloop107=\"\",\"\",Data_LoonkostenNatVerloop107)","v":""},null,"v",null,"v",null,null,null,null,0,"",null,null,null,null,null,null,null,null,{"$f":"IF(Data_NaamPersoonTijd107=\"\",\"\",Data_NaamPersoonTijd107)","v":""},null,null,{"$f":"IF(Data_BeeindigingsdatumTijd107=\"\",\"\",Data_BeeindigingsdatumTijd107)","v":""},null,null,{"$f":"IF(Data_LoonkostenTijd107=\"\",\"\",Data_LoonkostenTijd107)","v":""},null,{"$f":"IF(Data_PersoonAanUitTijd107=-1,\"v\",\"\")","v":""},null,"v",null,null,null,null,0,0,null,null,null,{"$f":"IF(Data_NaamPersoonVastVrij107=\"\",\"\",Data_NaamPersoonVastVrij107)","v":""},null,null,{"$f":"IF(Data_BeeindigingsdatumVastVrij107=\"\",\"\",Data_BeeindigingsdatumVastVrij107)","v":""},null,null,{"$f":"IF(Data_LoonkostenVastVrij107=\"\",\"\",Data_LoonkostenVastVrij107)","v":""},null,{"$f":"IF(Data_PersoonAanUitVastVrij107=-1,\"v\",\"\")","v":""},null,"v",null,null,null,null,0,0,null,{"$f":"IF(Data_NaamPersoonVastOntslag107=\"\",\"\",Data_NaamPersoonVastOntslag107)","v":""},null,null,{"$f":"IF(Data_BeeindigingsdatumVastOntslag107=\"\",\"\",Data_BeeindigingsdatumVastOntslag107)","v":""},null,null,{"$f":"IF(Data_LoonkostenVastOntslag107=\"\",\"\",Data_LoonkostenVastOntslag107)","v":""},null,{"$f":"IF(Data_PersoonAanUitVastOntslag107=-1,\"v\",\"\")","v":""},null,"v",null,null,null,null,0,0]
[null,null,null,null,null,null,null,{"$f":"IF(Data_NaamPersoonNatVerloop108=\"\",\"\",Data_NaamPersoonNatVerloop108)","v":""},null,null,{"$f":"IF(Data_BeeindigingsdatumNatVerloop108=\"\",\"\",Data_BeeindigingsdatumNatVerloop108)","v":""},null,null,{"$f":"IF(Data_LoonkostenNatVerloop108=\"\",\"\",Data_LoonkostenNatVerloop108)","v":""},null,"v",null,"v",null,null,null,null,0,"",null,null,null,null,null,null,null,null,{"$f":"IF(Data_NaamPersoonTijd108=\"\",\"\",Data_NaamPersoonTijd108)","v":""},null,null,{"$f":"IF(Data_BeeindigingsdatumTijd108=\"\",\"\",Data_BeeindigingsdatumTijd108)","v":""},null,null,{"$f":"IF(Data_LoonkostenTijd108=\"\",\"\",Data_LoonkostenTijd108)","v":""},null,{"$f":"IF(Data_PersoonAanUitTijd108=-1,\"v\",\"\")","v":""},null,"v",null,null,null,null,0,0,null,null,null,{"$f":"IF(Data_NaamPersoonVastVrij108=\"\",\"\",Data_NaamPersoonVastVrij108)","v":""},null,null,{"$f":"IF(Data_BeeindigingsdatumVastVrij108=\"\",\"\",Data_BeeindigingsdatumVastVrij108)","v":""},null,null,{"$f":"IF(Data_LoonkostenVastVrij108=\"\",\"\",Data_LoonkostenVastVrij108)","v":""},null,{"$f":"IF(Data_PersoonAanUitVastVrij108=-1,\"v\",\"\")","v":""},null,"v",null,null,null,null,0,0,null,{"$f":"IF(Data_NaamPersoonVastOntslag108=\"\",\"\",Data_NaamPersoonVastOntslag108)","v":""},null,null,{"$f":"IF(Data_BeeindigingsdatumVastOntslag108=\"\",\"\",Data_BeeindigingsdatumVastOntslag108)","v":""},null,null,{"$f":"IF(Data_LoonkostenVastOntslag108=\"\",\"\",Data_LoonkostenVastOntslag108)","v":""},null,{"$f":"IF(Data_PersoonAanUitVastOntslag108=-1,\"v\",\"\")","v":""},null,"v",null,null,null,null,0,0]
[null,null,null,null,null,null,null,{"$f":"IF(Data_NaamPersoonNatVerloop109=\"\",\"\",Data_NaamPersoonNatVerloop109)","v":""},null,null,{"$f":"IF(Data_BeeindigingsdatumNatVerloop109=\"\",\"\",Data_BeeindigingsdatumNatVerloop109)","v":""},null,null,{"$f":"IF(Data_LoonkostenNatVerloop109=\"\",\"\",Data_LoonkostenNatVerloop109)","v":""},null,"v",null,"v",null,null,null,null,0,"",null,null,null,null,null,null,null,null,{"$f":"IF(Data_NaamPersoonTijd109=\"\",\"\",Data_NaamPersoonTijd109)","v":""},null,null,{"$f":"IF(Data_BeeindigingsdatumTijd109=\"\",\"\",Data_BeeindigingsdatumTijd109)","v":""},null,null,{"$f":"IF(Data_LoonkostenTijd109=\"\",\"\",Data_LoonkostenTijd109)","v":""},null,{"$f":"IF(Data_PersoonAanUitTijd109=-1,\"v\",\"\")","v":""},null,"v",null,null,null,null,0,0,null,null,null,{"$f":"IF(Data_NaamPersoonVastVrij109=\"\",\"\",Data_NaamPersoonVastVrij109)","v":""},null,null,{"$f":"IF(Data_BeeindigingsdatumVastVrij109=\"\",\"\",Data_BeeindigingsdatumVastVrij109)","v":""},null,null,{"$f":"IF(Data_LoonkostenVastVrij109=\"\",\"\",Data_LoonkostenVastVrij109)","v":""},null,{"$f":"IF(Data_PersoonAanUitVastVrij109=-1,\"v\",\"\")","v":""},null,"v",null,null,null,null,0,0,null,{"$f":"IF(Data_NaamPersoonVastOntslag109=\"\",\"\",Data_NaamPersoonVastOntslag109)","v":""},null,null,{"$f":"IF(Data_BeeindigingsdatumVastOntslag109=\"\",\"\",Data_BeeindigingsdatumVastOntslag109)","v":""},null,null,{"$f":"IF(Data_LoonkostenVastOntslag109=\"\",\"\",Data_LoonkostenVastOntslag109)","v":""},null,{"$f":"IF(Data_PersoonAanUitVastOntslag109=-1,\"v\",\"\")","v":""},null,"v",null,null,null,null,0,0]
[null,null,null,null,null,null,null,{"$f":"IF(Data_NaamPersoonNatVerloop110=\"\",\"\",Data_NaamPersoonNatVerloop110)","v":""},null,null,{"$f":"IF(Data_BeeindigingsdatumNatVerloop110=\"\",\"\",Data_BeeindigingsdatumNatVerloop110)","v":""},null,null,{"$f":"IF(Data_LoonkostenNatVerloop110=\"\",\"\",Data_LoonkostenNatVerloop110)","v":""},null,"v",null,"v",null,null,null,null,0,"",null,null,null,null,null,null,null,null,{"$f":"IF(Data_NaamPersoonTijd110=\"\",\"\",Data_NaamPersoonTijd110)","v":""},null,null,{"$f":"IF(Data_BeeindigingsdatumTijd110=\"\",\"\",Data_BeeindigingsdatumTijd110)","v":""},null,null,{"$f":"IF(Data_LoonkostenTijd110=\"\",\"\",Data_LoonkostenTijd110)","v":""},null,{"$f":"IF(Data_PersoonAanUitTijd110=-1,\"v\",\"\")","v":""},null,"v",null,null,null,null,0,0,null,null,null,{"$f":"IF(Data_NaamPersoonVastVrij110=\"\",\"\",Data_NaamPersoonVastVrij110)","v":""},null,null,{"$f":"IF(Data_BeeindigingsdatumVastVrij110=\"\",\"\",Data_BeeindigingsdatumVastVrij110)","v":""},null,null,{"$f":"IF(Data_LoonkostenVastVrij110=\"\",\"\",Data_LoonkostenVastVrij110)","v":""},null,{"$f":"IF(Data_PersoonAanUitVastVrij110=-1,\"v\",\"\")","v":""},null,"v",null,null,null,null,0,0,null,{"$f":"IF(Data_NaamPersoonVastOntslag110=\"\",\"\",Data_NaamPersoonVastOntslag110)","v":""},null,null,{"$f":"IF(Data_BeeindigingsdatumVastOntslag110=\"\",\"\",Data_BeeindigingsdatumVastOntslag110)","v":""},null,null,{"$f":"IF(Data_LoonkostenVastOntslag110=\"\",\"\",Data_LoonkostenVastOntslag110)","v":""},null,{"$f":"IF(Data_PersoonAanUitVastOntslag110=-1,\"v\",\"\")","v":""},null,"v",null,null,null,null,0,0]
[null,null,null,null,null,null,null,{"$f":"IF(Data_NaamPersoonNatVerloop111=\"\",\"\",Data_NaamPersoonNatVerloop111)","v":""},null,null,{"$f":"IF(Data_BeeindigingsdatumNatVerloop111=\"\",\"\",Data_BeeindigingsdatumNatVerloop111)","v":""},null,null,{"$f":"IF(Data_LoonkostenNatVerloop111=\"\",\"\",Data_LoonkostenNatVerloop111)","v":""},null,"v",null,"v",null,null,null,null,0,"",null,null,null,null,null,null,null,null,{"$f":"IF(Data_NaamPersoonTijd111=\"\",\"\",Data_NaamPersoonTijd111)","v":""},null,null,{"$f":"IF(Data_BeeindigingsdatumTijd111=\"\",\"\",Data_BeeindigingsdatumTijd111)","v":""},null,null,{"$f":"IF(Data_LoonkostenTijd111=\"\",\"\",Data_LoonkostenTijd111)","v":""},null,{"$f":"IF(Data_PersoonAanUitTijd111=-1,\"v\",\"\")","v":""},null,"v",null,null,null,null,0,0,null,null,null,{"$f":"IF(Data_NaamPersoonVastVrij111=\"\",\"\",Data_NaamPersoonVastVrij111)","v":""},null,null,{"$f":"IF(Data_BeeindigingsdatumVastVrij111=\"\",\"\",Data_BeeindigingsdatumVastVrij111)","v":""},null,null,{"$f":"IF(Data_LoonkostenVastVrij111=\"\",\"\",Data_LoonkostenVastVrij111)","v":""},null,{"$f":"IF(Data_PersoonAanUitVastVrij111=-1,\"v\",\"\")","v":""},null,"v",null,null,null,null,0,0,null,{"$f":"IF(Data_NaamPersoonVastOntslag111=\"\",\"\",Data_NaamPersoonVastOntslag111)","v":""},null,null,{"$f":"IF(Data_BeeindigingsdatumVastOntslag111=\"\",\"\",Data_BeeindigingsdatumVastOntslag111)","v":""},null,null,{"$f":"IF(Data_LoonkostenVastOntslag111=\"\",\"\",Data_LoonkostenVastOntslag111)","v":""},null,{"$f":"IF(Data_PersoonAanUitVastOntslag111=-1,\"v\",\"\")","v":""},null,"v",null,null,null,null,0,0]
[null,null,null,null,null,null,null,{"$f":"IF(Data_NaamPersoonNatVerloop112=\"\",\"\",Data_NaamPersoonNatVerloop112)","v":""},null,null,{"$f":"IF(Data_BeeindigingsdatumNatVerloop112=\"\",\"\",Data_BeeindigingsdatumNatVerloop112)","v":""},null,null,{"$f":"IF(Data_LoonkostenNatVerloop112=\"\",\"\",Data_LoonkostenNatVerloop112)","v":""},null,"v",null,"v",null,null,null,null,0,"",null,null,null,null,null,null,null,null,{"$f":"IF(Data_NaamPersoonTijd112=\"\",\"\",Data_NaamPersoonTijd112)","v":""},null,null,{"$f":"IF(Data_BeeindigingsdatumTijd112=\"\",\"\",Data_BeeindigingsdatumTijd112)","v":""},null,null,{"$f":"IF(Data_LoonkostenTijd112=\"\",\"\",Data_LoonkostenTijd112)","v":""},null,{"$f":"IF(Data_PersoonAanUitTijd112=-1,\"v\",\"\")","v":""},null,"v",null,null,null,null,0,0,null,null,null,{"$f":"IF(Data_NaamPersoonVastVrij112=\"\",\"\",Data_NaamPersoonVastVrij112)","v":""},null,null,{"$f":"IF(Data_BeeindigingsdatumVastVrij112=\"\",\"\",Data_BeeindigingsdatumVastVrij112)","v":""},null,null,{"$f":"IF(Data_LoonkostenVastVrij112=\"\",\"\",Data_LoonkostenVastVrij112)","v":""},null,{"$f":"IF(Data_PersoonAanUitVastVrij112=-1,\"v\",\"\")","v":""},null,"v",null,null,null,null,0,0,null,{"$f":"IF(Data_NaamPersoonVastOntslag112=\"\",\"\",Data_NaamPersoonVastOntslag112)","v":""},null,null,{"$f":"IF(Data_BeeindigingsdatumVastOntslag112=\"\",\"\",Data_BeeindigingsdatumVastOntslag112)","v":""},null,null,{"$f":"IF(Data_LoonkostenVastOntslag112=\"\",\"\",Data_LoonkostenVastOntslag112)","v":""},null,{"$f":"IF(Data_PersoonAanUitVastOntslag112=-1,\"v\",\"\")","v":""},null,"v",null,null,null,null,0,0]
[null,null,null,null,null,null,null,{"$f":"IF(Data_NaamPersoonNatVerloop113=\"\",\"\",Data_NaamPersoonNatVerloop113)","v":""},null,null,{"$f":"IF(Data_BeeindigingsdatumNatVerloop113=\"\",\"\",Data_BeeindigingsdatumNatVerloop113)","v":""},null,null,{"$f":"IF(Data_LoonkostenNatVerloop113=\"\",\"\",Data_LoonkostenNatVerloop113)","v":""},null,"v",null,"v",null,null,null,null,0,"",null,null,null,null,null,null,null,null,{"$f":"IF(Data_NaamPersoonTijd113=\"\",\"\",Data_NaamPersoonTijd113)","v":""},null,null,{"$f":"IF(Data_BeeindigingsdatumTijd113=\"\",\"\",Data_BeeindigingsdatumTijd113)","v":""},null,null,{"$f":"IF(Data_LoonkostenTijd113=\"\",\"\",Data_LoonkostenTijd113)","v":""},null,{"$f":"IF(Data_PersoonAanUitTijd113=-1,\"v\",\"\")","v":""},null,"v",null,null,null,null,0,0,null,null,null,{"$f":"IF(Data_NaamPersoonVastVrij113=\"\",\"\",Data_NaamPersoonVastVrij113)","v":""},null,null,{"$f":"IF(Data_BeeindigingsdatumVastVrij113=\"\",\"\",Data_BeeindigingsdatumVastVrij113)","v":""},null,null,{"$f":"IF(Data_LoonkostenVastVrij113=\"\",\"\",Data_LoonkostenVastVrij113)","v":""},null,{"$f":"IF(Data_PersoonAanUitVastVrij113=-1,\"v\",\"\")","v":""},null,"v",null,null,null,null,0,0,null,{"$f":"IF(Data_NaamPersoonVastOntslag113=\"\",\"\",Data_NaamPersoonVastOntslag113)","v":""},null,null,{"$f":"IF(Data_BeeindigingsdatumVastOntslag113=\"\",\"\",Data_BeeindigingsdatumVastOntslag113)","v":""},null,null,{"$f":"IF(Data_LoonkostenVastOntslag113=\"\",\"\",Data_LoonkostenVastOntslag113)","v":""},null,{"$f":"IF(Data_PersoonAanUitVastOntslag113=-1,\"v\",\"\")","v":""},null,"v",null,null,null,null,0,0]
[null,null,null,null,null,null,null,{"$f":"IF(Data_NaamPersoonNatVerloop114=\"\",\"\",Data_NaamPersoonNatVerloop114)","v":""},null,null,{"$f":"IF(Data_BeeindigingsdatumNatVerloop114=\"\",\"\",Data_BeeindigingsdatumNatVerloop114)","v":""},null,null,{"$f":"IF(Data_LoonkostenNatVerloop114=\"\",\"\",Data_LoonkostenNatVerloop114)","v":""},null,"v",null,"v",null,null,null,null,0,"",null,null,null,null,null,null,null,null,{"$f":"IF(Data_NaamPersoonTijd114=\"\",\"\",Data_NaamPersoonTijd114)","v":""},null,null,{"$f":"IF(Data_BeeindigingsdatumTijd114=\"\",\"\",Data_BeeindigingsdatumTijd114)","v":""},null,null,{"$f":"IF(Data_LoonkostenTijd114=\"\",\"\",Data_LoonkostenTijd114)","v":""},null,{"$f":"IF(Data_PersoonAanUitTijd114=-1,\"v\",\"\")","v":""},null,"v",null,null,null,null,0,0,null,null,null,{"$f":"IF(Data_NaamPersoonVastVrij114=\"\",\"\",Data_NaamPersoonVastVrij114)","v":""},null,null,{"$f":"IF(Data_BeeindigingsdatumVastVrij114=\"\",\"\",Data_BeeindigingsdatumVastVrij114)","v":""},null,null,{"$f":"IF(Data_LoonkostenVastVrij114=\"\",\"\",Data_LoonkostenVastVrij114)","v":""},null,{"$f":"IF(Data_PersoonAanUitVastVrij114=-1,\"v\",\"\")","v":""},null,"v",null,null,null,null,0,0,null,{"$f":"IF(Data_NaamPersoonVastOntslag114=\"\",\"\",Data_NaamPersoonVastOntslag114)","v":""},null,null,{"$f":"IF(Data_BeeindigingsdatumVastOntslag114=\"\",\"\",Data_BeeindigingsdatumVastOntslag114)","v":""},null,null,{"$f":"IF(Data_LoonkostenVastOntslag114=\"\",\"\",Data_LoonkostenVastOntslag114)","v":""},null,{"$f":"IF(Data_PersoonAanUitVastOntslag114=-1,\"v\",\"\")","v":""},null,"v",null,null,null,null,0,0]
[null,null,null,null,null,null,null,{"$f":"IF(Data_NaamPersoonNatVerloop115=\"\",\"\",Data_NaamPersoonNatVerloop115)","v":""},null,null,{"$f":"IF(Data_BeeindigingsdatumNatVerloop115=\"\",\"\",Data_BeeindigingsdatumNatVerloop115)","v":""},null,null,{"$f":"IF(Data_LoonkostenNatVerloop115=\"\",\"\",Data_LoonkostenNatVerloop115)","v":""},null,"v",null,"v",null,null,null,null,0,"",null,null,null,null,null,null,null,null,{"$f":"IF(Data_NaamPersoonTijd115=\"\",\"\",Data_NaamPersoonTijd115)","v":""},null,null,{"$f":"IF(Data_BeeindigingsdatumTijd115=\"\",\"\",Data_BeeindigingsdatumTijd115)","v":""},null,null,{"$f":"IF(Data_LoonkostenTijd115=\"\",\"\",Data_LoonkostenTijd115)","v":""},null,{"$f":"IF(Data_PersoonAanUitTijd115=-1,\"v\",\"\")","v":""},null,"v",null,null,null,null,0,0,null,null,null,{"$f":"IF(Data_NaamPersoonVastVrij115=\"\",\"\",Data_NaamPersoonVastVrij115)","v":""},null,null,{"$f":"IF(Data_BeeindigingsdatumVastVrij115=\"\",\"\",Data_BeeindigingsdatumVastVrij115)","v":""},null,null,{"$f":"IF(Data_LoonkostenVastVrij115=\"\",\"\",Data_LoonkostenVastVrij115)","v":""},null,{"$f":"IF(Data_PersoonAanUitVastVrij115=-1,\"v\",\"\")","v":""},null,"v",null,null,null,null,0,0,null,{"$f":"IF(Data_NaamPersoonVastOntslag115=\"\",\"\",Data_NaamPersoonVastOntslag115)","v":""},null,null,{"$f":"IF(Data_BeeindigingsdatumVastOntslag115=\"\",\"\",Data_BeeindigingsdatumVastOntslag115)","v":""},null,null,{"$f":"IF(Data_LoonkostenVastOntslag115=\"\",\"\",Data_LoonkostenVastOntslag115)","v":""},null,{"$f":"IF(Data_PersoonAanUitVastOntslag115=-1,\"v\",\"\")","v":""},null,"v",null,null,null,null,0,0]
[null,null,null,null,null,null,null,{"$f":"IF(Data_NaamPersoonNatVerloop116=\"\",\"\",Data_NaamPersoonNatVerloop116)","v":""},null,null,{"$f":"IF(Data_BeeindigingsdatumNatVerloop116=\"\",\"\",Data_BeeindigingsdatumNatVerloop116)","v":""},null,null,{"$f":"IF(Data_LoonkostenNatVerloop116=\"\",\"\",Data_LoonkostenNatVerloop116)","v":""},null,"v",null,"v",null,null,null,null,0,"",null,null,null,null,null,null,null,null,{"$f":"IF(Data_NaamPersoonTijd116=\"\",\"\",Data_NaamPersoonTijd116)","v":""},null,null,{"$f":"IF(Data_BeeindigingsdatumTijd116=\"\",\"\",Data_BeeindigingsdatumTijd116)","v":""},null,null,{"$f":"IF(Data_LoonkostenTijd116=\"\",\"\",Data_LoonkostenTijd116)","v":""},null,{"$f":"IF(Data_PersoonAanUitTijd116=-1,\"v\",\"\")","v":""},null,"v",null,null,null,null,0,0,null,null,null,{"$f":"IF(Data_NaamPersoonVastVrij116=\"\",\"\",Data_NaamPersoonVastVrij116)","v":""},null,null,{"$f":"IF(Data_BeeindigingsdatumVastVrij116=\"\",\"\",Data_BeeindigingsdatumVastVrij116)","v":""},null,null,{"$f":"IF(Data_LoonkostenVastVrij116=\"\",\"\",Data_LoonkostenVastVrij116)","v":""},null,{"$f":"IF(Data_PersoonAanUitVastVrij116=-1,\"v\",\"\")","v":""},null,"v",null,null,null,null,0,0,null,{"$f":"IF(Data_NaamPersoonVastOntslag116=\"\",\"\",Data_NaamPersoonVastOntslag116)","v":""},null,null,{"$f":"IF(Data_BeeindigingsdatumVastOntslag116=\"\",\"\",Data_BeeindigingsdatumVastOntslag116)","v":""},null,null,{"$f":"IF(Data_LoonkostenVastOntslag116=\"\",\"\",Data_LoonkostenVastOntslag116)","v":""},null,{"$f":"IF(Data_PersoonAanUitVastOntslag116=-1,\"v\",\"\")","v":""},null,"v",null,null,null,null,0,0]
[null,null,null,null,null,null,null,{"$f":"IF(Data_NaamPersoonNatVerloop117=\"\",\"\",Data_NaamPersoonNatVerloop117)","v":""},null,null,{"$f":"IF(Data_BeeindigingsdatumNatVerloop117=\"\",\"\",Data_BeeindigingsdatumNatVerloop117)","v":""},null,null,{"$f":"IF(Data_LoonkostenNatVerloop117=\"\",\"\",Data_LoonkostenNatVerloop117)","v":""},null,"v",null,"v",null,null,null,null,0,"",null,null,null,null,null,null,null,null,{"$f":"IF(Data_NaamPersoonTijd117=\"\",\"\",Data_NaamPersoonTijd117)","v":""},null,null,{"$f":"IF(Data_BeeindigingsdatumTijd117=\"\",\"\",Data_BeeindigingsdatumTijd117)","v":""},null,null,{"$f":"IF(Data_LoonkostenTijd117=\"\",\"\",Data_LoonkostenTijd117)","v":""},null,{"$f":"IF(Data_PersoonAanUitTijd117=-1,\"v\",\"\")","v":""},null,"v",null,null,null,null,0,0,null,null,null,{"$f":"IF(Data_NaamPersoonVastVrij117=\"\",\"\",Data_NaamPersoonVastVrij117)","v":""},null,null,{"$f":"IF(Data_BeeindigingsdatumVastVrij117=\"\",\"\",Data_BeeindigingsdatumVastVrij117)","v":""},null,null,{"$f":"IF(Data_LoonkostenVastVrij117=\"\",\"\",Data_LoonkostenVastVrij117)","v":""},null,{"$f":"IF(Data_PersoonAanUitVastVrij117=-1,\"v\",\"\")","v":""},null,"v",null,null,null,null,0,0,null,{"$f":"IF(Data_NaamPersoonVastOntslag117=\"\",\"\",Data_NaamPersoonVastOntslag117)","v":""},null,null,{"$f":"IF(Data_BeeindigingsdatumVastOntslag117=\"\",\"\",Data_BeeindigingsdatumVastOntslag117)","v":""},null,null,{"$f":"IF(Data_LoonkostenVastOntslag117=\"\",\"\",Data_LoonkostenVastOntslag117)","v":""},null,{"$f":"IF(Data_PersoonAanUitVastOntslag117=-1,\"v\",\"\")","v":""},null,"v",null,null,null,null,0,0]
[null,null,null,null,null,null,null,{"$f":"IF(Data_NaamPersoonNatVerloop118=\"\",\"\",Data_NaamPersoonNatVerloop118)","v":""},null,null,{"$f":"IF(Data_BeeindigingsdatumNatVerloop118=\"\",\"\",Data_BeeindigingsdatumNatVerloop118)","v":""},null,null,{"$f":"IF(Data_LoonkostenNatVerloop118=\"\",\"\",Data_LoonkostenNatVerloop118)","v":""},null,"v",null,"v",null,null,null,null,0,"",null,null,null,null,null,null,null,null,{"$f":"IF(Data_NaamPersoonTijd118=\"\",\"\",Data_NaamPersoonTijd118)","v":""},null,null,{"$f":"IF(Data_BeeindigingsdatumTijd118=\"\",\"\",Data_BeeindigingsdatumTijd118)","v":""},null,null,{"$f":"IF(Data_LoonkostenTijd118=\"\",\"\",Data_LoonkostenTijd118)","v":""},null,{"$f":"IF(Data_PersoonAanUitTijd118=-1,\"v\",\"\")","v":""},null,"v",null,null,null,null,0,0,null,null,null,{"$f":"IF(Data_NaamPersoonVastVrij118=\"\",\"\",Data_NaamPersoonVastVrij118)","v":""},null,null,{"$f":"IF(Data_BeeindigingsdatumVastVrij118=\"\",\"\",Data_BeeindigingsdatumVastVrij118)","v":""},null,null,{"$f":"IF(Data_LoonkostenVastVrij118=\"\",\"\",Data_LoonkostenVastVrij118)","v":""},null,{"$f":"IF(Data_PersoonAanUitVastVrij118=-1,\"v\",\"\")","v":""},null,"v",null,null,null,null,0,0,null,{"$f":"IF(Data_NaamPersoonVastOntslag118=\"\",\"\",Data_NaamPersoonVastOntslag118)","v":""},null,null,{"$f":"IF(Data_BeeindigingsdatumVastOntslag118=\"\",\"\",Data_BeeindigingsdatumVastOntslag118)","v":""},null,null,{"$f":"IF(Data_LoonkostenVastOntslag118=\"\",\"\",Data_LoonkostenVastOntslag118)","v":""},null,{"$f":"IF(Data_PersoonAanUitVastOntslag118=-1,\"v\",\"\")","v":""},null,"v",null,null,null,null,0,0]
[null,null,null,null,null,null,null,{"$f":"IF(Data_NaamPersoonNatVerloop119=\"\",\"\",Data_NaamPersoonNatVerloop119)","v":""},null,null,{"$f":"IF(Data_BeeindigingsdatumNatVerloop119=\"\",\"\",Data_BeeindigingsdatumNatVerloop119)","v":""},null,null,{"$f":"IF(Data_LoonkostenNatVerloop119=\"\",\"\",Data_LoonkostenNatVerloop119)","v":""},null,"v",null,"v",null,null,null,null,0,"",null,null,null,null,null,null,null,null,{"$f":"IF(Data_NaamPersoonTijd119=\"\",\"\",Data_NaamPersoonTijd119)","v":""},null,null,{"$f":"IF(Data_BeeindigingsdatumTijd119=\"\",\"\",Data_BeeindigingsdatumTijd119)","v":""},null,null,{"$f":"IF(Data_LoonkostenTijd119=\"\",\"\",Data_LoonkostenTijd119)","v":""},null,{"$f":"IF(Data_PersoonAanUitTijd119=-1,\"v\",\"\")","v":""},null,"v",null,null,null,null,0,0,null,null,null,{"$f":"IF(Data_NaamPersoonVastVrij119=\"\",\"\",Data_NaamPersoonVastVrij119)","v":""},null,null,{"$f":"IF(Data_BeeindigingsdatumVastVrij119=\"\",\"\",Data_BeeindigingsdatumVastVrij119)","v":""},null,null,{"$f":"IF(Data_LoonkostenVastVrij119=\"\",\"\",Data_LoonkostenVastVrij119)","v":""},null,{"$f":"IF(Data_PersoonAanUitVastVrij119=-1,\"v\",\"\")","v":""},null,"v",null,null,null,null,0,0,null,{"$f":"IF(Data_NaamPersoonVastOntslag119=\"\",\"\",Data_NaamPersoonVastOntslag119)","v":""},null,null,{"$f":"IF(Data_BeeindigingsdatumVastOntslag119=\"\",\"\",Data_BeeindigingsdatumVastOntslag119)","v":""},null,null,{"$f":"IF(Data_LoonkostenVastOntslag119=\"\",\"\",Data_LoonkostenVastOntslag119)","v":""},null,{"$f":"IF(Data_PersoonAanUitVastOntslag119=-1,\"v\",\"\")","v":""},null,"v",null,null,null,null,0,0]
[null,null,null,null,null,null,null,{"$f":"IF(Data_NaamPersoonNatVerloop120=\"\",\"\",Data_NaamPersoonNatVerloop120)","v":""},null,null,{"$f":"IF(Data_BeeindigingsdatumNatVerloop120=\"\",\"\",Data_BeeindigingsdatumNatVerloop120)","v":""},null,null,{"$f":"IF(Data_LoonkostenNatVerloop120=\"\",\"\",Data_LoonkostenNatVerloop120)","v":""},null,"v",null,"v",null,null,null,null,0,"",null,null,null,null,null,null,null,null,{"$f":"IF(Data_NaamPersoonTijd120=\"\",\"\",Data_NaamPersoonTijd120)","v":""},null,null,{"$f":"IF(Data_BeeindigingsdatumTijd120=\"\",\"\",Data_BeeindigingsdatumTijd120)","v":""},null,null,{"$f":"IF(Data_LoonkostenTijd120=\"\",\"\",Data_LoonkostenTijd120)","v":""},null,{"$f":"IF(Data_PersoonAanUitTijd120=-1,\"v\",\"\")","v":""},null,"v",null,null,null,null,0,0,null,null,null,{"$f":"IF(Data_NaamPersoonVastVrij120=\"\",\"\",Data_NaamPersoonVastVrij120)","v":""},null,null,{"$f":"IF(Data_BeeindigingsdatumVastVrij120=\"\",\"\",Data_BeeindigingsdatumVastVrij120)","v":""},null,null,{"$f":"IF(Data_LoonkostenVastVrij120=\"\",\"\",Data_LoonkostenVastVrij120)","v":""},null,{"$f":"IF(Data_PersoonAanUitVastVrij120=-1,\"v\",\"\")","v":""},null,"v",null,null,null,null,0,0,null,{"$f":"IF(Data_NaamPersoonVastOntslag120=\"\",\"\",Data_NaamPersoonVastOntslag120)","v":""},null,null,{"$f":"IF(Data_BeeindigingsdatumVastOntslag120=\"\",\"\",Data_BeeindigingsdatumVastOntslag120)","v":""},null,null,{"$f":"IF(Data_LoonkostenVastOntslag120=\"\",\"\",Data_LoonkostenVastOntslag120)","v":""},null,{"$f":"IF(Data_PersoonAanUitVastOntslag120=-1,\"v\",\"\")","v":""},null,"v",null,null,null,null,0,0]
[null,null,null,null,null,null,null,{"$f":"IF(Data_NaamPersoonNatVerloop121=\"\",\"\",Data_NaamPersoonNatVerloop121)","v":""},null,null,{"$f":"IF(Data_BeeindigingsdatumNatVerloop121=\"\",\"\",Data_BeeindigingsdatumNatVerloop121)","v":""},null,null,{"$f":"IF(Data_LoonkostenNatVerloop121=\"\",\"\",Data_LoonkostenNatVerloop121)","v":""},null,"v",null,"v",null,null,null,null,0,"",null,null,null,null,null,null,null,null,{"$f":"IF(Data_NaamPersoonTijd121=\"\",\"\",Data_NaamPersoonTijd121)","v":""},null,null,{"$f":"IF(Data_BeeindigingsdatumTijd121=\"\",\"\",Data_BeeindigingsdatumTijd121)","v":""},null,null,{"$f":"IF(Data_LoonkostenTijd121=\"\",\"\",Data_LoonkostenTijd121)","v":""},null,{"$f":"IF(Data_PersoonAanUitTijd121=-1,\"v\",\"\")","v":""},null,"v",null,null,null,null,0,0,null,null,null,{"$f":"IF(Data_NaamPersoonVastVrij121=\"\",\"\",Data_NaamPersoonVastVrij121)","v":""},null,null,{"$f":"IF(Data_BeeindigingsdatumVastVrij121=\"\",\"\",Data_BeeindigingsdatumVastVrij121)","v":""},null,null,{"$f":"IF(Data_LoonkostenVastVrij121=\"\",\"\",Data_LoonkostenVastVrij121)","v":""},null,{"$f":"IF(Data_PersoonAanUitVastVrij121=-1,\"v\",\"\")","v":""},null,"v",null,null,null,null,0,0,null,{"$f":"IF(Data_NaamPersoonVastOntslag121=\"\",\"\",Data_NaamPersoonVastOntslag121)","v":""},null,null,{"$f":"IF(Data_BeeindigingsdatumVastOntslag121=\"\",\"\",Data_BeeindigingsdatumVastOntslag121)","v":""},null,null,{"$f":"IF(Data_LoonkostenVastOntslag121=\"\",\"\",Data_LoonkostenVastOntslag121)","v":""},null,{"$f":"IF(Data_PersoonAanUitVastOntslag121=-1,\"v\",\"\")","v":""},null,"v",null,null,null,null,0,0]
[null,null,null,null,null,null,null,{"$f":"IF(Data_NaamPersoonNatVerloop122=\"\",\"\",Data_NaamPersoonNatVerloop122)","v":""},null,null,{"$f":"IF(Data_BeeindigingsdatumNatVerloop122=\"\",\"\",Data_BeeindigingsdatumNatVerloop122)","v":""},null,null,{"$f":"IF(Data_LoonkostenNatVerloop122=\"\",\"\",Data_LoonkostenNatVerloop122)","v":""},null,"v",null,"v",null,null,null,null,0,"",null,null,null,null,null,null,null,null,{"$f":"IF(Data_NaamPersoonTijd122=\"\",\"\",Data_NaamPersoonTijd122)","v":""},null,null,{"$f":"IF(Data_BeeindigingsdatumTijd122=\"\",\"\",Data_BeeindigingsdatumTijd122)","v":""},null,null,{"$f":"IF(Data_LoonkostenTijd122=\"\",\"\",Data_LoonkostenTijd122)","v":""},null,{"$f":"IF(Data_PersoonAanUitTijd122=-1,\"v\",\"\")","v":""},null,"v",null,null,null,null,0,0,null,null,null,{"$f":"IF(Data_NaamPersoonVastVrij122=\"\",\"\",Data_NaamPersoonVastVrij122)","v":""},null,null,{"$f":"IF(Data_BeeindigingsdatumVastVrij122=\"\",\"\",Data_BeeindigingsdatumVastVrij122)","v":""},null,null,{"$f":"IF(Data_LoonkostenVastVrij122=\"\",\"\",Data_LoonkostenVastVrij122)","v":""},null,{"$f":"IF(Data_PersoonAanUitVastVrij122=-1,\"v\",\"\")","v":""},null,"v",null,null,null,null,0,0,null,{"$f":"IF(Data_NaamPersoonVastOntslag122=\"\",\"\",Data_NaamPersoonVastOntslag122)","v":""},null,null,{"$f":"IF(Data_BeeindigingsdatumVastOntslag122=\"\",\"\",Data_BeeindigingsdatumVastOntslag122)","v":""},null,null,{"$f":"IF(Data_LoonkostenVastOntslag122=\"\",\"\",Data_LoonkostenVastOntslag122)","v":""},null,{"$f":"IF(Data_PersoonAanUitVastOntslag122=-1,\"v\",\"\")","v":""},null,"v",null,null,null,null,0,0]
[null,null,null,null,null,null,null,{"$f":"IF(Data_NaamPersoonNatVerloop123=\"\",\"\",Data_NaamPersoonNatVerloop123)","v":""},null,null,{"$f":"IF(Data_BeeindigingsdatumNatVerloop123=\"\",\"\",Data_BeeindigingsdatumNatVerloop123)","v":""},null,null,{"$f":"IF(Data_LoonkostenNatVerloop123=\"\",\"\",Data_LoonkostenNatVerloop123)","v":""},null,"v",null,"v",null,null,null,null,0,"",null,null,null,null,null,null,null,null,{"$f":"IF(Data_NaamPersoonTijd123=\"\",\"\",Data_NaamPersoonTijd123)","v":""},null,null,{"$f":"IF(Data_BeeindigingsdatumTijd123=\"\",\"\",Data_BeeindigingsdatumTijd123)","v":""},null,null,{"$f":"IF(Data_LoonkostenTijd123=\"\",\"\",Data_LoonkostenTijd123)","v":""},null,{"$f":"IF(Data_PersoonAanUitTijd123=-1,\"v\",\"\")","v":""},null,"v",null,null,null,null,0,0,null,null,null,{"$f":"IF(Data_NaamPersoonVastVrij123=\"\",\"\",Data_NaamPersoonVastVrij123)","v":""},null,null,{"$f":"IF(Data_BeeindigingsdatumVastVrij123=\"\",\"\",Data_BeeindigingsdatumVastVrij123)","v":""},null,null,{"$f":"IF(Data_LoonkostenVastVrij123=\"\",\"\",Data_LoonkostenVastVrij123)","v":""},null,{"$f":"IF(Data_PersoonAanUitVastVrij123=-1,\"v\",\"\")","v":""},null,"v",null,null,null,null,0,0,null,{"$f":"IF(Data_NaamPersoonVastOntslag123=\"\",\"\",Data_NaamPersoonVastOntslag123)","v":""},null,null,{"$f":"IF(Data_BeeindigingsdatumVastOntslag123=\"\",\"\",Data_BeeindigingsdatumVastOntslag123)","v":""},null,null,{"$f":"IF(Data_LoonkostenVastOntslag123=\"\",\"\",Data_LoonkostenVastOntslag123)","v":""},null,{"$f":"IF(Data_PersoonAanUitVastOntslag123=-1,\"v\",\"\")","v":""},null,"v",null,null,null,null,0,0]
[null,null,null,null,null,null,null,{"$f":"IF(Data_NaamPersoonNatVerloop124=\"\",\"\",Data_NaamPersoonNatVerloop124)","v":""},null,null,{"$f":"IF(Data_BeeindigingsdatumNatVerloop124=\"\",\"\",Data_BeeindigingsdatumNatVerloop124)","v":""},null,null,{"$f":"IF(Data_LoonkostenNatVerloop124=\"\",\"\",Data_LoonkostenNatVerloop124)","v":""},null,"v",null,"v",null,null,null,null,0,"",null,null,null,null,null,null,null,null,{"$f":"IF(Data_NaamPersoonTijd124=\"\",\"\",Data_NaamPersoonTijd124)","v":""},null,null,{"$f":"IF(Data_BeeindigingsdatumTijd124=\"\",\"\",Data_BeeindigingsdatumTijd124)","v":""},null,null,{"$f":"IF(Data_LoonkostenTijd124=\"\",\"\",Data_LoonkostenTijd124)","v":""},null,{"$f":"IF(Data_PersoonAanUitTijd124=-1,\"v\",\"\")","v":""},null,"v",null,null,null,null,0,0,null,null,null,{"$f":"IF(Data_NaamPersoonVastVrij124=\"\",\"\",Data_NaamPersoonVastVrij124)","v":""},null,null,{"$f":"IF(Data_BeeindigingsdatumVastVrij124=\"\",\"\",Data_BeeindigingsdatumVastVrij124)","v":""},null,null,{"$f":"IF(Data_LoonkostenVastVrij124=\"\",\"\",Data_LoonkostenVastVrij124)","v":""},null,{"$f":"IF(Data_PersoonAanUitVastVrij124=-1,\"v\",\"\")","v":""},null,"v",null,null,null,null,0,0,null,{"$f":"IF(Data_NaamPersoonVastOntslag124=\"\",\"\",Data_NaamPersoonVastOntslag124)","v":""},null,null,{"$f":"IF(Data_BeeindigingsdatumVastOntslag124=\"\",\"\",Data_BeeindigingsdatumVastOntslag124)","v":""},null,null,{"$f":"IF(Data_LoonkostenVastOntslag124=\"\",\"\",Data_LoonkostenVastOntslag124)","v":""},null,{"$f":"IF(Data_PersoonAanUitVastOntslag124=-1,\"v\",\"\")","v":""},null,"v",null,null,null,null,0,0]
[null,null,null,null,null,null,null,{"$f":"IF(Data_NaamPersoonNatVerloop125=\"\",\"\",Data_NaamPersoonNatVerloop125)","v":""},null,null,{"$f":"IF(Data_BeeindigingsdatumNatVerloop125=\"\",\"\",Data_BeeindigingsdatumNatVerloop125)","v":""},null,null,{"$f":"IF(Data_LoonkostenNatVerloop125=\"\",\"\",Data_LoonkostenNatVerloop125)","v":""},null,"v",null,"v",null,null,null,null,0,"",null,null,null,null,null,null,null,null,{"$f":"IF(Data_NaamPersoonTijd125=\"\",\"\",Data_NaamPersoonTijd125)","v":""},null,null,{"$f":"IF(Data_BeeindigingsdatumTijd125=\"\",\"\",Data_BeeindigingsdatumTijd125)","v":""},null,null,{"$f":"IF(Data_LoonkostenTijd125=\"\",\"\",Data_LoonkostenTijd125)","v":""},null,{"$f":"IF(Data_PersoonAanUitTijd125=-1,\"v\",\"\")","v":""},null,"v",null,null,null,null,0,0,null,null,null,{"$f":"IF(Data_NaamPersoonVastVrij125=\"\",\"\",Data_NaamPersoonVastVrij125)","v":""},null,null,{"$f":"IF(Data_BeeindigingsdatumVastVrij125=\"\",\"\",Data_BeeindigingsdatumVastVrij125)","v":""},null,null,{"$f":"IF(Data_LoonkostenVastVrij125=\"\",\"\",Data_LoonkostenVastVrij125)","v":""},null,{"$f":"IF(Data_PersoonAanUitVastVrij125=-1,\"v\",\"\")","v":""},null,"v",null,null,null,null,0,0,null,{"$f":"IF(Data_NaamPersoonVastOntslag125=\"\",\"\",Data_NaamPersoonVastOntslag125)","v":""},null,null,{"$f":"IF(Data_BeeindigingsdatumVastOntslag125=\"\",\"\",Data_BeeindigingsdatumVastOntslag125)","v":""},null,null,{"$f":"IF(Data_LoonkostenVastOntslag125=\"\",\"\",Data_LoonkostenVastOntslag125)","v":""},null,{"$f":"IF(Data_PersoonAanUitVastOntslag125=-1,\"v\",\"\")","v":""},null,"v",null,null,null,null,0,0]
[null,null,null,null,null,null,null,{"$f":"IF(Data_NaamPersoonNatVerloop126=\"\",\"\",Data_NaamPersoonNatVerloop126)","v":""},null,null,{"$f":"IF(Data_BeeindigingsdatumNatVerloop126=\"\",\"\",Data_BeeindigingsdatumNatVerloop126)","v":""},null,null,{"$f":"IF(Data_LoonkostenNatVerloop126=\"\",\"\",Data_LoonkostenNatVerloop126)","v":""},null,"v",null,"v",null,null,null,null,0,"",null,null,null,null,null,null,null,null,{"$f":"IF(Data_NaamPersoonTijd126=\"\",\"\",Data_NaamPersoonTijd126)","v":""},null,null,{"$f":"IF(Data_BeeindigingsdatumTijd126=\"\",\"\",Data_BeeindigingsdatumTijd126)","v":""},null,null,{"$f":"IF(Data_LoonkostenTijd126=\"\",\"\",Data_LoonkostenTijd126)","v":""},null,{"$f":"IF(Data_PersoonAanUitTijd126=-1,\"v\",\"\")","v":""},null,"v",null,null,null,null,0,0,null,null,null,{"$f":"IF(Data_NaamPersoonVastVrij126=\"\",\"\",Data_NaamPersoonVastVrij126)","v":""},null,null,{"$f":"IF(Data_BeeindigingsdatumVastVrij126=\"\",\"\",Data_BeeindigingsdatumVastVrij126)","v":""},null,null,{"$f":"IF(Data_LoonkostenVastVrij126=\"\",\"\",Data_LoonkostenVastVrij126)","v":""},null,{"$f":"IF(Data_PersoonAanUitVastVrij126=-1,\"v\",\"\")","v":""},null,"v",null,null,null,null,0,0,null,{"$f":"IF(Data_NaamPersoonVastOntslag126=\"\",\"\",Data_NaamPersoonVastOntslag126)","v":""},null,null,{"$f":"IF(Data_BeeindigingsdatumVastOntslag126=\"\",\"\",Data_BeeindigingsdatumVastOntslag126)","v":""},null,null,{"$f":"IF(Data_LoonkostenVastOntslag126=\"\",\"\",Data_LoonkostenVastOntslag126)","v":""},null,{"$f":"IF(Data_PersoonAanUitVastOntslag126=-1,\"v\",\"\")","v":""},null,"v",null,null,null,null,0,0]
[null,null,null,null,null,null,null,{"$f":"IF(Data_NaamPersoonNatVerloop127=\"\",\"\",Data_NaamPersoonNatVerloop127)","v":""},null,null,{"$f":"IF(Data_BeeindigingsdatumNatVerloop127=\"\",\"\",Data_BeeindigingsdatumNatVerloop127)","v":""},null,null,{"$f":"IF(Data_LoonkostenNatVerloop127=\"\",\"\",Data_LoonkostenNatVerloop127)","v":""},null,"v",null,"v",null,null,null,null,0,"",null,null,null,null,null,null,null,null,{"$f":"IF(Data_NaamPersoonTijd127=\"\",\"\",Data_NaamPersoonTijd127)","v":""},null,null,{"$f":"IF(Data_BeeindigingsdatumTijd127=\"\",\"\",Data_BeeindigingsdatumTijd127)","v":""},null,null,{"$f":"IF(Data_LoonkostenTijd127=\"\",\"\",Data_LoonkostenTijd127)","v":""},null,{"$f":"IF(Data_PersoonAanUitTijd127=-1,\"v\",\"\")","v":""},null,"v",null,null,null,null,0,0,null,null,null,{"$f":"IF(Data_NaamPersoonVastVrij127=\"\",\"\",Data_NaamPersoonVastVrij127)","v":""},null,null,{"$f":"IF(Data_BeeindigingsdatumVastVrij127=\"\",\"\",Data_BeeindigingsdatumVastVrij127)","v":""},null,null,{"$f":"IF(Data_LoonkostenVastVrij127=\"\",\"\",Data_LoonkostenVastVrij127)","v":""},null,{"$f":"IF(Data_PersoonAanUitVastVrij127=-1,\"v\",\"\")","v":""},null,"v",null,null,null,null,0,0,null,{"$f":"IF(Data_NaamPersoonVastOntslag127=\"\",\"\",Data_NaamPersoonVastOntslag127)","v":""},null,null,{"$f":"IF(Data_BeeindigingsdatumVastOntslag127=\"\",\"\",Data_BeeindigingsdatumVastOntslag127)","v":""},null,null,{"$f":"IF(Data_LoonkostenVastOntslag127=\"\",\"\",Data_LoonkostenVastOntslag127)","v":""},null,{"$f":"IF(Data_PersoonAanUitVastOntslag127=-1,\"v\",\"\")","v":""},null,"v",null,null,null,null,0,0]
[null,null,null,null,null,null,null,{"$f":"IF(Data_NaamPersoonNatVerloop128=\"\",\"\",Data_NaamPersoonNatVerloop128)","v":""},null,null,{"$f":"IF(Data_BeeindigingsdatumNatVerloop128=\"\",\"\",Data_BeeindigingsdatumNatVerloop128)","v":""},null,null,{"$f":"IF(Data_LoonkostenNatVerloop128=\"\",\"\",Data_LoonkostenNatVerloop128)","v":""},null,"v",null,"v",null,null,null,null,0,"",null,null,null,null,null,null,null,null,{"$f":"IF(Data_NaamPersoonTijd128=\"\",\"\",Data_NaamPersoonTijd128)","v":""},null,null,{"$f":"IF(Data_BeeindigingsdatumTijd128=\"\",\"\",Data_BeeindigingsdatumTijd128)","v":""},null,null,{"$f":"IF(Data_LoonkostenTijd128=\"\",\"\",Data_LoonkostenTijd128)","v":""},null,{"$f":"IF(Data_PersoonAanUitTijd128=-1,\"v\",\"\")","v":""},null,"v",null,null,null,null,0,0,null,null,null,{"$f":"IF(Data_NaamPersoonVastVrij128=\"\",\"\",Data_NaamPersoonVastVrij128)","v":""},null,null,{"$f":"IF(Data_BeeindigingsdatumVastVrij128=\"\",\"\",Data_BeeindigingsdatumVastVrij128)","v":""},null,null,{"$f":"IF(Data_LoonkostenVastVrij128=\"\",\"\",Data_LoonkostenVastVrij128)","v":""},null,{"$f":"IF(Data_PersoonAanUitVastVrij128=-1,\"v\",\"\")","v":""},null,"v",null,null,null,null,0,0,null,{"$f":"IF(Data_NaamPersoonVastOntslag128=\"\",\"\",Data_NaamPersoonVastOntslag128)","v":""},null,null,{"$f":"IF(Data_BeeindigingsdatumVastOntslag128=\"\",\"\",Data_BeeindigingsdatumVastOntslag128)","v":""},null,null,{"$f":"IF(Data_LoonkostenVastOntslag128=\"\",\"\",Data_LoonkostenVastOntslag128)","v":""},null,{"$f":"IF(Data_PersoonAanUitVastOntslag128=-1,\"v\",\"\")","v":""},null,"v",null,null,null,null,0,0]
[null,null,null,null,null,null,null,{"$f":"IF(Data_NaamPersoonNatVerloop129=\"\",\"\",Data_NaamPersoonNatVerloop129)","v":""},null,null,{"$f":"IF(Data_BeeindigingsdatumNatVerloop129=\"\",\"\",Data_BeeindigingsdatumNatVerloop129)","v":""},null,null,{"$f":"IF(Data_LoonkostenNatVerloop129=\"\",\"\",Data_LoonkostenNatVerloop129)","v":""},null,"v",null,"v",null,null,null,null,{"$f":"IF($AO152=\"v\",M152,T152)","v":0},"",null,null,null,null,null,null,null,null,{"$f":"IF(Data_NaamPersoonTijd129=\"\",\"\",Data_NaamPersoonTijd129)","v":""},null,null,{"$f":"IF(Data_BeeindigingsdatumTijd129=\"\",\"\",Data_BeeindigingsdatumTijd129)","v":""},null,null,{"$f":"IF(Data_LoonkostenTijd129=\"\",\"\",Data_LoonkostenTijd129)","v":""},null,{"$f":"IF(Data_PersoonAanUitTijd129=-1,\"v\",\"\")","v":""},null,"v",null,null,null,null,{"$f":"IF($AO152=\"v\",AL152,AS152)","v":0},{"$f":"IF(AND($AO152=\"v\",$AQ152=\"v\"),AM152,IF(AND($AO152=\"v\",$AQ152<>\"v\"),AT152,0))","v":0},null,null,null,{"$f":"IF(Data_NaamPersoonVastVrij129=\"\",\"\",Data_NaamPersoonVastVrij129)","v":""},null,null,{"$f":"IF(Data_BeeindigingsdatumVastVrij129=\"\",\"\",Data_BeeindigingsdatumVastVrij129)","v":""},null,null,{"$f":"IF(Data_LoonkostenVastVrij129=\"\",\"\",Data_LoonkostenVastVrij129)","v":""},null,{"$f":"IF(Data_PersoonAanUitVastVrij129=-1,\"v\",\"\")","v":""},null,"v",null,null,null,null,{"$f":"IF($BI152=\"v\",BF152,BM152)","v":0},{"$f":"IF(AND($BI152=\"v\",$BK152=\"v\"),BG152,IF(AND($BI152=\"v\",$BK152<>\"v\"),BN152,0))","v":0},null,{"$f":"IF(Data_NaamPersoonVastOntslag129=\"\",\"\",Data_NaamPersoonVastOntslag129)","v":""},null,null,{"$f":"IF(Data_BeeindigingsdatumVastOntslag129=\"\",\"\",Data_BeeindigingsdatumVastOntslag129)","v":""},null,null,{"$f":"IF(Data_LoonkostenVastOntslag129=\"\",\"\",Data_LoonkostenVastOntslag129)","v":""},null,{"$f":"IF(Data_PersoonAanUitVastOntslag129=-1,\"v\",\"\")","v":""},null,"v",null,null,null,null,0,{"$f":"IF(AND($CA152=\"v\",$CC152=\"v\"),BY152,IF(AND($CA152=\"v\",$CC152<>\"v\"),CF151,0))","v":0}]
[null,null,null,null,null,null,null,{"$f":"IF(Data_NaamPersoonNatVerloop130=\"\",\"\",Data_NaamPersoonNatVerloop130)","v":""},null,null,{"$f":"IF(Data_BeeindigingsdatumNatVerloop130=\"\",\"\",Data_BeeindigingsdatumNatVerloop130)","v":""},null,null,{"$f":"IF(Data_LoonkostenNatVerloop130=\"\",\"\",Data_LoonkostenNatVerloop130)","v":""},null,"v",null,"v",null,null,null,null,0,{"$f":"IF(AND($P153=\"v\",$R153=\"v\"),N153,IF(AND($P153=\"v\",$R153<>\"v\"),U153,0))","v":""},null,null,null,null,null,null,null,null,{"$f":"IF(Data_NaamPersoonTijd130=\"\",\"\",Data_NaamPersoonTijd130)","v":""},null,null,{"$f":"IF(Data_BeeindigingsdatumTijd130=\"\",\"\",Data_BeeindigingsdatumTijd130)","v":""},null,null,{"$f":"IF(Data_LoonkostenTijd130=\"\",\"\",Data_LoonkostenTijd130)","v":""},null,{"$f":"IF(Data_PersoonAanUitTijd130=-1,\"v\",\"\")","v":""},null,"v",null,null,null,null,0,0,null,null,null,{"$f":"IF(Data_NaamPersoonVastVrij130=\"\",\"\",Data_NaamPersoonVastVrij130)","v":""},null,null,{"$f":"IF(Data_BeeindigingsdatumVastVrij130=\"\",\"\",Data_BeeindigingsdatumVastVrij130)","v":""},null,null,{"$f":"IF(Data_LoonkostenVastVrij130=\"\",\"\",Data_LoonkostenVastVrij130)","v":""},null,{"$f":"IF(Data_PersoonAanUitVastVrij130=-1,\"v\",\"\")","v":""},null,"v",null,null,null,null,0,0,null,{"$f":"IF(Data_NaamPersoonVastOntslag130=\"\",\"\",Data_NaamPersoonVastOntslag130)","v":""},null,null,{"$f":"IF(Data_BeeindigingsdatumVastOntslag130=\"\",\"\",Data_BeeindigingsdatumVastOntslag130)","v":""},null,null,{"$f":"IF(Data_LoonkostenVastOntslag130=\"\",\"\",Data_LoonkostenVastOntslag130)","v":""},null,{"$f":"IF(Data_PersoonAanUitVastOntslag130=-1,\"v\",\"\")","v":""},null,"v",null,null,null,null,{"$f":"IF($CA153=\"v\",BX153,CE153)","v":0},0]
[null,null,null,null,null,null,null,{"$f":"IF(Data_NaamPersoonNatVerloop131=\"\",\"\",Data_NaamPersoonNatVerloop131)","v":""},null,null,{"$f":"IF(Data_BeeindigingsdatumNatVerloop131=\"\",\"\",Data_BeeindigingsdatumNatVerloop131)","v":""},null,null,{"$f":"IF(Data_LoonkostenNatVerloop131=\"\",\"\",Data_LoonkostenNatVerloop131)","v":""},null,"v",null,"v",null,null,null,null,0,"",null,null,null,null,null,null,null,null,{"$f":"IF(Data_NaamPersoonTijd131=\"\",\"\",Data_NaamPersoonTijd131)","v":""},null,null,{"$f":"IF(Data_BeeindigingsdatumTijd131=\"\",\"\",Data_BeeindigingsdatumTijd131)","v":""},null,null,{"$f":"IF(Data_LoonkostenTijd131=\"\",\"\",Data_LoonkostenTijd131)","v":""},null,{"$f":"IF(Data_PersoonAanUitTijd131=-1,\"v\",\"\")","v":""},null,"v",null,null,null,null,0,0,null,null,null,{"$f":"IF(Data_NaamPersoonVastVrij131=\"\",\"\",Data_NaamPersoonVastVrij131)","v":""},null,null,{"$f":"IF(Data_BeeindigingsdatumVastVrij131=\"\",\"\",Data_BeeindigingsdatumVastVrij131)","v":""},null,null,{"$f":"IF(Data_LoonkostenVastVrij131=\"\",\"\",Data_LoonkostenVastVrij131)","v":""},null,{"$f":"IF(Data_PersoonAanUitVastVrij131=-1,\"v\",\"\")","v":""},null,"v",null,null,null,null,0,0,null,{"$f":"IF(Data_NaamPersoonVastOntslag131=\"\",\"\",Data_NaamPersoonVastOntslag131)","v":""},null,null,{"$f":"IF(Data_BeeindigingsdatumVastOntslag131=\"\",\"\",Data_BeeindigingsdatumVastOntslag131)","v":""},null,null,{"$f":"IF(Data_LoonkostenVastOntslag131=\"\",\"\",Data_LoonkostenVastOntslag131)","v":""},null,{"$f":"IF(Data_PersoonAanUitVastOntslag131=-1,\"v\",\"\")","v":""},null,"v",null,null,null,null,0,0]
[null,null,null,null,null,null,null,{"$f":"IF(Data_NaamPersoonNatVerloop132=\"\",\"\",Data_NaamPersoonNatVerloop132)","v":""},null,null,{"$f":"IF(Data_BeeindigingsdatumNatVerloop132=\"\",\"\",Data_BeeindigingsdatumNatVerloop132)","v":""},null,null,{"$f":"IF(Data_LoonkostenNatVerloop132=\"\",\"\",Data_LoonkostenNatVerloop132)","v":""},null,"v",null,"v",null,null,null,null,0,"",null,null,null,null,null,null,null,null,{"$f":"IF(Data_NaamPersoonTijd132=\"\",\"\",Data_NaamPersoonTijd132)","v":""},null,null,{"$f":"IF(Data_BeeindigingsdatumTijd132=\"\",\"\",Data_BeeindigingsdatumTijd132)","v":""},null,null,{"$f":"IF(Data_LoonkostenTijd132=\"\",\"\",Data_LoonkostenTijd132)","v":""},null,{"$f":"IF(Data_PersoonAanUitTijd132=-1,\"v\",\"\")","v":""},null,"v",null,null,null,null,0,0,null,null,null,{"$f":"IF(Data_NaamPersoonVastVrij132=\"\",\"\",Data_NaamPersoonVastVrij132)","v":""},null,null,{"$f":"IF(Data_BeeindigingsdatumVastVrij132=\"\",\"\",Data_BeeindigingsdatumVastVrij132)","v":""},null,null,{"$f":"IF(Data_LoonkostenVastVrij132=\"\",\"\",Data_LoonkostenVastVrij132)","v":""},null,{"$f":"IF(Data_PersoonAanUitVastVrij132=-1,\"v\",\"\")","v":""},null,"v",null,null,null,null,0,0,null,{"$f":"IF(Data_NaamPersoonVastOntslag132=\"\",\"\",Data_NaamPersoonVastOntslag132)","v":""},null,null,{"$f":"IF(Data_BeeindigingsdatumVastOntslag132=\"\",\"\",Data_BeeindigingsdatumVastOntslag132)","v":""},null,null,{"$f":"IF(Data_LoonkostenVastOntslag132=\"\",\"\",Data_LoonkostenVastOntslag132)","v":""},null,{"$f":"IF(Data_PersoonAanUitVastOntslag132=-1,\"v\",\"\")","v":""},null,"v",null,null,null,null,0,0]
[null,null,null,null,null,null,null,{"$f":"IF(Data_NaamPersoonNatVerloop133=\"\",\"\",Data_NaamPersoonNatVerloop133)","v":""},null,null,{"$f":"IF(Data_BeeindigingsdatumNatVerloop133=\"\",\"\",Data_BeeindigingsdatumNatVerloop133)","v":""},null,null,{"$f":"IF(Data_LoonkostenNatVerloop133=\"\",\"\",Data_LoonkostenNatVerloop133)","v":""},null,"v",null,"v",null,null,null,null,0,"",null,null,null,null,null,null,null,null,{"$f":"IF(Data_NaamPersoonTijd133=\"\",\"\",Data_NaamPersoonTijd133)","v":""},null,null,{"$f":"IF(Data_BeeindigingsdatumTijd133=\"\",\"\",Data_BeeindigingsdatumTijd133)","v":""},null,null,{"$f":"IF(Data_LoonkostenTijd133=\"\",\"\",Data_LoonkostenTijd133)","v":""},null,{"$f":"IF(Data_PersoonAanUitTijd133=-1,\"v\",\"\")","v":""},null,"v",null,null,null,null,0,0,null,null,null,{"$f":"IF(Data_NaamPersoonVastVrij133=\"\",\"\",Data_NaamPersoonVastVrij133)","v":""},null,null,{"$f":"IF(Data_BeeindigingsdatumVastVrij133=\"\",\"\",Data_BeeindigingsdatumVastVrij133)","v":""},null,null,{"$f":"IF(Data_LoonkostenVastVrij133=\"\",\"\",Data_LoonkostenVastVrij133)","v":""},null,{"$f":"IF(Data_PersoonAanUitVastVrij133=-1,\"v\",\"\")","v":""},null,"v",null,null,null,null,0,0,null,{"$f":"IF(Data_NaamPersoonVastOntslag133=\"\",\"\",Data_NaamPersoonVastOntslag133)","v":""},null,null,{"$f":"IF(Data_BeeindigingsdatumVastOntslag133=\"\",\"\",Data_BeeindigingsdatumVastOntslag133)","v":""},null,null,{"$f":"IF(Data_LoonkostenVastOntslag133=\"\",\"\",Data_LoonkostenVastOntslag133)","v":""},null,{"$f":"IF(Data_PersoonAanUitVastOntslag133=-1,\"v\",\"\")","v":""},null,"v",null,null,null,null,0,0]
[null,null,null,null,null,null,null,{"$f":"IF(Data_NaamPersoonNatVerloop134=\"\",\"\",Data_NaamPersoonNatVerloop134)","v":""},null,null,{"$f":"IF(Data_BeeindigingsdatumNatVerloop134=\"\",\"\",Data_BeeindigingsdatumNatVerloop134)","v":""},null,null,{"$f":"IF(Data_LoonkostenNatVerloop134=\"\",\"\",Data_LoonkostenNatVerloop134)","v":""},null,"v",null,"v",null,null,null,null,0,"",null,null,null,null,null,null,null,null,{"$f":"IF(Data_NaamPersoonTijd134=\"\",\"\",Data_NaamPersoonTijd134)","v":""},null,null,{"$f":"IF(Data_BeeindigingsdatumTijd134=\"\",\"\",Data_BeeindigingsdatumTijd134)","v":""},null,null,{"$f":"IF(Data_LoonkostenTijd134=\"\",\"\",Data_LoonkostenTijd134)","v":""},null,{"$f":"IF(Data_PersoonAanUitTijd134=-1,\"v\",\"\")","v":""},null,"v",null,null,null,null,0,0,null,null,null,{"$f":"IF(Data_NaamPersoonVastVrij134=\"\",\"\",Data_NaamPersoonVastVrij134)","v":""},null,null,{"$f":"IF(Data_BeeindigingsdatumVastVrij134=\"\",\"\",Data_BeeindigingsdatumVastVrij134)","v":""},null,null,{"$f":"IF(Data_LoonkostenVastVrij134=\"\",\"\",Data_LoonkostenVastVrij134)","v":""},null,{"$f":"IF(Data_PersoonAanUitVastVrij134=-1,\"v\",\"\")","v":""},null,"v",null,null,null,null,0,0,null,{"$f":"IF(Data_NaamPersoonVastOntslag134=\"\",\"\",Data_NaamPersoonVastOntslag134)","v":""},null,null,{"$f":"IF(Data_BeeindigingsdatumVastOntslag134=\"\",\"\",Data_BeeindigingsdatumVastOntslag134)","v":""},null,null,{"$f":"IF(Data_LoonkostenVastOntslag134=\"\",\"\",Data_LoonkostenVastOntslag134)","v":""},null,{"$f":"IF(Data_PersoonAanUitVastOntslag134=-1,\"v\",\"\")","v":""},null,"v",null,null,null,null,0,0]
[null,null,null,null,null,null,null,{"$f":"IF(Data_NaamPersoonNatVerloop135=\"\",\"\",Data_NaamPersoonNatVerloop135)","v":""},null,null,{"$f":"IF(Data_BeeindigingsdatumNatVerloop135=\"\",\"\",Data_BeeindigingsdatumNatVerloop135)","v":""},null,null,{"$f":"IF(Data_LoonkostenNatVerloop135=\"\",\"\",Data_LoonkostenNatVerloop135)","v":""},null,"v",null,"v",null,null,null,null,0,"",null,null,null,null,null,null,null,null,{"$f":"IF(Data_NaamPersoonTijd135=\"\",\"\",Data_NaamPersoonTijd135)","v":""},null,null,{"$f":"IF(Data_BeeindigingsdatumTijd135=\"\",\"\",Data_BeeindigingsdatumTijd135)","v":""},null,null,{"$f":"IF(Data_LoonkostenTijd135=\"\",\"\",Data_LoonkostenTijd135)","v":""},null,{"$f":"IF(Data_PersoonAanUitTijd135=-1,\"v\",\"\")","v":""},null,"v",null,null,null,null,0,0,null,null,null,{"$f":"IF(Data_NaamPersoonVastVrij135=\"\",\"\",Data_NaamPersoonVastVrij135)","v":""},null,null,{"$f":"IF(Data_BeeindigingsdatumVastVrij135=\"\",\"\",Data_BeeindigingsdatumVastVrij135)","v":""},null,null,{"$f":"IF(Data_LoonkostenVastVrij135=\"\",\"\",Data_LoonkostenVastVrij135)","v":""},null,{"$f":"IF(Data_PersoonAanUitVastVrij135=-1,\"v\",\"\")","v":""},null,"v",null,null,null,null,0,0,null,{"$f":"IF(Data_NaamPersoonVastOntslag135=\"\",\"\",Data_NaamPersoonVastOntslag135)","v":""},null,null,{"$f":"IF(Data_BeeindigingsdatumVastOntslag135=\"\",\"\",Data_BeeindigingsdatumVastOntslag135)","v":""},null,null,{"$f":"IF(Data_LoonkostenVastOntslag135=\"\",\"\",Data_LoonkostenVastOntslag135)","v":""},null,{"$f":"IF(Data_PersoonAanUitVastOntslag135=-1,\"v\",\"\")","v":""},null,"v",null,null,null,null,0,0]
[null,null,null,null,null,null,null,{"$f":"IF(Data_NaamPersoonNatVerloop136=\"\",\"\",Data_NaamPersoonNatVerloop136)","v":""},null,null,{"$f":"IF(Data_BeeindigingsdatumNatVerloop136=\"\",\"\",Data_BeeindigingsdatumNatVerloop136)","v":""},null,null,{"$f":"IF(Data_LoonkostenNatVerloop136=\"\",\"\",Data_LoonkostenNatVerloop136)","v":""},null,"v",null,"v",null,null,null,null,0,"",null,null,null,null,null,null,null,null,{"$f":"IF(Data_NaamPersoonTijd136=\"\",\"\",Data_NaamPersoonTijd136)","v":""},null,null,{"$f":"IF(Data_BeeindigingsdatumTijd136=\"\",\"\",Data_BeeindigingsdatumTijd136)","v":""},null,null,{"$f":"IF(Data_LoonkostenTijd136=\"\",\"\",Data_LoonkostenTijd136)","v":""},null,{"$f":"IF(Data_PersoonAanUitTijd136=-1,\"v\",\"\")","v":""},null,"v",null,null,null,null,0,0,null,null,null,{"$f":"IF(Data_NaamPersoonVastVrij136=\"\",\"\",Data_NaamPersoonVastVrij136)","v":""},null,null,{"$f":"IF(Data_BeeindigingsdatumVastVrij136=\"\",\"\",Data_BeeindigingsdatumVastVrij136)","v":""},null,null,{"$f":"IF(Data_LoonkostenVastVrij136=\"\",\"\",Data_LoonkostenVastVrij136)","v":""},null,{"$f":"IF(Data_PersoonAanUitVastVrij136=-1,\"v\",\"\")","v":""},null,"v",null,null,null,null,0,0,null,{"$f":"IF(Data_NaamPersoonVastOntslag136=\"\",\"\",Data_NaamPersoonVastOntslag136)","v":""},null,null,{"$f":"IF(Data_BeeindigingsdatumVastOntslag136=\"\",\"\",Data_BeeindigingsdatumVastOntslag136)","v":""},null,null,{"$f":"IF(Data_LoonkostenVastOntslag136=\"\",\"\",Data_LoonkostenVastOntslag136)","v":""},null,{"$f":"IF(Data_PersoonAanUitVastOntslag136=-1,\"v\",\"\")","v":""},null,"v",null,null,null,null,0,0]
[null,null,null,null,null,null,null,{"$f":"IF(Data_NaamPersoonNatVerloop137=\"\",\"\",Data_NaamPersoonNatVerloop137)","v":""},null,null,{"$f":"IF(Data_BeeindigingsdatumNatVerloop137=\"\",\"\",Data_BeeindigingsdatumNatVerloop137)","v":""},null,null,{"$f":"IF(Data_LoonkostenNatVerloop137=\"\",\"\",Data_LoonkostenNatVerloop137)","v":""},null,"v",null,"v",null,null,null,null,0,"",null,null,null,null,null,null,null,null,{"$f":"IF(Data_NaamPersoonTijd137=\"\",\"\",Data_NaamPersoonTijd137)","v":""},null,null,{"$f":"IF(Data_BeeindigingsdatumTijd137=\"\",\"\",Data_BeeindigingsdatumTijd137)","v":""},null,null,{"$f":"IF(Data_LoonkostenTijd137=\"\",\"\",Data_LoonkostenTijd137)","v":""},null,{"$f":"IF(Data_PersoonAanUitTijd137=-1,\"v\",\"\")","v":""},null,"v",null,null,null,null,0,0,null,null,null,{"$f":"IF(Data_NaamPersoonVastVrij137=\"\",\"\",Data_NaamPersoonVastVrij137)","v":""},null,null,{"$f":"IF(Data_BeeindigingsdatumVastVrij137=\"\",\"\",Data_BeeindigingsdatumVastVrij137)","v":""},null,null,{"$f":"IF(Data_LoonkostenVastVrij137=\"\",\"\",Data_LoonkostenVastVrij137)","v":""},null,{"$f":"IF(Data_PersoonAanUitVastVrij137=-1,\"v\",\"\")","v":""},null,"v",null,null,null,null,0,0,null,{"$f":"IF(Data_NaamPersoonVastOntslag137=\"\",\"\",Data_NaamPersoonVastOntslag137)","v":""},null,null,{"$f":"IF(Data_BeeindigingsdatumVastOntslag137=\"\",\"\",Data_BeeindigingsdatumVastOntslag137)","v":""},null,null,{"$f":"IF(Data_LoonkostenVastOntslag137=\"\",\"\",Data_LoonkostenVastOntslag137)","v":""},null,{"$f":"IF(Data_PersoonAanUitVastOntslag137=-1,\"v\",\"\")","v":""},null,"v",null,null,null,null,0,0]
[null,null,null,null,null,null,null,{"$f":"IF(Data_NaamPersoonNatVerloop138=\"\",\"\",Data_NaamPersoonNatVerloop138)","v":""},null,null,{"$f":"IF(Data_BeeindigingsdatumNatVerloop138=\"\",\"\",Data_BeeindigingsdatumNatVerloop138)","v":""},null,null,{"$f":"IF(Data_LoonkostenNatVerloop138=\"\",\"\",Data_LoonkostenNatVerloop138)","v":""},null,"v",null,"v",null,null,null,null,0,"",null,null,null,null,null,null,null,null,{"$f":"IF(Data_NaamPersoonTijd138=\"\",\"\",Data_NaamPersoonTijd138)","v":""},null,null,{"$f":"IF(Data_BeeindigingsdatumTijd138=\"\",\"\",Data_BeeindigingsdatumTijd138)","v":""},null,null,{"$f":"IF(Data_LoonkostenTijd138=\"\",\"\",Data_LoonkostenTijd138)","v":""},null,{"$f":"IF(Data_PersoonAanUitTijd138=-1,\"v\",\"\")","v":""},null,"v",null,null,null,null,0,0,null,null,null,{"$f":"IF(Data_NaamPersoonVastVrij138=\"\",\"\",Data_NaamPersoonVastVrij138)","v":""},null,null,{"$f":"IF(Data_BeeindigingsdatumVastVrij138=\"\",\"\",Data_BeeindigingsdatumVastVrij138)","v":""},null,null,{"$f":"IF(Data_LoonkostenVastVrij138=\"\",\"\",Data_LoonkostenVastVrij138)","v":""},null,{"$f":"IF(Data_PersoonAanUitVastVrij138=-1,\"v\",\"\")","v":""},null,"v",null,null,null,null,0,0,null,{"$f":"IF(Data_NaamPersoonVastOntslag138=\"\",\"\",Data_NaamPersoonVastOntslag138)","v":""},null,null,{"$f":"IF(Data_BeeindigingsdatumVastOntslag138=\"\",\"\",Data_BeeindigingsdatumVastOntslag138)","v":""},null,null,{"$f":"IF(Data_LoonkostenVastOntslag138=\"\",\"\",Data_LoonkostenVastOntslag138)","v":""},null,{"$f":"IF(Data_PersoonAanUitVastOntslag138=-1,\"v\",\"\")","v":""},null,"v",null,null,null,null,0,0]
[null,null,null,null,null,null,null,{"$f":"IF(Data_NaamPersoonNatVerloop139=\"\",\"\",Data_NaamPersoonNatVerloop139)","v":""},null,null,{"$f":"IF(Data_BeeindigingsdatumNatVerloop139=\"\",\"\",Data_BeeindigingsdatumNatVerloop139)","v":""},null,null,{"$f":"IF(Data_LoonkostenNatVerloop139=\"\",\"\",Data_LoonkostenNatVerloop139)","v":""},null,"v",null,"v",null,null,null,null,0,"",null,null,null,null,null,null,null,null,{"$f":"IF(Data_NaamPersoonTijd139=\"\",\"\",Data_NaamPersoonTijd139)","v":""},null,null,{"$f":"IF(Data_BeeindigingsdatumTijd139=\"\",\"\",Data_BeeindigingsdatumTijd139)","v":""},null,null,{"$f":"IF(Data_LoonkostenTijd139=\"\",\"\",Data_LoonkostenTijd139)","v":""},null,{"$f":"IF(Data_PersoonAanUitTijd139=-1,\"v\",\"\")","v":""},null,"v",null,null,null,null,0,0,null,null,null,{"$f":"IF(Data_NaamPersoonVastVrij139=\"\",\"\",Data_NaamPersoonVastVrij139)","v":""},null,null,{"$f":"IF(Data_BeeindigingsdatumVastVrij139=\"\",\"\",Data_BeeindigingsdatumVastVrij139)","v":""},null,null,{"$f":"IF(Data_LoonkostenVastVrij139=\"\",\"\",Data_LoonkostenVastVrij139)","v":""},null,{"$f":"IF(Data_PersoonAanUitVastVrij139=-1,\"v\",\"\")","v":""},null,"v",null,null,null,null,0,0,null,{"$f":"IF(Data_NaamPersoonVastOntslag139=\"\",\"\",Data_NaamPersoonVastOntslag139)","v":""},null,null,{"$f":"IF(Data_BeeindigingsdatumVastOntslag139=\"\",\"\",Data_BeeindigingsdatumVastOntslag139)","v":""},null,null,{"$f":"IF(Data_LoonkostenVastOntslag139=\"\",\"\",Data_LoonkostenVastOntslag139)","v":""},null,{"$f":"IF(Data_PersoonAanUitVastOntslag139=-1,\"v\",\"\")","v":""},null,"v",null,null,null,null,0,0]
[null,null,null,null,null,null,null,{"$f":"IF(Data_NaamPersoonNatVerloop140=\"\",\"\",Data_NaamPersoonNatVerloop140)","v":""},null,null,{"$f":"IF(Data_BeeindigingsdatumNatVerloop140=\"\",\"\",Data_BeeindigingsdatumNatVerloop140)","v":""},null,null,{"$f":"IF(Data_LoonkostenNatVerloop140=\"\",\"\",Data_LoonkostenNatVerloop140)","v":""},null,"v",null,"v",null,null,null,null,0,"",null,null,null,null,null,null,null,null,{"$f":"IF(Data_NaamPersoonTijd140=\"\",\"\",Data_NaamPersoonTijd140)","v":""},null,null,{"$f":"IF(Data_BeeindigingsdatumTijd140=\"\",\"\",Data_BeeindigingsdatumTijd140)","v":""},null,null,{"$f":"IF(Data_LoonkostenTijd140=\"\",\"\",Data_LoonkostenTijd140)","v":""},null,{"$f":"IF(Data_PersoonAanUitTijd140=-1,\"v\",\"\")","v":""},null,"v",null,null,null,null,0,0,null,null,null,{"$f":"IF(Data_NaamPersoonVastVrij140=\"\",\"\",Data_NaamPersoonVastVrij140)","v":""},null,null,{"$f":"IF(Data_BeeindigingsdatumVastVrij140=\"\",\"\",Data_BeeindigingsdatumVastVrij140)","v":""},null,null,{"$f":"IF(Data_LoonkostenVastVrij140=\"\",\"\",Data_LoonkostenVastVrij140)","v":""},null,{"$f":"IF(Data_PersoonAanUitVastVrij140=-1,\"v\",\"\")","v":""},null,"v",null,null,null,null,0,0,null,{"$f":"IF(Data_NaamPersoonVastOntslag140=\"\",\"\",Data_NaamPersoonVastOntslag140)","v":""},null,null,{"$f":"IF(Data_BeeindigingsdatumVastOntslag140=\"\",\"\",Data_BeeindigingsdatumVastOntslag140)","v":""},null,null,{"$f":"IF(Data_LoonkostenVastOntslag140=\"\",\"\",Data_LoonkostenVastOntslag140)","v":""},null,{"$f":"IF(Data_PersoonAanUitVastOntslag140=-1,\"v\",\"\")","v":""},null,"v",null,null,null,null,0,0]
[null,null,null,null,null,null,null,{"$f":"IF(Data_NaamPersoonNatVerloop141=\"\",\"\",Data_NaamPersoonNatVerloop141)","v":""},null,null,{"$f":"IF(Data_BeeindigingsdatumNatVerloop141=\"\",\"\",Data_BeeindigingsdatumNatVerloop141)","v":""},null,null,{"$f":"IF(Data_LoonkostenNatVerloop141=\"\",\"\",Data_LoonkostenNatVerloop141)","v":""},null,"v",null,"v",null,null,null,null,0,"",null,null,null,null,null,null,null,null,{"$f":"IF(Data_NaamPersoonTijd141=\"\",\"\",Data_NaamPersoonTijd141)","v":""},null,null,{"$f":"IF(Data_BeeindigingsdatumTijd141=\"\",\"\",Data_BeeindigingsdatumTijd141)","v":""},null,null,{"$f":"IF(Data_LoonkostenTijd141=\"\",\"\",Data_LoonkostenTijd141)","v":""},null,{"$f":"IF(Data_PersoonAanUitTijd141=-1,\"v\",\"\")","v":""},null,"v",null,null,null,null,0,0,null,null,null,{"$f":"IF(Data_NaamPersoonVastVrij141=\"\",\"\",Data_NaamPersoonVastVrij141)","v":""},null,null,{"$f":"IF(Data_BeeindigingsdatumVastVrij141=\"\",\"\",Data_BeeindigingsdatumVastVrij141)","v":""},null,null,{"$f":"IF(Data_LoonkostenVastVrij141=\"\",\"\",Data_LoonkostenVastVrij141)","v":""},null,{"$f":"IF(Data_PersoonAanUitVastVrij141=-1,\"v\",\"\")","v":""},null,"v",null,null,null,null,0,0,null,{"$f":"IF(Data_NaamPersoonVastOntslag141=\"\",\"\",Data_NaamPersoonVastOntslag141)","v":""},null,null,{"$f":"IF(Data_BeeindigingsdatumVastOntslag141=\"\",\"\",Data_BeeindigingsdatumVastOntslag141)","v":""},null,null,{"$f":"IF(Data_LoonkostenVastOntslag141=\"\",\"\",Data_LoonkostenVastOntslag141)","v":""},null,{"$f":"IF(Data_PersoonAanUitVastOntslag141=-1,\"v\",\"\")","v":""},null,"v",null,null,null,null,0,0]
[null,null,null,null,null,null,null,{"$f":"IF(Data_NaamPersoonNatVerloop142=\"\",\"\",Data_NaamPersoonNatVerloop142)","v":""},null,null,{"$f":"IF(Data_BeeindigingsdatumNatVerloop142=\"\",\"\",Data_BeeindigingsdatumNatVerloop142)","v":""},null,null,{"$f":"IF(Data_LoonkostenNatVerloop142=\"\",\"\",Data_LoonkostenNatVerloop142)","v":""},null,"v",null,"v",null,null,null,null,0,"",null,null,null,null,null,null,null,null,{"$f":"IF(Data_NaamPersoonTijd142=\"\",\"\",Data_NaamPersoonTijd142)","v":""},null,null,{"$f":"IF(Data_BeeindigingsdatumTijd142=\"\",\"\",Data_BeeindigingsdatumTijd142)","v":""},null,null,{"$f":"IF(Data_LoonkostenTijd142=\"\",\"\",Data_LoonkostenTijd142)","v":""},null,{"$f":"IF(Data_PersoonAanUitTijd142=-1,\"v\",\"\")","v":""},null,"v",null,null,null,null,0,0,null,null,null,{"$f":"IF(Data_NaamPersoonVastVrij142=\"\",\"\",Data_NaamPersoonVastVrij142)","v":""},null,null,{"$f":"IF(Data_BeeindigingsdatumVastVrij142=\"\",\"\",Data_BeeindigingsdatumVastVrij142)","v":""},null,null,{"$f":"IF(Data_LoonkostenVastVrij142=\"\",\"\",Data_LoonkostenVastVrij142)","v":""},null,{"$f":"IF(Data_PersoonAanUitVastVrij142=-1,\"v\",\"\")","v":""},null,"v",null,null,null,null,0,0,null,{"$f":"IF(Data_NaamPersoonVastOntslag142=\"\",\"\",Data_NaamPersoonVastOntslag142)","v":""},null,null,{"$f":"IF(Data_BeeindigingsdatumVastOntslag142=\"\",\"\",Data_BeeindigingsdatumVastOntslag142)","v":""},null,null,{"$f":"IF(Data_LoonkostenVastOntslag142=\"\",\"\",Data_LoonkostenVastOntslag142)","v":""},null,{"$f":"IF(Data_PersoonAanUitVastOntslag142=-1,\"v\",\"\")","v":""},null,"v",null,null,null,null,0,0]
[null,null,null,null,null,null,null,{"$f":"IF(Data_NaamPersoonNatVerloop143=\"\",\"\",Data_NaamPersoonNatVerloop143)","v":""},null,null,{"$f":"IF(Data_BeeindigingsdatumNatVerloop143=\"\",\"\",Data_BeeindigingsdatumNatVerloop143)","v":""},null,null,{"$f":"IF(Data_LoonkostenNatVerloop143=\"\",\"\",Data_LoonkostenNatVerloop143)","v":""},null,"v",null,"v",null,null,null,null,0,"",null,null,null,null,null,null,null,null,{"$f":"IF(Data_NaamPersoonTijd143=\"\",\"\",Data_NaamPersoonTijd143)","v":""},null,null,{"$f":"IF(Data_BeeindigingsdatumTijd143=\"\",\"\",Data_BeeindigingsdatumTijd143)","v":""},null,null,{"$f":"IF(Data_LoonkostenTijd143=\"\",\"\",Data_LoonkostenTijd143)","v":""},null,{"$f":"IF(Data_PersoonAanUitTijd143=-1,\"v\",\"\")","v":""},null,"v",null,null,null,null,0,0,null,null,null,{"$f":"IF(Data_NaamPersoonVastVrij143=\"\",\"\",Data_NaamPersoonVastVrij143)","v":""},null,null,{"$f":"IF(Data_BeeindigingsdatumVastVrij143=\"\",\"\",Data_BeeindigingsdatumVastVrij143)","v":""},null,null,{"$f":"IF(Data_LoonkostenVastVrij143=\"\",\"\",Data_LoonkostenVastVrij143)","v":""},null,{"$f":"IF(Data_PersoonAanUitVastVrij143=-1,\"v\",\"\")","v":""},null,"v",null,null,null,null,0,0,null,{"$f":"IF(Data_NaamPersoonVastOntslag143=\"\",\"\",Data_NaamPersoonVastOntslag143)","v":""},null,null,{"$f":"IF(Data_BeeindigingsdatumVastOntslag143=\"\",\"\",Data_BeeindigingsdatumVastOntslag143)","v":""},null,null,{"$f":"IF(Data_LoonkostenVastOntslag143=\"\",\"\",Data_LoonkostenVastOntslag143)","v":""},null,{"$f":"IF(Data_PersoonAanUitVastOntslag143=-1,\"v\",\"\")","v":""},null,"v",null,null,null,null,0,0]
[null,null,null,null,null,null,null,{"$f":"IF(Data_NaamPersoonNatVerloop144=\"\",\"\",Data_NaamPersoonNatVerloop144)","v":""},null,null,{"$f":"IF(Data_BeeindigingsdatumNatVerloop144=\"\",\"\",Data_BeeindigingsdatumNatVerloop144)","v":""},null,null,{"$f":"IF(Data_LoonkostenNatVerloop144=\"\",\"\",Data_LoonkostenNatVerloop144)","v":""},null,"v",null,"v",null,null,null,null,0,"",null,null,null,null,null,null,null,null,{"$f":"IF(Data_NaamPersoonTijd144=\"\",\"\",Data_NaamPersoonTijd144)","v":""},null,null,{"$f":"IF(Data_BeeindigingsdatumTijd144=\"\",\"\",Data_BeeindigingsdatumTijd144)","v":""},null,null,{"$f":"IF(Data_LoonkostenTijd144=\"\",\"\",Data_LoonkostenTijd144)","v":""},null,{"$f":"IF(Data_PersoonAanUitTijd144=-1,\"v\",\"\")","v":""},null,"v",null,null,null,null,0,0,null,null,null,{"$f":"IF(Data_NaamPersoonVastVrij144=\"\",\"\",Data_NaamPersoonVastVrij144)","v":""},null,null,{"$f":"IF(Data_BeeindigingsdatumVastVrij144=\"\",\"\",Data_BeeindigingsdatumVastVrij144)","v":""},null,null,{"$f":"IF(Data_LoonkostenVastVrij144=\"\",\"\",Data_LoonkostenVastVrij144)","v":""},null,{"$f":"IF(Data_PersoonAanUitVastVrij144=-1,\"v\",\"\")","v":""},null,"v",null,null,null,null,0,0,null,{"$f":"IF(Data_NaamPersoonVastOntslag144=\"\",\"\",Data_NaamPersoonVastOntslag144)","v":""},null,null,{"$f":"IF(Data_BeeindigingsdatumVastOntslag144=\"\",\"\",Data_BeeindigingsdatumVastOntslag144)","v":""},null,null,{"$f":"IF(Data_LoonkostenVastOntslag144=\"\",\"\",Data_LoonkostenVastOntslag144)","v":""},null,{"$f":"IF(Data_PersoonAanUitVastOntslag144=-1,\"v\",\"\")","v":""},null,"v",null,null,null,null,0,0]
[null,null,null,null,null,null,null,{"$f":"IF(Data_NaamPersoonNatVerloop145=\"\",\"\",Data_NaamPersoonNatVerloop145)","v":""},null,null,{"$f":"IF(Data_BeeindigingsdatumNatVerloop145=\"\",\"\",Data_BeeindigingsdatumNatVerloop145)","v":""},null,null,{"$f":"IF(Data_LoonkostenNatVerloop145=\"\",\"\",Data_LoonkostenNatVerloop145)","v":""},null,"v",null,"v",null,null,null,null,0,"",null,null,null,null,null,null,null,null,{"$f":"IF(Data_NaamPersoonTijd145=\"\",\"\",Data_NaamPersoonTijd145)","v":""},null,null,{"$f":"IF(Data_BeeindigingsdatumTijd145=\"\",\"\",Data_BeeindigingsdatumTijd145)","v":""},null,null,{"$f":"IF(Data_LoonkostenTijd145=\"\",\"\",Data_LoonkostenTijd145)","v":""},null,{"$f":"IF(Data_PersoonAanUitTijd145=-1,\"v\",\"\")","v":""},null,"v",null,null,null,null,0,0,null,null,null,{"$f":"IF(Data_NaamPersoonVastVrij145=\"\",\"\",Data_NaamPersoonVastVrij145)","v":""},null,null,{"$f":"IF(Data_BeeindigingsdatumVastVrij145=\"\",\"\",Data_BeeindigingsdatumVastVrij145)","v":""},null,null,{"$f":"IF(Data_LoonkostenVastVrij145=\"\",\"\",Data_LoonkostenVastVrij145)","v":""},null,{"$f":"IF(Data_PersoonAanUitVastVrij145=-1,\"v\",\"\")","v":""},null,"v",null,null,null,null,0,0,null,{"$f":"IF(Data_NaamPersoonVastOntslag145=\"\",\"\",Data_NaamPersoonVastOntslag145)","v":""},null,null,{"$f":"IF(Data_BeeindigingsdatumVastOntslag145=\"\",\"\",Data_BeeindigingsdatumVastOntslag145)","v":""},null,null,{"$f":"IF(Data_LoonkostenVastOntslag145=\"\",\"\",Data_LoonkostenVastOntslag145)","v":""},null,{"$f":"IF(Data_PersoonAanUitVastOntslag145=-1,\"v\",\"\")","v":""},null,"v",null,null,null,null,0,0]
[null,null,null,null,null,null,null,{"$f":"IF(Data_NaamPersoonNatVerloop146=\"\",\"\",Data_NaamPersoonNatVerloop146)","v":""},null,null,{"$f":"IF(Data_BeeindigingsdatumNatVerloop146=\"\",\"\",Data_BeeindigingsdatumNatVerloop146)","v":""},null,null,{"$f":"IF(Data_LoonkostenNatVerloop146=\"\",\"\",Data_LoonkostenNatVerloop146)","v":""},null,"v",null,"v",null,null,null,null,0,"",null,null,null,null,null,null,null,null,{"$f":"IF(Data_NaamPersoonTijd146=\"\",\"\",Data_NaamPersoonTijd146)","v":""},null,null,{"$f":"IF(Data_BeeindigingsdatumTijd146=\"\",\"\",Data_BeeindigingsdatumTijd146)","v":""},null,null,{"$f":"IF(Data_LoonkostenTijd146=\"\",\"\",Data_LoonkostenTijd146)","v":""},null,{"$f":"IF(Data_PersoonAanUitTijd146=-1,\"v\",\"\")","v":""},null,"v",null,null,null,null,0,0,null,null,null,{"$f":"IF(Data_NaamPersoonVastVrij146=\"\",\"\",Data_NaamPersoonVastVrij146)","v":""},null,null,{"$f":"IF(Data_BeeindigingsdatumVastVrij146=\"\",\"\",Data_BeeindigingsdatumVastVrij146)","v":""},null,null,{"$f":"IF(Data_LoonkostenVastVrij146=\"\",\"\",Data_LoonkostenVastVrij146)","v":""},null,{"$f":"IF(Data_PersoonAanUitVastVrij146=-1,\"v\",\"\")","v":""},null,"v",null,null,null,null,0,0,null,{"$f":"IF(Data_NaamPersoonVastOntslag146=\"\",\"\",Data_NaamPersoonVastOntslag146)","v":""},null,null,{"$f":"IF(Data_BeeindigingsdatumVastOntslag146=\"\",\"\",Data_BeeindigingsdatumVastOntslag146)","v":""},null,null,{"$f":"IF(Data_LoonkostenVastOntslag146=\"\",\"\",Data_LoonkostenVastOntslag146)","v":""},null,{"$f":"IF(Data_PersoonAanUitVastOntslag146=-1,\"v\",\"\")","v":""},null,"v",null,null,null,null,0,0]
[null,null,null,null,null,null,null,{"$f":"IF(Data_NaamPersoonNatVerloop147=\"\",\"\",Data_NaamPersoonNatVerloop147)","v":""},null,null,{"$f":"IF(Data_BeeindigingsdatumNatVerloop147=\"\",\"\",Data_BeeindigingsdatumNatVerloop147)","v":""},null,null,{"$f":"IF(Data_LoonkostenNatVerloop147=\"\",\"\",Data_LoonkostenNatVerloop147)","v":""},null,"v",null,"v",null,null,null,null,0,"",null,null,null,null,null,null,null,null,{"$f":"IF(Data_NaamPersoonTijd147=\"\",\"\",Data_NaamPersoonTijd147)","v":""},null,null,{"$f":"IF(Data_BeeindigingsdatumTijd147=\"\",\"\",Data_BeeindigingsdatumTijd147)","v":""},null,null,{"$f":"IF(Data_LoonkostenTijd147=\"\",\"\",Data_LoonkostenTijd147)","v":""},null,{"$f":"IF(Data_PersoonAanUitTijd147=-1,\"v\",\"\")","v":""},null,"v",null,null,null,null,0,0,null,null,null,{"$f":"IF(Data_NaamPersoonVastVrij147=\"\",\"\",Data_NaamPersoonVastVrij147)","v":""},null,null,{"$f":"IF(Data_BeeindigingsdatumVastVrij147=\"\",\"\",Data_BeeindigingsdatumVastVrij147)","v":""},null,null,{"$f":"IF(Data_LoonkostenVastVrij147=\"\",\"\",Data_LoonkostenVastVrij147)","v":""},null,{"$f":"IF(Data_PersoonAanUitVastVrij147=-1,\"v\",\"\")","v":""},null,"v",null,null,null,null,0,0,null,{"$f":"IF(Data_NaamPersoonVastOntslag147=\"\",\"\",Data_NaamPersoonVastOntslag147)","v":""},null,null,{"$f":"IF(Data_BeeindigingsdatumVastOntslag147=\"\",\"\",Data_BeeindigingsdatumVastOntslag147)","v":""},null,null,{"$f":"IF(Data_LoonkostenVastOntslag147=\"\",\"\",Data_LoonkostenVastOntslag147)","v":""},null,{"$f":"IF(Data_PersoonAanUitVastOntslag147=-1,\"v\",\"\")","v":""},null,"v",null,null,null,null,0,0]
[null,null,null,null,null,null,null,{"$f":"IF(Data_NaamPersoonNatVerloop148=\"\",\"\",Data_NaamPersoonNatVerloop148)","v":""},null,null,{"$f":"IF(Data_BeeindigingsdatumNatVerloop148=\"\",\"\",Data_BeeindigingsdatumNatVerloop148)","v":""},null,null,{"$f":"IF(Data_LoonkostenNatVerloop148=\"\",\"\",Data_LoonkostenNatVerloop148)","v":""},null,"v",null,"v",null,null,null,null,0,"",null,null,null,null,null,null,null,null,{"$f":"IF(Data_NaamPersoonTijd148=\"\",\"\",Data_NaamPersoonTijd148)","v":""},null,null,{"$f":"IF(Data_BeeindigingsdatumTijd148=\"\",\"\",Data_BeeindigingsdatumTijd148)","v":""},null,null,{"$f":"IF(Data_LoonkostenTijd148=\"\",\"\",Data_LoonkostenTijd148)","v":""},null,{"$f":"IF(Data_PersoonAanUitTijd148=-1,\"v\",\"\")","v":""},null,"v",null,null,null,null,0,0,null,null,null,{"$f":"IF(Data_NaamPersoonVastVrij148=\"\",\"\",Data_NaamPersoonVastVrij148)","v":""},null,null,{"$f":"IF(Data_BeeindigingsdatumVastVrij148=\"\",\"\",Data_BeeindigingsdatumVastVrij148)","v":""},null,null,{"$f":"IF(Data_LoonkostenVastVrij148=\"\",\"\",Data_LoonkostenVastVrij148)","v":""},null,{"$f":"IF(Data_PersoonAanUitVastVrij148=-1,\"v\",\"\")","v":""},null,"v",null,null,null,null,0,0,null,{"$f":"IF(Data_NaamPersoonVastOntslag148=\"\",\"\",Data_NaamPersoonVastOntslag148)","v":""},null,null,{"$f":"IF(Data_BeeindigingsdatumVastOntslag148=\"\",\"\",Data_BeeindigingsdatumVastOntslag148)","v":""},null,null,{"$f":"IF(Data_LoonkostenVastOntslag148=\"\",\"\",Data_LoonkostenVastOntslag148)","v":""},null,{"$f":"IF(Data_PersoonAanUitVastOntslag148=-1,\"v\",\"\")","v":""},null,"v",null,null,null,null,0,0]
[null,null,null,null,null,null,null,{"$f":"IF(Data_NaamPersoonNatVerloop149=\"\",\"\",Data_NaamPersoonNatVerloop149)","v":""},null,null,{"$f":"IF(Data_BeeindigingsdatumNatVerloop149=\"\",\"\",Data_BeeindigingsdatumNatVerloop149)","v":""},null,null,{"$f":"IF(Data_LoonkostenNatVerloop149=\"\",\"\",Data_LoonkostenNatVerloop149)","v":""},null,"v",null,"v",null,null,null,null,0,"",null,null,null,null,null,null,null,null,{"$f":"IF(Data_NaamPersoonTijd149=\"\",\"\",Data_NaamPersoonTijd149)","v":""},null,null,{"$f":"IF(Data_BeeindigingsdatumTijd149=\"\",\"\",Data_BeeindigingsdatumTijd149)","v":""},null,null,{"$f":"IF(Data_LoonkostenTijd149=\"\",\"\",Data_LoonkostenTijd149)","v":""},null,{"$f":"IF(Data_PersoonAanUitTijd149=-1,\"v\",\"\")","v":""},null,"v",null,null,null,null,0,0,null,null,null,{"$f":"IF(Data_NaamPersoonVastVrij149=\"\",\"\",Data_NaamPersoonVastVrij149)","v":""},null,null,{"$f":"IF(Data_BeeindigingsdatumVastVrij149=\"\",\"\",Data_BeeindigingsdatumVastVrij149)","v":""},null,null,{"$f":"IF(Data_LoonkostenVastVrij149=\"\",\"\",Data_LoonkostenVastVrij149)","v":""},null,{"$f":"IF(Data_PersoonAanUitVastVrij149=-1,\"v\",\"\")","v":""},null,"v",null,null,null,null,0,0,null,{"$f":"IF(Data_NaamPersoonVastOntslag149=\"\",\"\",Data_NaamPersoonVastOntslag149)","v":""},null,null,{"$f":"IF(Data_BeeindigingsdatumVastOntslag149=\"\",\"\",Data_BeeindigingsdatumVastOntslag149)","v":""},null,null,{"$f":"IF(Data_LoonkostenVastOntslag149=\"\",\"\",Data_LoonkostenVastOntslag149)","v":""},null,{"$f":"IF(Data_PersoonAanUitVastOntslag149=-1,\"v\",\"\")","v":""},null,"v",null,null,null,null,0,0]
[null,null,null,null,null,null,null,{"$f":"IF(Data_NaamPersoonNatVerloop150=\"\",\"\",Data_NaamPersoonNatVerloop150)","v":""},null,null,{"$f":"IF(Data_BeeindigingsdatumNatVerloop150=\"\",\"\",Data_BeeindigingsdatumNatVerloop150)","v":""},null,null,{"$f":"IF(Data_LoonkostenNatVerloop150=\"\",\"\",Data_LoonkostenNatVerloop150)","v":""},null,"v",null,"v",null,null,null,null,0,"",null,null,null,null,null,null,null,null,{"$f":"IF(Data_NaamPersoonTijd150=\"\",\"\",Data_NaamPersoonTijd150)","v":""},null,null,{"$f":"IF(Data_BeeindigingsdatumTijd150=\"\",\"\",Data_BeeindigingsdatumTijd150)","v":""},null,null,{"$f":"IF(Data_LoonkostenTijd150=\"\",\"\",Data_LoonkostenTijd150)","v":""},null,{"$f":"IF(Data_PersoonAanUitTijd150=-1,\"v\",\"\")","v":""},null,"v",null,null,null,null,0,0,null,null,null,{"$f":"IF(Data_NaamPersoonVastVrij150=\"\",\"\",Data_NaamPersoonVastVrij150)","v":""},null,null,{"$f":"IF(Data_BeeindigingsdatumVastVrij150=\"\",\"\",Data_BeeindigingsdatumVastVrij150)","v":""},null,null,{"$f":"IF(Data_LoonkostenVastVrij150=\"\",\"\",Data_LoonkostenVastVrij150)","v":""},null,{"$f":"IF(Data_PersoonAanUitVastVrij150=-1,\"v\",\"\")","v":""},null,"v",null,null,null,null,0,0,null,{"$f":"IF(Data_NaamPersoonVastOntslag150=\"\",\"\",Data_NaamPersoonVastOntslag150)","v":""},null,null,{"$f":"IF(Data_BeeindigingsdatumVastOntslag150=\"\",\"\",Data_BeeindigingsdatumVastOntslag150)","v":""},null,null,{"$f":"IF(Data_LoonkostenVastOntslag150=\"\",\"\",Data_LoonkostenVastOntslag150)","v":""},null,{"$f":"IF(Data_PersoonAanUitVastOntslag150=-1,\"v\",\"\")","v":""},null,"v",null,null,null,null,0,0]
[null,null,null,null,null,null,null,{"$f":"IF(Data_NaamPersoonNatVerloop151=\"\",\"\",Data_NaamPersoonNatVerloop151)","v":""},null,null,{"$f":"IF(Data_BeeindigingsdatumNatVerloop151=\"\",\"\",Data_BeeindigingsdatumNatVerloop151)","v":""},null,null,{"$f":"IF(Data_LoonkostenNatVerloop151=\"\",\"\",Data_LoonkostenNatVerloop151)","v":""},null,"v",null,"v",null,null,null,null,0,"",null,null,null,null,null,null,null,null,{"$f":"IF(Data_NaamPersoonTijd151=\"\",\"\",Data_NaamPersoonTijd151)","v":""},null,null,{"$f":"IF(Data_BeeindigingsdatumTijd151=\"\",\"\",Data_BeeindigingsdatumTijd151)","v":""},null,null,{"$f":"IF(Data_LoonkostenTijd151=\"\",\"\",Data_LoonkostenTijd151)","v":""},null,{"$f":"IF(Data_PersoonAanUitTijd151=-1,\"v\",\"\")","v":""},null,"v",null,null,null,null,0,0,null,null,null,{"$f":"IF(Data_NaamPersoonVastVrij151=\"\",\"\",Data_NaamPersoonVastVrij151)","v":""},null,null,{"$f":"IF(Data_BeeindigingsdatumVastVrij151=\"\",\"\",Data_BeeindigingsdatumVastVrij151)","v":""},null,null,{"$f":"IF(Data_LoonkostenVastVrij151=\"\",\"\",Data_LoonkostenVastVrij151)","v":""},null,{"$f":"IF(Data_PersoonAanUitVastVrij151=-1,\"v\",\"\")","v":""},null,"v",null,null,null,null,0,0,null,{"$f":"IF(Data_NaamPersoonVastOntslag151=\"\",\"\",Data_NaamPersoonVastOntslag151)","v":""},null,null,{"$f":"IF(Data_BeeindigingsdatumVastOntslag151=\"\",\"\",Data_BeeindigingsdatumVastOntslag151)","v":""},null,null,{"$f":"IF(Data_LoonkostenVastOntslag151=\"\",\"\",Data_LoonkostenVastOntslag151)","v":""},null,{"$f":"IF(Data_PersoonAanUitVastOntslag151=-1,\"v\",\"\")","v":""},null,"v",null,null,null,null,0,0]
[null,null,null,null,null,null,null,{"$f":"IF(Data_NaamPersoonNatVerloop152=\"\",\"\",Data_NaamPersoonNatVerloop152)","v":""},null,null,{"$f":"IF(Data_BeeindigingsdatumNatVerloop152=\"\",\"\",Data_BeeindigingsdatumNatVerloop152)","v":""},null,null,{"$f":"IF(Data_LoonkostenNatVerloop152=\"\",\"\",Data_LoonkostenNatVerloop152)","v":""},null,"v",null,"v",null,null,null,null,0,"",null,null,null,null,null,null,null,null,{"$f":"IF(Data_NaamPersoonTijd152=\"\",\"\",Data_NaamPersoonTijd152)","v":""},null,null,{"$f":"IF(Data_BeeindigingsdatumTijd152=\"\",\"\",Data_BeeindigingsdatumTijd152)","v":""},null,null,{"$f":"IF(Data_LoonkostenTijd152=\"\",\"\",Data_LoonkostenTijd152)","v":""},null,{"$f":"IF(Data_PersoonAanUitTijd152=-1,\"v\",\"\")","v":""},null,"v",null,null,null,null,0,0,null,null,null,{"$f":"IF(Data_NaamPersoonVastVrij152=\"\",\"\",Data_NaamPersoonVastVrij152)","v":""},null,null,{"$f":"IF(Data_BeeindigingsdatumVastVrij152=\"\",\"\",Data_BeeindigingsdatumVastVrij152)","v":""},null,null,{"$f":"IF(Data_LoonkostenVastVrij152=\"\",\"\",Data_LoonkostenVastVrij152)","v":""},null,{"$f":"IF(Data_PersoonAanUitVastVrij152=-1,\"v\",\"\")","v":""},null,"v",null,null,null,null,0,0,null,{"$f":"IF(Data_NaamPersoonVastOntslag152=\"\",\"\",Data_NaamPersoonVastOntslag152)","v":""},null,null,{"$f":"IF(Data_BeeindigingsdatumVastOntslag152=\"\",\"\",Data_BeeindigingsdatumVastOntslag152)","v":""},null,null,{"$f":"IF(Data_LoonkostenVastOntslag152=\"\",\"\",Data_LoonkostenVastOntslag152)","v":""},null,{"$f":"IF(Data_PersoonAanUitVastOntslag152=-1,\"v\",\"\")","v":""},null,"v",null,null,null,null,0,0]
[null,null,null,null,null,null,null,{"$f":"IF(Data_NaamPersoonNatVerloop153=\"\",\"\",Data_NaamPersoonNatVerloop153)","v":""},null,null,{"$f":"IF(Data_BeeindigingsdatumNatVerloop153=\"\",\"\",Data_BeeindigingsdatumNatVerloop153)","v":""},null,null,{"$f":"IF(Data_LoonkostenNatVerloop153=\"\",\"\",Data_LoonkostenNatVerloop153)","v":""},null,"v",null,"v",null,null,null,null,0,"",null,null,null,null,null,null,null,null,{"$f":"IF(Data_NaamPersoonTijd153=\"\",\"\",Data_NaamPersoonTijd153)","v":""},null,null,{"$f":"IF(Data_BeeindigingsdatumTijd153=\"\",\"\",Data_BeeindigingsdatumTijd153)","v":""},null,null,{"$f":"IF(Data_LoonkostenTijd153=\"\",\"\",Data_LoonkostenTijd153)","v":""},null,{"$f":"IF(Data_PersoonAanUitTijd153=-1,\"v\",\"\")","v":""},null,"v",null,null,null,null,0,0,null,null,null,{"$f":"IF(Data_NaamPersoonVastVrij153=\"\",\"\",Data_NaamPersoonVastVrij153)","v":""},null,null,{"$f":"IF(Data_BeeindigingsdatumVastVrij153=\"\",\"\",Data_BeeindigingsdatumVastVrij153)","v":""},null,null,{"$f":"IF(Data_LoonkostenVastVrij153=\"\",\"\",Data_LoonkostenVastVrij153)","v":""},null,{"$f":"IF(Data_PersoonAanUitVastVrij153=-1,\"v\",\"\")","v":""},null,"v",null,null,null,null,0,0,null,{"$f":"IF(Data_NaamPersoonVastOntslag153=\"\",\"\",Data_NaamPersoonVastOntslag153)","v":""},null,null,{"$f":"IF(Data_BeeindigingsdatumVastOntslag153=\"\",\"\",Data_BeeindigingsdatumVastOntslag153)","v":""},null,null,{"$f":"IF(Data_LoonkostenVastOntslag153=\"\",\"\",Data_LoonkostenVastOntslag153)","v":""},null,{"$f":"IF(Data_PersoonAanUitVastOntslag153=-1,\"v\",\"\")","v":""},null,"v",null,null,null,null,0,0]
[null,null,null,null,null,null,null,{"$f":"IF(Data_NaamPersoonNatVerloop154=\"\",\"\",Data_NaamPersoonNatVerloop154)","v":""},null,null,{"$f":"IF(Data_BeeindigingsdatumNatVerloop154=\"\",\"\",Data_BeeindigingsdatumNatVerloop154)","v":""},null,null,{"$f":"IF(Data_LoonkostenNatVerloop154=\"\",\"\",Data_LoonkostenNatVerloop154)","v":""},null,"v",null,"v",null,null,null,null,0,"",null,null,null,null,null,null,null,null,{"$f":"IF(Data_NaamPersoonTijd154=\"\",\"\",Data_NaamPersoonTijd154)","v":""},null,null,{"$f":"IF(Data_BeeindigingsdatumTijd154=\"\",\"\",Data_BeeindigingsdatumTijd154)","v":""},null,null,{"$f":"IF(Data_LoonkostenTijd154=\"\",\"\",Data_LoonkostenTijd154)","v":""},null,{"$f":"IF(Data_PersoonAanUitTijd154=-1,\"v\",\"\")","v":""},null,"v",null,null,null,null,0,0,null,null,null,{"$f":"IF(Data_NaamPersoonVastVrij154=\"\",\"\",Data_NaamPersoonVastVrij154)","v":""},null,null,{"$f":"IF(Data_BeeindigingsdatumVastVrij154=\"\",\"\",Data_BeeindigingsdatumVastVrij154)","v":""},null,null,{"$f":"IF(Data_LoonkostenVastVrij154=\"\",\"\",Data_LoonkostenVastVrij154)","v":""},null,{"$f":"IF(Data_PersoonAanUitVastVrij154=-1,\"v\",\"\")","v":""},null,"v",null,null,null,null,0,0,null,{"$f":"IF(Data_NaamPersoonVastOntslag154=\"\",\"\",Data_NaamPersoonVastOntslag154)","v":""},null,null,{"$f":"IF(Data_BeeindigingsdatumVastOntslag154=\"\",\"\",Data_BeeindigingsdatumVastOntslag154)","v":""},null,null,{"$f":"IF(Data_LoonkostenVastOntslag154=\"\",\"\",Data_LoonkostenVastOntslag154)","v":""},null,{"$f":"IF(Data_PersoonAanUitVastOntslag154=-1,\"v\",\"\")","v":""},null,"v",null,null,null,null,0,0]
[null,null,null,null,null,null,null,{"$f":"IF(Data_NaamPersoonNatVerloop155=\"\",\"\",Data_NaamPersoonNatVerloop155)","v":""},null,null,{"$f":"IF(Data_BeeindigingsdatumNatVerloop155=\"\",\"\",Data_BeeindigingsdatumNatVerloop155)","v":""},null,null,{"$f":"IF(Data_LoonkostenNatVerloop155=\"\",\"\",Data_LoonkostenNatVerloop155)","v":""},null,"v",null,"v",null,null,null,null,0,"",null,null,null,null,null,null,null,null,{"$f":"IF(Data_NaamPersoonTijd155=\"\",\"\",Data_NaamPersoonTijd155)","v":""},null,null,{"$f":"IF(Data_BeeindigingsdatumTijd155=\"\",\"\",Data_BeeindigingsdatumTijd155)","v":""},null,null,{"$f":"IF(Data_LoonkostenTijd155=\"\",\"\",Data_LoonkostenTijd155)","v":""},null,{"$f":"IF(Data_PersoonAanUitTijd155=-1,\"v\",\"\")","v":""},null,"v",null,null,null,null,0,0,null,null,null,{"$f":"IF(Data_NaamPersoonVastVrij155=\"\",\"\",Data_NaamPersoonVastVrij155)","v":""},null,null,{"$f":"IF(Data_BeeindigingsdatumVastVrij155=\"\",\"\",Data_BeeindigingsdatumVastVrij155)","v":""},null,null,{"$f":"IF(Data_LoonkostenVastVrij155=\"\",\"\",Data_LoonkostenVastVrij155)","v":""},null,{"$f":"IF(Data_PersoonAanUitVastVrij155=-1,\"v\",\"\")","v":""},null,"v",null,null,null,null,0,0,null,{"$f":"IF(Data_NaamPersoonVastOntslag155=\"\",\"\",Data_NaamPersoonVastOntslag155)","v":""},null,null,{"$f":"IF(Data_BeeindigingsdatumVastOntslag155=\"\",\"\",Data_BeeindigingsdatumVastOntslag155)","v":""},null,null,{"$f":"IF(Data_LoonkostenVastOntslag155=\"\",\"\",Data_LoonkostenVastOntslag155)","v":""},null,{"$f":"IF(Data_PersoonAanUitVastOntslag155=-1,\"v\",\"\")","v":""},null,"v",null,null,null,null,0,0]
[null,null,null,null,null,null,null,{"$f":"IF(Data_NaamPersoonNatVerloop156=\"\",\"\",Data_NaamPersoonNatVerloop156)","v":""},null,null,{"$f":"IF(Data_BeeindigingsdatumNatVerloop156=\"\",\"\",Data_BeeindigingsdatumNatVerloop156)","v":""},null,null,{"$f":"IF(Data_LoonkostenNatVerloop156=\"\",\"\",Data_LoonkostenNatVerloop156)","v":""},null,"v",null,"v",null,null,null,null,0,"",null,null,null,null,null,null,null,null,{"$f":"IF(Data_NaamPersoonTijd156=\"\",\"\",Data_NaamPersoonTijd156)","v":""},null,null,{"$f":"IF(Data_BeeindigingsdatumTijd156=\"\",\"\",Data_BeeindigingsdatumTijd156)","v":""},null,null,{"$f":"IF(Data_LoonkostenTijd156=\"\",\"\",Data_LoonkostenTijd156)","v":""},null,{"$f":"IF(Data_PersoonAanUitTijd156=-1,\"v\",\"\")","v":""},null,"v",null,null,null,null,0,0,null,null,null,{"$f":"IF(Data_NaamPersoonVastVrij156=\"\",\"\",Data_NaamPersoonVastVrij156)","v":""},null,null,{"$f":"IF(Data_BeeindigingsdatumVastVrij156=\"\",\"\",Data_BeeindigingsdatumVastVrij156)","v":""},null,null,{"$f":"IF(Data_LoonkostenVastVrij156=\"\",\"\",Data_LoonkostenVastVrij156)","v":""},null,{"$f":"IF(Data_PersoonAanUitVastVrij156=-1,\"v\",\"\")","v":""},null,"v",null,null,null,null,0,0,null,{"$f":"IF(Data_NaamPersoonVastOntslag156=\"\",\"\",Data_NaamPersoonVastOntslag156)","v":""},null,null,{"$f":"IF(Data_BeeindigingsdatumVastOntslag156=\"\",\"\",Data_BeeindigingsdatumVastOntslag156)","v":""},null,null,{"$f":"IF(Data_LoonkostenVastOntslag156=\"\",\"\",Data_LoonkostenVastOntslag156)","v":""},null,{"$f":"IF(Data_PersoonAanUitVastOntslag156=-1,\"v\",\"\")","v":""},null,"v",null,null,null,null,0,0]
[null,null,null,null,null,null,null,{"$f":"IF(Data_NaamPersoonNatVerloop157=\"\",\"\",Data_NaamPersoonNatVerloop157)","v":""},null,null,{"$f":"IF(Data_BeeindigingsdatumNatVerloop157=\"\",\"\",Data_BeeindigingsdatumNatVerloop157)","v":""},null,null,{"$f":"IF(Data_LoonkostenNatVerloop157=\"\",\"\",Data_LoonkostenNatVerloop157)","v":""},null,"v",null,"v",null,null,null,null,0,"",null,null,null,null,null,null,null,null,{"$f":"IF(Data_NaamPersoonTijd157=\"\",\"\",Data_NaamPersoonTijd157)","v":""},null,null,{"$f":"IF(Data_BeeindigingsdatumTijd157=\"\",\"\",Data_BeeindigingsdatumTijd157)","v":""},null,null,{"$f":"IF(Data_LoonkostenTijd157=\"\",\"\",Data_LoonkostenTijd157)","v":""},null,{"$f":"IF(Data_PersoonAanUitTijd157=-1,\"v\",\"\")","v":""},null,"v",null,null,null,null,0,0,null,null,null,{"$f":"IF(Data_NaamPersoonVastVrij157=\"\",\"\",Data_NaamPersoonVastVrij157)","v":""},null,null,{"$f":"IF(Data_BeeindigingsdatumVastVrij157=\"\",\"\",Data_BeeindigingsdatumVastVrij157)","v":""},null,null,{"$f":"IF(Data_LoonkostenVastVrij157=\"\",\"\",Data_LoonkostenVastVrij157)","v":""},null,{"$f":"IF(Data_PersoonAanUitVastVrij157=-1,\"v\",\"\")","v":""},null,"v",null,null,null,null,0,0,null,{"$f":"IF(Data_NaamPersoonVastOntslag157=\"\",\"\",Data_NaamPersoonVastOntslag157)","v":""},null,null,{"$f":"IF(Data_BeeindigingsdatumVastOntslag157=\"\",\"\",Data_BeeindigingsdatumVastOntslag157)","v":""},null,null,{"$f":"IF(Data_LoonkostenVastOntslag157=\"\",\"\",Data_LoonkostenVastOntslag157)","v":""},null,{"$f":"IF(Data_PersoonAanUitVastOntslag157=-1,\"v\",\"\")","v":""},null,"v",null,null,null,null,0,0]
[null,null,null,null,null,null,null,{"$f":"IF(Data_NaamPersoonNatVerloop158=\"\",\"\",Data_NaamPersoonNatVerloop158)","v":""},null,null,{"$f":"IF(Data_BeeindigingsdatumNatVerloop158=\"\",\"\",Data_BeeindigingsdatumNatVerloop158)","v":""},null,null,{"$f":"IF(Data_LoonkostenNatVerloop158=\"\",\"\",Data_LoonkostenNatVerloop158)","v":""},null,"v",null,"v",null,null,null,null,0,"",null,null,null,null,null,null,null,null,{"$f":"IF(Data_NaamPersoonTijd158=\"\",\"\",Data_NaamPersoonTijd158)","v":""},null,null,{"$f":"IF(Data_BeeindigingsdatumTijd158=\"\",\"\",Data_BeeindigingsdatumTijd158)","v":""},null,null,{"$f":"IF(Data_LoonkostenTijd158=\"\",\"\",Data_LoonkostenTijd158)","v":""},null,{"$f":"IF(Data_PersoonAanUitTijd158=-1,\"v\",\"\")","v":""},null,"v",null,null,null,null,0,0,null,null,null,{"$f":"IF(Data_NaamPersoonVastVrij158=\"\",\"\",Data_NaamPersoonVastVrij158)","v":""},null,null,{"$f":"IF(Data_BeeindigingsdatumVastVrij158=\"\",\"\",Data_BeeindigingsdatumVastVrij158)","v":""},null,null,{"$f":"IF(Data_LoonkostenVastVrij158=\"\",\"\",Data_LoonkostenVastVrij158)","v":""},null,{"$f":"IF(Data_PersoonAanUitVastVrij158=-1,\"v\",\"\")","v":""},null,"v",null,null,null,null,0,0,null,{"$f":"IF(Data_NaamPersoonVastOntslag158=\"\",\"\",Data_NaamPersoonVastOntslag158)","v":""},null,null,{"$f":"IF(Data_BeeindigingsdatumVastOntslag158=\"\",\"\",Data_BeeindigingsdatumVastOntslag158)","v":""},null,null,{"$f":"IF(Data_LoonkostenVastOntslag158=\"\",\"\",Data_LoonkostenVastOntslag158)","v":""},null,{"$f":"IF(Data_PersoonAanUitVastOntslag158=-1,\"v\",\"\")","v":""},null,"v",null,null,null,null,0,0]
[null,null,null,null,null,null,null,{"$f":"IF(Data_NaamPersoonNatVerloop159=\"\",\"\",Data_NaamPersoonNatVerloop159)","v":""},null,null,{"$f":"IF(Data_BeeindigingsdatumNatVerloop159=\"\",\"\",Data_BeeindigingsdatumNatVerloop159)","v":""},null,null,{"$f":"IF(Data_LoonkostenNatVerloop159=\"\",\"\",Data_LoonkostenNatVerloop159)","v":""},null,"v",null,"v",null,null,null,null,0,"",null,null,null,null,null,null,null,null,{"$f":"IF(Data_NaamPersoonTijd159=\"\",\"\",Data_NaamPersoonTijd159)","v":""},null,null,{"$f":"IF(Data_BeeindigingsdatumTijd159=\"\",\"\",Data_BeeindigingsdatumTijd159)","v":""},null,null,{"$f":"IF(Data_LoonkostenTijd159=\"\",\"\",Data_LoonkostenTijd159)","v":""},null,{"$f":"IF(Data_PersoonAanUitTijd159=-1,\"v\",\"\")","v":""},null,"v",null,null,null,null,0,0,null,null,null,{"$f":"IF(Data_NaamPersoonVastVrij159=\"\",\"\",Data_NaamPersoonVastVrij159)","v":""},null,null,{"$f":"IF(Data_BeeindigingsdatumVastVrij159=\"\",\"\",Data_BeeindigingsdatumVastVrij159)","v":""},null,null,{"$f":"IF(Data_LoonkostenVastVrij159=\"\",\"\",Data_LoonkostenVastVrij159)","v":""},null,{"$f":"IF(Data_PersoonAanUitVastVrij159=-1,\"v\",\"\")","v":""},null,"v",null,null,null,null,0,0,null,{"$f":"IF(Data_NaamPersoonVastOntslag159=\"\",\"\",Data_NaamPersoonVastOntslag159)","v":""},null,null,{"$f":"IF(Data_BeeindigingsdatumVastOntslag159=\"\",\"\",Data_BeeindigingsdatumVastOntslag159)","v":""},null,null,{"$f":"IF(Data_LoonkostenVastOntslag159=\"\",\"\",Data_LoonkostenVastOntslag159)","v":""},null,{"$f":"IF(Data_PersoonAanUitVastOntslag159=-1,\"v\",\"\")","v":""},null,"v",null,null,null,null,0,0]
[null,null,null,null,null,null,null,{"$f":"IF(Data_NaamPersoonNatVerloop160=\"\",\"\",Data_NaamPersoonNatVerloop160)","v":""},null,null,{"$f":"IF(Data_BeeindigingsdatumNatVerloop160=\"\",\"\",Data_BeeindigingsdatumNatVerloop160)","v":""},null,null,{"$f":"IF(Data_LoonkostenNatVerloop160=\"\",\"\",Data_LoonkostenNatVerloop160)","v":""},null,"v",null,"v",null,null,null,null,0,"",null,null,null,null,null,null,null,null,{"$f":"IF(Data_NaamPersoonTijd160=\"\",\"\",Data_NaamPersoonTijd160)","v":""},null,null,{"$f":"IF(Data_BeeindigingsdatumTijd160=\"\",\"\",Data_BeeindigingsdatumTijd160)","v":""},null,null,{"$f":"IF(Data_LoonkostenTijd160=\"\",\"\",Data_LoonkostenTijd160)","v":""},null,{"$f":"IF(Data_PersoonAanUitTijd160=-1,\"v\",\"\")","v":""},null,"v",null,null,null,null,0,0,null,null,null,{"$f":"IF(Data_NaamPersoonVastVrij160=\"\",\"\",Data_NaamPersoonVastVrij160)","v":""},null,null,{"$f":"IF(Data_BeeindigingsdatumVastVrij160=\"\",\"\",Data_BeeindigingsdatumVastVrij160)","v":""},null,null,{"$f":"IF(Data_LoonkostenVastVrij160=\"\",\"\",Data_LoonkostenVastVrij160)","v":""},null,{"$f":"IF(Data_PersoonAanUitVastVrij160=-1,\"v\",\"\")","v":""},null,"v",null,null,null,null,0,0,null,{"$f":"IF(Data_NaamPersoonVastOntslag160=\"\",\"\",Data_NaamPersoonVastOntslag160)","v":""},null,null,{"$f":"IF(Data_BeeindigingsdatumVastOntslag160=\"\",\"\",Data_BeeindigingsdatumVastOntslag160)","v":""},null,null,{"$f":"IF(Data_LoonkostenVastOntslag160=\"\",\"\",Data_LoonkostenVastOntslag160)","v":""},null,{"$f":"IF(Data_PersoonAanUitVastOntslag160=-1,\"v\",\"\")","v":""},null,"v",null,null,null,null,0,0]
[null,null,null,null,null,null,null,{"$f":"IF(Data_NaamPersoonNatVerloop161=\"\",\"\",Data_NaamPersoonNatVerloop161)","v":""},null,null,{"$f":"IF(Data_BeeindigingsdatumNatVerloop161=\"\",\"\",Data_BeeindigingsdatumNatVerloop161)","v":""},null,null,{"$f":"IF(Data_LoonkostenNatVerloop161=\"\",\"\",Data_LoonkostenNatVerloop161)","v":""},null,"v",null,"v",null,null,null,null,0,"",null,null,null,null,null,null,null,null,{"$f":"IF(Data_NaamPersoonTijd161=\"\",\"\",Data_NaamPersoonTijd161)","v":""},null,null,{"$f":"IF(Data_BeeindigingsdatumTijd161=\"\",\"\",Data_BeeindigingsdatumTijd161)","v":""},null,null,{"$f":"IF(Data_LoonkostenTijd161=\"\",\"\",Data_LoonkostenTijd161)","v":""},null,{"$f":"IF(Data_PersoonAanUitTijd161=-1,\"v\",\"\")","v":""},null,"v",null,null,null,null,0,0,null,null,null,{"$f":"IF(Data_NaamPersoonVastVrij161=\"\",\"\",Data_NaamPersoonVastVrij161)","v":""},null,null,{"$f":"IF(Data_BeeindigingsdatumVastVrij161=\"\",\"\",Data_BeeindigingsdatumVastVrij161)","v":""},null,null,{"$f":"IF(Data_LoonkostenVastVrij161=\"\",\"\",Data_LoonkostenVastVrij161)","v":""},null,{"$f":"IF(Data_PersoonAanUitVastVrij161=-1,\"v\",\"\")","v":""},null,"v",null,null,null,null,0,0,null,{"$f":"IF(Data_NaamPersoonVastOntslag161=\"\",\"\",Data_NaamPersoonVastOntslag161)","v":""},null,null,{"$f":"IF(Data_BeeindigingsdatumVastOntslag161=\"\",\"\",Data_BeeindigingsdatumVastOntslag161)","v":""},null,null,{"$f":"IF(Data_LoonkostenVastOntslag161=\"\",\"\",Data_LoonkostenVastOntslag161)","v":""},null,{"$f":"IF(Data_PersoonAanUitVastOntslag161=-1,\"v\",\"\")","v":""},null,"v",null,null,null,null,0,0]
[null,null,null,null,null,null,null,{"$f":"IF(Data_NaamPersoonNatVerloop162=\"\",\"\",Data_NaamPersoonNatVerloop162)","v":""},null,null,{"$f":"IF(Data_BeeindigingsdatumNatVerloop162=\"\",\"\",Data_BeeindigingsdatumNatVerloop162)","v":""},null,null,{"$f":"IF(Data_LoonkostenNatVerloop162=\"\",\"\",Data_LoonkostenNatVerloop162)","v":""},null,"v",null,"v",null,null,null,null,0,"",null,null,null,null,null,null,null,null,{"$f":"IF(Data_NaamPersoonTijd162=\"\",\"\",Data_NaamPersoonTijd162)","v":""},null,null,{"$f":"IF(Data_BeeindigingsdatumTijd162=\"\",\"\",Data_BeeindigingsdatumTijd162)","v":""},null,null,{"$f":"IF(Data_LoonkostenTijd162=\"\",\"\",Data_LoonkostenTijd162)","v":""},null,{"$f":"IF(Data_PersoonAanUitTijd162=-1,\"v\",\"\")","v":""},null,"v",null,null,null,null,0,0,null,null,null,{"$f":"IF(Data_NaamPersoonVastVrij162=\"\",\"\",Data_NaamPersoonVastVrij162)","v":""},null,null,{"$f":"IF(Data_BeeindigingsdatumVastVrij162=\"\",\"\",Data_BeeindigingsdatumVastVrij162)","v":""},null,null,{"$f":"IF(Data_LoonkostenVastVrij162=\"\",\"\",Data_LoonkostenVastVrij162)","v":""},null,{"$f":"IF(Data_PersoonAanUitVastVrij162=-1,\"v\",\"\")","v":""},null,"v",null,null,null,null,0,0,null,{"$f":"IF(Data_NaamPersoonVastOntslag162=\"\",\"\",Data_NaamPersoonVastOntslag162)","v":""},null,null,{"$f":"IF(Data_BeeindigingsdatumVastOntslag162=\"\",\"\",Data_BeeindigingsdatumVastOntslag162)","v":""},null,null,{"$f":"IF(Data_LoonkostenVastOntslag162=\"\",\"\",Data_LoonkostenVastOntslag162)","v":""},null,{"$f":"IF(Data_PersoonAanUitVastOntslag162=-1,\"v\",\"\")","v":""},null,"v",null,null,null,null,0,0]
[null,null,null,null,null,null,null,{"$f":"IF(Data_NaamPersoonNatVerloop163=\"\",\"\",Data_NaamPersoonNatVerloop163)","v":""},null,null,{"$f":"IF(Data_BeeindigingsdatumNatVerloop163=\"\",\"\",Data_BeeindigingsdatumNatVerloop163)","v":""},null,null,{"$f":"IF(Data_LoonkostenNatVerloop163=\"\",\"\",Data_LoonkostenNatVerloop163)","v":""},null,"v",null,"v",null,null,null,null,0,"",null,null,null,null,null,null,null,null,{"$f":"IF(Data_NaamPersoonTijd163=\"\",\"\",Data_NaamPersoonTijd163)","v":""},null,null,{"$f":"IF(Data_BeeindigingsdatumTijd163=\"\",\"\",Data_BeeindigingsdatumTijd163)","v":""},null,null,{"$f":"IF(Data_LoonkostenTijd163=\"\",\"\",Data_LoonkostenTijd163)","v":""},null,{"$f":"IF(Data_PersoonAanUitTijd163=-1,\"v\",\"\")","v":""},null,"v",null,null,null,null,0,0,null,null,null,{"$f":"IF(Data_NaamPersoonVastVrij163=\"\",\"\",Data_NaamPersoonVastVrij163)","v":""},null,null,{"$f":"IF(Data_BeeindigingsdatumVastVrij163=\"\",\"\",Data_BeeindigingsdatumVastVrij163)","v":""},null,null,{"$f":"IF(Data_LoonkostenVastVrij163=\"\",\"\",Data_LoonkostenVastVrij163)","v":""},null,{"$f":"IF(Data_PersoonAanUitVastVrij163=-1,\"v\",\"\")","v":""},null,"v",null,null,null,null,0,0,null,{"$f":"IF(Data_NaamPersoonVastOntslag163=\"\",\"\",Data_NaamPersoonVastOntslag163)","v":""},null,null,{"$f":"IF(Data_BeeindigingsdatumVastOntslag163=\"\",\"\",Data_BeeindigingsdatumVastOntslag163)","v":""},null,null,{"$f":"IF(Data_LoonkostenVastOntslag163=\"\",\"\",Data_LoonkostenVastOntslag163)","v":""},null,{"$f":"IF(Data_PersoonAanUitVastOntslag163=-1,\"v\",\"\")","v":""},null,"v",null,null,null,null,0,0]
[null,null,null,null,null,null,null,{"$f":"IF(Data_NaamPersoonNatVerloop164=\"\",\"\",Data_NaamPersoonNatVerloop164)","v":""},null,null,{"$f":"IF(Data_BeeindigingsdatumNatVerloop164=\"\",\"\",Data_BeeindigingsdatumNatVerloop164)","v":""},null,null,{"$f":"IF(Data_LoonkostenNatVerloop164=\"\",\"\",Data_LoonkostenNatVerloop164)","v":""},null,"v",null,"v",null,null,null,null,0,"",null,null,null,null,null,null,null,null,{"$f":"IF(Data_NaamPersoonTijd164=\"\",\"\",Data_NaamPersoonTijd164)","v":""},null,null,{"$f":"IF(Data_BeeindigingsdatumTijd164=\"\",\"\",Data_BeeindigingsdatumTijd164)","v":""},null,null,{"$f":"IF(Data_LoonkostenTijd164=\"\",\"\",Data_LoonkostenTijd164)","v":""},null,{"$f":"IF(Data_PersoonAanUitTijd164=-1,\"v\",\"\")","v":""},null,"v",null,null,null,null,0,0,null,null,null,{"$f":"IF(Data_NaamPersoonVastVrij164=\"\",\"\",Data_NaamPersoonVastVrij164)","v":""},null,null,{"$f":"IF(Data_BeeindigingsdatumVastVrij164=\"\",\"\",Data_BeeindigingsdatumVastVrij164)","v":""},null,null,{"$f":"IF(Data_LoonkostenVastVrij164=\"\",\"\",Data_LoonkostenVastVrij164)","v":""},null,{"$f":"IF(Data_PersoonAanUitVastVrij164=-1,\"v\",\"\")","v":""},null,"v",null,null,null,null,0,0,null,{"$f":"IF(Data_NaamPersoonVastOntslag164=\"\",\"\",Data_NaamPersoonVastOntslag164)","v":""},null,null,{"$f":"IF(Data_BeeindigingsdatumVastOntslag164=\"\",\"\",Data_BeeindigingsdatumVastOntslag164)","v":""},null,null,{"$f":"IF(Data_LoonkostenVastOntslag164=\"\",\"\",Data_LoonkostenVastOntslag164)","v":""},null,{"$f":"IF(Data_PersoonAanUitVastOntslag164=-1,\"v\",\"\")","v":""},null,"v",null,null,null,null,0,0]
[null,null,null,null,null,null,null,{"$f":"IF(Data_NaamPersoonNatVerloop165=\"\",\"\",Data_NaamPersoonNatVerloop165)","v":""},null,null,{"$f":"IF(Data_BeeindigingsdatumNatVerloop165=\"\",\"\",Data_BeeindigingsdatumNatVerloop165)","v":""},null,null,{"$f":"IF(Data_LoonkostenNatVerloop165=\"\",\"\",Data_LoonkostenNatVerloop165)","v":""},null,"v",null,"v",null,null,null,null,0,"",null,null,null,null,null,null,null,null,{"$f":"IF(Data_NaamPersoonTijd165=\"\",\"\",Data_NaamPersoonTijd165)","v":""},null,null,{"$f":"IF(Data_BeeindigingsdatumTijd165=\"\",\"\",Data_BeeindigingsdatumTijd165)","v":""},null,null,{"$f":"IF(Data_LoonkostenTijd165=\"\",\"\",Data_LoonkostenTijd165)","v":""},null,{"$f":"IF(Data_PersoonAanUitTijd165=-1,\"v\",\"\")","v":""},null,"v",null,null,null,null,0,0,null,null,null,{"$f":"IF(Data_NaamPersoonVastVrij165=\"\",\"\",Data_NaamPersoonVastVrij165)","v":""},null,null,{"$f":"IF(Data_BeeindigingsdatumVastVrij165=\"\",\"\",Data_BeeindigingsdatumVastVrij165)","v":""},null,null,{"$f":"IF(Data_LoonkostenVastVrij165=\"\",\"\",Data_LoonkostenVastVrij165)","v":""},null,{"$f":"IF(Data_PersoonAanUitVastVrij165=-1,\"v\",\"\")","v":""},null,"v",null,null,null,null,0,0,null,{"$f":"IF(Data_NaamPersoonVastOntslag165=\"\",\"\",Data_NaamPersoonVastOntslag165)","v":""},null,null,{"$f":"IF(Data_BeeindigingsdatumVastOntslag165=\"\",\"\",Data_BeeindigingsdatumVastOntslag165)","v":""},null,null,{"$f":"IF(Data_LoonkostenVastOntslag165=\"\",\"\",Data_LoonkostenVastOntslag165)","v":""},null,{"$f":"IF(Data_PersoonAanUitVastOntslag165=-1,\"v\",\"\")","v":""},null,"v",null,null,null,null,0,0]
[null,null,null,null,null,null,null,{"$f":"IF(Data_NaamPersoonNatVerloop166=\"\",\"\",Data_NaamPersoonNatVerloop166)","v":""},null,null,{"$f":"IF(Data_BeeindigingsdatumNatVerloop166=\"\",\"\",Data_BeeindigingsdatumNatVerloop166)","v":""},null,null,{"$f":"IF(Data_LoonkostenNatVerloop166=\"\",\"\",Data_LoonkostenNatVerloop166)","v":""},null,"v",null,"v",null,null,null,null,0,"",null,null,null,null,null,null,null,null,{"$f":"IF(Data_NaamPersoonTijd166=\"\",\"\",Data_NaamPersoonTijd166)","v":""},null,null,{"$f":"IF(Data_BeeindigingsdatumTijd166=\"\",\"\",Data_BeeindigingsdatumTijd166)","v":""},null,null,{"$f":"IF(Data_LoonkostenTijd166=\"\",\"\",Data_LoonkostenTijd166)","v":""},null,{"$f":"IF(Data_PersoonAanUitTijd166=-1,\"v\",\"\")","v":""},null,"v",null,null,null,null,0,0,null,null,null,{"$f":"IF(Data_NaamPersoonVastVrij166=\"\",\"\",Data_NaamPersoonVastVrij166)","v":""},null,null,{"$f":"IF(Data_BeeindigingsdatumVastVrij166=\"\",\"\",Data_BeeindigingsdatumVastVrij166)","v":""},null,null,{"$f":"IF(Data_LoonkostenVastVrij166=\"\",\"\",Data_LoonkostenVastVrij166)","v":""},null,{"$f":"IF(Data_PersoonAanUitVastVrij166=-1,\"v\",\"\")","v":""},null,"v",null,null,null,null,0,0,null,{"$f":"IF(Data_NaamPersoonVastOntslag166=\"\",\"\",Data_NaamPersoonVastOntslag166)","v":""},null,null,{"$f":"IF(Data_BeeindigingsdatumVastOntslag166=\"\",\"\",Data_BeeindigingsdatumVastOntslag166)","v":""},null,null,{"$f":"IF(Data_LoonkostenVastOntslag166=\"\",\"\",Data_LoonkostenVastOntslag166)","v":""},null,{"$f":"IF(Data_PersoonAanUitVastOntslag166=-1,\"v\",\"\")","v":""},null,"v",null,null,null,null,0,0]
[null,null,null,null,null,null,null,{"$f":"IF(Data_NaamPersoonNatVerloop167=\"\",\"\",Data_NaamPersoonNatVerloop167)","v":""},null,null,{"$f":"IF(Data_BeeindigingsdatumNatVerloop167=\"\",\"\",Data_BeeindigingsdatumNatVerloop167)","v":""},null,null,{"$f":"IF(Data_LoonkostenNatVerloop167=\"\",\"\",Data_LoonkostenNatVerloop167)","v":""},null,"v",null,"v",null,null,null,null,0,"",null,null,null,null,null,null,null,null,{"$f":"IF(Data_NaamPersoonTijd167=\"\",\"\",Data_NaamPersoonTijd167)","v":""},null,null,{"$f":"IF(Data_BeeindigingsdatumTijd167=\"\",\"\",Data_BeeindigingsdatumTijd167)","v":""},null,null,{"$f":"IF(Data_LoonkostenTijd167=\"\",\"\",Data_LoonkostenTijd167)","v":""},null,{"$f":"IF(Data_PersoonAanUitTijd167=-1,\"v\",\"\")","v":""},null,"v",null,null,null,null,0,0,null,null,null,{"$f":"IF(Data_NaamPersoonVastVrij167=\"\",\"\",Data_NaamPersoonVastVrij167)","v":""},null,null,{"$f":"IF(Data_BeeindigingsdatumVastVrij167=\"\",\"\",Data_BeeindigingsdatumVastVrij167)","v":""},null,null,{"$f":"IF(Data_LoonkostenVastVrij167=\"\",\"\",Data_LoonkostenVastVrij167)","v":""},null,{"$f":"IF(Data_PersoonAanUitVastVrij167=-1,\"v\",\"\")","v":""},null,"v",null,null,null,null,0,0,null,{"$f":"IF(Data_NaamPersoonVastOntslag167=\"\",\"\",Data_NaamPersoonVastOntslag167)","v":""},null,null,{"$f":"IF(Data_BeeindigingsdatumVastOntslag167=\"\",\"\",Data_BeeindigingsdatumVastOntslag167)","v":""},null,null,{"$f":"IF(Data_LoonkostenVastOntslag167=\"\",\"\",Data_LoonkostenVastOntslag167)","v":""},null,{"$f":"IF(Data_PersoonAanUitVastOntslag167=-1,\"v\",\"\")","v":""},null,"v",null,null,null,null,0,0]
[null,null,null,null,null,null,null,{"$f":"IF(Data_NaamPersoonNatVerloop168=\"\",\"\",Data_NaamPersoonNatVerloop168)","v":""},null,null,{"$f":"IF(Data_BeeindigingsdatumNatVerloop168=\"\",\"\",Data_BeeindigingsdatumNatVerloop168)","v":""},null,null,{"$f":"IF(Data_LoonkostenNatVerloop168=\"\",\"\",Data_LoonkostenNatVerloop168)","v":""},null,"v",null,"v",null,null,null,null,0,"",null,null,null,null,null,null,null,null,{"$f":"IF(Data_NaamPersoonTijd168=\"\",\"\",Data_NaamPersoonTijd168)","v":""},null,null,{"$f":"IF(Data_BeeindigingsdatumTijd168=\"\",\"\",Data_BeeindigingsdatumTijd168)","v":""},null,null,{"$f":"IF(Data_LoonkostenTijd168=\"\",\"\",Data_LoonkostenTijd168)","v":""},null,{"$f":"IF(Data_PersoonAanUitTijd168=-1,\"v\",\"\")","v":""},null,"v",null,null,null,null,0,0,null,null,null,{"$f":"IF(Data_NaamPersoonVastVrij168=\"\",\"\",Data_NaamPersoonVastVrij168)","v":""},null,null,{"$f":"IF(Data_BeeindigingsdatumVastVrij168=\"\",\"\",Data_BeeindigingsdatumVastVrij168)","v":""},null,null,{"$f":"IF(Data_LoonkostenVastVrij168=\"\",\"\",Data_LoonkostenVastVrij168)","v":""},null,{"$f":"IF(Data_PersoonAanUitVastVrij168=-1,\"v\",\"\")","v":""},null,"v",null,null,null,null,0,0,null,{"$f":"IF(Data_NaamPersoonVastOntslag168=\"\",\"\",Data_NaamPersoonVastOntslag168)","v":""},null,null,{"$f":"IF(Data_BeeindigingsdatumVastOntslag168=\"\",\"\",Data_BeeindigingsdatumVastOntslag168)","v":""},null,null,{"$f":"IF(Data_LoonkostenVastOntslag168=\"\",\"\",Data_LoonkostenVastOntslag168)","v":""},null,{"$f":"IF(Data_PersoonAanUitVastOntslag168=-1,\"v\",\"\")","v":""},null,"v",null,null,null,null,0,0]
[null,null,null,null,null,null,null,{"$f":"IF(Data_NaamPersoonNatVerloop169=\"\",\"\",Data_NaamPersoonNatVerloop169)","v":""},null,null,{"$f":"IF(Data_BeeindigingsdatumNatVerloop169=\"\",\"\",Data_BeeindigingsdatumNatVerloop169)","v":""},null,null,{"$f":"IF(Data_LoonkostenNatVerloop169=\"\",\"\",Data_LoonkostenNatVerloop169)","v":""},null,"v",null,"v",null,null,null,null,0,"",null,null,null,null,null,null,null,null,{"$f":"IF(Data_NaamPersoonTijd169=\"\",\"\",Data_NaamPersoonTijd169)","v":""},null,null,{"$f":"IF(Data_BeeindigingsdatumTijd169=\"\",\"\",Data_BeeindigingsdatumTijd169)","v":""},null,null,{"$f":"IF(Data_LoonkostenTijd169=\"\",\"\",Data_LoonkostenTijd169)","v":""},null,{"$f":"IF(Data_PersoonAanUitTijd169=-1,\"v\",\"\")","v":""},null,"v",null,null,null,null,0,0,null,null,null,{"$f":"IF(Data_NaamPersoonVastVrij169=\"\",\"\",Data_NaamPersoonVastVrij169)","v":""},null,null,{"$f":"IF(Data_BeeindigingsdatumVastVrij169=\"\",\"\",Data_BeeindigingsdatumVastVrij169)","v":""},null,null,{"$f":"IF(Data_LoonkostenVastVrij169=\"\",\"\",Data_LoonkostenVastVrij169)","v":""},null,{"$f":"IF(Data_PersoonAanUitVastVrij169=-1,\"v\",\"\")","v":""},null,"v",null,null,null,null,0,0,null,{"$f":"IF(Data_NaamPersoonVastOntslag169=\"\",\"\",Data_NaamPersoonVastOntslag169)","v":""},null,null,{"$f":"IF(Data_BeeindigingsdatumVastOntslag169=\"\",\"\",Data_BeeindigingsdatumVastOntslag169)","v":""},null,null,{"$f":"IF(Data_LoonkostenVastOntslag169=\"\",\"\",Data_LoonkostenVastOntslag169)","v":""},null,{"$f":"IF(Data_PersoonAanUitVastOntslag169=-1,\"v\",\"\")","v":""},null,"v",null,null,null,null,0,0]
[null,null,null,null,null,null,null,{"$f":"IF(Data_NaamPersoonNatVerloop170=\"\",\"\",Data_NaamPersoonNatVerloop170)","v":""},null,null,{"$f":"IF(Data_BeeindigingsdatumNatVerloop170=\"\",\"\",Data_BeeindigingsdatumNatVerloop170)","v":""},null,null,{"$f":"IF(Data_LoonkostenNatVerloop170=\"\",\"\",Data_LoonkostenNatVerloop170)","v":""},null,"v",null,"v",null,null,null,null,0,"",null,null,null,null,null,null,null,null,{"$f":"IF(Data_NaamPersoonTijd170=\"\",\"\",Data_NaamPersoonTijd170)","v":""},null,null,{"$f":"IF(Data_BeeindigingsdatumTijd170=\"\",\"\",Data_BeeindigingsdatumTijd170)","v":""},null,null,{"$f":"IF(Data_LoonkostenTijd170=\"\",\"\",Data_LoonkostenTijd170)","v":""},null,{"$f":"IF(Data_PersoonAanUitTijd170=-1,\"v\",\"\")","v":""},null,"v",null,null,null,null,0,0,null,null,null,{"$f":"IF(Data_NaamPersoonVastVrij170=\"\",\"\",Data_NaamPersoonVastVrij170)","v":""},null,null,{"$f":"IF(Data_BeeindigingsdatumVastVrij170=\"\",\"\",Data_BeeindigingsdatumVastVrij170)","v":""},null,null,{"$f":"IF(Data_LoonkostenVastVrij170=\"\",\"\",Data_LoonkostenVastVrij170)","v":""},null,{"$f":"IF(Data_PersoonAanUitVastVrij170=-1,\"v\",\"\")","v":""},null,"v",null,null,null,null,0,0,null,{"$f":"IF(Data_NaamPersoonVastOntslag170=\"\",\"\",Data_NaamPersoonVastOntslag170)","v":""},null,null,{"$f":"IF(Data_BeeindigingsdatumVastOntslag170=\"\",\"\",Data_BeeindigingsdatumVastOntslag170)","v":""},null,null,{"$f":"IF(Data_LoonkostenVastOntslag170=\"\",\"\",Data_LoonkostenVastOntslag170)","v":""},null,{"$f":"IF(Data_PersoonAanUitVastOntslag170=-1,\"v\",\"\")","v":""},null,"v",null,null,null,null,0,0]
[null,null,null,null,null,null,null,{"$f":"IF(Data_NaamPersoonNatVerloop171=\"\",\"\",Data_NaamPersoonNatVerloop171)","v":""},null,null,{"$f":"IF(Data_BeeindigingsdatumNatVerloop171=\"\",\"\",Data_BeeindigingsdatumNatVerloop171)","v":""},null,null,{"$f":"IF(Data_LoonkostenNatVerloop171=\"\",\"\",Data_LoonkostenNatVerloop171)","v":""},null,"v",null,"v",null,null,null,null,0,"",null,null,null,null,null,null,null,null,{"$f":"IF(Data_NaamPersoonTijd171=\"\",\"\",Data_NaamPersoonTijd171)","v":""},null,null,{"$f":"IF(Data_BeeindigingsdatumTijd171=\"\",\"\",Data_BeeindigingsdatumTijd171)","v":""},null,null,{"$f":"IF(Data_LoonkostenTijd171=\"\",\"\",Data_LoonkostenTijd171)","v":""},null,{"$f":"IF(Data_PersoonAanUitTijd171=-1,\"v\",\"\")","v":""},null,"v",null,null,null,null,0,0,null,null,null,{"$f":"IF(Data_NaamPersoonVastVrij171=\"\",\"\",Data_NaamPersoonVastVrij171)","v":""},null,null,{"$f":"IF(Data_BeeindigingsdatumVastVrij171=\"\",\"\",Data_BeeindigingsdatumVastVrij171)","v":""},null,null,{"$f":"IF(Data_LoonkostenVastVrij171=\"\",\"\",Data_LoonkostenVastVrij171)","v":""},null,{"$f":"IF(Data_PersoonAanUitVastVrij171=-1,\"v\",\"\")","v":""},null,"v",null,null,null,null,0,0,null,{"$f":"IF(Data_NaamPersoonVastOntslag171=\"\",\"\",Data_NaamPersoonVastOntslag171)","v":""},null,null,{"$f":"IF(Data_BeeindigingsdatumVastOntslag171=\"\",\"\",Data_BeeindigingsdatumVastOntslag171)","v":""},null,null,{"$f":"IF(Data_LoonkostenVastOntslag171=\"\",\"\",Data_LoonkostenVastOntslag171)","v":""},null,{"$f":"IF(Data_PersoonAanUitVastOntslag171=-1,\"v\",\"\")","v":""},null,"v",null,null,null,null,0,0]
[null,null,null,null,null,null,null,{"$f":"IF(Data_NaamPersoonNatVerloop172=\"\",\"\",Data_NaamPersoonNatVerloop172)","v":""},null,null,{"$f":"IF(Data_BeeindigingsdatumNatVerloop172=\"\",\"\",Data_BeeindigingsdatumNatVerloop172)","v":""},null,null,{"$f":"IF(Data_LoonkostenNatVerloop172=\"\",\"\",Data_LoonkostenNatVerloop172)","v":""},null,"v",null,"v",null,null,null,null,0,"",null,null,null,null,null,null,null,null,{"$f":"IF(Data_NaamPersoonTijd172=\"\",\"\",Data_NaamPersoonTijd172)","v":""},null,null,{"$f":"IF(Data_BeeindigingsdatumTijd172=\"\",\"\",Data_BeeindigingsdatumTijd172)","v":""},null,null,{"$f":"IF(Data_LoonkostenTijd172=\"\",\"\",Data_LoonkostenTijd172)","v":""},null,{"$f":"IF(Data_PersoonAanUitTijd172=-1,\"v\",\"\")","v":""},null,"v",null,null,null,null,0,0,null,null,null,{"$f":"IF(Data_NaamPersoonVastVrij172=\"\",\"\",Data_NaamPersoonVastVrij172)","v":""},null,null,{"$f":"IF(Data_BeeindigingsdatumVastVrij172=\"\",\"\",Data_BeeindigingsdatumVastVrij172)","v":""},null,null,{"$f":"IF(Data_LoonkostenVastVrij172=\"\",\"\",Data_LoonkostenVastVrij172)","v":""},null,{"$f":"IF(Data_PersoonAanUitVastVrij172=-1,\"v\",\"\")","v":""},null,"v",null,null,null,null,0,0,null,{"$f":"IF(Data_NaamPersoonVastOntslag172=\"\",\"\",Data_NaamPersoonVastOntslag172)","v":""},null,null,{"$f":"IF(Data_BeeindigingsdatumVastOntslag172=\"\",\"\",Data_BeeindigingsdatumVastOntslag172)","v":""},null,null,{"$f":"IF(Data_LoonkostenVastOntslag172=\"\",\"\",Data_LoonkostenVastOntslag172)","v":""},null,{"$f":"IF(Data_PersoonAanUitVastOntslag172=-1,\"v\",\"\")","v":""},null,"v",null,null,null,null,0,0]
[null,null,null,null,null,null,null,{"$f":"IF(Data_NaamPersoonNatVerloop173=\"\",\"\",Data_NaamPersoonNatVerloop173)","v":""},null,null,{"$f":"IF(Data_BeeindigingsdatumNatVerloop173=\"\",\"\",Data_BeeindigingsdatumNatVerloop173)","v":""},null,null,{"$f":"IF(Data_LoonkostenNatVerloop173=\"\",\"\",Data_LoonkostenNatVerloop173)","v":""},null,"v",null,"v",null,null,null,null,0,"",null,null,null,null,null,null,null,null,{"$f":"IF(Data_NaamPersoonTijd173=\"\",\"\",Data_NaamPersoonTijd173)","v":""},null,null,{"$f":"IF(Data_BeeindigingsdatumTijd173=\"\",\"\",Data_BeeindigingsdatumTijd173)","v":""},null,null,{"$f":"IF(Data_LoonkostenTijd173=\"\",\"\",Data_LoonkostenTijd173)","v":""},null,{"$f":"IF(Data_PersoonAanUitTijd173=-1,\"v\",\"\")","v":""},null,"v",null,null,null,null,0,0,null,null,null,{"$f":"IF(Data_NaamPersoonVastVrij173=\"\",\"\",Data_NaamPersoonVastVrij173)","v":""},null,null,{"$f":"IF(Data_BeeindigingsdatumVastVrij173=\"\",\"\",Data_BeeindigingsdatumVastVrij173)","v":""},null,null,{"$f":"IF(Data_LoonkostenVastVrij173=\"\",\"\",Data_LoonkostenVastVrij173)","v":""},null,{"$f":"IF(Data_PersoonAanUitVastVrij173=-1,\"v\",\"\")","v":""},null,"v",null,null,null,null,0,0,null,{"$f":"IF(Data_NaamPersoonVastOntslag173=\"\",\"\",Data_NaamPersoonVastOntslag173)","v":""},null,null,{"$f":"IF(Data_BeeindigingsdatumVastOntslag173=\"\",\"\",Data_BeeindigingsdatumVastOntslag173)","v":""},null,null,{"$f":"IF(Data_LoonkostenVastOntslag173=\"\",\"\",Data_LoonkostenVastOntslag173)","v":""},null,{"$f":"IF(Data_PersoonAanUitVastOntslag173=-1,\"v\",\"\")","v":""},null,"v",null,null,null,null,0,0]
[null,null,null,null,null,null,null,{"$f":"IF(Data_NaamPersoonNatVerloop174=\"\",\"\",Data_NaamPersoonNatVerloop174)","v":""},null,null,{"$f":"IF(Data_BeeindigingsdatumNatVerloop174=\"\",\"\",Data_BeeindigingsdatumNatVerloop174)","v":""},null,null,{"$f":"IF(Data_LoonkostenNatVerloop174=\"\",\"\",Data_LoonkostenNatVerloop174)","v":""},null,"v",null,"v",null,null,null,null,0,"",null,null,null,null,null,null,null,null,{"$f":"IF(Data_NaamPersoonTijd174=\"\",\"\",Data_NaamPersoonTijd174)","v":""},null,null,{"$f":"IF(Data_BeeindigingsdatumTijd174=\"\",\"\",Data_BeeindigingsdatumTijd174)","v":""},null,null,{"$f":"IF(Data_LoonkostenTijd174=\"\",\"\",Data_LoonkostenTijd174)","v":""},null,{"$f":"IF(Data_PersoonAanUitTijd174=-1,\"v\",\"\")","v":""},null,"v",null,null,null,null,0,0,null,null,null,{"$f":"IF(Data_NaamPersoonVastVrij174=\"\",\"\",Data_NaamPersoonVastVrij174)","v":""},null,null,{"$f":"IF(Data_BeeindigingsdatumVastVrij174=\"\",\"\",Data_BeeindigingsdatumVastVrij174)","v":""},null,null,{"$f":"IF(Data_LoonkostenVastVrij174=\"\",\"\",Data_LoonkostenVastVrij174)","v":""},null,{"$f":"IF(Data_PersoonAanUitVastVrij174=-1,\"v\",\"\")","v":""},null,"v",null,null,null,null,0,0,null,{"$f":"IF(Data_NaamPersoonVastOntslag174=\"\",\"\",Data_NaamPersoonVastOntslag174)","v":""},null,null,{"$f":"IF(Data_BeeindigingsdatumVastOntslag174=\"\",\"\",Data_BeeindigingsdatumVastOntslag174)","v":""},null,null,{"$f":"IF(Data_LoonkostenVastOntslag174=\"\",\"\",Data_LoonkostenVastOntslag174)","v":""},null,{"$f":"IF(Data_PersoonAanUitVastOntslag174=-1,\"v\",\"\")","v":""},null,"v",null,null,null,null,0,0]
[null,null,null,null,null,null,null,{"$f":"IF(Data_NaamPersoonNatVerloop175=\"\",\"\",Data_NaamPersoonNatVerloop175)","v":""},null,null,{"$f":"IF(Data_BeeindigingsdatumNatVerloop175=\"\",\"\",Data_BeeindigingsdatumNatVerloop175)","v":""},null,null,{"$f":"IF(Data_LoonkostenNatVerloop175=\"\",\"\",Data_LoonkostenNatVerloop175)","v":""},null,"v",null,"v",null,null,null,null,0,"",null,null,null,null,null,null,null,null,{"$f":"IF(Data_NaamPersoonTijd175=\"\",\"\",Data_NaamPersoonTijd175)","v":""},null,null,{"$f":"IF(Data_BeeindigingsdatumTijd175=\"\",\"\",Data_BeeindigingsdatumTijd175)","v":""},null,null,{"$f":"IF(Data_LoonkostenTijd175=\"\",\"\",Data_LoonkostenTijd175)","v":""},null,{"$f":"IF(Data_PersoonAanUitTijd175=-1,\"v\",\"\")","v":""},null,"v",null,null,null,null,0,0,null,null,null,{"$f":"IF(Data_NaamPersoonVastVrij175=\"\",\"\",Data_NaamPersoonVastVrij175)","v":""},null,null,{"$f":"IF(Data_BeeindigingsdatumVastVrij175=\"\",\"\",Data_BeeindigingsdatumVastVrij175)","v":""},null,null,{"$f":"IF(Data_LoonkostenVastVrij175=\"\",\"\",Data_LoonkostenVastVrij175)","v":""},null,{"$f":"IF(Data_PersoonAanUitVastVrij175=-1,\"v\",\"\")","v":""},null,"v",null,null,null,null,0,0,null,{"$f":"IF(Data_NaamPersoonVastOntslag175=\"\",\"\",Data_NaamPersoonVastOntslag175)","v":""},null,null,{"$f":"IF(Data_BeeindigingsdatumVastOntslag175=\"\",\"\",Data_BeeindigingsdatumVastOntslag175)","v":""},null,null,{"$f":"IF(Data_LoonkostenVastOntslag175=\"\",\"\",Data_LoonkostenVastOntslag175)","v":""},null,{"$f":"IF(Data_PersoonAanUitVastOntslag175=-1,\"v\",\"\")","v":""},null,"v",null,null,null,null,0,0]
[null,null,null,null,null,null,null,{"$f":"IF(Data_NaamPersoonNatVerloop176=\"\",\"\",Data_NaamPersoonNatVerloop176)","v":""},null,null,{"$f":"IF(Data_BeeindigingsdatumNatVerloop176=\"\",\"\",Data_BeeindigingsdatumNatVerloop176)","v":""},null,null,{"$f":"IF(Data_LoonkostenNatVerloop176=\"\",\"\",Data_LoonkostenNatVerloop176)","v":""},null,"v",null,"v",null,null,null,null,0,"",null,null,null,null,null,null,null,null,{"$f":"IF(Data_NaamPersoonTijd176=\"\",\"\",Data_NaamPersoonTijd176)","v":""},null,null,{"$f":"IF(Data_BeeindigingsdatumTijd176=\"\",\"\",Data_BeeindigingsdatumTijd176)","v":""},null,null,{"$f":"IF(Data_LoonkostenTijd176=\"\",\"\",Data_LoonkostenTijd176)","v":""},null,{"$f":"IF(Data_PersoonAanUitTijd176=-1,\"v\",\"\")","v":""},null,"v",null,null,null,null,0,0,null,null,null,{"$f":"IF(Data_NaamPersoonVastVrij176=\"\",\"\",Data_NaamPersoonVastVrij176)","v":""},null,null,{"$f":"IF(Data_BeeindigingsdatumVastVrij176=\"\",\"\",Data_BeeindigingsdatumVastVrij176)","v":""},null,null,{"$f":"IF(Data_LoonkostenVastVrij176=\"\",\"\",Data_LoonkostenVastVrij176)","v":""},null,{"$f":"IF(Data_PersoonAanUitVastVrij176=-1,\"v\",\"\")","v":""},null,"v",null,null,null,null,0,0,null,{"$f":"IF(Data_NaamPersoonVastOntslag176=\"\",\"\",Data_NaamPersoonVastOntslag176)","v":""},null,null,{"$f":"IF(Data_BeeindigingsdatumVastOntslag176=\"\",\"\",Data_BeeindigingsdatumVastOntslag176)","v":""},null,null,{"$f":"IF(Data_LoonkostenVastOntslag176=\"\",\"\",Data_LoonkostenVastOntslag176)","v":""},null,{"$f":"IF(Data_PersoonAanUitVastOntslag176=-1,\"v\",\"\")","v":""},null,"v",null,null,null,null,0,0]
[null,null,null,null,null,null,null,{"$f":"IF(Data_NaamPersoonNatVerloop177=\"\",\"\",Data_NaamPersoonNatVerloop177)","v":""},null,null,{"$f":"IF(Data_BeeindigingsdatumNatVerloop177=\"\",\"\",Data_BeeindigingsdatumNatVerloop177)","v":""},null,null,{"$f":"IF(Data_LoonkostenNatVerloop177=\"\",\"\",Data_LoonkostenNatVerloop177)","v":""},null,"v",null,"v",null,null,null,null,0,"",null,null,null,null,null,null,null,null,{"$f":"IF(Data_NaamPersoonTijd177=\"\",\"\",Data_NaamPersoonTijd177)","v":""},null,null,{"$f":"IF(Data_BeeindigingsdatumTijd177=\"\",\"\",Data_BeeindigingsdatumTijd177)","v":""},null,null,{"$f":"IF(Data_LoonkostenTijd177=\"\",\"\",Data_LoonkostenTijd177)","v":""},null,{"$f":"IF(Data_PersoonAanUitTijd177=-1,\"v\",\"\")","v":""},null,"v",null,null,null,null,0,0,null,null,null,{"$f":"IF(Data_NaamPersoonVastVrij177=\"\",\"\",Data_NaamPersoonVastVrij177)","v":""},null,null,{"$f":"IF(Data_BeeindigingsdatumVastVrij177=\"\",\"\",Data_BeeindigingsdatumVastVrij177)","v":""},null,null,{"$f":"IF(Data_LoonkostenVastVrij177=\"\",\"\",Data_LoonkostenVastVrij177)","v":""},null,{"$f":"IF(Data_PersoonAanUitVastVrij177=-1,\"v\",\"\")","v":""},null,"v",null,null,null,null,0,0,null,{"$f":"IF(Data_NaamPersoonVastOntslag177=\"\",\"\",Data_NaamPersoonVastOntslag177)","v":""},null,null,{"$f":"IF(Data_BeeindigingsdatumVastOntslag177=\"\",\"\",Data_BeeindigingsdatumVastOntslag177)","v":""},null,null,{"$f":"IF(Data_LoonkostenVastOntslag177=\"\",\"\",Data_LoonkostenVastOntslag177)","v":""},null,{"$f":"IF(Data_PersoonAanUitVastOntslag177=-1,\"v\",\"\")","v":""},null,"v",null,null,null,null,0,0]
[null,null,null,null,null,null,null,{"$f":"IF(Data_NaamPersoonNatVerloop178=\"\",\"\",Data_NaamPersoonNatVerloop178)","v":""},null,null,{"$f":"IF(Data_BeeindigingsdatumNatVerloop178=\"\",\"\",Data_BeeindigingsdatumNatVerloop178)","v":""},null,null,{"$f":"IF(Data_LoonkostenNatVerloop178=\"\",\"\",Data_LoonkostenNatVerloop178)","v":""},null,"v",null,"v",null,null,null,null,0,"",null,null,null,null,null,null,null,null,{"$f":"IF(Data_NaamPersoonTijd178=\"\",\"\",Data_NaamPersoonTijd178)","v":""},null,null,{"$f":"IF(Data_BeeindigingsdatumTijd178=\"\",\"\",Data_BeeindigingsdatumTijd178)","v":""},null,null,{"$f":"IF(Data_LoonkostenTijd178=\"\",\"\",Data_LoonkostenTijd178)","v":""},null,{"$f":"IF(Data_PersoonAanUitTijd178=-1,\"v\",\"\")","v":""},null,"v",null,null,null,null,0,0,null,null,null,{"$f":"IF(Data_NaamPersoonVastVrij178=\"\",\"\",Data_NaamPersoonVastVrij178)","v":""},null,null,{"$f":"IF(Data_BeeindigingsdatumVastVrij178=\"\",\"\",Data_BeeindigingsdatumVastVrij178)","v":""},null,null,{"$f":"IF(Data_LoonkostenVastVrij178=\"\",\"\",Data_LoonkostenVastVrij178)","v":""},null,{"$f":"IF(Data_PersoonAanUitVastVrij178=-1,\"v\",\"\")","v":""},null,"v",null,null,null,null,0,0,null,{"$f":"IF(Data_NaamPersoonVastOntslag178=\"\",\"\",Data_NaamPersoonVastOntslag178)","v":""},null,null,{"$f":"IF(Data_BeeindigingsdatumVastOntslag178=\"\",\"\",Data_BeeindigingsdatumVastOntslag178)","v":""},null,null,{"$f":"IF(Data_LoonkostenVastOntslag178=\"\",\"\",Data_LoonkostenVastOntslag178)","v":""},null,{"$f":"IF(Data_PersoonAanUitVastOntslag178=-1,\"v\",\"\")","v":""},null,"v",null,null,null,null,0,0]
[null,null,null,null,null,null,null,{"$f":"IF(Data_NaamPersoonNatVerloop179=\"\",\"\",Data_NaamPersoonNatVerloop179)","v":""},null,null,{"$f":"IF(Data_BeeindigingsdatumNatVerloop179=\"\",\"\",Data_BeeindigingsdatumNatVerloop179)","v":""},null,null,{"$f":"IF(Data_LoonkostenNatVerloop179=\"\",\"\",Data_LoonkostenNatVerloop179)","v":""},null,"v",null,"v",null,null,null,null,0,"",null,null,null,null,null,null,null,null,{"$f":"IF(Data_NaamPersoonTijd179=\"\",\"\",Data_NaamPersoonTijd179)","v":""},null,null,{"$f":"IF(Data_BeeindigingsdatumTijd179=\"\",\"\",Data_BeeindigingsdatumTijd179)","v":""},null,null,{"$f":"IF(Data_LoonkostenTijd179=\"\",\"\",Data_LoonkostenTijd179)","v":""},null,{"$f":"IF(Data_PersoonAanUitTijd179=-1,\"v\",\"\")","v":""},null,"v",null,null,null,null,0,0,null,null,null,{"$f":"IF(Data_NaamPersoonVastVrij179=\"\",\"\",Data_NaamPersoonVastVrij179)","v":""},null,null,{"$f":"IF(Data_BeeindigingsdatumVastVrij179=\"\",\"\",Data_BeeindigingsdatumVastVrij179)","v":""},null,null,{"$f":"IF(Data_LoonkostenVastVrij179=\"\",\"\",Data_LoonkostenVastVrij179)","v":""},null,{"$f":"IF(Data_PersoonAanUitVastVrij179=-1,\"v\",\"\")","v":""},null,"v",null,null,null,null,0,0,null,{"$f":"IF(Data_NaamPersoonVastOntslag179=\"\",\"\",Data_NaamPersoonVastOntslag179)","v":""},null,null,{"$f":"IF(Data_BeeindigingsdatumVastOntslag179=\"\",\"\",Data_BeeindigingsdatumVastOntslag179)","v":""},null,null,{"$f":"IF(Data_LoonkostenVastOntslag179=\"\",\"\",Data_LoonkostenVastOntslag179)","v":""},null,{"$f":"IF(Data_PersoonAanUitVastOntslag179=-1,\"v\",\"\")","v":""},null,"v",null,null,null,null,0,0]
[null,null,null,null,null,null,null,{"$f":"IF(Data_NaamPersoonNatVerloop180=\"\",\"\",Data_NaamPersoonNatVerloop180)","v":""},null,null,{"$f":"IF(Data_BeeindigingsdatumNatVerloop180=\"\",\"\",Data_BeeindigingsdatumNatVerloop180)","v":""},null,null,{"$f":"IF(Data_LoonkostenNatVerloop180=\"\",\"\",Data_LoonkostenNatVerloop180)","v":""},null,"v",null,"v",null,null,null,null,0,"",null,null,null,null,null,null,null,null,{"$f":"IF(Data_NaamPersoonTijd180=\"\",\"\",Data_NaamPersoonTijd180)","v":""},null,null,{"$f":"IF(Data_BeeindigingsdatumTijd180=\"\",\"\",Data_BeeindigingsdatumTijd180)","v":""},null,null,{"$f":"IF(Data_LoonkostenTijd180=\"\",\"\",Data_LoonkostenTijd180)","v":""},null,{"$f":"IF(Data_PersoonAanUitTijd180=-1,\"v\",\"\")","v":""},null,"v",null,null,null,null,0,0,null,null,null,{"$f":"IF(Data_NaamPersoonVastVrij180=\"\",\"\",Data_NaamPersoonVastVrij180)","v":""},null,null,{"$f":"IF(Data_BeeindigingsdatumVastVrij180=\"\",\"\",Data_BeeindigingsdatumVastVrij180)","v":""},null,null,{"$f":"IF(Data_LoonkostenVastVrij180=\"\",\"\",Data_LoonkostenVastVrij180)","v":""},null,{"$f":"IF(Data_PersoonAanUitVastVrij180=-1,\"v\",\"\")","v":""},null,"v",null,null,null,null,0,0,null,{"$f":"IF(Data_NaamPersoonVastOntslag180=\"\",\"\",Data_NaamPersoonVastOntslag180)","v":""},null,null,{"$f":"IF(Data_BeeindigingsdatumVastOntslag180=\"\",\"\",Data_BeeindigingsdatumVastOntslag180)","v":""},null,null,{"$f":"IF(Data_LoonkostenVastOntslag180=\"\",\"\",Data_LoonkostenVastOntslag180)","v":""},null,{"$f":"IF(Data_PersoonAanUitVastOntslag180=-1,\"v\",\"\")","v":""},null,"v",null,null,null,null,0,0]
[null,null,null,null,null,null,null,{"$f":"IF(Data_NaamPersoonNatVerloop181=\"\",\"\",Data_NaamPersoonNatVerloop181)","v":""},null,null,{"$f":"IF(Data_BeeindigingsdatumNatVerloop181=\"\",\"\",Data_BeeindigingsdatumNatVerloop181)","v":""},null,null,{"$f":"IF(Data_LoonkostenNatVerloop181=\"\",\"\",Data_LoonkostenNatVerloop181)","v":""},null,"v",null,"v",null,null,null,null,0,"",null,null,null,null,null,null,null,null,{"$f":"IF(Data_NaamPersoonTijd181=\"\",\"\",Data_NaamPersoonTijd181)","v":""},null,null,{"$f":"IF(Data_BeeindigingsdatumTijd181=\"\",\"\",Data_BeeindigingsdatumTijd181)","v":""},null,null,{"$f":"IF(Data_LoonkostenTijd181=\"\",\"\",Data_LoonkostenTijd181)","v":""},null,{"$f":"IF(Data_PersoonAanUitTijd181=-1,\"v\",\"\")","v":""},null,"v",null,null,null,null,0,0,null,null,null,{"$f":"IF(Data_NaamPersoonVastVrij181=\"\",\"\",Data_NaamPersoonVastVrij181)","v":""},null,null,{"$f":"IF(Data_BeeindigingsdatumVastVrij181=\"\",\"\",Data_BeeindigingsdatumVastVrij181)","v":""},null,null,{"$f":"IF(Data_LoonkostenVastVrij181=\"\",\"\",Data_LoonkostenVastVrij181)","v":""},null,{"$f":"IF(Data_PersoonAanUitVastVrij181=-1,\"v\",\"\")","v":""},null,"v",null,null,null,null,0,0,null,{"$f":"IF(Data_NaamPersoonVastOntslag181=\"\",\"\",Data_NaamPersoonVastOntslag181)","v":""},null,null,{"$f":"IF(Data_BeeindigingsdatumVastOntslag181=\"\",\"\",Data_BeeindigingsdatumVastOntslag181)","v":""},null,null,{"$f":"IF(Data_LoonkostenVastOntslag181=\"\",\"\",Data_LoonkostenVastOntslag181)","v":""},null,{"$f":"IF(Data_PersoonAanUitVastOntslag181=-1,\"v\",\"\")","v":""},null,"v",null,null,null,null,0,0]
[null,null,null,null,null,null,null,{"$f":"IF(Data_NaamPersoonNatVerloop182=\"\",\"\",Data_NaamPersoonNatVerloop182)","v":""},null,null,{"$f":"IF(Data_BeeindigingsdatumNatVerloop182=\"\",\"\",Data_BeeindigingsdatumNatVerloop182)","v":""},null,null,{"$f":"IF(Data_LoonkostenNatVerloop182=\"\",\"\",Data_LoonkostenNatVerloop182)","v":""},null,"v",null,"v",null,null,null,null,0,"",null,null,null,null,null,null,null,null,{"$f":"IF(Data_NaamPersoonTijd182=\"\",\"\",Data_NaamPersoonTijd182)","v":""},null,null,{"$f":"IF(Data_BeeindigingsdatumTijd182=\"\",\"\",Data_BeeindigingsdatumTijd182)","v":""},null,null,{"$f":"IF(Data_LoonkostenTijd182=\"\",\"\",Data_LoonkostenTijd182)","v":""},null,{"$f":"IF(Data_PersoonAanUitTijd182=-1,\"v\",\"\")","v":""},null,"v",null,null,null,null,0,0,null,null,null,{"$f":"IF(Data_NaamPersoonVastVrij182=\"\",\"\",Data_NaamPersoonVastVrij182)","v":""},null,null,{"$f":"IF(Data_BeeindigingsdatumVastVrij182=\"\",\"\",Data_BeeindigingsdatumVastVrij182)","v":""},null,null,{"$f":"IF(Data_LoonkostenVastVrij182=\"\",\"\",Data_LoonkostenVastVrij182)","v":""},null,{"$f":"IF(Data_PersoonAanUitVastVrij182=-1,\"v\",\"\")","v":""},null,"v",null,null,null,null,0,0,null,{"$f":"IF(Data_NaamPersoonVastOntslag182=\"\",\"\",Data_NaamPersoonVastOntslag182)","v":""},null,null,{"$f":"IF(Data_BeeindigingsdatumVastOntslag182=\"\",\"\",Data_BeeindigingsdatumVastOntslag182)","v":""},null,null,{"$f":"IF(Data_LoonkostenVastOntslag182=\"\",\"\",Data_LoonkostenVastOntslag182)","v":""},null,{"$f":"IF(Data_PersoonAanUitVastOntslag182=-1,\"v\",\"\")","v":""},null,"v",null,null,null,null,0,0]
[null,null,null,null,null,null,null,{"$f":"IF(Data_NaamPersoonNatVerloop183=\"\",\"\",Data_NaamPersoonNatVerloop183)","v":""},null,null,{"$f":"IF(Data_BeeindigingsdatumNatVerloop183=\"\",\"\",Data_BeeindigingsdatumNatVerloop183)","v":""},null,null,{"$f":"IF(Data_LoonkostenNatVerloop183=\"\",\"\",Data_LoonkostenNatVerloop183)","v":""},null,"v",null,"v",null,null,null,null,0,"",null,null,null,null,null,null,null,null,{"$f":"IF(Data_NaamPersoonTijd183=\"\",\"\",Data_NaamPersoonTijd183)","v":""},null,null,{"$f":"IF(Data_BeeindigingsdatumTijd183=\"\",\"\",Data_BeeindigingsdatumTijd183)","v":""},null,null,{"$f":"IF(Data_LoonkostenTijd183=\"\",\"\",Data_LoonkostenTijd183)","v":""},null,{"$f":"IF(Data_PersoonAanUitTijd183=-1,\"v\",\"\")","v":""},null,"v",null,null,null,null,0,0,null,null,null,{"$f":"IF(Data_NaamPersoonVastVrij183=\"\",\"\",Data_NaamPersoonVastVrij183)","v":""},null,null,{"$f":"IF(Data_BeeindigingsdatumVastVrij183=\"\",\"\",Data_BeeindigingsdatumVastVrij183)","v":""},null,null,{"$f":"IF(Data_LoonkostenVastVrij183=\"\",\"\",Data_LoonkostenVastVrij183)","v":""},null,{"$f":"IF(Data_PersoonAanUitVastVrij183=-1,\"v\",\"\")","v":""},null,"v",null,null,null,null,0,0,null,{"$f":"IF(Data_NaamPersoonVastOntslag183=\"\",\"\",Data_NaamPersoonVastOntslag183)","v":""},null,null,{"$f":"IF(Data_BeeindigingsdatumVastOntslag183=\"\",\"\",Data_BeeindigingsdatumVastOntslag183)","v":""},null,null,{"$f":"IF(Data_LoonkostenVastOntslag183=\"\",\"\",Data_LoonkostenVastOntslag183)","v":""},null,{"$f":"IF(Data_PersoonAanUitVastOntslag183=-1,\"v\",\"\")","v":""},null,"v",null,null,null,null,0,0]
[null,null,null,null,null,null,null,{"$f":"IF(Data_NaamPersoonNatVerloop184=\"\",\"\",Data_NaamPersoonNatVerloop184)","v":""},null,null,{"$f":"IF(Data_BeeindigingsdatumNatVerloop184=\"\",\"\",Data_BeeindigingsdatumNatVerloop184)","v":""},null,null,{"$f":"IF(Data_LoonkostenNatVerloop184=\"\",\"\",Data_LoonkostenNatVerloop184)","v":""},null,"v",null,"v",null,null,null,null,0,"",null,null,null,null,null,null,null,null,{"$f":"IF(Data_NaamPersoonTijd184=\"\",\"\",Data_NaamPersoonTijd184)","v":""},null,null,{"$f":"IF(Data_BeeindigingsdatumTijd184=\"\",\"\",Data_BeeindigingsdatumTijd184)","v":""},null,null,{"$f":"IF(Data_LoonkostenTijd184=\"\",\"\",Data_LoonkostenTijd184)","v":""},null,{"$f":"IF(Data_PersoonAanUitTijd184=-1,\"v\",\"\")","v":""},null,"v",null,null,null,null,0,0,null,null,null,{"$f":"IF(Data_NaamPersoonVastVrij184=\"\",\"\",Data_NaamPersoonVastVrij184)","v":""},null,null,{"$f":"IF(Data_BeeindigingsdatumVastVrij184=\"\",\"\",Data_BeeindigingsdatumVastVrij184)","v":""},null,null,{"$f":"IF(Data_LoonkostenVastVrij184=\"\",\"\",Data_LoonkostenVastVrij184)","v":""},null,{"$f":"IF(Data_PersoonAanUitVastVrij184=-1,\"v\",\"\")","v":""},null,"v",null,null,null,null,0,0,null,{"$f":"IF(Data_NaamPersoonVastOntslag184=\"\",\"\",Data_NaamPersoonVastOntslag184)","v":""},null,null,{"$f":"IF(Data_BeeindigingsdatumVastOntslag184=\"\",\"\",Data_BeeindigingsdatumVastOntslag184)","v":""},null,null,{"$f":"IF(Data_LoonkostenVastOntslag184=\"\",\"\",Data_LoonkostenVastOntslag184)","v":""},null,{"$f":"IF(Data_PersoonAanUitVastOntslag184=-1,\"v\",\"\")","v":""},null,"v",null,null,null,null,0,0]
[null,null,null,null,null,null,null,{"$f":"IF(Data_NaamPersoonNatVerloop185=\"\",\"\",Data_NaamPersoonNatVerloop185)","v":""},null,null,{"$f":"IF(Data_BeeindigingsdatumNatVerloop185=\"\",\"\",Data_BeeindigingsdatumNatVerloop185)","v":""},null,null,{"$f":"IF(Data_LoonkostenNatVerloop185=\"\",\"\",Data_LoonkostenNatVerloop185)","v":""},null,"v",null,"v",null,null,null,null,0,"",null,null,null,null,null,null,null,null,{"$f":"IF(Data_NaamPersoonTijd185=\"\",\"\",Data_NaamPersoonTijd185)","v":""},null,null,{"$f":"IF(Data_BeeindigingsdatumTijd185=\"\",\"\",Data_BeeindigingsdatumTijd185)","v":""},null,null,{"$f":"IF(Data_LoonkostenTijd185=\"\",\"\",Data_LoonkostenTijd185)","v":""},null,{"$f":"IF(Data_PersoonAanUitTijd185=-1,\"v\",\"\")","v":""},null,"v",null,null,null,null,0,0,null,null,null,{"$f":"IF(Data_NaamPersoonVastVrij185=\"\",\"\",Data_NaamPersoonVastVrij185)","v":""},null,null,{"$f":"IF(Data_BeeindigingsdatumVastVrij185=\"\",\"\",Data_BeeindigingsdatumVastVrij185)","v":""},null,null,{"$f":"IF(Data_LoonkostenVastVrij185=\"\",\"\",Data_LoonkostenVastVrij185)","v":""},null,{"$f":"IF(Data_PersoonAanUitVastVrij185=-1,\"v\",\"\")","v":""},null,"v",null,null,null,null,0,0,null,{"$f":"IF(Data_NaamPersoonVastOntslag185=\"\",\"\",Data_NaamPersoonVastOntslag185)","v":""},null,null,{"$f":"IF(Data_BeeindigingsdatumVastOntslag185=\"\",\"\",Data_BeeindigingsdatumVastOntslag185)","v":""},null,null,{"$f":"IF(Data_LoonkostenVastOntslag185=\"\",\"\",Data_LoonkostenVastOntslag185)","v":""},null,{"$f":"IF(Data_PersoonAanUitVastOntslag185=-1,\"v\",\"\")","v":""},null,"v",null,null,null,null,0,0]
[null,null,null,null,null,null,null,{"$f":"IF(Data_NaamPersoonNatVerloop186=\"\",\"\",Data_NaamPersoonNatVerloop186)","v":""},null,null,{"$f":"IF(Data_BeeindigingsdatumNatVerloop186=\"\",\"\",Data_BeeindigingsdatumNatVerloop186)","v":""},null,null,{"$f":"IF(Data_LoonkostenNatVerloop186=\"\",\"\",Data_LoonkostenNatVerloop186)","v":""},null,"v",null,"v",null,null,null,null,0,"",null,null,null,null,null,null,null,null,{"$f":"IF(Data_NaamPersoonTijd186=\"\",\"\",Data_NaamPersoonTijd186)","v":""},null,null,{"$f":"IF(Data_BeeindigingsdatumTijd186=\"\",\"\",Data_BeeindigingsdatumTijd186)","v":""},null,null,{"$f":"IF(Data_LoonkostenTijd186=\"\",\"\",Data_LoonkostenTijd186)","v":""},null,{"$f":"IF(Data_PersoonAanUitTijd186=-1,\"v\",\"\")","v":""},null,"v",null,null,null,null,0,0,null,null,null,{"$f":"IF(Data_NaamPersoonVastVrij186=\"\",\"\",Data_NaamPersoonVastVrij186)","v":""},null,null,{"$f":"IF(Data_BeeindigingsdatumVastVrij186=\"\",\"\",Data_BeeindigingsdatumVastVrij186)","v":""},null,null,{"$f":"IF(Data_LoonkostenVastVrij186=\"\",\"\",Data_LoonkostenVastVrij186)","v":""},null,{"$f":"IF(Data_PersoonAanUitVastVrij186=-1,\"v\",\"\")","v":""},null,"v",null,null,null,null,0,0,null,{"$f":"IF(Data_NaamPersoonVastOntslag186=\"\",\"\",Data_NaamPersoonVastOntslag186)","v":""},null,null,{"$f":"IF(Data_BeeindigingsdatumVastOntslag186=\"\",\"\",Data_BeeindigingsdatumVastOntslag186)","v":""},null,null,{"$f":"IF(Data_LoonkostenVastOntslag186=\"\",\"\",Data_LoonkostenVastOntslag186)","v":""},null,{"$f":"IF(Data_PersoonAanUitVastOntslag186=-1,\"v\",\"\")","v":""},null,"v",null,null,null,null,0,0]
[null,null,null,null,null,null,null,{"$f":"IF(Data_NaamPersoonNatVerloop187=\"\",\"\",Data_NaamPersoonNatVerloop187)","v":""},null,null,{"$f":"IF(Data_BeeindigingsdatumNatVerloop187=\"\",\"\",Data_BeeindigingsdatumNatVerloop187)","v":""},null,null,{"$f":"IF(Data_LoonkostenNatVerloop187=\"\",\"\",Data_LoonkostenNatVerloop187)","v":""},null,"v",null,"v",null,null,null,null,0,"",null,null,null,null,null,null,null,null,{"$f":"IF(Data_NaamPersoonTijd187=\"\",\"\",Data_NaamPersoonTijd187)","v":""},null,null,{"$f":"IF(Data_BeeindigingsdatumTijd187=\"\",\"\",Data_BeeindigingsdatumTijd187)","v":""},null,null,{"$f":"IF(Data_LoonkostenTijd187=\"\",\"\",Data_LoonkostenTijd187)","v":""},null,{"$f":"IF(Data_PersoonAanUitTijd187=-1,\"v\",\"\")","v":""},null,"v",null,null,null,null,0,0,null,null,null,{"$f":"IF(Data_NaamPersoonVastVrij187=\"\",\"\",Data_NaamPersoonVastVrij187)","v":""},null,null,{"$f":"IF(Data_BeeindigingsdatumVastVrij187=\"\",\"\",Data_BeeindigingsdatumVastVrij187)","v":""},null,null,{"$f":"IF(Data_LoonkostenVastVrij187=\"\",\"\",Data_LoonkostenVastVrij187)","v":""},null,{"$f":"IF(Data_PersoonAanUitVastVrij187=-1,\"v\",\"\")","v":""},null,"v",null,null,null,null,0,0,null,{"$f":"IF(Data_NaamPersoonVastOntslag187=\"\",\"\",Data_NaamPersoonVastOntslag187)","v":""},null,null,{"$f":"IF(Data_BeeindigingsdatumVastOntslag187=\"\",\"\",Data_BeeindigingsdatumVastOntslag187)","v":""},null,null,{"$f":"IF(Data_LoonkostenVastOntslag187=\"\",\"\",Data_LoonkostenVastOntslag187)","v":""},null,{"$f":"IF(Data_PersoonAanUitVastOntslag187=-1,\"v\",\"\")","v":""},null,"v",null,null,null,null,0,0]
[null,null,null,null,null,null,null,{"$f":"IF(Data_NaamPersoonNatVerloop188=\"\",\"\",Data_NaamPersoonNatVerloop188)","v":""},null,null,{"$f":"IF(Data_BeeindigingsdatumNatVerloop188=\"\",\"\",Data_BeeindigingsdatumNatVerloop188)","v":""},null,null,{"$f":"IF(Data_LoonkostenNatVerloop188=\"\",\"\",Data_LoonkostenNatVerloop188)","v":""},null,"v",null,"v",null,null,null,null,0,"",null,null,null,null,null,null,null,null,{"$f":"IF(Data_NaamPersoonTijd188=\"\",\"\",Data_NaamPersoonTijd188)","v":""},null,null,{"$f":"IF(Data_BeeindigingsdatumTijd188=\"\",\"\",Data_BeeindigingsdatumTijd188)","v":""},null,null,{"$f":"IF(Data_LoonkostenTijd188=\"\",\"\",Data_LoonkostenTijd188)","v":""},null,{"$f":"IF(Data_PersoonAanUitTijd188=-1,\"v\",\"\")","v":""},null,"v",null,null,null,null,0,0,null,null,null,{"$f":"IF(Data_NaamPersoonVastVrij188=\"\",\"\",Data_NaamPersoonVastVrij188)","v":""},null,null,{"$f":"IF(Data_BeeindigingsdatumVastVrij188=\"\",\"\",Data_BeeindigingsdatumVastVrij188)","v":""},null,null,{"$f":"IF(Data_LoonkostenVastVrij188=\"\",\"\",Data_LoonkostenVastVrij188)","v":""},null,{"$f":"IF(Data_PersoonAanUitVastVrij188=-1,\"v\",\"\")","v":""},null,"v",null,null,null,null,0,0,null,{"$f":"IF(Data_NaamPersoonVastOntslag188=\"\",\"\",Data_NaamPersoonVastOntslag188)","v":""},null,null,{"$f":"IF(Data_BeeindigingsdatumVastOntslag188=\"\",\"\",Data_BeeindigingsdatumVastOntslag188)","v":""},null,null,{"$f":"IF(Data_LoonkostenVastOntslag188=\"\",\"\",Data_LoonkostenVastOntslag188)","v":""},null,{"$f":"IF(Data_PersoonAanUitVastOntslag188=-1,\"v\",\"\")","v":""},null,"v",null,null,null,null,0,0]
[null,null,null,null,null,null,null,{"$f":"IF(Data_NaamPersoonNatVerloop189=\"\",\"\",Data_NaamPersoonNatVerloop189)","v":""},null,null,{"$f":"IF(Data_BeeindigingsdatumNatVerloop189=\"\",\"\",Data_BeeindigingsdatumNatVerloop189)","v":""},null,null,{"$f":"IF(Data_LoonkostenNatVerloop189=\"\",\"\",Data_LoonkostenNatVerloop189)","v":""},null,"v",null,"v",null,null,null,null,0,"",null,null,null,null,null,null,null,null,{"$f":"IF(Data_NaamPersoonTijd189=\"\",\"\",Data_NaamPersoonTijd189)","v":""},null,null,{"$f":"IF(Data_BeeindigingsdatumTijd189=\"\",\"\",Data_BeeindigingsdatumTijd189)","v":""},null,null,{"$f":"IF(Data_LoonkostenTijd189=\"\",\"\",Data_LoonkostenTijd189)","v":""},null,{"$f":"IF(Data_PersoonAanUitTijd189=-1,\"v\",\"\")","v":""},null,"v",null,null,null,null,0,0,null,null,null,{"$f":"IF(Data_NaamPersoonVastVrij189=\"\",\"\",Data_NaamPersoonVastVrij189)","v":""},null,null,{"$f":"IF(Data_BeeindigingsdatumVastVrij189=\"\",\"\",Data_BeeindigingsdatumVastVrij189)","v":""},null,null,{"$f":"IF(Data_LoonkostenVastVrij189=\"\",\"\",Data_LoonkostenVastVrij189)","v":""},null,{"$f":"IF(Data_PersoonAanUitVastVrij189=-1,\"v\",\"\")","v":""},null,"v",null,null,null,null,0,0,null,{"$f":"IF(Data_NaamPersoonVastOntslag189=\"\",\"\",Data_NaamPersoonVastOntslag189)","v":""},null,null,{"$f":"IF(Data_BeeindigingsdatumVastOntslag189=\"\",\"\",Data_BeeindigingsdatumVastOntslag189)","v":""},null,null,{"$f":"IF(Data_LoonkostenVastOntslag189=\"\",\"\",Data_LoonkostenVastOntslag189)","v":""},null,{"$f":"IF(Data_PersoonAanUitVastOntslag189=-1,\"v\",\"\")","v":""},null,"v",null,null,null,null,0,0]
[null,null,null,null,null,null,null,{"$f":"IF(Data_NaamPersoonNatVerloop190=\"\",\"\",Data_NaamPersoonNatVerloop190)","v":""},null,null,{"$f":"IF(Data_BeeindigingsdatumNatVerloop190=\"\",\"\",Data_BeeindigingsdatumNatVerloop190)","v":""},null,null,{"$f":"IF(Data_LoonkostenNatVerloop190=\"\",\"\",Data_LoonkostenNatVerloop190)","v":""},null,"v",null,"v",null,null,null,null,0,"",null,null,null,null,null,null,null,null,{"$f":"IF(Data_NaamPersoonTijd190=\"\",\"\",Data_NaamPersoonTijd190)","v":""},null,null,{"$f":"IF(Data_BeeindigingsdatumTijd190=\"\",\"\",Data_BeeindigingsdatumTijd190)","v":""},null,null,{"$f":"IF(Data_LoonkostenTijd190=\"\",\"\",Data_LoonkostenTijd190)","v":""},null,{"$f":"IF(Data_PersoonAanUitTijd190=-1,\"v\",\"\")","v":""},null,"v",null,null,null,null,0,0,null,null,null,{"$f":"IF(Data_NaamPersoonVastVrij190=\"\",\"\",Data_NaamPersoonVastVrij190)","v":""},null,null,{"$f":"IF(Data_BeeindigingsdatumVastVrij190=\"\",\"\",Data_BeeindigingsdatumVastVrij190)","v":""},null,null,{"$f":"IF(Data_LoonkostenVastVrij190=\"\",\"\",Data_LoonkostenVastVrij190)","v":""},null,{"$f":"IF(Data_PersoonAanUitVastVrij190=-1,\"v\",\"\")","v":""},null,"v",null,null,null,null,0,0,null,{"$f":"IF(Data_NaamPersoonVastOntslag190=\"\",\"\",Data_NaamPersoonVastOntslag190)","v":""},null,null,{"$f":"IF(Data_BeeindigingsdatumVastOntslag190=\"\",\"\",Data_BeeindigingsdatumVastOntslag190)","v":""},null,null,{"$f":"IF(Data_LoonkostenVastOntslag190=\"\",\"\",Data_LoonkostenVastOntslag190)","v":""},null,{"$f":"IF(Data_PersoonAanUitVastOntslag190=-1,\"v\",\"\")","v":""},null,"v",null,null,null,null,0,0]
[null,null,null,null,null,null,null,{"$f":"IF(Data_NaamPersoonNatVerloop191=\"\",\"\",Data_NaamPersoonNatVerloop191)","v":""},null,null,{"$f":"IF(Data_BeeindigingsdatumNatVerloop191=\"\",\"\",Data_BeeindigingsdatumNatVerloop191)","v":""},null,null,{"$f":"IF(Data_LoonkostenNatVerloop191=\"\",\"\",Data_LoonkostenNatVerloop191)","v":""},null,"v",null,"v",null,null,null,null,0,"",null,null,null,null,null,null,null,null,{"$f":"IF(Data_NaamPersoonTijd191=\"\",\"\",Data_NaamPersoonTijd191)","v":""},null,null,{"$f":"IF(Data_BeeindigingsdatumTijd191=\"\",\"\",Data_BeeindigingsdatumTijd191)","v":""},null,null,{"$f":"IF(Data_LoonkostenTijd191=\"\",\"\",Data_LoonkostenTijd191)","v":""},null,{"$f":"IF(Data_PersoonAanUitTijd191=-1,\"v\",\"\")","v":""},null,"v",null,null,null,null,0,0,null,null,null,{"$f":"IF(Data_NaamPersoonVastVrij191=\"\",\"\",Data_NaamPersoonVastVrij191)","v":""},null,null,{"$f":"IF(Data_BeeindigingsdatumVastVrij191=\"\",\"\",Data_BeeindigingsdatumVastVrij191)","v":""},null,null,{"$f":"IF(Data_LoonkostenVastVrij191=\"\",\"\",Data_LoonkostenVastVrij191)","v":""},null,{"$f":"IF(Data_PersoonAanUitVastVrij191=-1,\"v\",\"\")","v":""},null,"v",null,null,null,null,0,0,null,{"$f":"IF(Data_NaamPersoonVastOntslag191=\"\",\"\",Data_NaamPersoonVastOntslag191)","v":""},null,null,{"$f":"IF(Data_BeeindigingsdatumVastOntslag191=\"\",\"\",Data_BeeindigingsdatumVastOntslag191)","v":""},null,null,{"$f":"IF(Data_LoonkostenVastOntslag191=\"\",\"\",Data_LoonkostenVastOntslag191)","v":""},null,{"$f":"IF(Data_PersoonAanUitVastOntslag191=-1,\"v\",\"\")","v":""},null,"v",null,null,null,null,0,0]
[null,null,null,null,null,null,null,{"$f":"IF(Data_NaamPersoonNatVerloop192=\"\",\"\",Data_NaamPersoonNatVerloop192)","v":""},null,null,{"$f":"IF(Data_BeeindigingsdatumNatVerloop192=\"\",\"\",Data_BeeindigingsdatumNatVerloop192)","v":""},null,null,{"$f":"IF(Data_LoonkostenNatVerloop192=\"\",\"\",Data_LoonkostenNatVerloop192)","v":""},null,"v",null,"v",null,null,null,null,0,"",null,null,null,null,null,null,null,null,{"$f":"IF(Data_NaamPersoonTijd192=\"\",\"\",Data_NaamPersoonTijd192)","v":""},null,null,{"$f":"IF(Data_BeeindigingsdatumTijd192=\"\",\"\",Data_BeeindigingsdatumTijd192)","v":""},null,null,{"$f":"IF(Data_LoonkostenTijd192=\"\",\"\",Data_LoonkostenTijd192)","v":""},null,{"$f":"IF(Data_PersoonAanUitTijd192=-1,\"v\",\"\")","v":""},null,"v",null,null,null,null,0,0,null,null,null,{"$f":"IF(Data_NaamPersoonVastVrij192=\"\",\"\",Data_NaamPersoonVastVrij192)","v":""},null,null,{"$f":"IF(Data_BeeindigingsdatumVastVrij192=\"\",\"\",Data_BeeindigingsdatumVastVrij192)","v":""},null,null,{"$f":"IF(Data_LoonkostenVastVrij192=\"\",\"\",Data_LoonkostenVastVrij192)","v":""},null,{"$f":"IF(Data_PersoonAanUitVastVrij192=-1,\"v\",\"\")","v":""},null,"v",null,null,null,null,0,0,null,{"$f":"IF(Data_NaamPersoonVastOntslag192=\"\",\"\",Data_NaamPersoonVastOntslag192)","v":""},null,null,{"$f":"IF(Data_BeeindigingsdatumVastOntslag192=\"\",\"\",Data_BeeindigingsdatumVastOntslag192)","v":""},null,null,{"$f":"IF(Data_LoonkostenVastOntslag192=\"\",\"\",Data_LoonkostenVastOntslag192)","v":""},null,{"$f":"IF(Data_PersoonAanUitVastOntslag192=-1,\"v\",\"\")","v":""},null,"v",null,null,null,null,0,0]
[null,null,null,null,null,null,null,{"$f":"IF(Data_NaamPersoonNatVerloop193=\"\",\"\",Data_NaamPersoonNatVerloop193)","v":""},null,null,{"$f":"IF(Data_BeeindigingsdatumNatVerloop193=\"\",\"\",Data_BeeindigingsdatumNatVerloop193)","v":""},null,null,{"$f":"IF(Data_LoonkostenNatVerloop193=\"\",\"\",Data_LoonkostenNatVerloop193)","v":""},null,"v",null,"v",null,null,null,null,{"$f":"IF($AO216=\"v\",M216,T216)","v":0},"",null,null,null,null,null,null,null,null,{"$f":"IF(Data_NaamPersoonTijd193=\"\",\"\",Data_NaamPersoonTijd193)","v":""},null,null,{"$f":"IF(Data_BeeindigingsdatumTijd193=\"\",\"\",Data_BeeindigingsdatumTijd193)","v":""},null,null,{"$f":"IF(Data_LoonkostenTijd193=\"\",\"\",Data_LoonkostenTijd193)","v":""},null,{"$f":"IF(Data_PersoonAanUitTijd193=-1,\"v\",\"\")","v":""},null,"v",null,null,null,null,{"$f":"IF($AO216=\"v\",AL216,AS216)","v":0},{"$f":"IF(AND($AO216=\"v\",$AQ216=\"v\"),AM216,IF(AND($AO216=\"v\",$AQ216<>\"v\"),AT216,0))","v":0},null,null,null,{"$f":"IF(Data_NaamPersoonVastVrij193=\"\",\"\",Data_NaamPersoonVastVrij193)","v":""},null,null,{"$f":"IF(Data_BeeindigingsdatumVastVrij193=\"\",\"\",Data_BeeindigingsdatumVastVrij193)","v":""},null,null,{"$f":"IF(Data_LoonkostenVastVrij193=\"\",\"\",Data_LoonkostenVastVrij193)","v":""},null,{"$f":"IF(Data_PersoonAanUitVastVrij193=-1,\"v\",\"\")","v":""},null,"v",null,null,null,null,{"$f":"IF($BI216=\"v\",BF216,BM216)","v":0},{"$f":"IF(AND($BI216=\"v\",$BK216=\"v\"),BG216,IF(AND($BI216=\"v\",$BK216<>\"v\"),BN216,0))","v":0},null,{"$f":"IF(Data_NaamPersoonVastOntslag193=\"\",\"\",Data_NaamPersoonVastOntslag193)","v":""},null,null,{"$f":"IF(Data_BeeindigingsdatumVastOntslag193=\"\",\"\",Data_BeeindigingsdatumVastOntslag193)","v":""},null,null,{"$f":"IF(Data_LoonkostenVastOntslag193=\"\",\"\",Data_LoonkostenVastOntslag193)","v":""},null,{"$f":"IF(Data_PersoonAanUitVastOntslag193=-1,\"v\",\"\")","v":""},null,"v",null,null,null,null,0,{"$f":"IF(AND($CA216=\"v\",$CC216=\"v\"),BY216,IF(AND($CA216=\"v\",$CC216<>\"v\"),CF215,0))","v":0}]
[null,null,null,null,null,null,null,{"$f":"IF(Data_NaamPersoonNatVerloop194=\"\",\"\",Data_NaamPersoonNatVerloop194)","v":""},null,null,{"$f":"IF(Data_BeeindigingsdatumNatVerloop194=\"\",\"\",Data_BeeindigingsdatumNatVerloop194)","v":""},null,null,{"$f":"IF(Data_LoonkostenNatVerloop194=\"\",\"\",Data_LoonkostenNatVerloop194)","v":""},null,"v",null,"v",null,null,null,null,0,{"$f":"IF(AND($P217=\"v\",$R217=\"v\"),N217,IF(AND($P217=\"v\",$R217<>\"v\"),U217,0))","v":""},null,null,null,null,null,null,null,null,{"$f":"IF(Data_NaamPersoonTijd194=\"\",\"\",Data_NaamPersoonTijd194)","v":""},null,null,{"$f":"IF(Data_BeeindigingsdatumTijd194=\"\",\"\",Data_BeeindigingsdatumTijd194)","v":""},null,null,{"$f":"IF(Data_LoonkostenTijd194=\"\",\"\",Data_LoonkostenTijd194)","v":""},null,{"$f":"IF(Data_PersoonAanUitTijd194=-1,\"v\",\"\")","v":""},null,"v",null,null,null,null,0,0,null,null,null,{"$f":"IF(Data_NaamPersoonVastVrij194=\"\",\"\",Data_NaamPersoonVastVrij194)","v":""},null,null,{"$f":"IF(Data_BeeindigingsdatumVastVrij194=\"\",\"\",Data_BeeindigingsdatumVastVrij194)","v":""},null,null,{"$f":"IF(Data_LoonkostenVastVrij194=\"\",\"\",Data_LoonkostenVastVrij194)","v":""},null,{"$f":"IF(Data_PersoonAanUitVastVrij194=-1,\"v\",\"\")","v":""},null,"v",null,null,null,null,0,0,null,{"$f":"IF(Data_NaamPersoonVastOntslag194=\"\",\"\",Data_NaamPersoonVastOntslag194)","v":""},null,null,{"$f":"IF(Data_BeeindigingsdatumVastOntslag194=\"\",\"\",Data_BeeindigingsdatumVastOntslag194)","v":""},null,null,{"$f":"IF(Data_LoonkostenVastOntslag194=\"\",\"\",Data_LoonkostenVastOntslag194)","v":""},null,{"$f":"IF(Data_PersoonAanUitVastOntslag194=-1,\"v\",\"\")","v":""},null,"v",null,null,null,null,{"$f":"IF($CA217=\"v\",BX217,CE217)","v":0},0]
[null,null,null,null,null,null,null,{"$f":"IF(Data_NaamPersoonNatVerloop195=\"\",\"\",Data_NaamPersoonNatVerloop195)","v":""},null,null,{"$f":"IF(Data_BeeindigingsdatumNatVerloop195=\"\",\"\",Data_BeeindigingsdatumNatVerloop195)","v":""},null,null,{"$f":"IF(Data_LoonkostenNatVerloop195=\"\",\"\",Data_LoonkostenNatVerloop195)","v":""},null,"v",null,"v",null,null,null,null,0,"",null,null,null,null,null,null,null,null,{"$f":"IF(Data_NaamPersoonTijd195=\"\",\"\",Data_NaamPersoonTijd195)","v":""},null,null,{"$f":"IF(Data_BeeindigingsdatumTijd195=\"\",\"\",Data_BeeindigingsdatumTijd195)","v":""},null,null,{"$f":"IF(Data_LoonkostenTijd195=\"\",\"\",Data_LoonkostenTijd195)","v":""},null,{"$f":"IF(Data_PersoonAanUitTijd195=-1,\"v\",\"\")","v":""},null,"v",null,null,null,null,0,0,null,null,null,{"$f":"IF(Data_NaamPersoonVastVrij195=\"\",\"\",Data_NaamPersoonVastVrij195)","v":""},null,null,{"$f":"IF(Data_BeeindigingsdatumVastVrij195=\"\",\"\",Data_BeeindigingsdatumVastVrij195)","v":""},null,null,{"$f":"IF(Data_LoonkostenVastVrij195=\"\",\"\",Data_LoonkostenVastVrij195)","v":""},null,{"$f":"IF(Data_PersoonAanUitVastVrij195=-1,\"v\",\"\")","v":""},null,"v",null,null,null,null,0,0,null,{"$f":"IF(Data_NaamPersoonVastOntslag195=\"\",\"\",Data_NaamPersoonVastOntslag195)","v":""},null,null,{"$f":"IF(Data_BeeindigingsdatumVastOntslag195=\"\",\"\",Data_BeeindigingsdatumVastOntslag195)","v":""},null,null,{"$f":"IF(Data_LoonkostenVastOntslag195=\"\",\"\",Data_LoonkostenVastOntslag195)","v":""},null,{"$f":"IF(Data_PersoonAanUitVastOntslag195=-1,\"v\",\"\")","v":""},null,"v",null,null,null,null,0,0]
[null,null,null,null,null,null,null,{"$f":"IF(Data_NaamPersoonNatVerloop196=\"\",\"\",Data_NaamPersoonNatVerloop196)","v":""},null,null,{"$f":"IF(Data_BeeindigingsdatumNatVerloop196=\"\",\"\",Data_BeeindigingsdatumNatVerloop196)","v":""},null,null,{"$f":"IF(Data_LoonkostenNatVerloop196=\"\",\"\",Data_LoonkostenNatVerloop196)","v":""},null,"v",null,"v",null,null,null,null,0,"",null,null,null,null,null,null,null,null,{"$f":"IF(Data_NaamPersoonTijd196=\"\",\"\",Data_NaamPersoonTijd196)","v":""},null,null,{"$f":"IF(Data_BeeindigingsdatumTijd196=\"\",\"\",Data_BeeindigingsdatumTijd196)","v":""},null,null,{"$f":"IF(Data_LoonkostenTijd196=\"\",\"\",Data_LoonkostenTijd196)","v":""},null,{"$f":"IF(Data_PersoonAanUitTijd196=-1,\"v\",\"\")","v":""},null,"v",null,null,null,null,0,0,null,null,null,{"$f":"IF(Data_NaamPersoonVastVrij196=\"\",\"\",Data_NaamPersoonVastVrij196)","v":""},null,null,{"$f":"IF(Data_BeeindigingsdatumVastVrij196=\"\",\"\",Data_BeeindigingsdatumVastVrij196)","v":""},null,null,{"$f":"IF(Data_LoonkostenVastVrij196=\"\",\"\",Data_LoonkostenVastVrij196)","v":""},null,{"$f":"IF(Data_PersoonAanUitVastVrij196=-1,\"v\",\"\")","v":""},null,"v",null,null,null,null,0,0,null,{"$f":"IF(Data_NaamPersoonVastOntslag196=\"\",\"\",Data_NaamPersoonVastOntslag196)","v":""},null,null,{"$f":"IF(Data_BeeindigingsdatumVastOntslag196=\"\",\"\",Data_BeeindigingsdatumVastOntslag196)","v":""},null,null,{"$f":"IF(Data_LoonkostenVastOntslag196=\"\",\"\",Data_LoonkostenVastOntslag196)","v":""},null,{"$f":"IF(Data_PersoonAanUitVastOntslag196=-1,\"v\",\"\")","v":""},null,"v",null,null,null,null,0,0]
[null,null,null,null,null,null,null,{"$f":"IF(Data_NaamPersoonNatVerloop197=\"\",\"\",Data_NaamPersoonNatVerloop197)","v":""},null,null,{"$f":"IF(Data_BeeindigingsdatumNatVerloop197=\"\",\"\",Data_BeeindigingsdatumNatVerloop197)","v":""},null,null,{"$f":"IF(Data_LoonkostenNatVerloop197=\"\",\"\",Data_LoonkostenNatVerloop197)","v":""},null,"v",null,"v",null,null,null,null,0,"",null,null,null,null,null,null,null,null,{"$f":"IF(Data_NaamPersoonTijd197=\"\",\"\",Data_NaamPersoonTijd197)","v":""},null,null,{"$f":"IF(Data_BeeindigingsdatumTijd197=\"\",\"\",Data_BeeindigingsdatumTijd197)","v":""},null,null,{"$f":"IF(Data_LoonkostenTijd197=\"\",\"\",Data_LoonkostenTijd197)","v":""},null,{"$f":"IF(Data_PersoonAanUitTijd197=-1,\"v\",\"\")","v":""},null,"v",null,null,null,null,0,0,null,null,null,{"$f":"IF(Data_NaamPersoonVastVrij197=\"\",\"\",Data_NaamPersoonVastVrij197)","v":""},null,null,{"$f":"IF(Data_BeeindigingsdatumVastVrij197=\"\",\"\",Data_BeeindigingsdatumVastVrij197)","v":""},null,null,{"$f":"IF(Data_LoonkostenVastVrij197=\"\",\"\",Data_LoonkostenVastVrij197)","v":""},null,{"$f":"IF(Data_PersoonAanUitVastVrij197=-1,\"v\",\"\")","v":""},null,"v",null,null,null,null,0,0,null,{"$f":"IF(Data_NaamPersoonVastOntslag197=\"\",\"\",Data_NaamPersoonVastOntslag197)","v":""},null,null,{"$f":"IF(Data_BeeindigingsdatumVastOntslag197=\"\",\"\",Data_BeeindigingsdatumVastOntslag197)","v":""},null,null,{"$f":"IF(Data_LoonkostenVastOntslag197=\"\",\"\",Data_LoonkostenVastOntslag197)","v":""},null,{"$f":"IF(Data_PersoonAanUitVastOntslag197=-1,\"v\",\"\")","v":""},null,"v",null,null,null,null,0,0]
[null,null,null,null,null,null,null,{"$f":"IF(Data_NaamPersoonNatVerloop198=\"\",\"\",Data_NaamPersoonNatVerloop198)","v":""},null,null,{"$f":"IF(Data_BeeindigingsdatumNatVerloop198=\"\",\"\",Data_BeeindigingsdatumNatVerloop198)","v":""},null,null,{"$f":"IF(Data_LoonkostenNatVerloop198=\"\",\"\",Data_LoonkostenNatVerloop198)","v":""},null,"v",null,"v",null,null,null,null,0,"",null,null,null,null,null,null,null,null,{"$f":"IF(Data_NaamPersoonTijd198=\"\",\"\",Data_NaamPersoonTijd198)","v":""},null,null,{"$f":"IF(Data_BeeindigingsdatumTijd198=\"\",\"\",Data_BeeindigingsdatumTijd198)","v":""},null,null,{"$f":"IF(Data_LoonkostenTijd198=\"\",\"\",Data_LoonkostenTijd198)","v":""},null,{"$f":"IF(Data_PersoonAanUitTijd198=-1,\"v\",\"\")","v":""},null,"v",null,null,null,null,0,0,null,null,null,{"$f":"IF(Data_NaamPersoonVastVrij198=\"\",\"\",Data_NaamPersoonVastVrij198)","v":""},null,null,{"$f":"IF(Data_BeeindigingsdatumVastVrij198=\"\",\"\",Data_BeeindigingsdatumVastVrij198)","v":""},null,null,{"$f":"IF(Data_LoonkostenVastVrij198=\"\",\"\",Data_LoonkostenVastVrij198)","v":""},null,{"$f":"IF(Data_PersoonAanUitVastVrij198=-1,\"v\",\"\")","v":""},null,"v",null,null,null,null,0,0,null,{"$f":"IF(Data_NaamPersoonVastOntslag198=\"\",\"\",Data_NaamPersoonVastOntslag198)","v":""},null,null,{"$f":"IF(Data_BeeindigingsdatumVastOntslag198=\"\",\"\",Data_BeeindigingsdatumVastOntslag198)","v":""},null,null,{"$f":"IF(Data_LoonkostenVastOntslag198=\"\",\"\",Data_LoonkostenVastOntslag198)","v":""},null,{"$f":"IF(Data_PersoonAanUitVastOntslag198=-1,\"v\",\"\")","v":""},null,"v",null,null,null,null,0,0]
[null,null,null,null,null,null,null,{"$f":"IF(Data_NaamPersoonNatVerloop199=\"\",\"\",Data_NaamPersoonNatVerloop199)","v":""},null,null,{"$f":"IF(Data_BeeindigingsdatumNatVerloop199=\"\",\"\",Data_BeeindigingsdatumNatVerloop199)","v":""},null,null,{"$f":"IF(Data_LoonkostenNatVerloop199=\"\",\"\",Data_LoonkostenNatVerloop199)","v":""},null,"v",null,"v",null,null,null,null,0,"",null,null,null,null,null,null,null,null,{"$f":"IF(Data_NaamPersoonTijd199=\"\",\"\",Data_NaamPersoonTijd199)","v":""},null,null,{"$f":"IF(Data_BeeindigingsdatumTijd199=\"\",\"\",Data_BeeindigingsdatumTijd199)","v":""},null,null,{"$f":"IF(Data_LoonkostenTijd199=\"\",\"\",Data_LoonkostenTijd199)","v":""},null,{"$f":"IF(Data_PersoonAanUitTijd199=-1,\"v\",\"\")","v":""},null,"v",null,null,null,null,0,0,null,null,null,{"$f":"IF(Data_NaamPersoonVastVrij199=\"\",\"\",Data_NaamPersoonVastVrij199)","v":""},null,null,{"$f":"IF(Data_BeeindigingsdatumVastVrij199=\"\",\"\",Data_BeeindigingsdatumVastVrij199)","v":""},null,null,{"$f":"IF(Data_LoonkostenVastVrij199=\"\",\"\",Data_LoonkostenVastVrij199)","v":""},null,{"$f":"IF(Data_PersoonAanUitVastVrij199=-1,\"v\",\"\")","v":""},null,"v",null,null,null,null,0,0,null,{"$f":"IF(Data_NaamPersoonVastOntslag199=\"\",\"\",Data_NaamPersoonVastOntslag199)","v":""},null,null,{"$f":"IF(Data_BeeindigingsdatumVastOntslag199=\"\",\"\",Data_BeeindigingsdatumVastOntslag199)","v":""},null,null,{"$f":"IF(Data_LoonkostenVastOntslag199=\"\",\"\",Data_LoonkostenVastOntslag199)","v":""},null,{"$f":"IF(Data_PersoonAanUitVastOntslag199=-1,\"v\",\"\")","v":""},null,"v",null,null,null,null,0,0]
[null,null,null,null,null,null,null,{"$f":"IF(Data_NaamPersoonNatVerloop200=\"\",\"\",Data_NaamPersoonNatVerloop200)","v":""},null,null,{"$f":"IF(Data_BeeindigingsdatumNatVerloop200=\"\",\"\",Data_BeeindigingsdatumNatVerloop200)","v":""},null,null,{"$f":"IF(Data_LoonkostenNatVerloop200=\"\",\"\",Data_LoonkostenNatVerloop200)","v":""},null,"v",null,"v",null,null,null,null,0,"",null,null,null,null,null,null,null,null,{"$f":"IF(Data_NaamPersoonTijd200=\"\",\"\",Data_NaamPersoonTijd200)","v":""},null,null,{"$f":"IF(Data_BeeindigingsdatumTijd200=\"\",\"\",Data_BeeindigingsdatumTijd200)","v":""},null,null,{"$f":"IF(Data_LoonkostenTijd200=\"\",\"\",Data_LoonkostenTijd200)","v":""},null,{"$f":"IF(Data_PersoonAanUitTijd200=-1,\"v\",\"\")","v":""},null,"v",null,null,null,null,0,0,null,null,null,{"$f":"IF(Data_NaamPersoonVastVrij200=\"\",\"\",Data_NaamPersoonVastVrij200)","v":""},null,null,{"$f":"IF(Data_BeeindigingsdatumVastVrij200=\"\",\"\",Data_BeeindigingsdatumVastVrij200)","v":""},null,null,{"$f":"IF(Data_LoonkostenVastVrij200=\"\",\"\",Data_LoonkostenVastVrij200)","v":""},null,{"$f":"IF(Data_PersoonAanUitVastVrij200=-1,\"v\",\"\")","v":""},null,"v",null,null,null,null,0,0,null,{"$f":"IF(Data_NaamPersoonVastOntslag200=\"\",\"\",Data_NaamPersoonVastOntslag200)","v":""},null,null,{"$f":"IF(Data_BeeindigingsdatumVastOntslag200=\"\",\"\",Data_BeeindigingsdatumVastOntslag200)","v":""},null,null,{"$f":"IF(Data_LoonkostenVastOntslag200=\"\",\"\",Data_LoonkostenVastOntslag200)","v":""},null,{"$f":"IF(Data_PersoonAanUitVastOntslag200=-1,\"v\",\"\")","v":""},null,"v",null,null,null,null,0,0]
[null,null,null,null,null,null,null,{"$f":"IF(Data_NaamPersoonNatVerloop201=\"\",\"\",Data_NaamPersoonNatVerloop201)","v":""},null,null,{"$f":"IF(Data_BeeindigingsdatumNatVerloop201=\"\",\"\",Data_BeeindigingsdatumNatVerloop201)","v":""},null,null,{"$f":"IF(Data_LoonkostenNatVerloop201=\"\",\"\",Data_LoonkostenNatVerloop201)","v":""},null,"v",null,"v",null,null,null,null,0,"",null,null,null,null,null,null,null,null,{"$f":"IF(Data_NaamPersoonTijd201=\"\",\"\",Data_NaamPersoonTijd201)","v":""},null,null,{"$f":"IF(Data_BeeindigingsdatumTijd201=\"\",\"\",Data_BeeindigingsdatumTijd201)","v":""},null,null,{"$f":"IF(Data_LoonkostenTijd201=\"\",\"\",Data_LoonkostenTijd201)","v":""},null,{"$f":"IF(Data_PersoonAanUitTijd201=-1,\"v\",\"\")","v":""},null,"v",null,null,null,null,0,0,null,null,null,{"$f":"IF(Data_NaamPersoonVastVrij201=\"\",\"\",Data_NaamPersoonVastVrij201)","v":""},null,null,{"$f":"IF(Data_BeeindigingsdatumVastVrij201=\"\",\"\",Data_BeeindigingsdatumVastVrij201)","v":""},null,null,{"$f":"IF(Data_LoonkostenVastVrij201=\"\",\"\",Data_LoonkostenVastVrij201)","v":""},null,{"$f":"IF(Data_PersoonAanUitVastVrij201=-1,\"v\",\"\")","v":""},null,"v",null,null,null,null,0,0,null,{"$f":"IF(Data_NaamPersoonVastOntslag201=\"\",\"\",Data_NaamPersoonVastOntslag201)","v":""},null,null,{"$f":"IF(Data_BeeindigingsdatumVastOntslag201=\"\",\"\",Data_BeeindigingsdatumVastOntslag201)","v":""},null,null,{"$f":"IF(Data_LoonkostenVastOntslag201=\"\",\"\",Data_LoonkostenVastOntslag201)","v":""},null,{"$f":"IF(Data_PersoonAanUitVastOntslag201=-1,\"v\",\"\")","v":""},null,"v",null,null,null,null,0,0]
[null,null,null,null,null,null,null,{"$f":"IF(Data_NaamPersoonNatVerloop202=\"\",\"\",Data_NaamPersoonNatVerloop202)","v":""},null,null,{"$f":"IF(Data_BeeindigingsdatumNatVerloop202=\"\",\"\",Data_BeeindigingsdatumNatVerloop202)","v":""},null,null,{"$f":"IF(Data_LoonkostenNatVerloop202=\"\",\"\",Data_LoonkostenNatVerloop202)","v":""},null,"v",null,"v",null,null,null,null,0,"",null,null,null,null,null,null,null,null,{"$f":"IF(Data_NaamPersoonTijd202=\"\",\"\",Data_NaamPersoonTijd202)","v":""},null,null,{"$f":"IF(Data_BeeindigingsdatumTijd202=\"\",\"\",Data_BeeindigingsdatumTijd202)","v":""},null,null,{"$f":"IF(Data_LoonkostenTijd202=\"\",\"\",Data_LoonkostenTijd202)","v":""},null,{"$f":"IF(Data_PersoonAanUitTijd202=-1,\"v\",\"\")","v":""},null,"v",null,null,null,null,0,0,null,null,null,{"$f":"IF(Data_NaamPersoonVastVrij202=\"\",\"\",Data_NaamPersoonVastVrij202)","v":""},null,null,{"$f":"IF(Data_BeeindigingsdatumVastVrij202=\"\",\"\",Data_BeeindigingsdatumVastVrij202)","v":""},null,null,{"$f":"IF(Data_LoonkostenVastVrij202=\"\",\"\",Data_LoonkostenVastVrij202)","v":""},null,{"$f":"IF(Data_PersoonAanUitVastVrij202=-1,\"v\",\"\")","v":""},null,"v",null,null,null,null,0,0,null,{"$f":"IF(Data_NaamPersoonVastOntslag202=\"\",\"\",Data_NaamPersoonVastOntslag202)","v":""},null,null,{"$f":"IF(Data_BeeindigingsdatumVastOntslag202=\"\",\"\",Data_BeeindigingsdatumVastOntslag202)","v":""},null,null,{"$f":"IF(Data_LoonkostenVastOntslag202=\"\",\"\",Data_LoonkostenVastOntslag202)","v":""},null,{"$f":"IF(Data_PersoonAanUitVastOntslag202=-1,\"v\",\"\")","v":""},null,"v",null,null,null,null,0,0]
[null,null,null,null,null,null,null,{"$f":"IF(Data_NaamPersoonNatVerloop203=\"\",\"\",Data_NaamPersoonNatVerloop203)","v":""},null,null,{"$f":"IF(Data_BeeindigingsdatumNatVerloop203=\"\",\"\",Data_BeeindigingsdatumNatVerloop203)","v":""},null,null,{"$f":"IF(Data_LoonkostenNatVerloop203=\"\",\"\",Data_LoonkostenNatVerloop203)","v":""},null,"v",null,"v",null,null,null,null,0,"",null,null,null,null,null,null,null,null,{"$f":"IF(Data_NaamPersoonTijd203=\"\",\"\",Data_NaamPersoonTijd203)","v":""},null,null,{"$f":"IF(Data_BeeindigingsdatumTijd203=\"\",\"\",Data_BeeindigingsdatumTijd203)","v":""},null,null,{"$f":"IF(Data_LoonkostenTijd203=\"\",\"\",Data_LoonkostenTijd203)","v":""},null,{"$f":"IF(Data_PersoonAanUitTijd203=-1,\"v\",\"\")","v":""},null,"v",null,null,null,null,0,0,null,null,null,{"$f":"IF(Data_NaamPersoonVastVrij203=\"\",\"\",Data_NaamPersoonVastVrij203)","v":""},null,null,{"$f":"IF(Data_BeeindigingsdatumVastVrij203=\"\",\"\",Data_BeeindigingsdatumVastVrij203)","v":""},null,null,{"$f":"IF(Data_LoonkostenVastVrij203=\"\",\"\",Data_LoonkostenVastVrij203)","v":""},null,{"$f":"IF(Data_PersoonAanUitVastVrij203=-1,\"v\",\"\")","v":""},null,"v",null,null,null,null,0,0,null,{"$f":"IF(Data_NaamPersoonVastOntslag203=\"\",\"\",Data_NaamPersoonVastOntslag203)","v":""},null,null,{"$f":"IF(Data_BeeindigingsdatumVastOntslag203=\"\",\"\",Data_BeeindigingsdatumVastOntslag203)","v":""},null,null,{"$f":"IF(Data_LoonkostenVastOntslag203=\"\",\"\",Data_LoonkostenVastOntslag203)","v":""},null,{"$f":"IF(Data_PersoonAanUitVastOntslag203=-1,\"v\",\"\")","v":""},null,"v",null,null,null,null,0,0]
[null,null,null,null,null,null,null,{"$f":"IF(Data_NaamPersoonNatVerloop204=\"\",\"\",Data_NaamPersoonNatVerloop204)","v":""},null,null,{"$f":"IF(Data_BeeindigingsdatumNatVerloop204=\"\",\"\",Data_BeeindigingsdatumNatVerloop204)","v":""},null,null,{"$f":"IF(Data_LoonkostenNatVerloop204=\"\",\"\",Data_LoonkostenNatVerloop204)","v":""},null,"v",null,"v",null,null,null,null,0,"",null,null,null,null,null,null,null,null,{"$f":"IF(Data_NaamPersoonTijd204=\"\",\"\",Data_NaamPersoonTijd204)","v":""},null,null,{"$f":"IF(Data_BeeindigingsdatumTijd204=\"\",\"\",Data_BeeindigingsdatumTijd204)","v":""},null,null,{"$f":"IF(Data_LoonkostenTijd204=\"\",\"\",Data_LoonkostenTijd204)","v":""},null,{"$f":"IF(Data_PersoonAanUitTijd204=-1,\"v\",\"\")","v":""},null,"v",null,null,null,null,0,0,null,null,null,{"$f":"IF(Data_NaamPersoonVastVrij204=\"\",\"\",Data_NaamPersoonVastVrij204)","v":""},null,null,{"$f":"IF(Data_BeeindigingsdatumVastVrij204=\"\",\"\",Data_BeeindigingsdatumVastVrij204)","v":""},null,null,{"$f":"IF(Data_LoonkostenVastVrij204=\"\",\"\",Data_LoonkostenVastVrij204)","v":""},null,{"$f":"IF(Data_PersoonAanUitVastVrij204=-1,\"v\",\"\")","v":""},null,"v",null,null,null,null,0,0,null,{"$f":"IF(Data_NaamPersoonVastOntslag204=\"\",\"\",Data_NaamPersoonVastOntslag204)","v":""},null,null,{"$f":"IF(Data_BeeindigingsdatumVastOntslag204=\"\",\"\",Data_BeeindigingsdatumVastOntslag204)","v":""},null,null,{"$f":"IF(Data_LoonkostenVastOntslag204=\"\",\"\",Data_LoonkostenVastOntslag204)","v":""},null,{"$f":"IF(Data_PersoonAanUitVastOntslag204=-1,\"v\",\"\")","v":""},null,"v",null,null,null,null,0,0]
[null,null,null,null,null,null,null,{"$f":"IF(Data_NaamPersoonNatVerloop205=\"\",\"\",Data_NaamPersoonNatVerloop205)","v":""},null,null,{"$f":"IF(Data_BeeindigingsdatumNatVerloop205=\"\",\"\",Data_BeeindigingsdatumNatVerloop205)","v":""},null,null,{"$f":"IF(Data_LoonkostenNatVerloop205=\"\",\"\",Data_LoonkostenNatVerloop205)","v":""},null,"v",null,"v",null,null,null,null,0,"",null,null,null,null,null,null,null,null,{"$f":"IF(Data_NaamPersoonTijd205=\"\",\"\",Data_NaamPersoonTijd205)","v":""},null,null,{"$f":"IF(Data_BeeindigingsdatumTijd205=\"\",\"\",Data_BeeindigingsdatumTijd205)","v":""},null,null,{"$f":"IF(Data_LoonkostenTijd205=\"\",\"\",Data_LoonkostenTijd205)","v":""},null,{"$f":"IF(Data_PersoonAanUitTijd205=-1,\"v\",\"\")","v":""},null,"v",null,null,null,null,0,0,null,null,null,{"$f":"IF(Data_NaamPersoonVastVrij205=\"\",\"\",Data_NaamPersoonVastVrij205)","v":""},null,null,{"$f":"IF(Data_BeeindigingsdatumVastVrij205=\"\",\"\",Data_BeeindigingsdatumVastVrij205)","v":""},null,null,{"$f":"IF(Data_LoonkostenVastVrij205=\"\",\"\",Data_LoonkostenVastVrij205)","v":""},null,{"$f":"IF(Data_PersoonAanUitVastVrij205=-1,\"v\",\"\")","v":""},null,"v",null,null,null,null,0,0,null,{"$f":"IF(Data_NaamPersoonVastOntslag205=\"\",\"\",Data_NaamPersoonVastOntslag205)","v":""},null,null,{"$f":"IF(Data_BeeindigingsdatumVastOntslag205=\"\",\"\",Data_BeeindigingsdatumVastOntslag205)","v":""},null,null,{"$f":"IF(Data_LoonkostenVastOntslag205=\"\",\"\",Data_LoonkostenVastOntslag205)","v":""},null,{"$f":"IF(Data_PersoonAanUitVastOntslag205=-1,\"v\",\"\")","v":""},null,"v",null,null,null,null,0,0]
[null,null,null,null,null,null,null,{"$f":"IF(Data_NaamPersoonNatVerloop206=\"\",\"\",Data_NaamPersoonNatVerloop206)","v":""},null,null,{"$f":"IF(Data_BeeindigingsdatumNatVerloop206=\"\",\"\",Data_BeeindigingsdatumNatVerloop206)","v":""},null,null,{"$f":"IF(Data_LoonkostenNatVerloop206=\"\",\"\",Data_LoonkostenNatVerloop206)","v":""},null,"v",null,"v",null,null,null,null,0,"",null,null,null,null,null,null,null,null,{"$f":"IF(Data_NaamPersoonTijd206=\"\",\"\",Data_NaamPersoonTijd206)","v":""},null,null,{"$f":"IF(Data_BeeindigingsdatumTijd206=\"\",\"\",Data_BeeindigingsdatumTijd206)","v":""},null,null,{"$f":"IF(Data_LoonkostenTijd206=\"\",\"\",Data_LoonkostenTijd206)","v":""},null,{"$f":"IF(Data_PersoonAanUitTijd206=-1,\"v\",\"\")","v":""},null,"v",null,null,null,null,0,0,null,null,null,{"$f":"IF(Data_NaamPersoonVastVrij206=\"\",\"\",Data_NaamPersoonVastVrij206)","v":""},null,null,{"$f":"IF(Data_BeeindigingsdatumVastVrij206=\"\",\"\",Data_BeeindigingsdatumVastVrij206)","v":""},null,null,{"$f":"IF(Data_LoonkostenVastVrij206=\"\",\"\",Data_LoonkostenVastVrij206)","v":""},null,{"$f":"IF(Data_PersoonAanUitVastVrij206=-1,\"v\",\"\")","v":""},null,"v",null,null,null,null,0,0,null,{"$f":"IF(Data_NaamPersoonVastOntslag206=\"\",\"\",Data_NaamPersoonVastOntslag206)","v":""},null,null,{"$f":"IF(Data_BeeindigingsdatumVastOntslag206=\"\",\"\",Data_BeeindigingsdatumVastOntslag206)","v":""},null,null,{"$f":"IF(Data_LoonkostenVastOntslag206=\"\",\"\",Data_LoonkostenVastOntslag206)","v":""},null,{"$f":"IF(Data_PersoonAanUitVastOntslag206=-1,\"v\",\"\")","v":""},null,"v",null,null,null,null,0,0]
[null,null,null,null,null,null,null,{"$f":"IF(Data_NaamPersoonNatVerloop207=\"\",\"\",Data_NaamPersoonNatVerloop207)","v":""},null,null,{"$f":"IF(Data_BeeindigingsdatumNatVerloop207=\"\",\"\",Data_BeeindigingsdatumNatVerloop207)","v":""},null,null,{"$f":"IF(Data_LoonkostenNatVerloop207=\"\",\"\",Data_LoonkostenNatVerloop207)","v":""},null,"v",null,"v",null,null,null,null,0,"",null,null,null,null,null,null,null,null,{"$f":"IF(Data_NaamPersoonTijd207=\"\",\"\",Data_NaamPersoonTijd207)","v":""},null,null,{"$f":"IF(Data_BeeindigingsdatumTijd207=\"\",\"\",Data_BeeindigingsdatumTijd207)","v":""},null,null,{"$f":"IF(Data_LoonkostenTijd207=\"\",\"\",Data_LoonkostenTijd207)","v":""},null,{"$f":"IF(Data_PersoonAanUitTijd207=-1,\"v\",\"\")","v":""},null,"v",null,null,null,null,0,0,null,null,null,{"$f":"IF(Data_NaamPersoonVastVrij207=\"\",\"\",Data_NaamPersoonVastVrij207)","v":""},null,null,{"$f":"IF(Data_BeeindigingsdatumVastVrij207=\"\",\"\",Data_BeeindigingsdatumVastVrij207)","v":""},null,null,{"$f":"IF(Data_LoonkostenVastVrij207=\"\",\"\",Data_LoonkostenVastVrij207)","v":""},null,{"$f":"IF(Data_PersoonAanUitVastVrij207=-1,\"v\",\"\")","v":""},null,"v",null,null,null,null,0,0,null,{"$f":"IF(Data_NaamPersoonVastOntslag207=\"\",\"\",Data_NaamPersoonVastOntslag207)","v":""},null,null,{"$f":"IF(Data_BeeindigingsdatumVastOntslag207=\"\",\"\",Data_BeeindigingsdatumVastOntslag207)","v":""},null,null,{"$f":"IF(Data_LoonkostenVastOntslag207=\"\",\"\",Data_LoonkostenVastOntslag207)","v":""},null,{"$f":"IF(Data_PersoonAanUitVastOntslag207=-1,\"v\",\"\")","v":""},null,"v",null,null,null,null,0,0]
[null,null,null,null,null,null,null,{"$f":"IF(Data_NaamPersoonNatVerloop208=\"\",\"\",Data_NaamPersoonNatVerloop208)","v":""},null,null,{"$f":"IF(Data_BeeindigingsdatumNatVerloop208=\"\",\"\",Data_BeeindigingsdatumNatVerloop208)","v":""},null,null,{"$f":"IF(Data_LoonkostenNatVerloop208=\"\",\"\",Data_LoonkostenNatVerloop208)","v":""},null,"v",null,"v",null,null,null,null,0,"",null,null,null,null,null,null,null,null,{"$f":"IF(Data_NaamPersoonTijd208=\"\",\"\",Data_NaamPersoonTijd208)","v":""},null,null,{"$f":"IF(Data_BeeindigingsdatumTijd208=\"\",\"\",Data_BeeindigingsdatumTijd208)","v":""},null,null,{"$f":"IF(Data_LoonkostenTijd208=\"\",\"\",Data_LoonkostenTijd208)","v":""},null,{"$f":"IF(Data_PersoonAanUitTijd208=-1,\"v\",\"\")","v":""},null,"v",null,null,null,null,0,0,null,null,null,{"$f":"IF(Data_NaamPersoonVastVrij208=\"\",\"\",Data_NaamPersoonVastVrij208)","v":""},null,null,{"$f":"IF(Data_BeeindigingsdatumVastVrij208=\"\",\"\",Data_BeeindigingsdatumVastVrij208)","v":""},null,null,{"$f":"IF(Data_LoonkostenVastVrij208=\"\",\"\",Data_LoonkostenVastVrij208)","v":""},null,{"$f":"IF(Data_PersoonAanUitVastVrij208=-1,\"v\",\"\")","v":""},null,"v",null,null,null,null,0,0,null,{"$f":"IF(Data_NaamPersoonVastOntslag208=\"\",\"\",Data_NaamPersoonVastOntslag208)","v":""},null,null,{"$f":"IF(Data_BeeindigingsdatumVastOntslag208=\"\",\"\",Data_BeeindigingsdatumVastOntslag208)","v":""},null,null,{"$f":"IF(Data_LoonkostenVastOntslag208=\"\",\"\",Data_LoonkostenVastOntslag208)","v":""},null,{"$f":"IF(Data_PersoonAanUitVastOntslag208=-1,\"v\",\"\")","v":""},null,"v",null,null,null,null,0,0]
[null,null,null,null,null,null,null,{"$f":"IF(Data_NaamPersoonNatVerloop209=\"\",\"\",Data_NaamPersoonNatVerloop209)","v":""},null,null,{"$f":"IF(Data_BeeindigingsdatumNatVerloop209=\"\",\"\",Data_BeeindigingsdatumNatVerloop209)","v":""},null,null,{"$f":"IF(Data_LoonkostenNatVerloop209=\"\",\"\",Data_LoonkostenNatVerloop209)","v":""},null,"v",null,"v",null,null,null,null,0,"",null,null,null,null,null,null,null,null,{"$f":"IF(Data_NaamPersoonTijd209=\"\",\"\",Data_NaamPersoonTijd209)","v":""},null,null,{"$f":"IF(Data_BeeindigingsdatumTijd209=\"\",\"\",Data_BeeindigingsdatumTijd209)","v":""},null,null,{"$f":"IF(Data_LoonkostenTijd209=\"\",\"\",Data_LoonkostenTijd209)","v":""},null,{"$f":"IF(Data_PersoonAanUitTijd209=-1,\"v\",\"\")","v":""},null,"v",null,null,null,null,0,0,null,null,null,{"$f":"IF(Data_NaamPersoonVastVrij209=\"\",\"\",Data_NaamPersoonVastVrij209)","v":""},null,null,{"$f":"IF(Data_BeeindigingsdatumVastVrij209=\"\",\"\",Data_BeeindigingsdatumVastVrij209)","v":""},null,null,{"$f":"IF(Data_LoonkostenVastVrij209=\"\",\"\",Data_LoonkostenVastVrij209)","v":""},null,{"$f":"IF(Data_PersoonAanUitVastVrij209=-1,\"v\",\"\")","v":""},null,"v",null,null,null,null,0,0,null,{"$f":"IF(Data_NaamPersoonVastOntslag209=\"\",\"\",Data_NaamPersoonVastOntslag209)","v":""},null,null,{"$f":"IF(Data_BeeindigingsdatumVastOntslag209=\"\",\"\",Data_BeeindigingsdatumVastOntslag209)","v":""},null,null,{"$f":"IF(Data_LoonkostenVastOntslag209=\"\",\"\",Data_LoonkostenVastOntslag209)","v":""},null,{"$f":"IF(Data_PersoonAanUitVastOntslag209=-1,\"v\",\"\")","v":""},null,"v",null,null,null,null,0,0]
[null,null,null,null,null,null,null,{"$f":"IF(Data_NaamPersoonNatVerloop210=\"\",\"\",Data_NaamPersoonNatVerloop210)","v":""},null,null,{"$f":"IF(Data_BeeindigingsdatumNatVerloop210=\"\",\"\",Data_BeeindigingsdatumNatVerloop210)","v":""},null,null,{"$f":"IF(Data_LoonkostenNatVerloop210=\"\",\"\",Data_LoonkostenNatVerloop210)","v":""},null,"v",null,"v",null,null,null,null,0,"",null,null,null,null,null,null,null,null,{"$f":"IF(Data_NaamPersoonTijd210=\"\",\"\",Data_NaamPersoonTijd210)","v":""},null,null,{"$f":"IF(Data_BeeindigingsdatumTijd210=\"\",\"\",Data_BeeindigingsdatumTijd210)","v":""},null,null,{"$f":"IF(Data_LoonkostenTijd210=\"\",\"\",Data_LoonkostenTijd210)","v":""},null,{"$f":"IF(Data_PersoonAanUitTijd210=-1,\"v\",\"\")","v":""},null,"v",null,null,null,null,0,0,null,null,null,{"$f":"IF(Data_NaamPersoonVastVrij210=\"\",\"\",Data_NaamPersoonVastVrij210)","v":""},null,null,{"$f":"IF(Data_BeeindigingsdatumVastVrij210=\"\",\"\",Data_BeeindigingsdatumVastVrij210)","v":""},null,null,{"$f":"IF(Data_LoonkostenVastVrij210=\"\",\"\",Data_LoonkostenVastVrij210)","v":""},null,{"$f":"IF(Data_PersoonAanUitVastVrij210=-1,\"v\",\"\")","v":""},null,"v",null,null,null,null,0,0,null,{"$f":"IF(Data_NaamPersoonVastOntslag210=\"\",\"\",Data_NaamPersoonVastOntslag210)","v":""},null,null,{"$f":"IF(Data_BeeindigingsdatumVastOntslag210=\"\",\"\",Data_BeeindigingsdatumVastOntslag210)","v":""},null,null,{"$f":"IF(Data_LoonkostenVastOntslag210=\"\",\"\",Data_LoonkostenVastOntslag210)","v":""},null,{"$f":"IF(Data_PersoonAanUitVastOntslag210=-1,\"v\",\"\")","v":""},null,"v",null,null,null,null,0,0]
[null,null,null,null,null,null,null,{"$f":"IF(Data_NaamPersoonNatVerloop211=\"\",\"\",Data_NaamPersoonNatVerloop211)","v":""},null,null,{"$f":"IF(Data_BeeindigingsdatumNatVerloop211=\"\",\"\",Data_BeeindigingsdatumNatVerloop211)","v":""},null,null,{"$f":"IF(Data_LoonkostenNatVerloop211=\"\",\"\",Data_LoonkostenNatVerloop211)","v":""},null,"v",null,"v",null,null,null,null,0,"",null,null,null,null,null,null,null,null,{"$f":"IF(Data_NaamPersoonTijd211=\"\",\"\",Data_NaamPersoonTijd211)","v":""},null,null,{"$f":"IF(Data_BeeindigingsdatumTijd211=\"\",\"\",Data_BeeindigingsdatumTijd211)","v":""},null,null,{"$f":"IF(Data_LoonkostenTijd211=\"\",\"\",Data_LoonkostenTijd211)","v":""},null,{"$f":"IF(Data_PersoonAanUitTijd211=-1,\"v\",\"\")","v":""},null,"v",null,null,null,null,0,0,null,null,null,{"$f":"IF(Data_NaamPersoonVastVrij211=\"\",\"\",Data_NaamPersoonVastVrij211)","v":""},null,null,{"$f":"IF(Data_BeeindigingsdatumVastVrij211=\"\",\"\",Data_BeeindigingsdatumVastVrij211)","v":""},null,null,{"$f":"IF(Data_LoonkostenVastVrij211=\"\",\"\",Data_LoonkostenVastVrij211)","v":""},null,{"$f":"IF(Data_PersoonAanUitVastVrij211=-1,\"v\",\"\")","v":""},null,"v",null,null,null,null,0,0,null,{"$f":"IF(Data_NaamPersoonVastOntslag211=\"\",\"\",Data_NaamPersoonVastOntslag211)","v":""},null,null,{"$f":"IF(Data_BeeindigingsdatumVastOntslag211=\"\",\"\",Data_BeeindigingsdatumVastOntslag211)","v":""},null,null,{"$f":"IF(Data_LoonkostenVastOntslag211=\"\",\"\",Data_LoonkostenVastOntslag211)","v":""},null,{"$f":"IF(Data_PersoonAanUitVastOntslag211=-1,\"v\",\"\")","v":""},null,"v",null,null,null,null,0,0]
[null,null,null,null,null,null,null,{"$f":"IF(Data_NaamPersoonNatVerloop212=\"\",\"\",Data_NaamPersoonNatVerloop212)","v":""},null,null,{"$f":"IF(Data_BeeindigingsdatumNatVerloop212=\"\",\"\",Data_BeeindigingsdatumNatVerloop212)","v":""},null,null,{"$f":"IF(Data_LoonkostenNatVerloop212=\"\",\"\",Data_LoonkostenNatVerloop212)","v":""},null,"v",null,"v",null,null,null,null,0,"",null,null,null,null,null,null,null,null,{"$f":"IF(Data_NaamPersoonTijd212=\"\",\"\",Data_NaamPersoonTijd212)","v":""},null,null,{"$f":"IF(Data_BeeindigingsdatumTijd212=\"\",\"\",Data_BeeindigingsdatumTijd212)","v":""},null,null,{"$f":"IF(Data_LoonkostenTijd212=\"\",\"\",Data_LoonkostenTijd212)","v":""},null,{"$f":"IF(Data_PersoonAanUitTijd212=-1,\"v\",\"\")","v":""},null,"v",null,null,null,null,0,0,null,null,null,{"$f":"IF(Data_NaamPersoonVastVrij212=\"\",\"\",Data_NaamPersoonVastVrij212)","v":""},null,null,{"$f":"IF(Data_BeeindigingsdatumVastVrij212=\"\",\"\",Data_BeeindigingsdatumVastVrij212)","v":""},null,null,{"$f":"IF(Data_LoonkostenVastVrij212=\"\",\"\",Data_LoonkostenVastVrij212)","v":""},null,{"$f":"IF(Data_PersoonAanUitVastVrij212=-1,\"v\",\"\")","v":""},null,"v",null,null,null,null,0,0,null,{"$f":"IF(Data_NaamPersoonVastOntslag212=\"\",\"\",Data_NaamPersoonVastOntslag212)","v":""},null,null,{"$f":"IF(Data_BeeindigingsdatumVastOntslag212=\"\",\"\",Data_BeeindigingsdatumVastOntslag212)","v":""},null,null,{"$f":"IF(Data_LoonkostenVastOntslag212=\"\",\"\",Data_LoonkostenVastOntslag212)","v":""},null,{"$f":"IF(Data_PersoonAanUitVastOntslag212=-1,\"v\",\"\")","v":""},null,"v",null,null,null,null,0,0]
[null,null,null,null,null,null,null,{"$f":"IF(Data_NaamPersoonNatVerloop213=\"\",\"\",Data_NaamPersoonNatVerloop213)","v":""},null,null,{"$f":"IF(Data_BeeindigingsdatumNatVerloop213=\"\",\"\",Data_BeeindigingsdatumNatVerloop213)","v":""},null,null,{"$f":"IF(Data_LoonkostenNatVerloop213=\"\",\"\",Data_LoonkostenNatVerloop213)","v":""},null,"v",null,"v",null,null,null,null,0,"",null,null,null,null,null,null,null,null,{"$f":"IF(Data_NaamPersoonTijd213=\"\",\"\",Data_NaamPersoonTijd213)","v":""},null,null,{"$f":"IF(Data_BeeindigingsdatumTijd213=\"\",\"\",Data_BeeindigingsdatumTijd213)","v":""},null,null,{"$f":"IF(Data_LoonkostenTijd213=\"\",\"\",Data_LoonkostenTijd213)","v":""},null,{"$f":"IF(Data_PersoonAanUitTijd213=-1,\"v\",\"\")","v":""},null,"v",null,null,null,null,0,0,null,null,null,{"$f":"IF(Data_NaamPersoonVastVrij213=\"\",\"\",Data_NaamPersoonVastVrij213)","v":""},null,null,{"$f":"IF(Data_BeeindigingsdatumVastVrij213=\"\",\"\",Data_BeeindigingsdatumVastVrij213)","v":""},null,null,{"$f":"IF(Data_LoonkostenVastVrij213=\"\",\"\",Data_LoonkostenVastVrij213)","v":""},null,{"$f":"IF(Data_PersoonAanUitVastVrij213=-1,\"v\",\"\")","v":""},null,"v",null,null,null,null,0,0,null,{"$f":"IF(Data_NaamPersoonVastOntslag213=\"\",\"\",Data_NaamPersoonVastOntslag213)","v":""},null,null,{"$f":"IF(Data_BeeindigingsdatumVastOntslag213=\"\",\"\",Data_BeeindigingsdatumVastOntslag213)","v":""},null,null,{"$f":"IF(Data_LoonkostenVastOntslag213=\"\",\"\",Data_LoonkostenVastOntslag213)","v":""},null,{"$f":"IF(Data_PersoonAanUitVastOntslag213=-1,\"v\",\"\")","v":""},null,"v",null,null,null,null,0,0]
[null,null,null,null,null,null,null,{"$f":"IF(Data_NaamPersoonNatVerloop214=\"\",\"\",Data_NaamPersoonNatVerloop214)","v":""},null,null,{"$f":"IF(Data_BeeindigingsdatumNatVerloop214=\"\",\"\",Data_BeeindigingsdatumNatVerloop214)","v":""},null,null,{"$f":"IF(Data_LoonkostenNatVerloop214=\"\",\"\",Data_LoonkostenNatVerloop214)","v":""},null,"v",null,"v",null,null,null,null,0,"",null,null,null,null,null,null,null,null,{"$f":"IF(Data_NaamPersoonTijd214=\"\",\"\",Data_NaamPersoonTijd214)","v":""},null,null,{"$f":"IF(Data_BeeindigingsdatumTijd214=\"\",\"\",Data_BeeindigingsdatumTijd214)","v":""},null,null,{"$f":"IF(Data_LoonkostenTijd214=\"\",\"\",Data_LoonkostenTijd214)","v":""},null,{"$f":"IF(Data_PersoonAanUitTijd214=-1,\"v\",\"\")","v":""},null,"v",null,null,null,null,0,0,null,null,null,{"$f":"IF(Data_NaamPersoonVastVrij214=\"\",\"\",Data_NaamPersoonVastVrij214)","v":""},null,null,{"$f":"IF(Data_BeeindigingsdatumVastVrij214=\"\",\"\",Data_BeeindigingsdatumVastVrij214)","v":""},null,null,{"$f":"IF(Data_LoonkostenVastVrij214=\"\",\"\",Data_LoonkostenVastVrij214)","v":""},null,{"$f":"IF(Data_PersoonAanUitVastVrij214=-1,\"v\",\"\")","v":""},null,"v",null,null,null,null,0,0,null,{"$f":"IF(Data_NaamPersoonVastOntslag214=\"\",\"\",Data_NaamPersoonVastOntslag214)","v":""},null,null,{"$f":"IF(Data_BeeindigingsdatumVastOntslag214=\"\",\"\",Data_BeeindigingsdatumVastOntslag214)","v":""},null,null,{"$f":"IF(Data_LoonkostenVastOntslag214=\"\",\"\",Data_LoonkostenVastOntslag214)","v":""},null,{"$f":"IF(Data_PersoonAanUitVastOntslag214=-1,\"v\",\"\")","v":""},null,"v",null,null,null,null,0,0]
[null,null,null,null,null,null,null,{"$f":"IF(Data_NaamPersoonNatVerloop215=\"\",\"\",Data_NaamPersoonNatVerloop215)","v":""},null,null,{"$f":"IF(Data_BeeindigingsdatumNatVerloop215=\"\",\"\",Data_BeeindigingsdatumNatVerloop215)","v":""},null,null,{"$f":"IF(Data_LoonkostenNatVerloop215=\"\",\"\",Data_LoonkostenNatVerloop215)","v":""},null,"v",null,"v",null,null,null,null,0,"",null,null,null,null,null,null,null,null,{"$f":"IF(Data_NaamPersoonTijd215=\"\",\"\",Data_NaamPersoonTijd215)","v":""},null,null,{"$f":"IF(Data_BeeindigingsdatumTijd215=\"\",\"\",Data_BeeindigingsdatumTijd215)","v":""},null,null,{"$f":"IF(Data_LoonkostenTijd215=\"\",\"\",Data_LoonkostenTijd215)","v":""},null,{"$f":"IF(Data_PersoonAanUitTijd215=-1,\"v\",\"\")","v":""},null,"v",null,null,null,null,0,0,null,null,null,{"$f":"IF(Data_NaamPersoonVastVrij215=\"\",\"\",Data_NaamPersoonVastVrij215)","v":""},null,null,{"$f":"IF(Data_BeeindigingsdatumVastVrij215=\"\",\"\",Data_BeeindigingsdatumVastVrij215)","v":""},null,null,{"$f":"IF(Data_LoonkostenVastVrij215=\"\",\"\",Data_LoonkostenVastVrij215)","v":""},null,{"$f":"IF(Data_PersoonAanUitVastVrij215=-1,\"v\",\"\")","v":""},null,"v",null,null,null,null,0,0,null,{"$f":"IF(Data_NaamPersoonVastOntslag215=\"\",\"\",Data_NaamPersoonVastOntslag215)","v":""},null,null,{"$f":"IF(Data_BeeindigingsdatumVastOntslag215=\"\",\"\",Data_BeeindigingsdatumVastOntslag215)","v":""},null,null,{"$f":"IF(Data_LoonkostenVastOntslag215=\"\",\"\",Data_LoonkostenVastOntslag215)","v":""},null,{"$f":"IF(Data_PersoonAanUitVastOntslag215=-1,\"v\",\"\")","v":""},null,"v",null,null,null,null,0,0]
[null,null,null,null,null,null,null,{"$f":"IF(Data_NaamPersoonNatVerloop216=\"\",\"\",Data_NaamPersoonNatVerloop216)","v":""},null,null,{"$f":"IF(Data_BeeindigingsdatumNatVerloop216=\"\",\"\",Data_BeeindigingsdatumNatVerloop216)","v":""},null,null,{"$f":"IF(Data_LoonkostenNatVerloop216=\"\",\"\",Data_LoonkostenNatVerloop216)","v":""},null,"v",null,"v",null,null,null,null,0,"",null,null,null,null,null,null,null,null,{"$f":"IF(Data_NaamPersoonTijd216=\"\",\"\",Data_NaamPersoonTijd216)","v":""},null,null,{"$f":"IF(Data_BeeindigingsdatumTijd216=\"\",\"\",Data_BeeindigingsdatumTijd216)","v":""},null,null,{"$f":"IF(Data_LoonkostenTijd216=\"\",\"\",Data_LoonkostenTijd216)","v":""},null,{"$f":"IF(Data_PersoonAanUitTijd216=-1,\"v\",\"\")","v":""},null,"v",null,null,null,null,0,0,null,null,null,{"$f":"IF(Data_NaamPersoonVastVrij216=\"\",\"\",Data_NaamPersoonVastVrij216)","v":""},null,null,{"$f":"IF(Data_BeeindigingsdatumVastVrij216=\"\",\"\",Data_BeeindigingsdatumVastVrij216)","v":""},null,null,{"$f":"IF(Data_LoonkostenVastVrij216=\"\",\"\",Data_LoonkostenVastVrij216)","v":""},null,{"$f":"IF(Data_PersoonAanUitVastVrij216=-1,\"v\",\"\")","v":""},null,"v",null,null,null,null,0,0,null,{"$f":"IF(Data_NaamPersoonVastOntslag216=\"\",\"\",Data_NaamPersoonVastOntslag216)","v":""},null,null,{"$f":"IF(Data_BeeindigingsdatumVastOntslag216=\"\",\"\",Data_BeeindigingsdatumVastOntslag216)","v":""},null,null,{"$f":"IF(Data_LoonkostenVastOntslag216=\"\",\"\",Data_LoonkostenVastOntslag216)","v":""},null,{"$f":"IF(Data_PersoonAanUitVastOntslag216=-1,\"v\",\"\")","v":""},null,"v",null,null,null,null,0,0]
[null,null,null,null,null,null,null,{"$f":"IF(Data_NaamPersoonNatVerloop217=\"\",\"\",Data_NaamPersoonNatVerloop217)","v":""},null,null,{"$f":"IF(Data_BeeindigingsdatumNatVerloop217=\"\",\"\",Data_BeeindigingsdatumNatVerloop217)","v":""},null,null,{"$f":"IF(Data_LoonkostenNatVerloop217=\"\",\"\",Data_LoonkostenNatVerloop217)","v":""},null,"v",null,"v",null,null,null,null,0,"",null,null,null,null,null,null,null,null,{"$f":"IF(Data_NaamPersoonTijd217=\"\",\"\",Data_NaamPersoonTijd217)","v":""},null,null,{"$f":"IF(Data_BeeindigingsdatumTijd217=\"\",\"\",Data_BeeindigingsdatumTijd217)","v":""},null,null,{"$f":"IF(Data_LoonkostenTijd217=\"\",\"\",Data_LoonkostenTijd217)","v":""},null,{"$f":"IF(Data_PersoonAanUitTijd217=-1,\"v\",\"\")","v":""},null,"v",null,null,null,null,0,0,null,null,null,{"$f":"IF(Data_NaamPersoonVastVrij217=\"\",\"\",Data_NaamPersoonVastVrij217)","v":""},null,null,{"$f":"IF(Data_BeeindigingsdatumVastVrij217=\"\",\"\",Data_BeeindigingsdatumVastVrij217)","v":""},null,null,{"$f":"IF(Data_LoonkostenVastVrij217=\"\",\"\",Data_LoonkostenVastVrij217)","v":""},null,{"$f":"IF(Data_PersoonAanUitVastVrij217=-1,\"v\",\"\")","v":""},null,"v",null,null,null,null,0,0,null,{"$f":"IF(Data_NaamPersoonVastOntslag217=\"\",\"\",Data_NaamPersoonVastOntslag217)","v":""},null,null,{"$f":"IF(Data_BeeindigingsdatumVastOntslag217=\"\",\"\",Data_BeeindigingsdatumVastOntslag217)","v":""},null,null,{"$f":"IF(Data_LoonkostenVastOntslag217=\"\",\"\",Data_LoonkostenVastOntslag217)","v":""},null,{"$f":"IF(Data_PersoonAanUitVastOntslag217=-1,\"v\",\"\")","v":""},null,"v",null,null,null,null,0,0]
[null,null,null,null,null,null,null,{"$f":"IF(Data_NaamPersoonNatVerloop218=\"\",\"\",Data_NaamPersoonNatVerloop218)","v":""},null,null,{"$f":"IF(Data_BeeindigingsdatumNatVerloop218=\"\",\"\",Data_BeeindigingsdatumNatVerloop218)","v":""},null,null,{"$f":"IF(Data_LoonkostenNatVerloop218=\"\",\"\",Data_LoonkostenNatVerloop218)","v":""},null,"v",null,"v",null,null,null,null,0,"",null,null,null,null,null,null,null,null,{"$f":"IF(Data_NaamPersoonTijd218=\"\",\"\",Data_NaamPersoonTijd218)","v":""},null,null,{"$f":"IF(Data_BeeindigingsdatumTijd218=\"\",\"\",Data_BeeindigingsdatumTijd218)","v":""},null,null,{"$f":"IF(Data_LoonkostenTijd218=\"\",\"\",Data_LoonkostenTijd218)","v":""},null,{"$f":"IF(Data_PersoonAanUitTijd218=-1,\"v\",\"\")","v":""},null,"v",null,null,null,null,0,0,null,null,null,{"$f":"IF(Data_NaamPersoonVastVrij218=\"\",\"\",Data_NaamPersoonVastVrij218)","v":""},null,null,{"$f":"IF(Data_BeeindigingsdatumVastVrij218=\"\",\"\",Data_BeeindigingsdatumVastVrij218)","v":""},null,null,{"$f":"IF(Data_LoonkostenVastVrij218=\"\",\"\",Data_LoonkostenVastVrij218)","v":""},null,{"$f":"IF(Data_PersoonAanUitVastVrij218=-1,\"v\",\"\")","v":""},null,"v",null,null,null,null,0,0,null,{"$f":"IF(Data_NaamPersoonVastOntslag218=\"\",\"\",Data_NaamPersoonVastOntslag218)","v":""},null,null,{"$f":"IF(Data_BeeindigingsdatumVastOntslag218=\"\",\"\",Data_BeeindigingsdatumVastOntslag218)","v":""},null,null,{"$f":"IF(Data_LoonkostenVastOntslag218=\"\",\"\",Data_LoonkostenVastOntslag218)","v":""},null,{"$f":"IF(Data_PersoonAanUitVastOntslag218=-1,\"v\",\"\")","v":""},null,"v",null,null,null,null,0,0]
[null,null,null,null,null,null,null,{"$f":"IF(Data_NaamPersoonNatVerloop219=\"\",\"\",Data_NaamPersoonNatVerloop219)","v":""},null,null,{"$f":"IF(Data_BeeindigingsdatumNatVerloop219=\"\",\"\",Data_BeeindigingsdatumNatVerloop219)","v":""},null,null,{"$f":"IF(Data_LoonkostenNatVerloop219=\"\",\"\",Data_LoonkostenNatVerloop219)","v":""},null,"v",null,"v",null,null,null,null,0,"",null,null,null,null,null,null,null,null,{"$f":"IF(Data_NaamPersoonTijd219=\"\",\"\",Data_NaamPersoonTijd219)","v":""},null,null,{"$f":"IF(Data_BeeindigingsdatumTijd219=\"\",\"\",Data_BeeindigingsdatumTijd219)","v":""},null,null,{"$f":"IF(Data_LoonkostenTijd219=\"\",\"\",Data_LoonkostenTijd219)","v":""},null,{"$f":"IF(Data_PersoonAanUitTijd219=-1,\"v\",\"\")","v":""},null,"v",null,null,null,null,0,0,null,null,null,{"$f":"IF(Data_NaamPersoonVastVrij219=\"\",\"\",Data_NaamPersoonVastVrij219)","v":""},null,null,{"$f":"IF(Data_BeeindigingsdatumVastVrij219=\"\",\"\",Data_BeeindigingsdatumVastVrij219)","v":""},null,null,{"$f":"IF(Data_LoonkostenVastVrij219=\"\",\"\",Data_LoonkostenVastVrij219)","v":""},null,{"$f":"IF(Data_PersoonAanUitVastVrij219=-1,\"v\",\"\")","v":""},null,"v",null,null,null,null,0,0,null,{"$f":"IF(Data_NaamPersoonVastOntslag219=\"\",\"\",Data_NaamPersoonVastOntslag219)","v":""},null,null,{"$f":"IF(Data_BeeindigingsdatumVastOntslag219=\"\",\"\",Data_BeeindigingsdatumVastOntslag219)","v":""},null,null,{"$f":"IF(Data_LoonkostenVastOntslag219=\"\",\"\",Data_LoonkostenVastOntslag219)","v":""},null,{"$f":"IF(Data_PersoonAanUitVastOntslag219=-1,\"v\",\"\")","v":""},null,"v",null,null,null,null,0,0]
[null,null,null,null,null,null,null,{"$f":"IF(Data_NaamPersoonNatVerloop220=\"\",\"\",Data_NaamPersoonNatVerloop220)","v":""},null,null,{"$f":"IF(Data_BeeindigingsdatumNatVerloop220=\"\",\"\",Data_BeeindigingsdatumNatVerloop220)","v":""},null,null,{"$f":"IF(Data_LoonkostenNatVerloop220=\"\",\"\",Data_LoonkostenNatVerloop220)","v":""},null,"v",null,"v",null,null,null,null,0,"",null,null,null,null,null,null,null,null,{"$f":"IF(Data_NaamPersoonTijd220=\"\",\"\",Data_NaamPersoonTijd220)","v":""},null,null,{"$f":"IF(Data_BeeindigingsdatumTijd220=\"\",\"\",Data_BeeindigingsdatumTijd220)","v":""},null,null,{"$f":"IF(Data_LoonkostenTijd220=\"\",\"\",Data_LoonkostenTijd220)","v":""},null,{"$f":"IF(Data_PersoonAanUitTijd220=-1,\"v\",\"\")","v":""},null,"v",null,null,null,null,0,0,null,null,null,{"$f":"IF(Data_NaamPersoonVastVrij220=\"\",\"\",Data_NaamPersoonVastVrij220)","v":""},null,null,{"$f":"IF(Data_BeeindigingsdatumVastVrij220=\"\",\"\",Data_BeeindigingsdatumVastVrij220)","v":""},null,null,{"$f":"IF(Data_LoonkostenVastVrij220=\"\",\"\",Data_LoonkostenVastVrij220)","v":""},null,{"$f":"IF(Data_PersoonAanUitVastVrij220=-1,\"v\",\"\")","v":""},null,"v",null,null,null,null,0,0,null,{"$f":"IF(Data_NaamPersoonVastOntslag220=\"\",\"\",Data_NaamPersoonVastOntslag220)","v":""},null,null,{"$f":"IF(Data_BeeindigingsdatumVastOntslag220=\"\",\"\",Data_BeeindigingsdatumVastOntslag220)","v":""},null,null,{"$f":"IF(Data_LoonkostenVastOntslag220=\"\",\"\",Data_LoonkostenVastOntslag220)","v":""},null,{"$f":"IF(Data_PersoonAanUitVastOntslag220=-1,\"v\",\"\")","v":""},null,"v",null,null,null,null,0,0]
[null,null,null,null,null,null,null,{"$f":"IF(Data_NaamPersoonNatVerloop221=\"\",\"\",Data_NaamPersoonNatVerloop221)","v":""},null,null,{"$f":"IF(Data_BeeindigingsdatumNatVerloop221=\"\",\"\",Data_BeeindigingsdatumNatVerloop221)","v":""},null,null,{"$f":"IF(Data_LoonkostenNatVerloop221=\"\",\"\",Data_LoonkostenNatVerloop221)","v":""},null,"v",null,"v",null,null,null,null,0,"",null,null,null,null,null,null,null,null,{"$f":"IF(Data_NaamPersoonTijd221=\"\",\"\",Data_NaamPersoonTijd221)","v":""},null,null,{"$f":"IF(Data_BeeindigingsdatumTijd221=\"\",\"\",Data_BeeindigingsdatumTijd221)","v":""},null,null,{"$f":"IF(Data_LoonkostenTijd221=\"\",\"\",Data_LoonkostenTijd221)","v":""},null,{"$f":"IF(Data_PersoonAanUitTijd221=-1,\"v\",\"\")","v":""},null,"v",null,null,null,null,0,0,null,null,null,{"$f":"IF(Data_NaamPersoonVastVrij221=\"\",\"\",Data_NaamPersoonVastVrij221)","v":""},null,null,{"$f":"IF(Data_BeeindigingsdatumVastVrij221=\"\",\"\",Data_BeeindigingsdatumVastVrij221)","v":""},null,null,{"$f":"IF(Data_LoonkostenVastVrij221=\"\",\"\",Data_LoonkostenVastVrij221)","v":""},null,{"$f":"IF(Data_PersoonAanUitVastVrij221=-1,\"v\",\"\")","v":""},null,"v",null,null,null,null,0,0,null,{"$f":"IF(Data_NaamPersoonVastOntslag221=\"\",\"\",Data_NaamPersoonVastOntslag221)","v":""},null,null,{"$f":"IF(Data_BeeindigingsdatumVastOntslag221=\"\",\"\",Data_BeeindigingsdatumVastOntslag221)","v":""},null,null,{"$f":"IF(Data_LoonkostenVastOntslag221=\"\",\"\",Data_LoonkostenVastOntslag221)","v":""},null,{"$f":"IF(Data_PersoonAanUitVastOntslag221=-1,\"v\",\"\")","v":""},null,"v",null,null,null,null,0,0]
[null,null,null,null,null,null,null,{"$f":"IF(Data_NaamPersoonNatVerloop222=\"\",\"\",Data_NaamPersoonNatVerloop222)","v":""},null,null,{"$f":"IF(Data_BeeindigingsdatumNatVerloop222=\"\",\"\",Data_BeeindigingsdatumNatVerloop222)","v":""},null,null,{"$f":"IF(Data_LoonkostenNatVerloop222=\"\",\"\",Data_LoonkostenNatVerloop222)","v":""},null,"v",null,"v",null,null,null,null,0,"",null,null,null,null,null,null,null,null,{"$f":"IF(Data_NaamPersoonTijd222=\"\",\"\",Data_NaamPersoonTijd222)","v":""},null,null,{"$f":"IF(Data_BeeindigingsdatumTijd222=\"\",\"\",Data_BeeindigingsdatumTijd222)","v":""},null,null,{"$f":"IF(Data_LoonkostenTijd222=\"\",\"\",Data_LoonkostenTijd222)","v":""},null,{"$f":"IF(Data_PersoonAanUitTijd222=-1,\"v\",\"\")","v":""},null,"v",null,null,null,null,0,0,null,null,null,{"$f":"IF(Data_NaamPersoonVastVrij222=\"\",\"\",Data_NaamPersoonVastVrij222)","v":""},null,null,{"$f":"IF(Data_BeeindigingsdatumVastVrij222=\"\",\"\",Data_BeeindigingsdatumVastVrij222)","v":""},null,null,{"$f":"IF(Data_LoonkostenVastVrij222=\"\",\"\",Data_LoonkostenVastVrij222)","v":""},null,{"$f":"IF(Data_PersoonAanUitVastVrij222=-1,\"v\",\"\")","v":""},null,"v",null,null,null,null,0,0,null,{"$f":"IF(Data_NaamPersoonVastOntslag222=\"\",\"\",Data_NaamPersoonVastOntslag222)","v":""},null,null,{"$f":"IF(Data_BeeindigingsdatumVastOntslag222=\"\",\"\",Data_BeeindigingsdatumVastOntslag222)","v":""},null,null,{"$f":"IF(Data_LoonkostenVastOntslag222=\"\",\"\",Data_LoonkostenVastOntslag222)","v":""},null,{"$f":"IF(Data_PersoonAanUitVastOntslag222=-1,\"v\",\"\")","v":""},null,"v",null,null,null,null,0,0]
[null,null,null,null,null,null,null,{"$f":"IF(Data_NaamPersoonNatVerloop223=\"\",\"\",Data_NaamPersoonNatVerloop223)","v":""},null,null,{"$f":"IF(Data_BeeindigingsdatumNatVerloop223=\"\",\"\",Data_BeeindigingsdatumNatVerloop223)","v":""},null,null,{"$f":"IF(Data_LoonkostenNatVerloop223=\"\",\"\",Data_LoonkostenNatVerloop223)","v":""},null,"v",null,"v",null,null,null,null,0,"",null,null,null,null,null,null,null,null,{"$f":"IF(Data_NaamPersoonTijd223=\"\",\"\",Data_NaamPersoonTijd223)","v":""},null,null,{"$f":"IF(Data_BeeindigingsdatumTijd223=\"\",\"\",Data_BeeindigingsdatumTijd223)","v":""},null,null,{"$f":"IF(Data_LoonkostenTijd223=\"\",\"\",Data_LoonkostenTijd223)","v":""},null,{"$f":"IF(Data_PersoonAanUitTijd223=-1,\"v\",\"\")","v":""},null,"v",null,null,null,null,0,0,null,null,null,{"$f":"IF(Data_NaamPersoonVastVrij223=\"\",\"\",Data_NaamPersoonVastVrij223)","v":""},null,null,{"$f":"IF(Data_BeeindigingsdatumVastVrij223=\"\",\"\",Data_BeeindigingsdatumVastVrij223)","v":""},null,null,{"$f":"IF(Data_LoonkostenVastVrij223=\"\",\"\",Data_LoonkostenVastVrij223)","v":""},null,{"$f":"IF(Data_PersoonAanUitVastVrij223=-1,\"v\",\"\")","v":""},null,"v",null,null,null,null,0,0,null,{"$f":"IF(Data_NaamPersoonVastOntslag223=\"\",\"\",Data_NaamPersoonVastOntslag223)","v":""},null,null,{"$f":"IF(Data_BeeindigingsdatumVastOntslag223=\"\",\"\",Data_BeeindigingsdatumVastOntslag223)","v":""},null,null,{"$f":"IF(Data_LoonkostenVastOntslag223=\"\",\"\",Data_LoonkostenVastOntslag223)","v":""},null,{"$f":"IF(Data_PersoonAanUitVastOntslag223=-1,\"v\",\"\")","v":""},null,"v",null,null,null,null,0,0]
[null,null,null,null,null,null,null,{"$f":"IF(Data_NaamPersoonNatVerloop224=\"\",\"\",Data_NaamPersoonNatVerloop224)","v":""},null,null,{"$f":"IF(Data_BeeindigingsdatumNatVerloop224=\"\",\"\",Data_BeeindigingsdatumNatVerloop224)","v":""},null,null,{"$f":"IF(Data_LoonkostenNatVerloop224=\"\",\"\",Data_LoonkostenNatVerloop224)","v":""},null,"v",null,"v",null,null,null,null,0,"",null,null,null,null,null,null,null,null,{"$f":"IF(Data_NaamPersoonTijd224=\"\",\"\",Data_NaamPersoonTijd224)","v":""},null,null,{"$f":"IF(Data_BeeindigingsdatumTijd224=\"\",\"\",Data_BeeindigingsdatumTijd224)","v":""},null,null,{"$f":"IF(Data_LoonkostenTijd224=\"\",\"\",Data_LoonkostenTijd224)","v":""},null,{"$f":"IF(Data_PersoonAanUitTijd224=-1,\"v\",\"\")","v":""},null,"v",null,null,null,null,0,0,null,null,null,{"$f":"IF(Data_NaamPersoonVastVrij224=\"\",\"\",Data_NaamPersoonVastVrij224)","v":""},null,null,{"$f":"IF(Data_BeeindigingsdatumVastVrij224=\"\",\"\",Data_BeeindigingsdatumVastVrij224)","v":""},null,null,{"$f":"IF(Data_LoonkostenVastVrij224=\"\",\"\",Data_LoonkostenVastVrij224)","v":""},null,{"$f":"IF(Data_PersoonAanUitVastVrij224=-1,\"v\",\"\")","v":""},null,"v",null,null,null,null,0,0,null,{"$f":"IF(Data_NaamPersoonVastOntslag224=\"\",\"\",Data_NaamPersoonVastOntslag224)","v":""},null,null,{"$f":"IF(Data_BeeindigingsdatumVastOntslag224=\"\",\"\",Data_BeeindigingsdatumVastOntslag224)","v":""},null,null,{"$f":"IF(Data_LoonkostenVastOntslag224=\"\",\"\",Data_LoonkostenVastOntslag224)","v":""},null,{"$f":"IF(Data_PersoonAanUitVastOntslag224=-1,\"v\",\"\")","v":""},null,"v",null,null,null,null,0,0]
[null,null,null,null,null,null,null,{"$f":"IF(Data_NaamPersoonNatVerloop225=\"\",\"\",Data_NaamPersoonNatVerloop225)","v":""},null,null,{"$f":"IF(Data_BeeindigingsdatumNatVerloop225=\"\",\"\",Data_BeeindigingsdatumNatVerloop225)","v":""},null,null,{"$f":"IF(Data_LoonkostenNatVerloop225=\"\",\"\",Data_LoonkostenNatVerloop225)","v":""},null,"v",null,"v",null,null,null,null,0,"",null,null,null,null,null,null,null,null,{"$f":"IF(Data_NaamPersoonTijd225=\"\",\"\",Data_NaamPersoonTijd225)","v":""},null,null,{"$f":"IF(Data_BeeindigingsdatumTijd225=\"\",\"\",Data_BeeindigingsdatumTijd225)","v":""},null,null,{"$f":"IF(Data_LoonkostenTijd225=\"\",\"\",Data_LoonkostenTijd225)","v":""},null,{"$f":"IF(Data_PersoonAanUitTijd225=-1,\"v\",\"\")","v":""},null,"v",null,null,null,null,0,0,null,null,null,{"$f":"IF(Data_NaamPersoonVastVrij225=\"\",\"\",Data_NaamPersoonVastVrij225)","v":""},null,null,{"$f":"IF(Data_BeeindigingsdatumVastVrij225=\"\",\"\",Data_BeeindigingsdatumVastVrij225)","v":""},null,null,{"$f":"IF(Data_LoonkostenVastVrij225=\"\",\"\",Data_LoonkostenVastVrij225)","v":""},null,{"$f":"IF(Data_PersoonAanUitVastVrij225=-1,\"v\",\"\")","v":""},null,"v",null,null,null,null,0,0,null,{"$f":"IF(Data_NaamPersoonVastOntslag225=\"\",\"\",Data_NaamPersoonVastOntslag225)","v":""},null,null,{"$f":"IF(Data_BeeindigingsdatumVastOntslag225=\"\",\"\",Data_BeeindigingsdatumVastOntslag225)","v":""},null,null,{"$f":"IF(Data_LoonkostenVastOntslag225=\"\",\"\",Data_LoonkostenVastOntslag225)","v":""},null,{"$f":"IF(Data_PersoonAanUitVastOntslag225=-1,\"v\",\"\")","v":""},null,"v",null,null,null,null,0,0]
[null,null,null,null,null,null,null,{"$f":"IF(Data_NaamPersoonNatVerloop226=\"\",\"\",Data_NaamPersoonNatVerloop226)","v":""},null,null,{"$f":"IF(Data_BeeindigingsdatumNatVerloop226=\"\",\"\",Data_BeeindigingsdatumNatVerloop226)","v":""},null,null,{"$f":"IF(Data_LoonkostenNatVerloop226=\"\",\"\",Data_LoonkostenNatVerloop226)","v":""},null,"v",null,"v",null,null,null,null,0,"",null,null,null,null,null,null,null,null,{"$f":"IF(Data_NaamPersoonTijd226=\"\",\"\",Data_NaamPersoonTijd226)","v":""},null,null,{"$f":"IF(Data_BeeindigingsdatumTijd226=\"\",\"\",Data_BeeindigingsdatumTijd226)","v":""},null,null,{"$f":"IF(Data_LoonkostenTijd226=\"\",\"\",Data_LoonkostenTijd226)","v":""},null,{"$f":"IF(Data_PersoonAanUitTijd226=-1,\"v\",\"\")","v":""},null,"v",null,null,null,null,0,0,null,null,null,{"$f":"IF(Data_NaamPersoonVastVrij226=\"\",\"\",Data_NaamPersoonVastVrij226)","v":""},null,null,{"$f":"IF(Data_BeeindigingsdatumVastVrij226=\"\",\"\",Data_BeeindigingsdatumVastVrij226)","v":""},null,null,{"$f":"IF(Data_LoonkostenVastVrij226=\"\",\"\",Data_LoonkostenVastVrij226)","v":""},null,{"$f":"IF(Data_PersoonAanUitVastVrij226=-1,\"v\",\"\")","v":""},null,"v",null,null,null,null,0,0,null,{"$f":"IF(Data_NaamPersoonVastOntslag226=\"\",\"\",Data_NaamPersoonVastOntslag226)","v":""},null,null,{"$f":"IF(Data_BeeindigingsdatumVastOntslag226=\"\",\"\",Data_BeeindigingsdatumVastOntslag226)","v":""},null,null,{"$f":"IF(Data_LoonkostenVastOntslag226=\"\",\"\",Data_LoonkostenVastOntslag226)","v":""},null,{"$f":"IF(Data_PersoonAanUitVastOntslag226=-1,\"v\",\"\")","v":""},null,"v",null,null,null,null,0,0]
[null,null,null,null,null,null,null,{"$f":"IF(Data_NaamPersoonNatVerloop227=\"\",\"\",Data_NaamPersoonNatVerloop227)","v":""},null,null,{"$f":"IF(Data_BeeindigingsdatumNatVerloop227=\"\",\"\",Data_BeeindigingsdatumNatVerloop227)","v":""},null,null,{"$f":"IF(Data_LoonkostenNatVerloop227=\"\",\"\",Data_LoonkostenNatVerloop227)","v":""},null,"v",null,"v",null,null,null,null,0,"",null,null,null,null,null,null,null,null,{"$f":"IF(Data_NaamPersoonTijd227=\"\",\"\",Data_NaamPersoonTijd227)","v":""},null,null,{"$f":"IF(Data_BeeindigingsdatumTijd227=\"\",\"\",Data_BeeindigingsdatumTijd227)","v":""},null,null,{"$f":"IF(Data_LoonkostenTijd227=\"\",\"\",Data_LoonkostenTijd227)","v":""},null,{"$f":"IF(Data_PersoonAanUitTijd227=-1,\"v\",\"\")","v":""},null,"v",null,null,null,null,0,0,null,null,null,{"$f":"IF(Data_NaamPersoonVastVrij227=\"\",\"\",Data_NaamPersoonVastVrij227)","v":""},null,null,{"$f":"IF(Data_BeeindigingsdatumVastVrij227=\"\",\"\",Data_BeeindigingsdatumVastVrij227)","v":""},null,null,{"$f":"IF(Data_LoonkostenVastVrij227=\"\",\"\",Data_LoonkostenVastVrij227)","v":""},null,{"$f":"IF(Data_PersoonAanUitVastVrij227=-1,\"v\",\"\")","v":""},null,"v",null,null,null,null,0,0,null,{"$f":"IF(Data_NaamPersoonVastOntslag227=\"\",\"\",Data_NaamPersoonVastOntslag227)","v":""},null,null,{"$f":"IF(Data_BeeindigingsdatumVastOntslag227=\"\",\"\",Data_BeeindigingsdatumVastOntslag227)","v":""},null,null,{"$f":"IF(Data_LoonkostenVastOntslag227=\"\",\"\",Data_LoonkostenVastOntslag227)","v":""},null,{"$f":"IF(Data_PersoonAanUitVastOntslag227=-1,\"v\",\"\")","v":""},null,"v",null,null,null,null,0,0]
[null,null,null,null,null,null,null,{"$f":"IF(Data_NaamPersoonNatVerloop228=\"\",\"\",Data_NaamPersoonNatVerloop228)","v":""},null,null,{"$f":"IF(Data_BeeindigingsdatumNatVerloop228=\"\",\"\",Data_BeeindigingsdatumNatVerloop228)","v":""},null,null,{"$f":"IF(Data_LoonkostenNatVerloop228=\"\",\"\",Data_LoonkostenNatVerloop228)","v":""},null,"v",null,"v",null,null,null,null,0,"",null,null,null,null,null,null,null,null,{"$f":"IF(Data_NaamPersoonTijd228=\"\",\"\",Data_NaamPersoonTijd228)","v":""},null,null,{"$f":"IF(Data_BeeindigingsdatumTijd228=\"\",\"\",Data_BeeindigingsdatumTijd228)","v":""},null,null,{"$f":"IF(Data_LoonkostenTijd228=\"\",\"\",Data_LoonkostenTijd228)","v":""},null,{"$f":"IF(Data_PersoonAanUitTijd228=-1,\"v\",\"\")","v":""},null,"v",null,null,null,null,0,0,null,null,null,{"$f":"IF(Data_NaamPersoonVastVrij228=\"\",\"\",Data_NaamPersoonVastVrij228)","v":""},null,null,{"$f":"IF(Data_BeeindigingsdatumVastVrij228=\"\",\"\",Data_BeeindigingsdatumVastVrij228)","v":""},null,null,{"$f":"IF(Data_LoonkostenVastVrij228=\"\",\"\",Data_LoonkostenVastVrij228)","v":""},null,{"$f":"IF(Data_PersoonAanUitVastVrij228=-1,\"v\",\"\")","v":""},null,"v",null,null,null,null,0,0,null,{"$f":"IF(Data_NaamPersoonVastOntslag228=\"\",\"\",Data_NaamPersoonVastOntslag228)","v":""},null,null,{"$f":"IF(Data_BeeindigingsdatumVastOntslag228=\"\",\"\",Data_BeeindigingsdatumVastOntslag228)","v":""},null,null,{"$f":"IF(Data_LoonkostenVastOntslag228=\"\",\"\",Data_LoonkostenVastOntslag228)","v":""},null,{"$f":"IF(Data_PersoonAanUitVastOntslag228=-1,\"v\",\"\")","v":""},null,"v",null,null,null,null,0,0]
[null,null,null,null,null,null,null,{"$f":"IF(Data_NaamPersoonNatVerloop229=\"\",\"\",Data_NaamPersoonNatVerloop229)","v":""},null,null,{"$f":"IF(Data_BeeindigingsdatumNatVerloop229=\"\",\"\",Data_BeeindigingsdatumNatVerloop229)","v":""},null,null,{"$f":"IF(Data_LoonkostenNatVerloop229=\"\",\"\",Data_LoonkostenNatVerloop229)","v":""},null,"v",null,"v",null,null,null,null,0,"",null,null,null,null,null,null,null,null,{"$f":"IF(Data_NaamPersoonTijd229=\"\",\"\",Data_NaamPersoonTijd229)","v":""},null,null,{"$f":"IF(Data_BeeindigingsdatumTijd229=\"\",\"\",Data_BeeindigingsdatumTijd229)","v":""},null,null,{"$f":"IF(Data_LoonkostenTijd229=\"\",\"\",Data_LoonkostenTijd229)","v":""},null,{"$f":"IF(Data_PersoonAanUitTijd229=-1,\"v\",\"\")","v":""},null,"v",null,null,null,null,0,0,null,null,null,{"$f":"IF(Data_NaamPersoonVastVrij229=\"\",\"\",Data_NaamPersoonVastVrij229)","v":""},null,null,{"$f":"IF(Data_BeeindigingsdatumVastVrij229=\"\",\"\",Data_BeeindigingsdatumVastVrij229)","v":""},null,null,{"$f":"IF(Data_LoonkostenVastVrij229=\"\",\"\",Data_LoonkostenVastVrij229)","v":""},null,{"$f":"IF(Data_PersoonAanUitVastVrij229=-1,\"v\",\"\")","v":""},null,"v",null,null,null,null,0,0,null,{"$f":"IF(Data_NaamPersoonVastOntslag229=\"\",\"\",Data_NaamPersoonVastOntslag229)","v":""},null,null,{"$f":"IF(Data_BeeindigingsdatumVastOntslag229=\"\",\"\",Data_BeeindigingsdatumVastOntslag229)","v":""},null,null,{"$f":"IF(Data_LoonkostenVastOntslag229=\"\",\"\",Data_LoonkostenVastOntslag229)","v":""},null,{"$f":"IF(Data_PersoonAanUitVastOntslag229=-1,\"v\",\"\")","v":""},null,"v",null,null,null,null,0,0]
[null,null,null,null,null,null,null,{"$f":"IF(Data_NaamPersoonNatVerloop230=\"\",\"\",Data_NaamPersoonNatVerloop230)","v":""},null,null,{"$f":"IF(Data_BeeindigingsdatumNatVerloop230=\"\",\"\",Data_BeeindigingsdatumNatVerloop230)","v":""},null,null,{"$f":"IF(Data_LoonkostenNatVerloop230=\"\",\"\",Data_LoonkostenNatVerloop230)","v":""},null,"v",null,"v",null,null,null,null,0,"",null,null,null,null,null,null,null,null,{"$f":"IF(Data_NaamPersoonTijd230=\"\",\"\",Data_NaamPersoonTijd230)","v":""},null,null,{"$f":"IF(Data_BeeindigingsdatumTijd230=\"\",\"\",Data_BeeindigingsdatumTijd230)","v":""},null,null,{"$f":"IF(Data_LoonkostenTijd230=\"\",\"\",Data_LoonkostenTijd230)","v":""},null,{"$f":"IF(Data_PersoonAanUitTijd230=-1,\"v\",\"\")","v":""},null,"v",null,null,null,null,0,0,null,null,null,{"$f":"IF(Data_NaamPersoonVastVrij230=\"\",\"\",Data_NaamPersoonVastVrij230)","v":""},null,null,{"$f":"IF(Data_BeeindigingsdatumVastVrij230=\"\",\"\",Data_BeeindigingsdatumVastVrij230)","v":""},null,null,{"$f":"IF(Data_LoonkostenVastVrij230=\"\",\"\",Data_LoonkostenVastVrij230)","v":""},null,{"$f":"IF(Data_PersoonAanUitVastVrij230=-1,\"v\",\"\")","v":""},null,"v",null,null,null,null,0,0,null,{"$f":"IF(Data_NaamPersoonVastOntslag230=\"\",\"\",Data_NaamPersoonVastOntslag230)","v":""},null,null,{"$f":"IF(Data_BeeindigingsdatumVastOntslag230=\"\",\"\",Data_BeeindigingsdatumVastOntslag230)","v":""},null,null,{"$f":"IF(Data_LoonkostenVastOntslag230=\"\",\"\",Data_LoonkostenVastOntslag230)","v":""},null,{"$f":"IF(Data_PersoonAanUitVastOntslag230=-1,\"v\",\"\")","v":""},null,"v",null,null,null,null,0,0]
[null,null,null,null,null,null,null,{"$f":"IF(Data_NaamPersoonNatVerloop231=\"\",\"\",Data_NaamPersoonNatVerloop231)","v":""},null,null,{"$f":"IF(Data_BeeindigingsdatumNatVerloop231=\"\",\"\",Data_BeeindigingsdatumNatVerloop231)","v":""},null,null,{"$f":"IF(Data_LoonkostenNatVerloop231=\"\",\"\",Data_LoonkostenNatVerloop231)","v":""},null,"v",null,"v",null,null,null,null,0,"",null,null,null,null,null,null,null,null,{"$f":"IF(Data_NaamPersoonTijd231=\"\",\"\",Data_NaamPersoonTijd231)","v":""},null,null,{"$f":"IF(Data_BeeindigingsdatumTijd231=\"\",\"\",Data_BeeindigingsdatumTijd231)","v":""},null,null,{"$f":"IF(Data_LoonkostenTijd231=\"\",\"\",Data_LoonkostenTijd231)","v":""},null,{"$f":"IF(Data_PersoonAanUitTijd231=-1,\"v\",\"\")","v":""},null,"v",null,null,null,null,0,0,null,null,null,{"$f":"IF(Data_NaamPersoonVastVrij231=\"\",\"\",Data_NaamPersoonVastVrij231)","v":""},null,null,{"$f":"IF(Data_BeeindigingsdatumVastVrij231=\"\",\"\",Data_BeeindigingsdatumVastVrij231)","v":""},null,null,{"$f":"IF(Data_LoonkostenVastVrij231=\"\",\"\",Data_LoonkostenVastVrij231)","v":""},null,{"$f":"IF(Data_PersoonAanUitVastVrij231=-1,\"v\",\"\")","v":""},null,"v",null,null,null,null,0,0,null,{"$f":"IF(Data_NaamPersoonVastOntslag231=\"\",\"\",Data_NaamPersoonVastOntslag231)","v":""},null,null,{"$f":"IF(Data_BeeindigingsdatumVastOntslag231=\"\",\"\",Data_BeeindigingsdatumVastOntslag231)","v":""},null,null,{"$f":"IF(Data_LoonkostenVastOntslag231=\"\",\"\",Data_LoonkostenVastOntslag231)","v":""},null,{"$f":"IF(Data_PersoonAanUitVastOntslag231=-1,\"v\",\"\")","v":""},null,"v",null,null,null,null,0,0]
[null,null,null,null,null,null,null,{"$f":"IF(Data_NaamPersoonNatVerloop232=\"\",\"\",Data_NaamPersoonNatVerloop232)","v":""},null,null,{"$f":"IF(Data_BeeindigingsdatumNatVerloop232=\"\",\"\",Data_BeeindigingsdatumNatVerloop232)","v":""},null,null,{"$f":"IF(Data_LoonkostenNatVerloop232=\"\",\"\",Data_LoonkostenNatVerloop232)","v":""},null,"v",null,"v",null,null,null,null,0,"",null,null,null,null,null,null,null,null,{"$f":"IF(Data_NaamPersoonTijd232=\"\",\"\",Data_NaamPersoonTijd232)","v":""},null,null,{"$f":"IF(Data_BeeindigingsdatumTijd232=\"\",\"\",Data_BeeindigingsdatumTijd232)","v":""},null,null,{"$f":"IF(Data_LoonkostenTijd232=\"\",\"\",Data_LoonkostenTijd232)","v":""},null,{"$f":"IF(Data_PersoonAanUitTijd232=-1,\"v\",\"\")","v":""},null,"v",null,null,null,null,0,0,null,null,null,{"$f":"IF(Data_NaamPersoonVastVrij232=\"\",\"\",Data_NaamPersoonVastVrij232)","v":""},null,null,{"$f":"IF(Data_BeeindigingsdatumVastVrij232=\"\",\"\",Data_BeeindigingsdatumVastVrij232)","v":""},null,null,{"$f":"IF(Data_LoonkostenVastVrij232=\"\",\"\",Data_LoonkostenVastVrij232)","v":""},null,{"$f":"IF(Data_PersoonAanUitVastVrij232=-1,\"v\",\"\")","v":""},null,"v",null,null,null,null,0,0,null,{"$f":"IF(Data_NaamPersoonVastOntslag232=\"\",\"\",Data_NaamPersoonVastOntslag232)","v":""},null,null,{"$f":"IF(Data_BeeindigingsdatumVastOntslag232=\"\",\"\",Data_BeeindigingsdatumVastOntslag232)","v":""},null,null,{"$f":"IF(Data_LoonkostenVastOntslag232=\"\",\"\",Data_LoonkostenVastOntslag232)","v":""},null,{"$f":"IF(Data_PersoonAanUitVastOntslag232=-1,\"v\",\"\")","v":""},null,"v",null,null,null,null,0,0]
[null,null,null,null,null,null,null,{"$f":"IF(Data_NaamPersoonNatVerloop233=\"\",\"\",Data_NaamPersoonNatVerloop233)","v":""},null,null,{"$f":"IF(Data_BeeindigingsdatumNatVerloop233=\"\",\"\",Data_BeeindigingsdatumNatVerloop233)","v":""},null,null,{"$f":"IF(Data_LoonkostenNatVerloop233=\"\",\"\",Data_LoonkostenNatVerloop233)","v":""},null,"v",null,"v",null,null,null,null,0,"",null,null,null,null,null,null,null,null,{"$f":"IF(Data_NaamPersoonTijd233=\"\",\"\",Data_NaamPersoonTijd233)","v":""},null,null,{"$f":"IF(Data_BeeindigingsdatumTijd233=\"\",\"\",Data_BeeindigingsdatumTijd233)","v":""},null,null,{"$f":"IF(Data_LoonkostenTijd233=\"\",\"\",Data_LoonkostenTijd233)","v":""},null,{"$f":"IF(Data_PersoonAanUitTijd233=-1,\"v\",\"\")","v":""},null,"v",null,null,null,null,0,0,null,null,null,{"$f":"IF(Data_NaamPersoonVastVrij233=\"\",\"\",Data_NaamPersoonVastVrij233)","v":""},null,null,{"$f":"IF(Data_BeeindigingsdatumVastVrij233=\"\",\"\",Data_BeeindigingsdatumVastVrij233)","v":""},null,null,{"$f":"IF(Data_LoonkostenVastVrij233=\"\",\"\",Data_LoonkostenVastVrij233)","v":""},null,{"$f":"IF(Data_PersoonAanUitVastVrij233=-1,\"v\",\"\")","v":""},null,"v",null,null,null,null,0,0,null,{"$f":"IF(Data_NaamPersoonVastOntslag233=\"\",\"\",Data_NaamPersoonVastOntslag233)","v":""},null,null,{"$f":"IF(Data_BeeindigingsdatumVastOntslag233=\"\",\"\",Data_BeeindigingsdatumVastOntslag233)","v":""},null,null,{"$f":"IF(Data_LoonkostenVastOntslag233=\"\",\"\",Data_LoonkostenVastOntslag233)","v":""},null,{"$f":"IF(Data_PersoonAanUitVastOntslag233=-1,\"v\",\"\")","v":""},null,"v",null,null,null,null,0,0]
[null,null,null,null,null,null,null,{"$f":"IF(Data_NaamPersoonNatVerloop234=\"\",\"\",Data_NaamPersoonNatVerloop234)","v":""},null,null,{"$f":"IF(Data_BeeindigingsdatumNatVerloop234=\"\",\"\",Data_BeeindigingsdatumNatVerloop234)","v":""},null,null,{"$f":"IF(Data_LoonkostenNatVerloop234=\"\",\"\",Data_LoonkostenNatVerloop234)","v":""},null,"v",null,"v",null,null,null,null,0,"",null,null,null,null,null,null,null,null,{"$f":"IF(Data_NaamPersoonTijd234=\"\",\"\",Data_NaamPersoonTijd234)","v":""},null,null,{"$f":"IF(Data_BeeindigingsdatumTijd234=\"\",\"\",Data_BeeindigingsdatumTijd234)","v":""},null,null,{"$f":"IF(Data_LoonkostenTijd234=\"\",\"\",Data_LoonkostenTijd234)","v":""},null,{"$f":"IF(Data_PersoonAanUitTijd234=-1,\"v\",\"\")","v":""},null,"v",null,null,null,null,0,0,null,null,null,{"$f":"IF(Data_NaamPersoonVastVrij234=\"\",\"\",Data_NaamPersoonVastVrij234)","v":""},null,null,{"$f":"IF(Data_BeeindigingsdatumVastVrij234=\"\",\"\",Data_BeeindigingsdatumVastVrij234)","v":""},null,null,{"$f":"IF(Data_LoonkostenVastVrij234=\"\",\"\",Data_LoonkostenVastVrij234)","v":""},null,{"$f":"IF(Data_PersoonAanUitVastVrij234=-1,\"v\",\"\")","v":""},null,"v",null,null,null,null,0,0,null,{"$f":"IF(Data_NaamPersoonVastOntslag234=\"\",\"\",Data_NaamPersoonVastOntslag234)","v":""},null,null,{"$f":"IF(Data_BeeindigingsdatumVastOntslag234=\"\",\"\",Data_BeeindigingsdatumVastOntslag234)","v":""},null,null,{"$f":"IF(Data_LoonkostenVastOntslag234=\"\",\"\",Data_LoonkostenVastOntslag234)","v":""},null,{"$f":"IF(Data_PersoonAanUitVastOntslag234=-1,\"v\",\"\")","v":""},null,"v",null,null,null,null,0,0]
[null,null,null,null,null,null,null,{"$f":"IF(Data_NaamPersoonNatVerloop235=\"\",\"\",Data_NaamPersoonNatVerloop235)","v":""},null,null,{"$f":"IF(Data_BeeindigingsdatumNatVerloop235=\"\",\"\",Data_BeeindigingsdatumNatVerloop235)","v":""},null,null,{"$f":"IF(Data_LoonkostenNatVerloop235=\"\",\"\",Data_LoonkostenNatVerloop235)","v":""},null,"v",null,"v",null,null,null,null,0,"",null,null,null,null,null,null,null,null,{"$f":"IF(Data_NaamPersoonTijd235=\"\",\"\",Data_NaamPersoonTijd235)","v":""},null,null,{"$f":"IF(Data_BeeindigingsdatumTijd235=\"\",\"\",Data_BeeindigingsdatumTijd235)","v":""},null,null,{"$f":"IF(Data_LoonkostenTijd235=\"\",\"\",Data_LoonkostenTijd235)","v":""},null,{"$f":"IF(Data_PersoonAanUitTijd235=-1,\"v\",\"\")","v":""},null,"v",null,null,null,null,0,0,null,null,null,{"$f":"IF(Data_NaamPersoonVastVrij235=\"\",\"\",Data_NaamPersoonVastVrij235)","v":""},null,null,{"$f":"IF(Data_BeeindigingsdatumVastVrij235=\"\",\"\",Data_BeeindigingsdatumVastVrij235)","v":""},null,null,{"$f":"IF(Data_LoonkostenVastVrij235=\"\",\"\",Data_LoonkostenVastVrij235)","v":""},null,{"$f":"IF(Data_PersoonAanUitVastVrij235=-1,\"v\",\"\")","v":""},null,"v",null,null,null,null,0,0,null,{"$f":"IF(Data_NaamPersoonVastOntslag235=\"\",\"\",Data_NaamPersoonVastOntslag235)","v":""},null,null,{"$f":"IF(Data_BeeindigingsdatumVastOntslag235=\"\",\"\",Data_BeeindigingsdatumVastOntslag235)","v":""},null,null,{"$f":"IF(Data_LoonkostenVastOntslag235=\"\",\"\",Data_LoonkostenVastOntslag235)","v":""},null,{"$f":"IF(Data_PersoonAanUitVastOntslag235=-1,\"v\",\"\")","v":""},null,"v",null,null,null,null,0,0]
[null,null,null,null,null,null,null,{"$f":"IF(Data_NaamPersoonNatVerloop236=\"\",\"\",Data_NaamPersoonNatVerloop236)","v":""},null,null,{"$f":"IF(Data_BeeindigingsdatumNatVerloop236=\"\",\"\",Data_BeeindigingsdatumNatVerloop236)","v":""},null,null,{"$f":"IF(Data_LoonkostenNatVerloop236=\"\",\"\",Data_LoonkostenNatVerloop236)","v":""},null,"v",null,"v",null,null,null,null,0,"",null,null,null,null,null,null,null,null,{"$f":"IF(Data_NaamPersoonTijd236=\"\",\"\",Data_NaamPersoonTijd236)","v":""},null,null,{"$f":"IF(Data_BeeindigingsdatumTijd236=\"\",\"\",Data_BeeindigingsdatumTijd236)","v":""},null,null,{"$f":"IF(Data_LoonkostenTijd236=\"\",\"\",Data_LoonkostenTijd236)","v":""},null,{"$f":"IF(Data_PersoonAanUitTijd236=-1,\"v\",\"\")","v":""},null,"v",null,null,null,null,0,0,null,null,null,{"$f":"IF(Data_NaamPersoonVastVrij236=\"\",\"\",Data_NaamPersoonVastVrij236)","v":""},null,null,{"$f":"IF(Data_BeeindigingsdatumVastVrij236=\"\",\"\",Data_BeeindigingsdatumVastVrij236)","v":""},null,null,{"$f":"IF(Data_LoonkostenVastVrij236=\"\",\"\",Data_LoonkostenVastVrij236)","v":""},null,{"$f":"IF(Data_PersoonAanUitVastVrij236=-1,\"v\",\"\")","v":""},null,"v",null,null,null,null,0,0,null,{"$f":"IF(Data_NaamPersoonVastOntslag236=\"\",\"\",Data_NaamPersoonVastOntslag236)","v":""},null,null,{"$f":"IF(Data_BeeindigingsdatumVastOntslag236=\"\",\"\",Data_BeeindigingsdatumVastOntslag236)","v":""},null,null,{"$f":"IF(Data_LoonkostenVastOntslag236=\"\",\"\",Data_LoonkostenVastOntslag236)","v":""},null,{"$f":"IF(Data_PersoonAanUitVastOntslag236=-1,\"v\",\"\")","v":""},null,"v",null,null,null,null,0,0]
[null,null,null,null,null,null,null,{"$f":"IF(Data_NaamPersoonNatVerloop237=\"\",\"\",Data_NaamPersoonNatVerloop237)","v":""},null,null,{"$f":"IF(Data_BeeindigingsdatumNatVerloop237=\"\",\"\",Data_BeeindigingsdatumNatVerloop237)","v":""},null,null,{"$f":"IF(Data_LoonkostenNatVerloop237=\"\",\"\",Data_LoonkostenNatVerloop237)","v":""},null,"v",null,"v",null,null,null,null,0,"",null,null,null,null,null,null,null,null,{"$f":"IF(Data_NaamPersoonTijd237=\"\",\"\",Data_NaamPersoonTijd237)","v":""},null,null,{"$f":"IF(Data_BeeindigingsdatumTijd237=\"\",\"\",Data_BeeindigingsdatumTijd237)","v":""},null,null,{"$f":"IF(Data_LoonkostenTijd237=\"\",\"\",Data_LoonkostenTijd237)","v":""},null,{"$f":"IF(Data_PersoonAanUitTijd237=-1,\"v\",\"\")","v":""},null,"v",null,null,null,null,0,0,null,null,null,{"$f":"IF(Data_NaamPersoonVastVrij237=\"\",\"\",Data_NaamPersoonVastVrij237)","v":""},null,null,{"$f":"IF(Data_BeeindigingsdatumVastVrij237=\"\",\"\",Data_BeeindigingsdatumVastVrij237)","v":""},null,null,{"$f":"IF(Data_LoonkostenVastVrij237=\"\",\"\",Data_LoonkostenVastVrij237)","v":""},null,{"$f":"IF(Data_PersoonAanUitVastVrij237=-1,\"v\",\"\")","v":""},null,"v",null,null,null,null,0,0,null,{"$f":"IF(Data_NaamPersoonVastOntslag237=\"\",\"\",Data_NaamPersoonVastOntslag237)","v":""},null,null,{"$f":"IF(Data_BeeindigingsdatumVastOntslag237=\"\",\"\",Data_BeeindigingsdatumVastOntslag237)","v":""},null,null,{"$f":"IF(Data_LoonkostenVastOntslag237=\"\",\"\",Data_LoonkostenVastOntslag237)","v":""},null,{"$f":"IF(Data_PersoonAanUitVastOntslag237=-1,\"v\",\"\")","v":""},null,"v",null,null,null,null,0,0]
[null,null,null,null,null,null,null,{"$f":"IF(Data_NaamPersoonNatVerloop238=\"\",\"\",Data_NaamPersoonNatVerloop238)","v":""},null,null,{"$f":"IF(Data_BeeindigingsdatumNatVerloop238=\"\",\"\",Data_BeeindigingsdatumNatVerloop238)","v":""},null,null,{"$f":"IF(Data_LoonkostenNatVerloop238=\"\",\"\",Data_LoonkostenNatVerloop238)","v":""},null,"v",null,"v",null,null,null,null,0,"",null,null,null,null,null,null,null,null,{"$f":"IF(Data_NaamPersoonTijd238=\"\",\"\",Data_NaamPersoonTijd238)","v":""},null,null,{"$f":"IF(Data_BeeindigingsdatumTijd238=\"\",\"\",Data_BeeindigingsdatumTijd238)","v":""},null,null,{"$f":"IF(Data_LoonkostenTijd238=\"\",\"\",Data_LoonkostenTijd238)","v":""},null,{"$f":"IF(Data_PersoonAanUitTijd238=-1,\"v\",\"\")","v":""},null,"v",null,null,null,null,0,0,null,null,null,{"$f":"IF(Data_NaamPersoonVastVrij238=\"\",\"\",Data_NaamPersoonVastVrij238)","v":""},null,null,{"$f":"IF(Data_BeeindigingsdatumVastVrij238=\"\",\"\",Data_BeeindigingsdatumVastVrij238)","v":""},null,null,{"$f":"IF(Data_LoonkostenVastVrij238=\"\",\"\",Data_LoonkostenVastVrij238)","v":""},null,{"$f":"IF(Data_PersoonAanUitVastVrij238=-1,\"v\",\"\")","v":""},null,"v",null,null,null,null,0,0,null,{"$f":"IF(Data_NaamPersoonVastOntslag238=\"\",\"\",Data_NaamPersoonVastOntslag238)","v":""},null,null,{"$f":"IF(Data_BeeindigingsdatumVastOntslag238=\"\",\"\",Data_BeeindigingsdatumVastOntslag238)","v":""},null,null,{"$f":"IF(Data_LoonkostenVastOntslag238=\"\",\"\",Data_LoonkostenVastOntslag238)","v":""},null,{"$f":"IF(Data_PersoonAanUitVastOntslag238=-1,\"v\",\"\")","v":""},null,"v",null,null,null,null,0,0]
[null,null,null,null,null,null,null,{"$f":"IF(Data_NaamPersoonNatVerloop239=\"\",\"\",Data_NaamPersoonNatVerloop239)","v":""},null,null,{"$f":"IF(Data_BeeindigingsdatumNatVerloop239=\"\",\"\",Data_BeeindigingsdatumNatVerloop239)","v":""},null,null,{"$f":"IF(Data_LoonkostenNatVerloop239=\"\",\"\",Data_LoonkostenNatVerloop239)","v":""},null,"v",null,"v",null,null,null,null,0,"",null,null,null,null,null,null,null,null,{"$f":"IF(Data_NaamPersoonTijd239=\"\",\"\",Data_NaamPersoonTijd239)","v":""},null,null,{"$f":"IF(Data_BeeindigingsdatumTijd239=\"\",\"\",Data_BeeindigingsdatumTijd239)","v":""},null,null,{"$f":"IF(Data_LoonkostenTijd239=\"\",\"\",Data_LoonkostenTijd239)","v":""},null,{"$f":"IF(Data_PersoonAanUitTijd239=-1,\"v\",\"\")","v":""},null,"v",null,null,null,null,0,0,null,null,null,{"$f":"IF(Data_NaamPersoonVastVrij239=\"\",\"\",Data_NaamPersoonVastVrij239)","v":""},null,null,{"$f":"IF(Data_BeeindigingsdatumVastVrij239=\"\",\"\",Data_BeeindigingsdatumVastVrij239)","v":""},null,null,{"$f":"IF(Data_LoonkostenVastVrij239=\"\",\"\",Data_LoonkostenVastVrij239)","v":""},null,{"$f":"IF(Data_PersoonAanUitVastVrij239=-1,\"v\",\"\")","v":""},null,"v",null,null,null,null,0,0,null,{"$f":"IF(Data_NaamPersoonVastOntslag239=\"\",\"\",Data_NaamPersoonVastOntslag239)","v":""},null,null,{"$f":"IF(Data_BeeindigingsdatumVastOntslag239=\"\",\"\",Data_BeeindigingsdatumVastOntslag239)","v":""},null,null,{"$f":"IF(Data_LoonkostenVastOntslag239=\"\",\"\",Data_LoonkostenVastOntslag239)","v":""},null,{"$f":"IF(Data_PersoonAanUitVastOntslag239=-1,\"v\",\"\")","v":""},null,"v",null,null,null,null,0,0]
[null,null,null,null,null,null,null,{"$f":"IF(Data_NaamPersoonNatVerloop240=\"\",\"\",Data_NaamPersoonNatVerloop240)","v":""},null,null,{"$f":"IF(Data_BeeindigingsdatumNatVerloop240=\"\",\"\",Data_BeeindigingsdatumNatVerloop240)","v":""},null,null,{"$f":"IF(Data_LoonkostenNatVerloop240=\"\",\"\",Data_LoonkostenNatVerloop240)","v":""},null,"v",null,"v",null,null,null,null,0,"",null,null,null,null,null,null,null,null,{"$f":"IF(Data_NaamPersoonTijd240=\"\",\"\",Data_NaamPersoonTijd240)","v":""},null,null,{"$f":"IF(Data_BeeindigingsdatumTijd240=\"\",\"\",Data_BeeindigingsdatumTijd240)","v":""},null,null,{"$f":"IF(Data_LoonkostenTijd240=\"\",\"\",Data_LoonkostenTijd240)","v":""},null,{"$f":"IF(Data_PersoonAanUitTijd240=-1,\"v\",\"\")","v":""},null,"v",null,null,null,null,0,0,null,null,null,{"$f":"IF(Data_NaamPersoonVastVrij240=\"\",\"\",Data_NaamPersoonVastVrij240)","v":""},null,null,{"$f":"IF(Data_BeeindigingsdatumVastVrij240=\"\",\"\",Data_BeeindigingsdatumVastVrij240)","v":""},null,null,{"$f":"IF(Data_LoonkostenVastVrij240=\"\",\"\",Data_LoonkostenVastVrij240)","v":""},null,{"$f":"IF(Data_PersoonAanUitVastVrij240=-1,\"v\",\"\")","v":""},null,"v",null,null,null,null,0,0,null,{"$f":"IF(Data_NaamPersoonVastOntslag240=\"\",\"\",Data_NaamPersoonVastOntslag240)","v":""},null,null,{"$f":"IF(Data_BeeindigingsdatumVastOntslag240=\"\",\"\",Data_BeeindigingsdatumVastOntslag240)","v":""},null,null,{"$f":"IF(Data_LoonkostenVastOntslag240=\"\",\"\",Data_LoonkostenVastOntslag240)","v":""},null,{"$f":"IF(Data_PersoonAanUitVastOntslag240=-1,\"v\",\"\")","v":""},null,"v",null,null,null,null,0,0]
[null,null,null,null,null,null,null,{"$f":"IF(Data_NaamPersoonNatVerloop241=\"\",\"\",Data_NaamPersoonNatVerloop241)","v":""},null,null,{"$f":"IF(Data_BeeindigingsdatumNatVerloop241=\"\",\"\",Data_BeeindigingsdatumNatVerloop241)","v":""},null,null,{"$f":"IF(Data_LoonkostenNatVerloop241=\"\",\"\",Data_LoonkostenNatVerloop241)","v":""},null,"v",null,"v",null,null,null,null,0,"",null,null,null,null,null,null,null,null,{"$f":"IF(Data_NaamPersoonTijd241=\"\",\"\",Data_NaamPersoonTijd241)","v":""},null,null,{"$f":"IF(Data_BeeindigingsdatumTijd241=\"\",\"\",Data_BeeindigingsdatumTijd241)","v":""},null,null,{"$f":"IF(Data_LoonkostenTijd241=\"\",\"\",Data_LoonkostenTijd241)","v":""},null,{"$f":"IF(Data_PersoonAanUitTijd241=-1,\"v\",\"\")","v":""},null,"v",null,null,null,null,0,0,null,null,null,{"$f":"IF(Data_NaamPersoonVastVrij241=\"\",\"\",Data_NaamPersoonVastVrij241)","v":""},null,null,{"$f":"IF(Data_BeeindigingsdatumVastVrij241=\"\",\"\",Data_BeeindigingsdatumVastVrij241)","v":""},null,null,{"$f":"IF(Data_LoonkostenVastVrij241=\"\",\"\",Data_LoonkostenVastVrij241)","v":""},null,{"$f":"IF(Data_PersoonAanUitVastVrij241=-1,\"v\",\"\")","v":""},null,"v",null,null,null,null,0,0,null,{"$f":"IF(Data_NaamPersoonVastOntslag241=\"\",\"\",Data_NaamPersoonVastOntslag241)","v":""},null,null,{"$f":"IF(Data_BeeindigingsdatumVastOntslag241=\"\",\"\",Data_BeeindigingsdatumVastOntslag241)","v":""},null,null,{"$f":"IF(Data_LoonkostenVastOntslag241=\"\",\"\",Data_LoonkostenVastOntslag241)","v":""},null,{"$f":"IF(Data_PersoonAanUitVastOntslag241=-1,\"v\",\"\")","v":""},null,"v",null,null,null,null,0,0]
[null,null,null,null,null,null,null,{"$f":"IF(Data_NaamPersoonNatVerloop242=\"\",\"\",Data_NaamPersoonNatVerloop242)","v":""},null,null,{"$f":"IF(Data_BeeindigingsdatumNatVerloop242=\"\",\"\",Data_BeeindigingsdatumNatVerloop242)","v":""},null,null,{"$f":"IF(Data_LoonkostenNatVerloop242=\"\",\"\",Data_LoonkostenNatVerloop242)","v":""},null,"v",null,"v",null,null,null,null,0,"",null,null,null,null,null,null,null,null,{"$f":"IF(Data_NaamPersoonTijd242=\"\",\"\",Data_NaamPersoonTijd242)","v":""},null,null,{"$f":"IF(Data_BeeindigingsdatumTijd242=\"\",\"\",Data_BeeindigingsdatumTijd242)","v":""},null,null,{"$f":"IF(Data_LoonkostenTijd242=\"\",\"\",Data_LoonkostenTijd242)","v":""},null,{"$f":"IF(Data_PersoonAanUitTijd242=-1,\"v\",\"\")","v":""},null,"v",null,null,null,null,0,0,null,null,null,{"$f":"IF(Data_NaamPersoonVastVrij242=\"\",\"\",Data_NaamPersoonVastVrij242)","v":""},null,null,{"$f":"IF(Data_BeeindigingsdatumVastVrij242=\"\",\"\",Data_BeeindigingsdatumVastVrij242)","v":""},null,null,{"$f":"IF(Data_LoonkostenVastVrij242=\"\",\"\",Data_LoonkostenVastVrij242)","v":""},null,{"$f":"IF(Data_PersoonAanUitVastVrij242=-1,\"v\",\"\")","v":""},null,"v",null,null,null,null,0,0,null,{"$f":"IF(Data_NaamPersoonVastOntslag242=\"\",\"\",Data_NaamPersoonVastOntslag242)","v":""},null,null,{"$f":"IF(Data_BeeindigingsdatumVastOntslag242=\"\",\"\",Data_BeeindigingsdatumVastOntslag242)","v":""},null,null,{"$f":"IF(Data_LoonkostenVastOntslag242=\"\",\"\",Data_LoonkostenVastOntslag242)","v":""},null,{"$f":"IF(Data_PersoonAanUitVastOntslag242=-1,\"v\",\"\")","v":""},null,"v",null,null,null,null,0,0]
[null,null,null,null,null,null,null,{"$f":"IF(Data_NaamPersoonNatVerloop243=\"\",\"\",Data_NaamPersoonNatVerloop243)","v":""},null,null,{"$f":"IF(Data_BeeindigingsdatumNatVerloop243=\"\",\"\",Data_BeeindigingsdatumNatVerloop243)","v":""},null,null,{"$f":"IF(Data_LoonkostenNatVerloop243=\"\",\"\",Data_LoonkostenNatVerloop243)","v":""},null,"v",null,"v",null,null,null,null,0,"",null,null,null,null,null,null,null,null,{"$f":"IF(Data_NaamPersoonTijd243=\"\",\"\",Data_NaamPersoonTijd243)","v":""},null,null,{"$f":"IF(Data_BeeindigingsdatumTijd243=\"\",\"\",Data_BeeindigingsdatumTijd243)","v":""},null,null,{"$f":"IF(Data_LoonkostenTijd243=\"\",\"\",Data_LoonkostenTijd243)","v":""},null,{"$f":"IF(Data_PersoonAanUitTijd243=-1,\"v\",\"\")","v":""},null,"v",null,null,null,null,0,0,null,null,null,{"$f":"IF(Data_NaamPersoonVastVrij243=\"\",\"\",Data_NaamPersoonVastVrij243)","v":""},null,null,{"$f":"IF(Data_BeeindigingsdatumVastVrij243=\"\",\"\",Data_BeeindigingsdatumVastVrij243)","v":""},null,null,{"$f":"IF(Data_LoonkostenVastVrij243=\"\",\"\",Data_LoonkostenVastVrij243)","v":""},null,{"$f":"IF(Data_PersoonAanUitVastVrij243=-1,\"v\",\"\")","v":""},null,"v",null,null,null,null,0,0,null,{"$f":"IF(Data_NaamPersoonVastOntslag243=\"\",\"\",Data_NaamPersoonVastOntslag243)","v":""},null,null,{"$f":"IF(Data_BeeindigingsdatumVastOntslag243=\"\",\"\",Data_BeeindigingsdatumVastOntslag243)","v":""},null,null,{"$f":"IF(Data_LoonkostenVastOntslag243=\"\",\"\",Data_LoonkostenVastOntslag243)","v":""},null,{"$f":"IF(Data_PersoonAanUitVastOntslag243=-1,\"v\",\"\")","v":""},null,"v",null,null,null,null,0,0]
[null,null,null,null,null,null,null,{"$f":"IF(Data_NaamPersoonNatVerloop244=\"\",\"\",Data_NaamPersoonNatVerloop244)","v":""},null,null,{"$f":"IF(Data_BeeindigingsdatumNatVerloop244=\"\",\"\",Data_BeeindigingsdatumNatVerloop244)","v":""},null,null,{"$f":"IF(Data_LoonkostenNatVerloop244=\"\",\"\",Data_LoonkostenNatVerloop244)","v":""},null,"v",null,"v",null,null,null,null,0,"",null,null,null,null,null,null,null,null,{"$f":"IF(Data_NaamPersoonTijd244=\"\",\"\",Data_NaamPersoonTijd244)","v":""},null,null,{"$f":"IF(Data_BeeindigingsdatumTijd244=\"\",\"\",Data_BeeindigingsdatumTijd244)","v":""},null,null,{"$f":"IF(Data_LoonkostenTijd244=\"\",\"\",Data_LoonkostenTijd244)","v":""},null,{"$f":"IF(Data_PersoonAanUitTijd244=-1,\"v\",\"\")","v":""},null,"v",null,null,null,null,0,0,null,null,null,{"$f":"IF(Data_NaamPersoonVastVrij244=\"\",\"\",Data_NaamPersoonVastVrij244)","v":""},null,null,{"$f":"IF(Data_BeeindigingsdatumVastVrij244=\"\",\"\",Data_BeeindigingsdatumVastVrij244)","v":""},null,null,{"$f":"IF(Data_LoonkostenVastVrij244=\"\",\"\",Data_LoonkostenVastVrij244)","v":""},null,{"$f":"IF(Data_PersoonAanUitVastVrij244=-1,\"v\",\"\")","v":""},null,"v",null,null,null,null,0,0,null,{"$f":"IF(Data_NaamPersoonVastOntslag244=\"\",\"\",Data_NaamPersoonVastOntslag244)","v":""},null,null,{"$f":"IF(Data_BeeindigingsdatumVastOntslag244=\"\",\"\",Data_BeeindigingsdatumVastOntslag244)","v":""},null,null,{"$f":"IF(Data_LoonkostenVastOntslag244=\"\",\"\",Data_LoonkostenVastOntslag244)","v":""},null,{"$f":"IF(Data_PersoonAanUitVastOntslag244=-1,\"v\",\"\")","v":""},null,"v",null,null,null,null,0,0]
[null,null,null,null,null,null,null,{"$f":"IF(Data_NaamPersoonNatVerloop245=\"\",\"\",Data_NaamPersoonNatVerloop245)","v":""},null,null,{"$f":"IF(Data_BeeindigingsdatumNatVerloop245=\"\",\"\",Data_BeeindigingsdatumNatVerloop245)","v":""},null,null,{"$f":"IF(Data_LoonkostenNatVerloop245=\"\",\"\",Data_LoonkostenNatVerloop245)","v":""},null,"v",null,"v",null,null,null,null,0,"",null,null,null,null,null,null,null,null,{"$f":"IF(Data_NaamPersoonTijd245=\"\",\"\",Data_NaamPersoonTijd245)","v":""},null,null,{"$f":"IF(Data_BeeindigingsdatumTijd245=\"\",\"\",Data_BeeindigingsdatumTijd245)","v":""},null,null,{"$f":"IF(Data_LoonkostenTijd245=\"\",\"\",Data_LoonkostenTijd245)","v":""},null,{"$f":"IF(Data_PersoonAanUitTijd245=-1,\"v\",\"\")","v":""},null,"v",null,null,null,null,0,0,null,null,null,{"$f":"IF(Data_NaamPersoonVastVrij245=\"\",\"\",Data_NaamPersoonVastVrij245)","v":""},null,null,{"$f":"IF(Data_BeeindigingsdatumVastVrij245=\"\",\"\",Data_BeeindigingsdatumVastVrij245)","v":""},null,null,{"$f":"IF(Data_LoonkostenVastVrij245=\"\",\"\",Data_LoonkostenVastVrij245)","v":""},null,{"$f":"IF(Data_PersoonAanUitVastVrij245=-1,\"v\",\"\")","v":""},null,"v",null,null,null,null,0,0,null,{"$f":"IF(Data_NaamPersoonVastOntslag245=\"\",\"\",Data_NaamPersoonVastOntslag245)","v":""},null,null,{"$f":"IF(Data_BeeindigingsdatumVastOntslag245=\"\",\"\",Data_BeeindigingsdatumVastOntslag245)","v":""},null,null,{"$f":"IF(Data_LoonkostenVastOntslag245=\"\",\"\",Data_LoonkostenVastOntslag245)","v":""},null,{"$f":"IF(Data_PersoonAanUitVastOntslag245=-1,\"v\",\"\")","v":""},null,"v",null,null,null,null,0,0]
[null,null,null,null,null,null,null,{"$f":"IF(Data_NaamPersoonNatVerloop246=\"\",\"\",Data_NaamPersoonNatVerloop246)","v":""},null,null,{"$f":"IF(Data_BeeindigingsdatumNatVerloop246=\"\",\"\",Data_BeeindigingsdatumNatVerloop246)","v":""},null,null,{"$f":"IF(Data_LoonkostenNatVerloop246=\"\",\"\",Data_LoonkostenNatVerloop246)","v":""},null,"v",null,"v",null,null,null,null,0,"",null,null,null,null,null,null,null,null,{"$f":"IF(Data_NaamPersoonTijd246=\"\",\"\",Data_NaamPersoonTijd246)","v":""},null,null,{"$f":"IF(Data_BeeindigingsdatumTijd246=\"\",\"\",Data_BeeindigingsdatumTijd246)","v":""},null,null,{"$f":"IF(Data_LoonkostenTijd246=\"\",\"\",Data_LoonkostenTijd246)","v":""},null,{"$f":"IF(Data_PersoonAanUitTijd246=-1,\"v\",\"\")","v":""},null,"v",null,null,null,null,0,0,null,null,null,{"$f":"IF(Data_NaamPersoonVastVrij246=\"\",\"\",Data_NaamPersoonVastVrij246)","v":""},null,null,{"$f":"IF(Data_BeeindigingsdatumVastVrij246=\"\",\"\",Data_BeeindigingsdatumVastVrij246)","v":""},null,null,{"$f":"IF(Data_LoonkostenVastVrij246=\"\",\"\",Data_LoonkostenVastVrij246)","v":""},null,{"$f":"IF(Data_PersoonAanUitVastVrij246=-1,\"v\",\"\")","v":""},null,"v",null,null,null,null,0,0,null,{"$f":"IF(Data_NaamPersoonVastOntslag246=\"\",\"\",Data_NaamPersoonVastOntslag246)","v":""},null,null,{"$f":"IF(Data_BeeindigingsdatumVastOntslag246=\"\",\"\",Data_BeeindigingsdatumVastOntslag246)","v":""},null,null,{"$f":"IF(Data_LoonkostenVastOntslag246=\"\",\"\",Data_LoonkostenVastOntslag246)","v":""},null,{"$f":"IF(Data_PersoonAanUitVastOntslag246=-1,\"v\",\"\")","v":""},null,"v",null,null,null,null,0,0]
[null,null,null,null,null,null,null,{"$f":"IF(Data_NaamPersoonNatVerloop247=\"\",\"\",Data_NaamPersoonNatVerloop247)","v":""},null,null,{"$f":"IF(Data_BeeindigingsdatumNatVerloop247=\"\",\"\",Data_BeeindigingsdatumNatVerloop247)","v":""},null,null,{"$f":"IF(Data_LoonkostenNatVerloop247=\"\",\"\",Data_LoonkostenNatVerloop247)","v":""},null,"v",null,"v",null,null,null,null,0,"",null,null,null,null,null,null,null,null,{"$f":"IF(Data_NaamPersoonTijd247=\"\",\"\",Data_NaamPersoonTijd247)","v":""},null,null,{"$f":"IF(Data_BeeindigingsdatumTijd247=\"\",\"\",Data_BeeindigingsdatumTijd247)","v":""},null,null,{"$f":"IF(Data_LoonkostenTijd247=\"\",\"\",Data_LoonkostenTijd247)","v":""},null,{"$f":"IF(Data_PersoonAanUitTijd247=-1,\"v\",\"\")","v":""},null,"v",null,null,null,null,0,0,null,null,null,{"$f":"IF(Data_NaamPersoonVastVrij247=\"\",\"\",Data_NaamPersoonVastVrij247)","v":""},null,null,{"$f":"IF(Data_BeeindigingsdatumVastVrij247=\"\",\"\",Data_BeeindigingsdatumVastVrij247)","v":""},null,null,{"$f":"IF(Data_LoonkostenVastVrij247=\"\",\"\",Data_LoonkostenVastVrij247)","v":""},null,{"$f":"IF(Data_PersoonAanUitVastVrij247=-1,\"v\",\"\")","v":""},null,"v",null,null,null,null,0,0,null,{"$f":"IF(Data_NaamPersoonVastOntslag247=\"\",\"\",Data_NaamPersoonVastOntslag247)","v":""},null,null,{"$f":"IF(Data_BeeindigingsdatumVastOntslag247=\"\",\"\",Data_BeeindigingsdatumVastOntslag247)","v":""},null,null,{"$f":"IF(Data_LoonkostenVastOntslag247=\"\",\"\",Data_LoonkostenVastOntslag247)","v":""},null,{"$f":"IF(Data_PersoonAanUitVastOntslag247=-1,\"v\",\"\")","v":""},null,"v",null,null,null,null,0,0]
[null,null,null,null,null,null,null,{"$f":"IF(Data_NaamPersoonNatVerloop248=\"\",\"\",Data_NaamPersoonNatVerloop248)","v":""},null,null,{"$f":"IF(Data_BeeindigingsdatumNatVerloop248=\"\",\"\",Data_BeeindigingsdatumNatVerloop248)","v":""},null,null,{"$f":"IF(Data_LoonkostenNatVerloop248=\"\",\"\",Data_LoonkostenNatVerloop248)","v":""},null,"v",null,"v",null,null,null,null,0,"",null,null,null,null,null,null,null,null,{"$f":"IF(Data_NaamPersoonTijd248=\"\",\"\",Data_NaamPersoonTijd248)","v":""},null,null,{"$f":"IF(Data_BeeindigingsdatumTijd248=\"\",\"\",Data_BeeindigingsdatumTijd248)","v":""},null,null,{"$f":"IF(Data_LoonkostenTijd248=\"\",\"\",Data_LoonkostenTijd248)","v":""},null,{"$f":"IF(Data_PersoonAanUitTijd248=-1,\"v\",\"\")","v":""},null,"v",null,null,null,null,0,0,null,null,null,{"$f":"IF(Data_NaamPersoonVastVrij248=\"\",\"\",Data_NaamPersoonVastVrij248)","v":""},null,null,{"$f":"IF(Data_BeeindigingsdatumVastVrij248=\"\",\"\",Data_BeeindigingsdatumVastVrij248)","v":""},null,null,{"$f":"IF(Data_LoonkostenVastVrij248=\"\",\"\",Data_LoonkostenVastVrij248)","v":""},null,{"$f":"IF(Data_PersoonAanUitVastVrij248=-1,\"v\",\"\")","v":""},null,"v",null,null,null,null,0,0,null,{"$f":"IF(Data_NaamPersoonVastOntslag248=\"\",\"\",Data_NaamPersoonVastOntslag248)","v":""},null,null,{"$f":"IF(Data_BeeindigingsdatumVastOntslag248=\"\",\"\",Data_BeeindigingsdatumVastOntslag248)","v":""},null,null,{"$f":"IF(Data_LoonkostenVastOntslag248=\"\",\"\",Data_LoonkostenVastOntslag248)","v":""},null,{"$f":"IF(Data_PersoonAanUitVastOntslag248=-1,\"v\",\"\")","v":""},null,"v",null,null,null,null,0,0]
[null,null,null,null,null,null,null,{"$f":"IF(Data_NaamPersoonNatVerloop249=\"\",\"\",Data_NaamPersoonNatVerloop249)","v":""},null,null,{"$f":"IF(Data_BeeindigingsdatumNatVerloop249=\"\",\"\",Data_BeeindigingsdatumNatVerloop249)","v":""},null,null,{"$f":"IF(Data_LoonkostenNatVerloop249=\"\",\"\",Data_LoonkostenNatVerloop249)","v":""},null,"v",null,"v",null,null,null,null,0,"",null,null,null,null,null,null,null,null,{"$f":"IF(Data_NaamPersoonTijd249=\"\",\"\",Data_NaamPersoonTijd249)","v":""},null,null,{"$f":"IF(Data_BeeindigingsdatumTijd249=\"\",\"\",Data_BeeindigingsdatumTijd249)","v":""},null,null,{"$f":"IF(Data_LoonkostenTijd249=\"\",\"\",Data_LoonkostenTijd249)","v":""},null,{"$f":"IF(Data_PersoonAanUitTijd249=-1,\"v\",\"\")","v":""},null,"v",null,null,null,null,0,0,null,null,null,{"$f":"IF(Data_NaamPersoonVastVrij249=\"\",\"\",Data_NaamPersoonVastVrij249)","v":""},null,null,{"$f":"IF(Data_BeeindigingsdatumVastVrij249=\"\",\"\",Data_BeeindigingsdatumVastVrij249)","v":""},null,null,{"$f":"IF(Data_LoonkostenVastVrij249=\"\",\"\",Data_LoonkostenVastVrij249)","v":""},null,{"$f":"IF(Data_PersoonAanUitVastVrij249=-1,\"v\",\"\")","v":""},null,"v",null,null,null,null,0,0,null,{"$f":"IF(Data_NaamPersoonVastOntslag249=\"\",\"\",Data_NaamPersoonVastOntslag249)","v":""},null,null,{"$f":"IF(Data_BeeindigingsdatumVastOntslag249=\"\",\"\",Data_BeeindigingsdatumVastOntslag249)","v":""},null,null,{"$f":"IF(Data_LoonkostenVastOntslag249=\"\",\"\",Data_LoonkostenVastOntslag249)","v":""},null,{"$f":"IF(Data_PersoonAanUitVastOntslag249=-1,\"v\",\"\")","v":""},null,"v",null,null,null,null,0,0]
[null,null,null,null,null,null,null,{"$f":"IF(Data_NaamPersoonNatVerloop250=\"\",\"\",Data_NaamPersoonNatVerloop250)","v":""},null,null,{"$f":"IF(Data_BeeindigingsdatumNatVerloop250=\"\",\"\",Data_BeeindigingsdatumNatVerloop250)","v":""},null,null,{"$f":"IF(Data_LoonkostenNatVerloop250=\"\",\"\",Data_LoonkostenNatVerloop250)","v":""},null,"v",null,"v",null,null,null,null,0,"",null,null,null,null,null,null,null,null,{"$f":"IF(Data_NaamPersoonTijd250=\"\",\"\",Data_NaamPersoonTijd250)","v":""},null,null,{"$f":"IF(Data_BeeindigingsdatumTijd250=\"\",\"\",Data_BeeindigingsdatumTijd250)","v":""},null,null,{"$f":"IF(Data_LoonkostenTijd250=\"\",\"\",Data_LoonkostenTijd250)","v":""},null,{"$f":"IF(Data_PersoonAanUitTijd250=-1,\"v\",\"\")","v":""},null,"v",null,null,null,null,0,0,null,null,null,{"$f":"IF(Data_NaamPersoonVastVrij250=\"\",\"\",Data_NaamPersoonVastVrij250)","v":""},null,null,{"$f":"IF(Data_BeeindigingsdatumVastVrij250=\"\",\"\",Data_BeeindigingsdatumVastVrij250)","v":""},null,null,{"$f":"IF(Data_LoonkostenVastVrij250=\"\",\"\",Data_LoonkostenVastVrij250)","v":""},null,{"$f":"IF(Data_PersoonAanUitVastVrij250=-1,\"v\",\"\")","v":""},null,"v",null,null,null,null,0,0,null,{"$f":"IF(Data_NaamPersoonVastOntslag250=\"\",\"\",Data_NaamPersoonVastOntslag250)","v":""},null,null,{"$f":"IF(Data_BeeindigingsdatumVastOntslag250=\"\",\"\",Data_BeeindigingsdatumVastOntslag250)","v":""},null,null,{"$f":"IF(Data_LoonkostenVastOntslag250=\"\",\"\",Data_LoonkostenVastOntslag250)","v":""},null,{"$f":"IF(Data_PersoonAanUitVastOntslag250=-1,\"v\",\"\")","v":""},null,"v",null,null,null,null,0,0]
[null,null,null,null,null,null,null,{"$f":"IF(Data_NaamPersoonNatVerloop251=\"\",\"\",Data_NaamPersoonNatVerloop251)","v":""},null,null,{"$f":"IF(Data_BeeindigingsdatumNatVerloop251=\"\",\"\",Data_BeeindigingsdatumNatVerloop251)","v":""},null,null,{"$f":"IF(Data_LoonkostenNatVerloop251=\"\",\"\",Data_LoonkostenNatVerloop251)","v":""},null,"v",null,"v",null,null,null,null,0,"",null,null,null,null,null,null,null,null,{"$f":"IF(Data_NaamPersoonTijd251=\"\",\"\",Data_NaamPersoonTijd251)","v":""},null,null,{"$f":"IF(Data_BeeindigingsdatumTijd251=\"\",\"\",Data_BeeindigingsdatumTijd251)","v":""},null,null,{"$f":"IF(Data_LoonkostenTijd251=\"\",\"\",Data_LoonkostenTijd251)","v":""},null,{"$f":"IF(Data_PersoonAanUitTijd251=-1,\"v\",\"\")","v":""},null,"v",null,null,null,null,0,0,null,null,null,{"$f":"IF(Data_NaamPersoonVastVrij251=\"\",\"\",Data_NaamPersoonVastVrij251)","v":""},null,null,{"$f":"IF(Data_BeeindigingsdatumVastVrij251=\"\",\"\",Data_BeeindigingsdatumVastVrij251)","v":""},null,null,{"$f":"IF(Data_LoonkostenVastVrij251=\"\",\"\",Data_LoonkostenVastVrij251)","v":""},null,{"$f":"IF(Data_PersoonAanUitVastVrij251=-1,\"v\",\"\")","v":""},null,"v",null,null,null,null,0,0,null,{"$f":"IF(Data_NaamPersoonVastOntslag251=\"\",\"\",Data_NaamPersoonVastOntslag251)","v":""},null,null,{"$f":"IF(Data_BeeindigingsdatumVastOntslag251=\"\",\"\",Data_BeeindigingsdatumVastOntslag251)","v":""},null,null,{"$f":"IF(Data_LoonkostenVastOntslag251=\"\",\"\",Data_LoonkostenVastOntslag251)","v":""},null,{"$f":"IF(Data_PersoonAanUitVastOntslag251=-1,\"v\",\"\")","v":""},null,"v",null,null,null,null,0,0]
[null,null,null,null,null,null,null,{"$f":"IF(Data_NaamPersoonNatVerloop252=\"\",\"\",Data_NaamPersoonNatVerloop252)","v":""},null,null,{"$f":"IF(Data_BeeindigingsdatumNatVerloop252=\"\",\"\",Data_BeeindigingsdatumNatVerloop252)","v":""},null,null,{"$f":"IF(Data_LoonkostenNatVerloop252=\"\",\"\",Data_LoonkostenNatVerloop252)","v":""},null,"v",null,"v",null,null,null,null,0,"",null,null,null,null,null,null,null,null,{"$f":"IF(Data_NaamPersoonTijd252=\"\",\"\",Data_NaamPersoonTijd252)","v":""},null,null,{"$f":"IF(Data_BeeindigingsdatumTijd252=\"\",\"\",Data_BeeindigingsdatumTijd252)","v":""},null,null,{"$f":"IF(Data_LoonkostenTijd252=\"\",\"\",Data_LoonkostenTijd252)","v":""},null,{"$f":"IF(Data_PersoonAanUitTijd252=-1,\"v\",\"\")","v":""},null,"v",null,null,null,null,0,0,null,null,null,{"$f":"IF(Data_NaamPersoonVastVrij252=\"\",\"\",Data_NaamPersoonVastVrij252)","v":""},null,null,{"$f":"IF(Data_BeeindigingsdatumVastVrij252=\"\",\"\",Data_BeeindigingsdatumVastVrij252)","v":""},null,null,{"$f":"IF(Data_LoonkostenVastVrij252=\"\",\"\",Data_LoonkostenVastVrij252)","v":""},null,{"$f":"IF(Data_PersoonAanUitVastVrij252=-1,\"v\",\"\")","v":""},null,"v",null,null,null,null,0,0,null,{"$f":"IF(Data_NaamPersoonVastOntslag252=\"\",\"\",Data_NaamPersoonVastOntslag252)","v":""},null,null,{"$f":"IF(Data_BeeindigingsdatumVastOntslag252=\"\",\"\",Data_BeeindigingsdatumVastOntslag252)","v":""},null,null,{"$f":"IF(Data_LoonkostenVastOntslag252=\"\",\"\",Data_LoonkostenVastOntslag252)","v":""},null,{"$f":"IF(Data_PersoonAanUitVastOntslag252=-1,\"v\",\"\")","v":""},null,"v",null,null,null,null,0,0]
[null,null,null,null,null,null,null,{"$f":"IF(Data_NaamPersoonNatVerloop253=\"\",\"\",Data_NaamPersoonNatVerloop253)","v":""},null,null,{"$f":"IF(Data_BeeindigingsdatumNatVerloop253=\"\",\"\",Data_BeeindigingsdatumNatVerloop253)","v":""},null,null,{"$f":"IF(Data_LoonkostenNatVerloop253=\"\",\"\",Data_LoonkostenNatVerloop253)","v":""},null,"v",null,"v",null,null,null,null,0,"",null,null,null,null,null,null,null,null,{"$f":"IF(Data_NaamPersoonTijd253=\"\",\"\",Data_NaamPersoonTijd253)","v":""},null,null,{"$f":"IF(Data_BeeindigingsdatumTijd253=\"\",\"\",Data_BeeindigingsdatumTijd253)","v":""},null,null,{"$f":"IF(Data_LoonkostenTijd253=\"\",\"\",Data_LoonkostenTijd253)","v":""},null,{"$f":"IF(Data_PersoonAanUitTijd253=-1,\"v\",\"\")","v":""},null,"v",null,null,null,null,0,0,null,null,null,{"$f":"IF(Data_NaamPersoonVastVrij253=\"\",\"\",Data_NaamPersoonVastVrij253)","v":""},null,null,{"$f":"IF(Data_BeeindigingsdatumVastVrij253=\"\",\"\",Data_BeeindigingsdatumVastVrij253)","v":""},null,null,{"$f":"IF(Data_LoonkostenVastVrij253=\"\",\"\",Data_LoonkostenVastVrij253)","v":""},null,{"$f":"IF(Data_PersoonAanUitVastVrij253=-1,\"v\",\"\")","v":""},null,"v",null,null,null,null,0,0,null,{"$f":"IF(Data_NaamPersoonVastOntslag253=\"\",\"\",Data_NaamPersoonVastOntslag253)","v":""},null,null,{"$f":"IF(Data_BeeindigingsdatumVastOntslag253=\"\",\"\",Data_BeeindigingsdatumVastOntslag253)","v":""},null,null,{"$f":"IF(Data_LoonkostenVastOntslag253=\"\",\"\",Data_LoonkostenVastOntslag253)","v":""},null,{"$f":"IF(Data_PersoonAanUitVastOntslag253=-1,\"v\",\"\")","v":""},null,"v",null,null,null,null,0,0]
[null,null,null,null,null,null,null,{"$f":"IF(Data_NaamPersoonNatVerloop254=\"\",\"\",Data_NaamPersoonNatVerloop254)","v":""},null,null,{"$f":"IF(Data_BeeindigingsdatumNatVerloop254=\"\",\"\",Data_BeeindigingsdatumNatVerloop254)","v":""},null,null,{"$f":"IF(Data_LoonkostenNatVerloop254=\"\",\"\",Data_LoonkostenNatVerloop254)","v":""},null,"v",null,"v",null,null,null,null,0,"",null,null,null,null,null,null,null,null,{"$f":"IF(Data_NaamPersoonTijd254=\"\",\"\",Data_NaamPersoonTijd254)","v":""},null,null,{"$f":"IF(Data_BeeindigingsdatumTijd254=\"\",\"\",Data_BeeindigingsdatumTijd254)","v":""},null,null,{"$f":"IF(Data_LoonkostenTijd254=\"\",\"\",Data_LoonkostenTijd254)","v":""},null,{"$f":"IF(Data_PersoonAanUitTijd254=-1,\"v\",\"\")","v":""},null,"v",null,null,null,null,0,0,null,null,null,{"$f":"IF(Data_NaamPersoonVastVrij254=\"\",\"\",Data_NaamPersoonVastVrij254)","v":""},null,null,{"$f":"IF(Data_BeeindigingsdatumVastVrij254=\"\",\"\",Data_BeeindigingsdatumVastVrij254)","v":""},null,null,{"$f":"IF(Data_LoonkostenVastVrij254=\"\",\"\",Data_LoonkostenVastVrij254)","v":""},null,{"$f":"IF(Data_PersoonAanUitVastVrij254=-1,\"v\",\"\")","v":""},null,"v",null,null,null,null,0,0,null,{"$f":"IF(Data_NaamPersoonVastOntslag254=\"\",\"\",Data_NaamPersoonVastOntslag254)","v":""},null,null,{"$f":"IF(Data_BeeindigingsdatumVastOntslag254=\"\",\"\",Data_BeeindigingsdatumVastOntslag254)","v":""},null,null,{"$f":"IF(Data_LoonkostenVastOntslag254=\"\",\"\",Data_LoonkostenVastOntslag254)","v":""},null,{"$f":"IF(Data_PersoonAanUitVastOntslag254=-1,\"v\",\"\")","v":""},null,"v",null,null,null,null,0,0]
[null,null,null,null,null,null,null,{"$f":"IF(Data_NaamPersoonNatVerloop255=\"\",\"\",Data_NaamPersoonNatVerloop255)","v":""},null,null,{"$f":"IF(Data_BeeindigingsdatumNatVerloop255=\"\",\"\",Data_BeeindigingsdatumNatVerloop255)","v":""},null,null,{"$f":"IF(Data_LoonkostenNatVerloop255=\"\",\"\",Data_LoonkostenNatVerloop255)","v":""},null,"v",null,"v",null,null,null,null,0,"",null,null,null,null,null,null,null,null,{"$f":"IF(Data_NaamPersoonTijd255=\"\",\"\",Data_NaamPersoonTijd255)","v":""},null,null,{"$f":"IF(Data_BeeindigingsdatumTijd255=\"\",\"\",Data_BeeindigingsdatumTijd255)","v":""},null,null,{"$f":"IF(Data_LoonkostenTijd255=\"\",\"\",Data_LoonkostenTijd255)","v":""},null,{"$f":"IF(Data_PersoonAanUitTijd255=-1,\"v\",\"\")","v":""},null,"v",null,null,null,null,0,0,null,null,null,{"$f":"IF(Data_NaamPersoonVastVrij255=\"\",\"\",Data_NaamPersoonVastVrij255)","v":""},null,null,{"$f":"IF(Data_BeeindigingsdatumVastVrij255=\"\",\"\",Data_BeeindigingsdatumVastVrij255)","v":""},null,null,{"$f":"IF(Data_LoonkostenVastVrij255=\"\",\"\",Data_LoonkostenVastVrij255)","v":""},null,{"$f":"IF(Data_PersoonAanUitVastVrij255=-1,\"v\",\"\")","v":""},null,"v",null,null,null,null,0,0,null,{"$f":"IF(Data_NaamPersoonVastOntslag255=\"\",\"\",Data_NaamPersoonVastOntslag255)","v":""},null,null,{"$f":"IF(Data_BeeindigingsdatumVastOntslag255=\"\",\"\",Data_BeeindigingsdatumVastOntslag255)","v":""},null,null,{"$f":"IF(Data_LoonkostenVastOntslag255=\"\",\"\",Data_LoonkostenVastOntslag255)","v":""},null,{"$f":"IF(Data_PersoonAanUitVastOntslag255=-1,\"v\",\"\")","v":""},null,"v",null,null,null,null,0,0]
[null,null,null,null,null,null,null,{"$f":"IF(Data_NaamPersoonNatVerloop256=\"\",\"\",Data_NaamPersoonNatVerloop256)","v":""},null,null,{"$f":"IF(Data_BeeindigingsdatumNatVerloop256=\"\",\"\",Data_BeeindigingsdatumNatVerloop256)","v":""},null,null,{"$f":"IF(Data_LoonkostenNatVerloop256=\"\",\"\",Data_LoonkostenNatVerloop256)","v":""},null,"v",null,"v",null,null,null,null,0,"",null,null,null,null,null,null,null,null,{"$f":"IF(Data_NaamPersoonTijd256=\"\",\"\",Data_NaamPersoonTijd256)","v":""},null,null,{"$f":"IF(Data_BeeindigingsdatumTijd256=\"\",\"\",Data_BeeindigingsdatumTijd256)","v":""},null,null,{"$f":"IF(Data_LoonkostenTijd256=\"\",\"\",Data_LoonkostenTijd256)","v":""},null,{"$f":"IF(Data_PersoonAanUitTijd256=-1,\"v\",\"\")","v":""},null,"v",null,null,null,null,0,0,null,null,null,{"$f":"IF(Data_NaamPersoonVastVrij256=\"\",\"\",Data_NaamPersoonVastVrij256)","v":""},null,null,{"$f":"IF(Data_BeeindigingsdatumVastVrij256=\"\",\"\",Data_BeeindigingsdatumVastVrij256)","v":""},null,null,{"$f":"IF(Data_LoonkostenVastVrij256=\"\",\"\",Data_LoonkostenVastVrij256)","v":""},null,{"$f":"IF(Data_PersoonAanUitVastVrij256=-1,\"v\",\"\")","v":""},null,"v",null,null,null,null,0,0,null,{"$f":"IF(Data_NaamPersoonVastOntslag256=\"\",\"\",Data_NaamPersoonVastOntslag256)","v":""},null,null,{"$f":"IF(Data_BeeindigingsdatumVastOntslag256=\"\",\"\",Data_BeeindigingsdatumVastOntslag256)","v":""},null,null,{"$f":"IF(Data_LoonkostenVastOntslag256=\"\",\"\",Data_LoonkostenVastOntslag256)","v":""},null,{"$f":"IF(Data_PersoonAanUitVastOntslag256=-1,\"v\",\"\")","v":""},null,"v",null,null,null,null,0,0]
[null,null,null,null,null,null,null,{"$f":"IF(Data_NaamPersoonNatVerloop257=\"\",\"\",Data_NaamPersoonNatVerloop257)","v":""},null,null,{"$f":"IF(Data_BeeindigingsdatumNatVerloop257=\"\",\"\",Data_BeeindigingsdatumNatVerloop257)","v":""},null,null,{"$f":"IF(Data_LoonkostenNatVerloop257=\"\",\"\",Data_LoonkostenNatVerloop257)","v":""},null,"v",null,"v",null,null,null,null,{"$f":"IF($AO280=\"v\",M280,T280)","v":0},"",null,null,null,null,null,null,null,null,{"$f":"IF(Data_NaamPersoonTijd257=\"\",\"\",Data_NaamPersoonTijd257)","v":""},null,null,{"$f":"IF(Data_BeeindigingsdatumTijd257=\"\",\"\",Data_BeeindigingsdatumTijd257)","v":""},null,null,{"$f":"IF(Data_LoonkostenTijd257=\"\",\"\",Data_LoonkostenTijd257)","v":""},null,{"$f":"IF(Data_PersoonAanUitTijd257=-1,\"v\",\"\")","v":""},null,"v",null,null,null,null,{"$f":"IF($AO280=\"v\",AL280,AS280)","v":0},{"$f":"IF(AND($AO280=\"v\",$AQ280=\"v\"),AM280,IF(AND($AO280=\"v\",$AQ280<>\"v\"),AT280,0))","v":0},null,null,null,{"$f":"IF(Data_NaamPersoonVastVrij257=\"\",\"\",Data_NaamPersoonVastVrij257)","v":""},null,null,{"$f":"IF(Data_BeeindigingsdatumVastVrij257=\"\",\"\",Data_BeeindigingsdatumVastVrij257)","v":""},null,null,{"$f":"IF(Data_LoonkostenVastVrij257=\"\",\"\",Data_LoonkostenVastVrij257)","v":""},null,{"$f":"IF(Data_PersoonAanUitVastVrij257=-1,\"v\",\"\")","v":""},null,"v",null,null,null,null,{"$f":"IF($BI280=\"v\",BF280,BM280)","v":0},{"$f":"IF(AND($BI280=\"v\",$BK280=\"v\"),BG280,IF(AND($BI280=\"v\",$BK280<>\"v\"),BN280,0))","v":0},null,{"$f":"IF(Data_NaamPersoonVastOntslag257=\"\",\"\",Data_NaamPersoonVastOntslag257)","v":""},null,null,{"$f":"IF(Data_BeeindigingsdatumVastOntslag257=\"\",\"\",Data_BeeindigingsdatumVastOntslag257)","v":""},null,null,{"$f":"IF(Data_LoonkostenVastOntslag257=\"\",\"\",Data_LoonkostenVastOntslag257)","v":""},null,{"$f":"IF(Data_PersoonAanUitVastOntslag257=-1,\"v\",\"\")","v":""},null,"v",null,null,null,null,0,{"$f":"IF(AND($CA280=\"v\",$CC280=\"v\"),BY280,IF(AND($CA280=\"v\",$CC280<>\"v\"),CF279,0))","v":0}]
[null,null,null,null,null,null,null,{"$f":"IF(Data_NaamPersoonNatVerloop258=\"\",\"\",Data_NaamPersoonNatVerloop258)","v":""},null,null,{"$f":"IF(Data_BeeindigingsdatumNatVerloop258=\"\",\"\",Data_BeeindigingsdatumNatVerloop258)","v":""},null,null,{"$f":"IF(Data_LoonkostenNatVerloop258=\"\",\"\",Data_LoonkostenNatVerloop258)","v":""},null,"v",null,"v",null,null,null,null,0,{"$f":"IF(AND($P281=\"v\",$R281=\"v\"),N281,IF(AND($P281=\"v\",$R281<>\"v\"),U281,0))","v":""},null,null,null,null,null,null,null,null,{"$f":"IF(Data_NaamPersoonTijd258=\"\",\"\",Data_NaamPersoonTijd258)","v":""},null,null,{"$f":"IF(Data_BeeindigingsdatumTijd258=\"\",\"\",Data_BeeindigingsdatumTijd258)","v":""},null,null,{"$f":"IF(Data_LoonkostenTijd258=\"\",\"\",Data_LoonkostenTijd258)","v":""},null,{"$f":"IF(Data_PersoonAanUitTijd258=-1,\"v\",\"\")","v":""},null,"v",null,null,null,null,0,0,null,null,null,{"$f":"IF(Data_NaamPersoonVastVrij258=\"\",\"\",Data_NaamPersoonVastVrij258)","v":""},null,null,{"$f":"IF(Data_BeeindigingsdatumVastVrij258=\"\",\"\",Data_BeeindigingsdatumVastVrij258)","v":""},null,null,{"$f":"IF(Data_LoonkostenVastVrij258=\"\",\"\",Data_LoonkostenVastVrij258)","v":""},null,{"$f":"IF(Data_PersoonAanUitVastVrij258=-1,\"v\",\"\")","v":""},null,"v",null,null,null,null,0,0,null,{"$f":"IF(Data_NaamPersoonVastOntslag258=\"\",\"\",Data_NaamPersoonVastOntslag258)","v":""},null,null,{"$f":"IF(Data_BeeindigingsdatumVastOntslag258=\"\",\"\",Data_BeeindigingsdatumVastOntslag258)","v":""},null,null,{"$f":"IF(Data_LoonkostenVastOntslag258=\"\",\"\",Data_LoonkostenVastOntslag258)","v":""},null,{"$f":"IF(Data_PersoonAanUitVastOntslag258=-1,\"v\",\"\")","v":""},null,"v",null,null,null,null,{"$f":"IF($CA281=\"v\",BX281,CE281)","v":0},0]
[null,null,null,null,null,null,null,{"$f":"IF(Data_NaamPersoonNatVerloop259=\"\",\"\",Data_NaamPersoonNatVerloop259)","v":""},null,null,{"$f":"IF(Data_BeeindigingsdatumNatVerloop259=\"\",\"\",Data_BeeindigingsdatumNatVerloop259)","v":""},null,null,{"$f":"IF(Data_LoonkostenNatVerloop259=\"\",\"\",Data_LoonkostenNatVerloop259)","v":""},null,"v",null,"v",null,null,null,null,0,"",null,null,null,null,null,null,null,null,{"$f":"IF(Data_NaamPersoonTijd259=\"\",\"\",Data_NaamPersoonTijd259)","v":""},null,null,{"$f":"IF(Data_BeeindigingsdatumTijd259=\"\",\"\",Data_BeeindigingsdatumTijd259)","v":""},null,null,{"$f":"IF(Data_LoonkostenTijd259=\"\",\"\",Data_LoonkostenTijd259)","v":""},null,{"$f":"IF(Data_PersoonAanUitTijd259=-1,\"v\",\"\")","v":""},null,"v",null,null,null,null,0,0,null,null,null,{"$f":"IF(Data_NaamPersoonVastVrij259=\"\",\"\",Data_NaamPersoonVastVrij259)","v":""},null,null,{"$f":"IF(Data_BeeindigingsdatumVastVrij259=\"\",\"\",Data_BeeindigingsdatumVastVrij259)","v":""},null,null,{"$f":"IF(Data_LoonkostenVastVrij259=\"\",\"\",Data_LoonkostenVastVrij259)","v":""},null,{"$f":"IF(Data_PersoonAanUitVastVrij259=-1,\"v\",\"\")","v":""},null,"v",null,null,null,null,0,0,null,{"$f":"IF(Data_NaamPersoonVastOntslag259=\"\",\"\",Data_NaamPersoonVastOntslag259)","v":""},null,null,{"$f":"IF(Data_BeeindigingsdatumVastOntslag259=\"\",\"\",Data_BeeindigingsdatumVastOntslag259)","v":""},null,null,{"$f":"IF(Data_LoonkostenVastOntslag259=\"\",\"\",Data_LoonkostenVastOntslag259)","v":""},null,{"$f":"IF(Data_PersoonAanUitVastOntslag259=-1,\"v\",\"\")","v":""},null,"v",null,null,null,null,0,0]
[null,null,null,null,null,null,null,{"$f":"IF(Data_NaamPersoonNatVerloop260=\"\",\"\",Data_NaamPersoonNatVerloop260)","v":""},null,null,{"$f":"IF(Data_BeeindigingsdatumNatVerloop260=\"\",\"\",Data_BeeindigingsdatumNatVerloop260)","v":""},null,null,{"$f":"IF(Data_LoonkostenNatVerloop260=\"\",\"\",Data_LoonkostenNatVerloop260)","v":""},null,"v",null,"v",null,null,null,null,0,"",null,null,null,null,null,null,null,null,{"$f":"IF(Data_NaamPersoonTijd260=\"\",\"\",Data_NaamPersoonTijd260)","v":""},null,null,{"$f":"IF(Data_BeeindigingsdatumTijd260=\"\",\"\",Data_BeeindigingsdatumTijd260)","v":""},null,null,{"$f":"IF(Data_LoonkostenTijd260=\"\",\"\",Data_LoonkostenTijd260)","v":""},null,{"$f":"IF(Data_PersoonAanUitTijd260=-1,\"v\",\"\")","v":""},null,"v",null,null,null,null,0,0,null,null,null,{"$f":"IF(Data_NaamPersoonVastVrij260=\"\",\"\",Data_NaamPersoonVastVrij260)","v":""},null,null,{"$f":"IF(Data_BeeindigingsdatumVastVrij260=\"\",\"\",Data_BeeindigingsdatumVastVrij260)","v":""},null,null,{"$f":"IF(Data_LoonkostenVastVrij260=\"\",\"\",Data_LoonkostenVastVrij260)","v":""},null,{"$f":"IF(Data_PersoonAanUitVastVrij260=-1,\"v\",\"\")","v":""},null,"v",null,null,null,null,0,0,null,{"$f":"IF(Data_NaamPersoonVastOntslag260=\"\",\"\",Data_NaamPersoonVastOntslag260)","v":""},null,null,{"$f":"IF(Data_BeeindigingsdatumVastOntslag260=\"\",\"\",Data_BeeindigingsdatumVastOntslag260)","v":""},null,null,{"$f":"IF(Data_LoonkostenVastOntslag260=\"\",\"\",Data_LoonkostenVastOntslag260)","v":""},null,{"$f":"IF(Data_PersoonAanUitVastOntslag260=-1,\"v\",\"\")","v":""},null,"v",null,null,null,null,0,0]
[null,null,null,null,null,null,null,{"$f":"IF(Data_NaamPersoonNatVerloop261=\"\",\"\",Data_NaamPersoonNatVerloop261)","v":""},null,null,{"$f":"IF(Data_BeeindigingsdatumNatVerloop261=\"\",\"\",Data_BeeindigingsdatumNatVerloop261)","v":""},null,null,{"$f":"IF(Data_LoonkostenNatVerloop261=\"\",\"\",Data_LoonkostenNatVerloop261)","v":""},null,"v",null,"v",null,null,null,null,0,"",null,null,null,null,null,null,null,null,{"$f":"IF(Data_NaamPersoonTijd261=\"\",\"\",Data_NaamPersoonTijd261)","v":""},null,null,{"$f":"IF(Data_BeeindigingsdatumTijd261=\"\",\"\",Data_BeeindigingsdatumTijd261)","v":""},null,null,{"$f":"IF(Data_LoonkostenTijd261=\"\",\"\",Data_LoonkostenTijd261)","v":""},null,{"$f":"IF(Data_PersoonAanUitTijd261=-1,\"v\",\"\")","v":""},null,"v",null,null,null,null,0,0,null,null,null,{"$f":"IF(Data_NaamPersoonVastVrij261=\"\",\"\",Data_NaamPersoonVastVrij261)","v":""},null,null,{"$f":"IF(Data_BeeindigingsdatumVastVrij261=\"\",\"\",Data_BeeindigingsdatumVastVrij261)","v":""},null,null,{"$f":"IF(Data_LoonkostenVastVrij261=\"\",\"\",Data_LoonkostenVastVrij261)","v":""},null,{"$f":"IF(Data_PersoonAanUitVastVrij261=-1,\"v\",\"\")","v":""},null,"v",null,null,null,null,0,0,null,{"$f":"IF(Data_NaamPersoonVastOntslag261=\"\",\"\",Data_NaamPersoonVastOntslag261)","v":""},null,null,{"$f":"IF(Data_BeeindigingsdatumVastOntslag261=\"\",\"\",Data_BeeindigingsdatumVastOntslag261)","v":""},null,null,{"$f":"IF(Data_LoonkostenVastOntslag261=\"\",\"\",Data_LoonkostenVastOntslag261)","v":""},null,{"$f":"IF(Data_PersoonAanUitVastOntslag261=-1,\"v\",\"\")","v":""},null,"v",null,null,null,null,0,0]
[null,null,null,null,null,null,null,{"$f":"IF(Data_NaamPersoonNatVerloop262=\"\",\"\",Data_NaamPersoonNatVerloop262)","v":""},null,null,{"$f":"IF(Data_BeeindigingsdatumNatVerloop262=\"\",\"\",Data_BeeindigingsdatumNatVerloop262)","v":""},null,null,{"$f":"IF(Data_LoonkostenNatVerloop262=\"\",\"\",Data_LoonkostenNatVerloop262)","v":""},null,"v",null,"v",null,null,null,null,0,"",null,null,null,null,null,null,null,null,{"$f":"IF(Data_NaamPersoonTijd262=\"\",\"\",Data_NaamPersoonTijd262)","v":""},null,null,{"$f":"IF(Data_BeeindigingsdatumTijd262=\"\",\"\",Data_BeeindigingsdatumTijd262)","v":""},null,null,{"$f":"IF(Data_LoonkostenTijd262=\"\",\"\",Data_LoonkostenTijd262)","v":""},null,{"$f":"IF(Data_PersoonAanUitTijd262=-1,\"v\",\"\")","v":""},null,"v",null,null,null,null,0,0,null,null,null,{"$f":"IF(Data_NaamPersoonVastVrij262=\"\",\"\",Data_NaamPersoonVastVrij262)","v":""},null,null,{"$f":"IF(Data_BeeindigingsdatumVastVrij262=\"\",\"\",Data_BeeindigingsdatumVastVrij262)","v":""},null,null,{"$f":"IF(Data_LoonkostenVastVrij262=\"\",\"\",Data_LoonkostenVastVrij262)","v":""},null,{"$f":"IF(Data_PersoonAanUitVastVrij262=-1,\"v\",\"\")","v":""},null,"v",null,null,null,null,0,0,null,{"$f":"IF(Data_NaamPersoonVastOntslag262=\"\",\"\",Data_NaamPersoonVastOntslag262)","v":""},null,null,{"$f":"IF(Data_BeeindigingsdatumVastOntslag262=\"\",\"\",Data_BeeindigingsdatumVastOntslag262)","v":""},null,null,{"$f":"IF(Data_LoonkostenVastOntslag262=\"\",\"\",Data_LoonkostenVastOntslag262)","v":""},null,{"$f":"IF(Data_PersoonAanUitVastOntslag262=-1,\"v\",\"\")","v":""},null,"v",null,null,null,null,0,0]
[null,null,null,null,null,null,null,{"$f":"IF(Data_NaamPersoonNatVerloop263=\"\",\"\",Data_NaamPersoonNatVerloop263)","v":""},null,null,{"$f":"IF(Data_BeeindigingsdatumNatVerloop263=\"\",\"\",Data_BeeindigingsdatumNatVerloop263)","v":""},null,null,{"$f":"IF(Data_LoonkostenNatVerloop263=\"\",\"\",Data_LoonkostenNatVerloop263)","v":""},null,"v",null,"v",null,null,null,null,0,"",null,null,null,null,null,null,null,null,{"$f":"IF(Data_NaamPersoonTijd263=\"\",\"\",Data_NaamPersoonTijd263)","v":""},null,null,{"$f":"IF(Data_BeeindigingsdatumTijd263=\"\",\"\",Data_BeeindigingsdatumTijd263)","v":""},null,null,{"$f":"IF(Data_LoonkostenTijd263=\"\",\"\",Data_LoonkostenTijd263)","v":""},null,{"$f":"IF(Data_PersoonAanUitTijd263=-1,\"v\",\"\")","v":""},null,"v",null,null,null,null,0,0,null,null,null,{"$f":"IF(Data_NaamPersoonVastVrij263=\"\",\"\",Data_NaamPersoonVastVrij263)","v":""},null,null,{"$f":"IF(Data_BeeindigingsdatumVastVrij263=\"\",\"\",Data_BeeindigingsdatumVastVrij263)","v":""},null,null,{"$f":"IF(Data_LoonkostenVastVrij263=\"\",\"\",Data_LoonkostenVastVrij263)","v":""},null,{"$f":"IF(Data_PersoonAanUitVastVrij263=-1,\"v\",\"\")","v":""},null,"v",null,null,null,null,0,0,null,{"$f":"IF(Data_NaamPersoonVastOntslag263=\"\",\"\",Data_NaamPersoonVastOntslag263)","v":""},null,null,{"$f":"IF(Data_BeeindigingsdatumVastOntslag263=\"\",\"\",Data_BeeindigingsdatumVastOntslag263)","v":""},null,null,{"$f":"IF(Data_LoonkostenVastOntslag263=\"\",\"\",Data_LoonkostenVastOntslag263)","v":""},null,{"$f":"IF(Data_PersoonAanUitVastOntslag263=-1,\"v\",\"\")","v":""},null,"v",null,null,null,null,0,0]
[null,null,null,null,null,null,null,{"$f":"IF(Data_NaamPersoonNatVerloop264=\"\",\"\",Data_NaamPersoonNatVerloop264)","v":""},null,null,{"$f":"IF(Data_BeeindigingsdatumNatVerloop264=\"\",\"\",Data_BeeindigingsdatumNatVerloop264)","v":""},null,null,{"$f":"IF(Data_LoonkostenNatVerloop264=\"\",\"\",Data_LoonkostenNatVerloop264)","v":""},null,"v",null,"v",null,null,null,null,0,"",null,null,null,null,null,null,null,null,{"$f":"IF(Data_NaamPersoonTijd264=\"\",\"\",Data_NaamPersoonTijd264)","v":""},null,null,{"$f":"IF(Data_BeeindigingsdatumTijd264=\"\",\"\",Data_BeeindigingsdatumTijd264)","v":""},null,null,{"$f":"IF(Data_LoonkostenTijd264=\"\",\"\",Data_LoonkostenTijd264)","v":""},null,{"$f":"IF(Data_PersoonAanUitTijd264=-1,\"v\",\"\")","v":""},null,"v",null,null,null,null,0,0,null,null,null,{"$f":"IF(Data_NaamPersoonVastVrij264=\"\",\"\",Data_NaamPersoonVastVrij264)","v":""},null,null,{"$f":"IF(Data_BeeindigingsdatumVastVrij264=\"\",\"\",Data_BeeindigingsdatumVastVrij264)","v":""},null,null,{"$f":"IF(Data_LoonkostenVastVrij264=\"\",\"\",Data_LoonkostenVastVrij264)","v":""},null,{"$f":"IF(Data_PersoonAanUitVastVrij264=-1,\"v\",\"\")","v":""},null,"v",null,null,null,null,0,0,null,{"$f":"IF(Data_NaamPersoonVastOntslag264=\"\",\"\",Data_NaamPersoonVastOntslag264)","v":""},null,null,{"$f":"IF(Data_BeeindigingsdatumVastOntslag264=\"\",\"\",Data_BeeindigingsdatumVastOntslag264)","v":""},null,null,{"$f":"IF(Data_LoonkostenVastOntslag264=\"\",\"\",Data_LoonkostenVastOntslag264)","v":""},null,{"$f":"IF(Data_PersoonAanUitVastOntslag264=-1,\"v\",\"\")","v":""},null,"v",null,null,null,null,0,0]
[null,null,null,null,null,null,null,{"$f":"IF(Data_NaamPersoonNatVerloop265=\"\",\"\",Data_NaamPersoonNatVerloop265)","v":""},null,null,{"$f":"IF(Data_BeeindigingsdatumNatVerloop265=\"\",\"\",Data_BeeindigingsdatumNatVerloop265)","v":""},null,null,{"$f":"IF(Data_LoonkostenNatVerloop265=\"\",\"\",Data_LoonkostenNatVerloop265)","v":""},null,"v",null,"v",null,null,null,null,0,"",null,null,null,null,null,null,null,null,{"$f":"IF(Data_NaamPersoonTijd265=\"\",\"\",Data_NaamPersoonTijd265)","v":""},null,null,{"$f":"IF(Data_BeeindigingsdatumTijd265=\"\",\"\",Data_BeeindigingsdatumTijd265)","v":""},null,null,{"$f":"IF(Data_LoonkostenTijd265=\"\",\"\",Data_LoonkostenTijd265)","v":""},null,{"$f":"IF(Data_PersoonAanUitTijd265=-1,\"v\",\"\")","v":""},null,"v",null,null,null,null,0,0,null,null,null,{"$f":"IF(Data_NaamPersoonVastVrij265=\"\",\"\",Data_NaamPersoonVastVrij265)","v":""},null,null,{"$f":"IF(Data_BeeindigingsdatumVastVrij265=\"\",\"\",Data_BeeindigingsdatumVastVrij265)","v":""},null,null,{"$f":"IF(Data_LoonkostenVastVrij265=\"\",\"\",Data_LoonkostenVastVrij265)","v":""},null,{"$f":"IF(Data_PersoonAanUitVastVrij265=-1,\"v\",\"\")","v":""},null,"v",null,null,null,null,0,0,null,{"$f":"IF(Data_NaamPersoonVastOntslag265=\"\",\"\",Data_NaamPersoonVastOntslag265)","v":""},null,null,{"$f":"IF(Data_BeeindigingsdatumVastOntslag265=\"\",\"\",Data_BeeindigingsdatumVastOntslag265)","v":""},null,null,{"$f":"IF(Data_LoonkostenVastOntslag265=\"\",\"\",Data_LoonkostenVastOntslag265)","v":""},null,{"$f":"IF(Data_PersoonAanUitVastOntslag265=-1,\"v\",\"\")","v":""},null,"v",null,null,null,null,0,0]
[null,null,null,null,null,null,null,{"$f":"IF(Data_NaamPersoonNatVerloop266=\"\",\"\",Data_NaamPersoonNatVerloop266)","v":""},null,null,{"$f":"IF(Data_BeeindigingsdatumNatVerloop266=\"\",\"\",Data_BeeindigingsdatumNatVerloop266)","v":""},null,null,{"$f":"IF(Data_LoonkostenNatVerloop266=\"\",\"\",Data_LoonkostenNatVerloop266)","v":""},null,"v",null,"v",null,null,null,null,0,"",null,null,null,null,null,null,null,null,{"$f":"IF(Data_NaamPersoonTijd266=\"\",\"\",Data_NaamPersoonTijd266)","v":""},null,null,{"$f":"IF(Data_BeeindigingsdatumTijd266=\"\",\"\",Data_BeeindigingsdatumTijd266)","v":""},null,null,{"$f":"IF(Data_LoonkostenTijd266=\"\",\"\",Data_LoonkostenTijd266)","v":""},null,{"$f":"IF(Data_PersoonAanUitTijd266=-1,\"v\",\"\")","v":""},null,"v",null,null,null,null,0,0,null,null,null,{"$f":"IF(Data_NaamPersoonVastVrij266=\"\",\"\",Data_NaamPersoonVastVrij266)","v":""},null,null,{"$f":"IF(Data_BeeindigingsdatumVastVrij266=\"\",\"\",Data_BeeindigingsdatumVastVrij266)","v":""},null,null,{"$f":"IF(Data_LoonkostenVastVrij266=\"\",\"\",Data_LoonkostenVastVrij266)","v":""},null,{"$f":"IF(Data_PersoonAanUitVastVrij266=-1,\"v\",\"\")","v":""},null,"v",null,null,null,null,0,0,null,{"$f":"IF(Data_NaamPersoonVastOntslag266=\"\",\"\",Data_NaamPersoonVastOntslag266)","v":""},null,null,{"$f":"IF(Data_BeeindigingsdatumVastOntslag266=\"\",\"\",Data_BeeindigingsdatumVastOntslag266)","v":""},null,null,{"$f":"IF(Data_LoonkostenVastOntslag266=\"\",\"\",Data_LoonkostenVastOntslag266)","v":""},null,{"$f":"IF(Data_PersoonAanUitVastOntslag266=-1,\"v\",\"\")","v":""},null,"v",null,null,null,null,0,0]
[null,null,null,null,null,null,null,{"$f":"IF(Data_NaamPersoonNatVerloop267=\"\",\"\",Data_NaamPersoonNatVerloop267)","v":""},null,null,{"$f":"IF(Data_BeeindigingsdatumNatVerloop267=\"\",\"\",Data_BeeindigingsdatumNatVerloop267)","v":""},null,null,{"$f":"IF(Data_LoonkostenNatVerloop267=\"\",\"\",Data_LoonkostenNatVerloop267)","v":""},null,"v",null,"v",null,null,null,null,0,"",null,null,null,null,null,null,null,null,{"$f":"IF(Data_NaamPersoonTijd267=\"\",\"\",Data_NaamPersoonTijd267)","v":""},null,null,{"$f":"IF(Data_BeeindigingsdatumTijd267=\"\",\"\",Data_BeeindigingsdatumTijd267)","v":""},null,null,{"$f":"IF(Data_LoonkostenTijd267=\"\",\"\",Data_LoonkostenTijd267)","v":""},null,{"$f":"IF(Data_PersoonAanUitTijd267=-1,\"v\",\"\")","v":""},null,"v",null,null,null,null,0,0,null,null,null,{"$f":"IF(Data_NaamPersoonVastVrij267=\"\",\"\",Data_NaamPersoonVastVrij267)","v":""},null,null,{"$f":"IF(Data_BeeindigingsdatumVastVrij267=\"\",\"\",Data_BeeindigingsdatumVastVrij267)","v":""},null,null,{"$f":"IF(Data_LoonkostenVastVrij267=\"\",\"\",Data_LoonkostenVastVrij267)","v":""},null,{"$f":"IF(Data_PersoonAanUitVastVrij267=-1,\"v\",\"\")","v":""},null,"v",null,null,null,null,0,0,null,{"$f":"IF(Data_NaamPersoonVastOntslag267=\"\",\"\",Data_NaamPersoonVastOntslag267)","v":""},null,null,{"$f":"IF(Data_BeeindigingsdatumVastOntslag267=\"\",\"\",Data_BeeindigingsdatumVastOntslag267)","v":""},null,null,{"$f":"IF(Data_LoonkostenVastOntslag267=\"\",\"\",Data_LoonkostenVastOntslag267)","v":""},null,{"$f":"IF(Data_PersoonAanUitVastOntslag267=-1,\"v\",\"\")","v":""},null,"v",null,null,null,null,0,0]
[null,null,null,null,null,null,null,{"$f":"IF(Data_NaamPersoonNatVerloop268=\"\",\"\",Data_NaamPersoonNatVerloop268)","v":""},null,null,{"$f":"IF(Data_BeeindigingsdatumNatVerloop268=\"\",\"\",Data_BeeindigingsdatumNatVerloop268)","v":""},null,null,{"$f":"IF(Data_LoonkostenNatVerloop268=\"\",\"\",Data_LoonkostenNatVerloop268)","v":""},null,"v",null,"v",null,null,null,null,0,"",null,null,null,null,null,null,null,null,{"$f":"IF(Data_NaamPersoonTijd268=\"\",\"\",Data_NaamPersoonTijd268)","v":""},null,null,{"$f":"IF(Data_BeeindigingsdatumTijd268=\"\",\"\",Data_BeeindigingsdatumTijd268)","v":""},null,null,{"$f":"IF(Data_LoonkostenTijd268=\"\",\"\",Data_LoonkostenTijd268)","v":""},null,{"$f":"IF(Data_PersoonAanUitTijd268=-1,\"v\",\"\")","v":""},null,"v",null,null,null,null,0,0,null,null,null,{"$f":"IF(Data_NaamPersoonVastVrij268=\"\",\"\",Data_NaamPersoonVastVrij268)","v":""},null,null,{"$f":"IF(Data_BeeindigingsdatumVastVrij268=\"\",\"\",Data_BeeindigingsdatumVastVrij268)","v":""},null,null,{"$f":"IF(Data_LoonkostenVastVrij268=\"\",\"\",Data_LoonkostenVastVrij268)","v":""},null,{"$f":"IF(Data_PersoonAanUitVastVrij268=-1,\"v\",\"\")","v":""},null,"v",null,null,null,null,0,0,null,{"$f":"IF(Data_NaamPersoonVastOntslag268=\"\",\"\",Data_NaamPersoonVastOntslag268)","v":""},null,null,{"$f":"IF(Data_BeeindigingsdatumVastOntslag268=\"\",\"\",Data_BeeindigingsdatumVastOntslag268)","v":""},null,null,{"$f":"IF(Data_LoonkostenVastOntslag268=\"\",\"\",Data_LoonkostenVastOntslag268)","v":""},null,{"$f":"IF(Data_PersoonAanUitVastOntslag268=-1,\"v\",\"\")","v":""},null,"v",null,null,null,null,0,0]
[null,null,null,null,null,null,null,{"$f":"IF(Data_NaamPersoonNatVerloop269=\"\",\"\",Data_NaamPersoonNatVerloop269)","v":""},null,null,{"$f":"IF(Data_BeeindigingsdatumNatVerloop269=\"\",\"\",Data_BeeindigingsdatumNatVerloop269)","v":""},null,null,{"$f":"IF(Data_LoonkostenNatVerloop269=\"\",\"\",Data_LoonkostenNatVerloop269)","v":""},null,"v",null,"v",null,null,null,null,0,"",null,null,null,null,null,null,null,null,{"$f":"IF(Data_NaamPersoonTijd269=\"\",\"\",Data_NaamPersoonTijd269)","v":""},null,null,{"$f":"IF(Data_BeeindigingsdatumTijd269=\"\",\"\",Data_BeeindigingsdatumTijd269)","v":""},null,null,{"$f":"IF(Data_LoonkostenTijd269=\"\",\"\",Data_LoonkostenTijd269)","v":""},null,{"$f":"IF(Data_PersoonAanUitTijd269=-1,\"v\",\"\")","v":""},null,"v",null,null,null,null,0,0,null,null,null,{"$f":"IF(Data_NaamPersoonVastVrij269=\"\",\"\",Data_NaamPersoonVastVrij269)","v":""},null,null,{"$f":"IF(Data_BeeindigingsdatumVastVrij269=\"\",\"\",Data_BeeindigingsdatumVastVrij269)","v":""},null,null,{"$f":"IF(Data_LoonkostenVastVrij269=\"\",\"\",Data_LoonkostenVastVrij269)","v":""},null,{"$f":"IF(Data_PersoonAanUitVastVrij269=-1,\"v\",\"\")","v":""},null,"v",null,null,null,null,0,0,null,{"$f":"IF(Data_NaamPersoonVastOntslag269=\"\",\"\",Data_NaamPersoonVastOntslag269)","v":""},null,null,{"$f":"IF(Data_BeeindigingsdatumVastOntslag269=\"\",\"\",Data_BeeindigingsdatumVastOntslag269)","v":""},null,null,{"$f":"IF(Data_LoonkostenVastOntslag269=\"\",\"\",Data_LoonkostenVastOntslag269)","v":""},null,{"$f":"IF(Data_PersoonAanUitVastOntslag269=-1,\"v\",\"\")","v":""},null,"v",null,null,null,null,0,0]
[null,null,null,null,null,null,null,{"$f":"IF(Data_NaamPersoonNatVerloop270=\"\",\"\",Data_NaamPersoonNatVerloop270)","v":""},null,null,{"$f":"IF(Data_BeeindigingsdatumNatVerloop270=\"\",\"\",Data_BeeindigingsdatumNatVerloop270)","v":""},null,null,{"$f":"IF(Data_LoonkostenNatVerloop270=\"\",\"\",Data_LoonkostenNatVerloop270)","v":""},null,"v",null,"v",null,null,null,null,0,"",null,null,null,null,null,null,null,null,{"$f":"IF(Data_NaamPersoonTijd270=\"\",\"\",Data_NaamPersoonTijd270)","v":""},null,null,{"$f":"IF(Data_BeeindigingsdatumTijd270=\"\",\"\",Data_BeeindigingsdatumTijd270)","v":""},null,null,{"$f":"IF(Data_LoonkostenTijd270=\"\",\"\",Data_LoonkostenTijd270)","v":""},null,{"$f":"IF(Data_PersoonAanUitTijd270=-1,\"v\",\"\")","v":""},null,"v",null,null,null,null,0,0,null,null,null,{"$f":"IF(Data_NaamPersoonVastVrij270=\"\",\"\",Data_NaamPersoonVastVrij270)","v":""},null,null,{"$f":"IF(Data_BeeindigingsdatumVastVrij270=\"\",\"\",Data_BeeindigingsdatumVastVrij270)","v":""},null,null,{"$f":"IF(Data_LoonkostenVastVrij270=\"\",\"\",Data_LoonkostenVastVrij270)","v":""},null,{"$f":"IF(Data_PersoonAanUitVastVrij270=-1,\"v\",\"\")","v":""},null,"v",null,null,null,null,0,0,null,{"$f":"IF(Data_NaamPersoonVastOntslag270=\"\",\"\",Data_NaamPersoonVastOntslag270)","v":""},null,null,{"$f":"IF(Data_BeeindigingsdatumVastOntslag270=\"\",\"\",Data_BeeindigingsdatumVastOntslag270)","v":""},null,null,{"$f":"IF(Data_LoonkostenVastOntslag270=\"\",\"\",Data_LoonkostenVastOntslag270)","v":""},null,{"$f":"IF(Data_PersoonAanUitVastOntslag270=-1,\"v\",\"\")","v":""},null,"v",null,null,null,null,0,0]
[null,null,null,null,null,null,null,{"$f":"IF(Data_NaamPersoonNatVerloop271=\"\",\"\",Data_NaamPersoonNatVerloop271)","v":""},null,null,{"$f":"IF(Data_BeeindigingsdatumNatVerloop271=\"\",\"\",Data_BeeindigingsdatumNatVerloop271)","v":""},null,null,{"$f":"IF(Data_LoonkostenNatVerloop271=\"\",\"\",Data_LoonkostenNatVerloop271)","v":""},null,"v",null,"v",null,null,null,null,0,"",null,null,null,null,null,null,null,null,{"$f":"IF(Data_NaamPersoonTijd271=\"\",\"\",Data_NaamPersoonTijd271)","v":""},null,null,{"$f":"IF(Data_BeeindigingsdatumTijd271=\"\",\"\",Data_BeeindigingsdatumTijd271)","v":""},null,null,{"$f":"IF(Data_LoonkostenTijd271=\"\",\"\",Data_LoonkostenTijd271)","v":""},null,{"$f":"IF(Data_PersoonAanUitTijd271=-1,\"v\",\"\")","v":""},null,"v",null,null,null,null,0,0,null,null,null,{"$f":"IF(Data_NaamPersoonVastVrij271=\"\",\"\",Data_NaamPersoonVastVrij271)","v":""},null,null,{"$f":"IF(Data_BeeindigingsdatumVastVrij271=\"\",\"\",Data_BeeindigingsdatumVastVrij271)","v":""},null,null,{"$f":"IF(Data_LoonkostenVastVrij271=\"\",\"\",Data_LoonkostenVastVrij271)","v":""},null,{"$f":"IF(Data_PersoonAanUitVastVrij271=-1,\"v\",\"\")","v":""},null,"v",null,null,null,null,0,0,null,{"$f":"IF(Data_NaamPersoonVastOntslag271=\"\",\"\",Data_NaamPersoonVastOntslag271)","v":""},null,null,{"$f":"IF(Data_BeeindigingsdatumVastOntslag271=\"\",\"\",Data_BeeindigingsdatumVastOntslag271)","v":""},null,null,{"$f":"IF(Data_LoonkostenVastOntslag271=\"\",\"\",Data_LoonkostenVastOntslag271)","v":""},null,{"$f":"IF(Data_PersoonAanUitVastOntslag271=-1,\"v\",\"\")","v":""},null,"v",null,null,null,null,0,0]
[null,null,null,null,null,null,null,{"$f":"IF(Data_NaamPersoonNatVerloop272=\"\",\"\",Data_NaamPersoonNatVerloop272)","v":""},null,null,{"$f":"IF(Data_BeeindigingsdatumNatVerloop272=\"\",\"\",Data_BeeindigingsdatumNatVerloop272)","v":""},null,null,{"$f":"IF(Data_LoonkostenNatVerloop272=\"\",\"\",Data_LoonkostenNatVerloop272)","v":""},null,"v",null,"v",null,null,null,null,0,"",null,null,null,null,null,null,null,null,{"$f":"IF(Data_NaamPersoonTijd272=\"\",\"\",Data_NaamPersoonTijd272)","v":""},null,null,{"$f":"IF(Data_BeeindigingsdatumTijd272=\"\",\"\",Data_BeeindigingsdatumTijd272)","v":""},null,null,{"$f":"IF(Data_LoonkostenTijd272=\"\",\"\",Data_LoonkostenTijd272)","v":""},null,{"$f":"IF(Data_PersoonAanUitTijd272=-1,\"v\",\"\")","v":""},null,"v",null,null,null,null,0,0,null,null,null,{"$f":"IF(Data_NaamPersoonVastVrij272=\"\",\"\",Data_NaamPersoonVastVrij272)","v":""},null,null,{"$f":"IF(Data_BeeindigingsdatumVastVrij272=\"\",\"\",Data_BeeindigingsdatumVastVrij272)","v":""},null,null,{"$f":"IF(Data_LoonkostenVastVrij272=\"\",\"\",Data_LoonkostenVastVrij272)","v":""},null,{"$f":"IF(Data_PersoonAanUitVastVrij272=-1,\"v\",\"\")","v":""},null,"v",null,null,null,null,0,0,null,{"$f":"IF(Data_NaamPersoonVastOntslag272=\"\",\"\",Data_NaamPersoonVastOntslag272)","v":""},null,null,{"$f":"IF(Data_BeeindigingsdatumVastOntslag272=\"\",\"\",Data_BeeindigingsdatumVastOntslag272)","v":""},null,null,{"$f":"IF(Data_LoonkostenVastOntslag272=\"\",\"\",Data_LoonkostenVastOntslag272)","v":""},null,{"$f":"IF(Data_PersoonAanUitVastOntslag272=-1,\"v\",\"\")","v":""},null,"v",null,null,null,null,0,0]
[null,null,null,null,null,null,null,{"$f":"IF(Data_NaamPersoonNatVerloop273=\"\",\"\",Data_NaamPersoonNatVerloop273)","v":""},null,null,{"$f":"IF(Data_BeeindigingsdatumNatVerloop273=\"\",\"\",Data_BeeindigingsdatumNatVerloop273)","v":""},null,null,{"$f":"IF(Data_LoonkostenNatVerloop273=\"\",\"\",Data_LoonkostenNatVerloop273)","v":""},null,"v",null,"v",null,null,null,null,0,"",null,null,null,null,null,null,null,null,{"$f":"IF(Data_NaamPersoonTijd273=\"\",\"\",Data_NaamPersoonTijd273)","v":""},null,null,{"$f":"IF(Data_BeeindigingsdatumTijd273=\"\",\"\",Data_BeeindigingsdatumTijd273)","v":""},null,null,{"$f":"IF(Data_LoonkostenTijd273=\"\",\"\",Data_LoonkostenTijd273)","v":""},null,{"$f":"IF(Data_PersoonAanUitTijd273=-1,\"v\",\"\")","v":""},null,"v",null,null,null,null,0,0,null,null,null,{"$f":"IF(Data_NaamPersoonVastVrij273=\"\",\"\",Data_NaamPersoonVastVrij273)","v":""},null,null,{"$f":"IF(Data_BeeindigingsdatumVastVrij273=\"\",\"\",Data_BeeindigingsdatumVastVrij273)","v":""},null,null,{"$f":"IF(Data_LoonkostenVastVrij273=\"\",\"\",Data_LoonkostenVastVrij273)","v":""},null,{"$f":"IF(Data_PersoonAanUitVastVrij273=-1,\"v\",\"\")","v":""},null,"v",null,null,null,null,0,0,null,{"$f":"IF(Data_NaamPersoonVastOntslag273=\"\",\"\",Data_NaamPersoonVastOntslag273)","v":""},null,null,{"$f":"IF(Data_BeeindigingsdatumVastOntslag273=\"\",\"\",Data_BeeindigingsdatumVastOntslag273)","v":""},null,null,{"$f":"IF(Data_LoonkostenVastOntslag273=\"\",\"\",Data_LoonkostenVastOntslag273)","v":""},null,{"$f":"IF(Data_PersoonAanUitVastOntslag273=-1,\"v\",\"\")","v":""},null,"v",null,null,null,null,0,0]
[null,null,null,null,null,null,null,{"$f":"IF(Data_NaamPersoonNatVerloop274=\"\",\"\",Data_NaamPersoonNatVerloop274)","v":""},null,null,{"$f":"IF(Data_BeeindigingsdatumNatVerloop274=\"\",\"\",Data_BeeindigingsdatumNatVerloop274)","v":""},null,null,{"$f":"IF(Data_LoonkostenNatVerloop274=\"\",\"\",Data_LoonkostenNatVerloop274)","v":""},null,"v",null,"v",null,null,null,null,0,"",null,null,null,null,null,null,null,null,{"$f":"IF(Data_NaamPersoonTijd274=\"\",\"\",Data_NaamPersoonTijd274)","v":""},null,null,{"$f":"IF(Data_BeeindigingsdatumTijd274=\"\",\"\",Data_BeeindigingsdatumTijd274)","v":""},null,null,{"$f":"IF(Data_LoonkostenTijd274=\"\",\"\",Data_LoonkostenTijd274)","v":""},null,{"$f":"IF(Data_PersoonAanUitTijd274=-1,\"v\",\"\")","v":""},null,"v",null,null,null,null,0,0,null,null,null,{"$f":"IF(Data_NaamPersoonVastVrij274=\"\",\"\",Data_NaamPersoonVastVrij274)","v":""},null,null,{"$f":"IF(Data_BeeindigingsdatumVastVrij274=\"\",\"\",Data_BeeindigingsdatumVastVrij274)","v":""},null,null,{"$f":"IF(Data_LoonkostenVastVrij274=\"\",\"\",Data_LoonkostenVastVrij274)","v":""},null,{"$f":"IF(Data_PersoonAanUitVastVrij274=-1,\"v\",\"\")","v":""},null,"v",null,null,null,null,0,0,null,{"$f":"IF(Data_NaamPersoonVastOntslag274=\"\",\"\",Data_NaamPersoonVastOntslag274)","v":""},null,null,{"$f":"IF(Data_BeeindigingsdatumVastOntslag274=\"\",\"\",Data_BeeindigingsdatumVastOntslag274)","v":""},null,null,{"$f":"IF(Data_LoonkostenVastOntslag274=\"\",\"\",Data_LoonkostenVastOntslag274)","v":""},null,{"$f":"IF(Data_PersoonAanUitVastOntslag274=-1,\"v\",\"\")","v":""},null,"v",null,null,null,null,0,0]
[null,null,null,null,null,null,null,{"$f":"IF(Data_NaamPersoonNatVerloop275=\"\",\"\",Data_NaamPersoonNatVerloop275)","v":""},null,null,{"$f":"IF(Data_BeeindigingsdatumNatVerloop275=\"\",\"\",Data_BeeindigingsdatumNatVerloop275)","v":""},null,null,{"$f":"IF(Data_LoonkostenNatVerloop275=\"\",\"\",Data_LoonkostenNatVerloop275)","v":""},null,"v",null,"v",null,null,null,null,0,"",null,null,null,null,null,null,null,null,{"$f":"IF(Data_NaamPersoonTijd275=\"\",\"\",Data_NaamPersoonTijd275)","v":""},null,null,{"$f":"IF(Data_BeeindigingsdatumTijd275=\"\",\"\",Data_BeeindigingsdatumTijd275)","v":""},null,null,{"$f":"IF(Data_LoonkostenTijd275=\"\",\"\",Data_LoonkostenTijd275)","v":""},null,{"$f":"IF(Data_PersoonAanUitTijd275=-1,\"v\",\"\")","v":""},null,"v",null,null,null,null,0,0,null,null,null,{"$f":"IF(Data_NaamPersoonVastVrij275=\"\",\"\",Data_NaamPersoonVastVrij275)","v":""},null,null,{"$f":"IF(Data_BeeindigingsdatumVastVrij275=\"\",\"\",Data_BeeindigingsdatumVastVrij275)","v":""},null,null,{"$f":"IF(Data_LoonkostenVastVrij275=\"\",\"\",Data_LoonkostenVastVrij275)","v":""},null,{"$f":"IF(Data_PersoonAanUitVastVrij275=-1,\"v\",\"\")","v":""},null,"v",null,null,null,null,0,0,null,{"$f":"IF(Data_NaamPersoonVastOntslag275=\"\",\"\",Data_NaamPersoonVastOntslag275)","v":""},null,null,{"$f":"IF(Data_BeeindigingsdatumVastOntslag275=\"\",\"\",Data_BeeindigingsdatumVastOntslag275)","v":""},null,null,{"$f":"IF(Data_LoonkostenVastOntslag275=\"\",\"\",Data_LoonkostenVastOntslag275)","v":""},null,{"$f":"IF(Data_PersoonAanUitVastOntslag275=-1,\"v\",\"\")","v":""},null,"v",null,null,null,null,0,0]
[null,null,null,null,null,null,null,{"$f":"IF(Data_NaamPersoonNatVerloop276=\"\",\"\",Data_NaamPersoonNatVerloop276)","v":""},null,null,{"$f":"IF(Data_BeeindigingsdatumNatVerloop276=\"\",\"\",Data_BeeindigingsdatumNatVerloop276)","v":""},null,null,{"$f":"IF(Data_LoonkostenNatVerloop276=\"\",\"\",Data_LoonkostenNatVerloop276)","v":""},null,"v",null,"v",null,null,null,null,0,"",null,null,null,null,null,null,null,null,{"$f":"IF(Data_NaamPersoonTijd276=\"\",\"\",Data_NaamPersoonTijd276)","v":""},null,null,{"$f":"IF(Data_BeeindigingsdatumTijd276=\"\",\"\",Data_BeeindigingsdatumTijd276)","v":""},null,null,{"$f":"IF(Data_LoonkostenTijd276=\"\",\"\",Data_LoonkostenTijd276)","v":""},null,{"$f":"IF(Data_PersoonAanUitTijd276=-1,\"v\",\"\")","v":""},null,"v",null,null,null,null,0,0,null,null,null,{"$f":"IF(Data_NaamPersoonVastVrij276=\"\",\"\",Data_NaamPersoonVastVrij276)","v":""},null,null,{"$f":"IF(Data_BeeindigingsdatumVastVrij276=\"\",\"\",Data_BeeindigingsdatumVastVrij276)","v":""},null,null,{"$f":"IF(Data_LoonkostenVastVrij276=\"\",\"\",Data_LoonkostenVastVrij276)","v":""},null,{"$f":"IF(Data_PersoonAanUitVastVrij276=-1,\"v\",\"\")","v":""},null,"v",null,null,null,null,0,0,null,{"$f":"IF(Data_NaamPersoonVastOntslag276=\"\",\"\",Data_NaamPersoonVastOntslag276)","v":""},null,null,{"$f":"IF(Data_BeeindigingsdatumVastOntslag276=\"\",\"\",Data_BeeindigingsdatumVastOntslag276)","v":""},null,null,{"$f":"IF(Data_LoonkostenVastOntslag276=\"\",\"\",Data_LoonkostenVastOntslag276)","v":""},null,{"$f":"IF(Data_PersoonAanUitVastOntslag276=-1,\"v\",\"\")","v":""},null,"v",null,null,null,null,0,0]
[null,null,null,null,null,null,null,{"$f":"IF(Data_NaamPersoonNatVerloop277=\"\",\"\",Data_NaamPersoonNatVerloop277)","v":""},null,null,{"$f":"IF(Data_BeeindigingsdatumNatVerloop277=\"\",\"\",Data_BeeindigingsdatumNatVerloop277)","v":""},null,null,{"$f":"IF(Data_LoonkostenNatVerloop277=\"\",\"\",Data_LoonkostenNatVerloop277)","v":""},null,"v",null,"v",null,null,null,null,0,"",null,null,null,null,null,null,null,null,{"$f":"IF(Data_NaamPersoonTijd277=\"\",\"\",Data_NaamPersoonTijd277)","v":""},null,null,{"$f":"IF(Data_BeeindigingsdatumTijd277=\"\",\"\",Data_BeeindigingsdatumTijd277)","v":""},null,null,{"$f":"IF(Data_LoonkostenTijd277=\"\",\"\",Data_LoonkostenTijd277)","v":""},null,{"$f":"IF(Data_PersoonAanUitTijd277=-1,\"v\",\"\")","v":""},null,"v",null,null,null,null,0,0,null,null,null,{"$f":"IF(Data_NaamPersoonVastVrij277=\"\",\"\",Data_NaamPersoonVastVrij277)","v":""},null,null,{"$f":"IF(Data_BeeindigingsdatumVastVrij277=\"\",\"\",Data_BeeindigingsdatumVastVrij277)","v":""},null,null,{"$f":"IF(Data_LoonkostenVastVrij277=\"\",\"\",Data_LoonkostenVastVrij277)","v":""},null,{"$f":"IF(Data_PersoonAanUitVastVrij277=-1,\"v\",\"\")","v":""},null,"v",null,null,null,null,0,0,null,{"$f":"IF(Data_NaamPersoonVastOntslag277=\"\",\"\",Data_NaamPersoonVastOntslag277)","v":""},null,null,{"$f":"IF(Data_BeeindigingsdatumVastOntslag277=\"\",\"\",Data_BeeindigingsdatumVastOntslag277)","v":""},null,null,{"$f":"IF(Data_LoonkostenVastOntslag277=\"\",\"\",Data_LoonkostenVastOntslag277)","v":""},null,{"$f":"IF(Data_PersoonAanUitVastOntslag277=-1,\"v\",\"\")","v":""},null,"v",null,null,null,null,0,0]
[null,null,null,null,null,null,null,{"$f":"IF(Data_NaamPersoonNatVerloop278=\"\",\"\",Data_NaamPersoonNatVerloop278)","v":""},null,null,{"$f":"IF(Data_BeeindigingsdatumNatVerloop278=\"\",\"\",Data_BeeindigingsdatumNatVerloop278)","v":""},null,null,{"$f":"IF(Data_LoonkostenNatVerloop278=\"\",\"\",Data_LoonkostenNatVerloop278)","v":""},null,"v",null,"v",null,null,null,null,0,"",null,null,null,null,null,null,null,null,{"$f":"IF(Data_NaamPersoonTijd278=\"\",\"\",Data_NaamPersoonTijd278)","v":""},null,null,{"$f":"IF(Data_BeeindigingsdatumTijd278=\"\",\"\",Data_BeeindigingsdatumTijd278)","v":""},null,null,{"$f":"IF(Data_LoonkostenTijd278=\"\",\"\",Data_LoonkostenTijd278)","v":""},null,{"$f":"IF(Data_PersoonAanUitTijd278=-1,\"v\",\"\")","v":""},null,"v",null,null,null,null,0,0,null,null,null,{"$f":"IF(Data_NaamPersoonVastVrij278=\"\",\"\",Data_NaamPersoonVastVrij278)","v":""},null,null,{"$f":"IF(Data_BeeindigingsdatumVastVrij278=\"\",\"\",Data_BeeindigingsdatumVastVrij278)","v":""},null,null,{"$f":"IF(Data_LoonkostenVastVrij278=\"\",\"\",Data_LoonkostenVastVrij278)","v":""},null,{"$f":"IF(Data_PersoonAanUitVastVrij278=-1,\"v\",\"\")","v":""},null,"v",null,null,null,null,0,0,null,{"$f":"IF(Data_NaamPersoonVastOntslag278=\"\",\"\",Data_NaamPersoonVastOntslag278)","v":""},null,null,{"$f":"IF(Data_BeeindigingsdatumVastOntslag278=\"\",\"\",Data_BeeindigingsdatumVastOntslag278)","v":""},null,null,{"$f":"IF(Data_LoonkostenVastOntslag278=\"\",\"\",Data_LoonkostenVastOntslag278)","v":""},null,{"$f":"IF(Data_PersoonAanUitVastOntslag278=-1,\"v\",\"\")","v":""},null,"v",null,null,null,null,0,0]
[null,null,null,null,null,null,null,{"$f":"IF(Data_NaamPersoonNatVerloop279=\"\",\"\",Data_NaamPersoonNatVerloop279)","v":""},null,null,{"$f":"IF(Data_BeeindigingsdatumNatVerloop279=\"\",\"\",Data_BeeindigingsdatumNatVerloop279)","v":""},null,null,{"$f":"IF(Data_LoonkostenNatVerloop279=\"\",\"\",Data_LoonkostenNatVerloop279)","v":""},null,"v",null,"v",null,null,null,null,0,"",null,null,null,null,null,null,null,null,{"$f":"IF(Data_NaamPersoonTijd279=\"\",\"\",Data_NaamPersoonTijd279)","v":""},null,null,{"$f":"IF(Data_BeeindigingsdatumTijd279=\"\",\"\",Data_BeeindigingsdatumTijd279)","v":""},null,null,{"$f":"IF(Data_LoonkostenTijd279=\"\",\"\",Data_LoonkostenTijd279)","v":""},null,{"$f":"IF(Data_PersoonAanUitTijd279=-1,\"v\",\"\")","v":""},null,"v",null,null,null,null,0,0,null,null,null,{"$f":"IF(Data_NaamPersoonVastVrij279=\"\",\"\",Data_NaamPersoonVastVrij279)","v":""},null,null,{"$f":"IF(Data_BeeindigingsdatumVastVrij279=\"\",\"\",Data_BeeindigingsdatumVastVrij279)","v":""},null,null,{"$f":"IF(Data_LoonkostenVastVrij279=\"\",\"\",Data_LoonkostenVastVrij279)","v":""},null,{"$f":"IF(Data_PersoonAanUitVastVrij279=-1,\"v\",\"\")","v":""},null,"v",null,null,null,null,0,0,null,{"$f":"IF(Data_NaamPersoonVastOntslag279=\"\",\"\",Data_NaamPersoonVastOntslag279)","v":""},null,null,{"$f":"IF(Data_BeeindigingsdatumVastOntslag279=\"\",\"\",Data_BeeindigingsdatumVastOntslag279)","v":""},null,null,{"$f":"IF(Data_LoonkostenVastOntslag279=\"\",\"\",Data_LoonkostenVastOntslag279)","v":""},null,{"$f":"IF(Data_PersoonAanUitVastOntslag279=-1,\"v\",\"\")","v":""},null,"v",null,null,null,null,0,0]
[null,null,null,null,null,null,null,{"$f":"IF(Data_NaamPersoonNatVerloop280=\"\",\"\",Data_NaamPersoonNatVerloop280)","v":""},null,null,{"$f":"IF(Data_BeeindigingsdatumNatVerloop280=\"\",\"\",Data_BeeindigingsdatumNatVerloop280)","v":""},null,null,{"$f":"IF(Data_LoonkostenNatVerloop280=\"\",\"\",Data_LoonkostenNatVerloop280)","v":""},null,"v",null,"v",null,null,null,null,0,"",null,null,null,null,null,null,null,null,{"$f":"IF(Data_NaamPersoonTijd280=\"\",\"\",Data_NaamPersoonTijd280)","v":""},null,null,{"$f":"IF(Data_BeeindigingsdatumTijd280=\"\",\"\",Data_BeeindigingsdatumTijd280)","v":""},null,null,{"$f":"IF(Data_LoonkostenTijd280=\"\",\"\",Data_LoonkostenTijd280)","v":""},null,{"$f":"IF(Data_PersoonAanUitTijd280=-1,\"v\",\"\")","v":""},null,"v",null,null,null,null,0,0,null,null,null,{"$f":"IF(Data_NaamPersoonVastVrij280=\"\",\"\",Data_NaamPersoonVastVrij280)","v":""},null,null,{"$f":"IF(Data_BeeindigingsdatumVastVrij280=\"\",\"\",Data_BeeindigingsdatumVastVrij280)","v":""},null,null,{"$f":"IF(Data_LoonkostenVastVrij280=\"\",\"\",Data_LoonkostenVastVrij280)","v":""},null,{"$f":"IF(Data_PersoonAanUitVastVrij280=-1,\"v\",\"\")","v":""},null,"v",null,null,null,null,0,0,null,{"$f":"IF(Data_NaamPersoonVastOntslag280=\"\",\"\",Data_NaamPersoonVastOntslag280)","v":""},null,null,{"$f":"IF(Data_BeeindigingsdatumVastOntslag280=\"\",\"\",Data_BeeindigingsdatumVastOntslag280)","v":""},null,null,{"$f":"IF(Data_LoonkostenVastOntslag280=\"\",\"\",Data_LoonkostenVastOntslag280)","v":""},null,{"$f":"IF(Data_PersoonAanUitVastOntslag280=-1,\"v\",\"\")","v":""},null,"v",null,null,null,null,0,0]
[null,null,null,null,null,null,null,{"$f":"IF(Data_NaamPersoonNatVerloop281=\"\",\"\",Data_NaamPersoonNatVerloop281)","v":""},null,null,{"$f":"IF(Data_BeeindigingsdatumNatVerloop281=\"\",\"\",Data_BeeindigingsdatumNatVerloop281)","v":""},null,null,{"$f":"IF(Data_LoonkostenNatVerloop281=\"\",\"\",Data_LoonkostenNatVerloop281)","v":""},null,"v",null,"v",null,null,null,null,0,"",null,null,null,null,null,null,null,null,{"$f":"IF(Data_NaamPersoonTijd281=\"\",\"\",Data_NaamPersoonTijd281)","v":""},null,null,{"$f":"IF(Data_BeeindigingsdatumTijd281=\"\",\"\",Data_BeeindigingsdatumTijd281)","v":""},null,null,{"$f":"IF(Data_LoonkostenTijd281=\"\",\"\",Data_LoonkostenTijd281)","v":""},null,{"$f":"IF(Data_PersoonAanUitTijd281=-1,\"v\",\"\")","v":""},null,"v",null,null,null,null,0,0,null,null,null,{"$f":"IF(Data_NaamPersoonVastVrij281=\"\",\"\",Data_NaamPersoonVastVrij281)","v":""},null,null,{"$f":"IF(Data_BeeindigingsdatumVastVrij281=\"\",\"\",Data_BeeindigingsdatumVastVrij281)","v":""},null,null,{"$f":"IF(Data_LoonkostenVastVrij281=\"\",\"\",Data_LoonkostenVastVrij281)","v":""},null,{"$f":"IF(Data_PersoonAanUitVastVrij281=-1,\"v\",\"\")","v":""},null,"v",null,null,null,null,0,0,null,{"$f":"IF(Data_NaamPersoonVastOntslag281=\"\",\"\",Data_NaamPersoonVastOntslag281)","v":""},null,null,{"$f":"IF(Data_BeeindigingsdatumVastOntslag281=\"\",\"\",Data_BeeindigingsdatumVastOntslag281)","v":""},null,null,{"$f":"IF(Data_LoonkostenVastOntslag281=\"\",\"\",Data_LoonkostenVastOntslag281)","v":""},null,{"$f":"IF(Data_PersoonAanUitVastOntslag281=-1,\"v\",\"\")","v":""},null,"v",null,null,null,null,0,0]
[null,null,null,null,null,null,null,{"$f":"IF(Data_NaamPersoonNatVerloop282=\"\",\"\",Data_NaamPersoonNatVerloop282)","v":""},null,null,{"$f":"IF(Data_BeeindigingsdatumNatVerloop282=\"\",\"\",Data_BeeindigingsdatumNatVerloop282)","v":""},null,null,{"$f":"IF(Data_LoonkostenNatVerloop282=\"\",\"\",Data_LoonkostenNatVerloop282)","v":""},null,"v",null,"v",null,null,null,null,0,"",null,null,null,null,null,null,null,null,{"$f":"IF(Data_NaamPersoonTijd282=\"\",\"\",Data_NaamPersoonTijd282)","v":""},null,null,{"$f":"IF(Data_BeeindigingsdatumTijd282=\"\",\"\",Data_BeeindigingsdatumTijd282)","v":""},null,null,{"$f":"IF(Data_LoonkostenTijd282=\"\",\"\",Data_LoonkostenTijd282)","v":""},null,{"$f":"IF(Data_PersoonAanUitTijd282=-1,\"v\",\"\")","v":""},null,"v",null,null,null,null,0,0,null,null,null,{"$f":"IF(Data_NaamPersoonVastVrij282=\"\",\"\",Data_NaamPersoonVastVrij282)","v":""},null,null,{"$f":"IF(Data_BeeindigingsdatumVastVrij282=\"\",\"\",Data_BeeindigingsdatumVastVrij282)","v":""},null,null,{"$f":"IF(Data_LoonkostenVastVrij282=\"\",\"\",Data_LoonkostenVastVrij282)","v":""},null,{"$f":"IF(Data_PersoonAanUitVastVrij282=-1,\"v\",\"\")","v":""},null,"v",null,null,null,null,0,0,null,{"$f":"IF(Data_NaamPersoonVastOntslag282=\"\",\"\",Data_NaamPersoonVastOntslag282)","v":""},null,null,{"$f":"IF(Data_BeeindigingsdatumVastOntslag282=\"\",\"\",Data_BeeindigingsdatumVastOntslag282)","v":""},null,null,{"$f":"IF(Data_LoonkostenVastOntslag282=\"\",\"\",Data_LoonkostenVastOntslag282)","v":""},null,{"$f":"IF(Data_PersoonAanUitVastOntslag282=-1,\"v\",\"\")","v":""},null,"v",null,null,null,null,0,0]
[null,null,null,null,null,null,null,{"$f":"IF(Data_NaamPersoonNatVerloop283=\"\",\"\",Data_NaamPersoonNatVerloop283)","v":""},null,null,{"$f":"IF(Data_BeeindigingsdatumNatVerloop283=\"\",\"\",Data_BeeindigingsdatumNatVerloop283)","v":""},null,null,{"$f":"IF(Data_LoonkostenNatVerloop283=\"\",\"\",Data_LoonkostenNatVerloop283)","v":""},null,"v",null,"v",null,null,null,null,0,"",null,null,null,null,null,null,null,null,{"$f":"IF(Data_NaamPersoonTijd283=\"\",\"\",Data_NaamPersoonTijd283)","v":""},null,null,{"$f":"IF(Data_BeeindigingsdatumTijd283=\"\",\"\",Data_BeeindigingsdatumTijd283)","v":""},null,null,{"$f":"IF(Data_LoonkostenTijd283=\"\",\"\",Data_LoonkostenTijd283)","v":""},null,{"$f":"IF(Data_PersoonAanUitTijd283=-1,\"v\",\"\")","v":""},null,"v",null,null,null,null,0,0,null,null,null,{"$f":"IF(Data_NaamPersoonVastVrij283=\"\",\"\",Data_NaamPersoonVastVrij283)","v":""},null,null,{"$f":"IF(Data_BeeindigingsdatumVastVrij283=\"\",\"\",Data_BeeindigingsdatumVastVrij283)","v":""},null,null,{"$f":"IF(Data_LoonkostenVastVrij283=\"\",\"\",Data_LoonkostenVastVrij283)","v":""},null,{"$f":"IF(Data_PersoonAanUitVastVrij283=-1,\"v\",\"\")","v":""},null,"v",null,null,null,null,0,0,null,{"$f":"IF(Data_NaamPersoonVastOntslag283=\"\",\"\",Data_NaamPersoonVastOntslag283)","v":""},null,null,{"$f":"IF(Data_BeeindigingsdatumVastOntslag283=\"\",\"\",Data_BeeindigingsdatumVastOntslag283)","v":""},null,null,{"$f":"IF(Data_LoonkostenVastOntslag283=\"\",\"\",Data_LoonkostenVastOntslag283)","v":""},null,{"$f":"IF(Data_PersoonAanUitVastOntslag283=-1,\"v\",\"\")","v":""},null,"v",null,null,null,null,0,0]
[null,null,null,null,null,null,null,{"$f":"IF(Data_NaamPersoonNatVerloop284=\"\",\"\",Data_NaamPersoonNatVerloop284)","v":""},null,null,{"$f":"IF(Data_BeeindigingsdatumNatVerloop284=\"\",\"\",Data_BeeindigingsdatumNatVerloop284)","v":""},null,null,{"$f":"IF(Data_LoonkostenNatVerloop284=\"\",\"\",Data_LoonkostenNatVerloop284)","v":""},null,"v",null,"v",null,null,null,null,0,"",null,null,null,null,null,null,null,null,{"$f":"IF(Data_NaamPersoonTijd284=\"\",\"\",Data_NaamPersoonTijd284)","v":""},null,null,{"$f":"IF(Data_BeeindigingsdatumTijd284=\"\",\"\",Data_BeeindigingsdatumTijd284)","v":""},null,null,{"$f":"IF(Data_LoonkostenTijd284=\"\",\"\",Data_LoonkostenTijd284)","v":""},null,{"$f":"IF(Data_PersoonAanUitTijd284=-1,\"v\",\"\")","v":""},null,"v",null,null,null,null,0,0,null,null,null,{"$f":"IF(Data_NaamPersoonVastVrij284=\"\",\"\",Data_NaamPersoonVastVrij284)","v":""},null,null,{"$f":"IF(Data_BeeindigingsdatumVastVrij284=\"\",\"\",Data_BeeindigingsdatumVastVrij284)","v":""},null,null,{"$f":"IF(Data_LoonkostenVastVrij284=\"\",\"\",Data_LoonkostenVastVrij284)","v":""},null,{"$f":"IF(Data_PersoonAanUitVastVrij284=-1,\"v\",\"\")","v":""},null,"v",null,null,null,null,0,0,null,{"$f":"IF(Data_NaamPersoonVastOntslag284=\"\",\"\",Data_NaamPersoonVastOntslag284)","v":""},null,null,{"$f":"IF(Data_BeeindigingsdatumVastOntslag284=\"\",\"\",Data_BeeindigingsdatumVastOntslag284)","v":""},null,null,{"$f":"IF(Data_LoonkostenVastOntslag284=\"\",\"\",Data_LoonkostenVastOntslag284)","v":""},null,{"$f":"IF(Data_PersoonAanUitVastOntslag284=-1,\"v\",\"\")","v":""},null,"v",null,null,null,null,0,0]
[null,null,null,null,null,null,null,{"$f":"IF(Data_NaamPersoonNatVerloop285=\"\",\"\",Data_NaamPersoonNatVerloop285)","v":""},null,null,{"$f":"IF(Data_BeeindigingsdatumNatVerloop285=\"\",\"\",Data_BeeindigingsdatumNatVerloop285)","v":""},null,null,{"$f":"IF(Data_LoonkostenNatVerloop285=\"\",\"\",Data_LoonkostenNatVerloop285)","v":""},null,"v",null,"v",null,null,null,null,0,"",null,null,null,null,null,null,null,null,{"$f":"IF(Data_NaamPersoonTijd285=\"\",\"\",Data_NaamPersoonTijd285)","v":""},null,null,{"$f":"IF(Data_BeeindigingsdatumTijd285=\"\",\"\",Data_BeeindigingsdatumTijd285)","v":""},null,null,{"$f":"IF(Data_LoonkostenTijd285=\"\",\"\",Data_LoonkostenTijd285)","v":""},null,{"$f":"IF(Data_PersoonAanUitTijd285=-1,\"v\",\"\")","v":""},null,"v",null,null,null,null,0,0,null,null,null,{"$f":"IF(Data_NaamPersoonVastVrij285=\"\",\"\",Data_NaamPersoonVastVrij285)","v":""},null,null,{"$f":"IF(Data_BeeindigingsdatumVastVrij285=\"\",\"\",Data_BeeindigingsdatumVastVrij285)","v":""},null,null,{"$f":"IF(Data_LoonkostenVastVrij285=\"\",\"\",Data_LoonkostenVastVrij285)","v":""},null,{"$f":"IF(Data_PersoonAanUitVastVrij285=-1,\"v\",\"\")","v":""},null,"v",null,null,null,null,0,0,null,{"$f":"IF(Data_NaamPersoonVastOntslag285=\"\",\"\",Data_NaamPersoonVastOntslag285)","v":""},null,null,{"$f":"IF(Data_BeeindigingsdatumVastOntslag285=\"\",\"\",Data_BeeindigingsdatumVastOntslag285)","v":""},null,null,{"$f":"IF(Data_LoonkostenVastOntslag285=\"\",\"\",Data_LoonkostenVastOntslag285)","v":""},null,{"$f":"IF(Data_PersoonAanUitVastOntslag285=-1,\"v\",\"\")","v":""},null,"v",null,null,null,null,0,0]
[null,null,null,null,null,null,null,{"$f":"IF(Data_NaamPersoonNatVerloop286=\"\",\"\",Data_NaamPersoonNatVerloop286)","v":""},null,null,{"$f":"IF(Data_BeeindigingsdatumNatVerloop286=\"\",\"\",Data_BeeindigingsdatumNatVerloop286)","v":""},null,null,{"$f":"IF(Data_LoonkostenNatVerloop286=\"\",\"\",Data_LoonkostenNatVerloop286)","v":""},null,"v",null,"v",null,null,null,null,0,"",null,null,null,null,null,null,null,null,{"$f":"IF(Data_NaamPersoonTijd286=\"\",\"\",Data_NaamPersoonTijd286)","v":""},null,null,{"$f":"IF(Data_BeeindigingsdatumTijd286=\"\",\"\",Data_BeeindigingsdatumTijd286)","v":""},null,null,{"$f":"IF(Data_LoonkostenTijd286=\"\",\"\",Data_LoonkostenTijd286)","v":""},null,{"$f":"IF(Data_PersoonAanUitTijd286=-1,\"v\",\"\")","v":""},null,"v",null,null,null,null,0,0,null,null,null,{"$f":"IF(Data_NaamPersoonVastVrij286=\"\",\"\",Data_NaamPersoonVastVrij286)","v":""},null,null,{"$f":"IF(Data_BeeindigingsdatumVastVrij286=\"\",\"\",Data_BeeindigingsdatumVastVrij286)","v":""},null,null,{"$f":"IF(Data_LoonkostenVastVrij286=\"\",\"\",Data_LoonkostenVastVrij286)","v":""},null,{"$f":"IF(Data_PersoonAanUitVastVrij286=-1,\"v\",\"\")","v":""},null,"v",null,null,null,null,0,0,null,{"$f":"IF(Data_NaamPersoonVastOntslag286=\"\",\"\",Data_NaamPersoonVastOntslag286)","v":""},null,null,{"$f":"IF(Data_BeeindigingsdatumVastOntslag286=\"\",\"\",Data_BeeindigingsdatumVastOntslag286)","v":""},null,null,{"$f":"IF(Data_LoonkostenVastOntslag286=\"\",\"\",Data_LoonkostenVastOntslag286)","v":""},null,{"$f":"IF(Data_PersoonAanUitVastOntslag286=-1,\"v\",\"\")","v":""},null,"v",null,null,null,null,0,0]
[null,null,null,null,null,null,null,{"$f":"IF(Data_NaamPersoonNatVerloop287=\"\",\"\",Data_NaamPersoonNatVerloop287)","v":""},null,null,{"$f":"IF(Data_BeeindigingsdatumNatVerloop287=\"\",\"\",Data_BeeindigingsdatumNatVerloop287)","v":""},null,null,{"$f":"IF(Data_LoonkostenNatVerloop287=\"\",\"\",Data_LoonkostenNatVerloop287)","v":""},null,"v",null,"v",null,null,null,null,0,"",null,null,null,null,null,null,null,null,{"$f":"IF(Data_NaamPersoonTijd287=\"\",\"\",Data_NaamPersoonTijd287)","v":""},null,null,{"$f":"IF(Data_BeeindigingsdatumTijd287=\"\",\"\",Data_BeeindigingsdatumTijd287)","v":""},null,null,{"$f":"IF(Data_LoonkostenTijd287=\"\",\"\",Data_LoonkostenTijd287)","v":""},null,{"$f":"IF(Data_PersoonAanUitTijd287=-1,\"v\",\"\")","v":""},null,"v",null,null,null,null,0,0,null,null,null,{"$f":"IF(Data_NaamPersoonVastVrij287=\"\",\"\",Data_NaamPersoonVastVrij287)","v":""},null,null,{"$f":"IF(Data_BeeindigingsdatumVastVrij287=\"\",\"\",Data_BeeindigingsdatumVastVrij287)","v":""},null,null,{"$f":"IF(Data_LoonkostenVastVrij287=\"\",\"\",Data_LoonkostenVastVrij287)","v":""},null,{"$f":"IF(Data_PersoonAanUitVastVrij287=-1,\"v\",\"\")","v":""},null,"v",null,null,null,null,0,0,null,{"$f":"IF(Data_NaamPersoonVastOntslag287=\"\",\"\",Data_NaamPersoonVastOntslag287)","v":""},null,null,{"$f":"IF(Data_BeeindigingsdatumVastOntslag287=\"\",\"\",Data_BeeindigingsdatumVastOntslag287)","v":""},null,null,{"$f":"IF(Data_LoonkostenVastOntslag287=\"\",\"\",Data_LoonkostenVastOntslag287)","v":""},null,{"$f":"IF(Data_PersoonAanUitVastOntslag287=-1,\"v\",\"\")","v":""},null,"v",null,null,null,null,0,0]
[null,null,null,null,null,null,null,{"$f":"IF(Data_NaamPersoonNatVerloop288=\"\",\"\",Data_NaamPersoonNatVerloop288)","v":""},null,null,{"$f":"IF(Data_BeeindigingsdatumNatVerloop288=\"\",\"\",Data_BeeindigingsdatumNatVerloop288)","v":""},null,null,{"$f":"IF(Data_LoonkostenNatVerloop288=\"\",\"\",Data_LoonkostenNatVerloop288)","v":""},null,"v",null,"v",null,null,null,null,0,"",null,null,null,null,null,null,null,null,{"$f":"IF(Data_NaamPersoonTijd288=\"\",\"\",Data_NaamPersoonTijd288)","v":""},null,null,{"$f":"IF(Data_BeeindigingsdatumTijd288=\"\",\"\",Data_BeeindigingsdatumTijd288)","v":""},null,null,{"$f":"IF(Data_LoonkostenTijd288=\"\",\"\",Data_LoonkostenTijd288)","v":""},null,{"$f":"IF(Data_PersoonAanUitTijd288=-1,\"v\",\"\")","v":""},null,"v",null,null,null,null,0,0,null,null,null,{"$f":"IF(Data_NaamPersoonVastVrij288=\"\",\"\",Data_NaamPersoonVastVrij288)","v":""},null,null,{"$f":"IF(Data_BeeindigingsdatumVastVrij288=\"\",\"\",Data_BeeindigingsdatumVastVrij288)","v":""},null,null,{"$f":"IF(Data_LoonkostenVastVrij288=\"\",\"\",Data_LoonkostenVastVrij288)","v":""},null,{"$f":"IF(Data_PersoonAanUitVastVrij288=-1,\"v\",\"\")","v":""},null,"v",null,null,null,null,0,0,null,{"$f":"IF(Data_NaamPersoonVastOntslag288=\"\",\"\",Data_NaamPersoonVastOntslag288)","v":""},null,null,{"$f":"IF(Data_BeeindigingsdatumVastOntslag288=\"\",\"\",Data_BeeindigingsdatumVastOntslag288)","v":""},null,null,{"$f":"IF(Data_LoonkostenVastOntslag288=\"\",\"\",Data_LoonkostenVastOntslag288)","v":""},null,{"$f":"IF(Data_PersoonAanUitVastOntslag288=-1,\"v\",\"\")","v":""},null,"v",null,null,null,null,0,0]
[null,null,null,null,null,null,null,{"$f":"IF(Data_NaamPersoonNatVerloop289=\"\",\"\",Data_NaamPersoonNatVerloop289)","v":""},null,null,{"$f":"IF(Data_BeeindigingsdatumNatVerloop289=\"\",\"\",Data_BeeindigingsdatumNatVerloop289)","v":""},null,null,{"$f":"IF(Data_LoonkostenNatVerloop289=\"\",\"\",Data_LoonkostenNatVerloop289)","v":""},null,"v",null,"v",null,null,null,null,0,"",null,null,null,null,null,null,null,null,{"$f":"IF(Data_NaamPersoonTijd289=\"\",\"\",Data_NaamPersoonTijd289)","v":""},null,null,{"$f":"IF(Data_BeeindigingsdatumTijd289=\"\",\"\",Data_BeeindigingsdatumTijd289)","v":""},null,null,{"$f":"IF(Data_LoonkostenTijd289=\"\",\"\",Data_LoonkostenTijd289)","v":""},null,{"$f":"IF(Data_PersoonAanUitTijd289=-1,\"v\",\"\")","v":""},null,"v",null,null,null,null,0,0,null,null,null,{"$f":"IF(Data_NaamPersoonVastVrij289=\"\",\"\",Data_NaamPersoonVastVrij289)","v":""},null,null,{"$f":"IF(Data_BeeindigingsdatumVastVrij289=\"\",\"\",Data_BeeindigingsdatumVastVrij289)","v":""},null,null,{"$f":"IF(Data_LoonkostenVastVrij289=\"\",\"\",Data_LoonkostenVastVrij289)","v":""},null,{"$f":"IF(Data_PersoonAanUitVastVrij289=-1,\"v\",\"\")","v":""},null,"v",null,null,null,null,0,0,null,{"$f":"IF(Data_NaamPersoonVastOntslag289=\"\",\"\",Data_NaamPersoonVastOntslag289)","v":""},null,null,{"$f":"IF(Data_BeeindigingsdatumVastOntslag289=\"\",\"\",Data_BeeindigingsdatumVastOntslag289)","v":""},null,null,{"$f":"IF(Data_LoonkostenVastOntslag289=\"\",\"\",Data_LoonkostenVastOntslag289)","v":""},null,{"$f":"IF(Data_PersoonAanUitVastOntslag289=-1,\"v\",\"\")","v":""},null,"v",null,null,null,null,0,0]
[null,null,null,null,null,null,null,{"$f":"IF(Data_NaamPersoonNatVerloop290=\"\",\"\",Data_NaamPersoonNatVerloop290)","v":""},null,null,{"$f":"IF(Data_BeeindigingsdatumNatVerloop290=\"\",\"\",Data_BeeindigingsdatumNatVerloop290)","v":""},null,null,{"$f":"IF(Data_LoonkostenNatVerloop290=\"\",\"\",Data_LoonkostenNatVerloop290)","v":""},null,"v",null,"v",null,null,null,null,0,"",null,null,null,null,null,null,null,null,{"$f":"IF(Data_NaamPersoonTijd290=\"\",\"\",Data_NaamPersoonTijd290)","v":""},null,null,{"$f":"IF(Data_BeeindigingsdatumTijd290=\"\",\"\",Data_BeeindigingsdatumTijd290)","v":""},null,null,{"$f":"IF(Data_LoonkostenTijd290=\"\",\"\",Data_LoonkostenTijd290)","v":""},null,{"$f":"IF(Data_PersoonAanUitTijd290=-1,\"v\",\"\")","v":""},null,"v",null,null,null,null,0,0,null,null,null,{"$f":"IF(Data_NaamPersoonVastVrij290=\"\",\"\",Data_NaamPersoonVastVrij290)","v":""},null,null,{"$f":"IF(Data_BeeindigingsdatumVastVrij290=\"\",\"\",Data_BeeindigingsdatumVastVrij290)","v":""},null,null,{"$f":"IF(Data_LoonkostenVastVrij290=\"\",\"\",Data_LoonkostenVastVrij290)","v":""},null,{"$f":"IF(Data_PersoonAanUitVastVrij290=-1,\"v\",\"\")","v":""},null,"v",null,null,null,null,0,0,null,{"$f":"IF(Data_NaamPersoonVastOntslag290=\"\",\"\",Data_NaamPersoonVastOntslag290)","v":""},null,null,{"$f":"IF(Data_BeeindigingsdatumVastOntslag290=\"\",\"\",Data_BeeindigingsdatumVastOntslag290)","v":""},null,null,{"$f":"IF(Data_LoonkostenVastOntslag290=\"\",\"\",Data_LoonkostenVastOntslag290)","v":""},null,{"$f":"IF(Data_PersoonAanUitVastOntslag290=-1,\"v\",\"\")","v":""},null,"v",null,null,null,null,0,0]
[null,null,null,null,null,null,null,{"$f":"IF(Data_NaamPersoonNatVerloop291=\"\",\"\",Data_NaamPersoonNatVerloop291)","v":""},null,null,{"$f":"IF(Data_BeeindigingsdatumNatVerloop291=\"\",\"\",Data_BeeindigingsdatumNatVerloop291)","v":""},null,null,{"$f":"IF(Data_LoonkostenNatVerloop291=\"\",\"\",Data_LoonkostenNatVerloop291)","v":""},null,"v",null,"v",null,null,null,null,0,"",null,null,null,null,null,null,null,null,{"$f":"IF(Data_NaamPersoonTijd291=\"\",\"\",Data_NaamPersoonTijd291)","v":""},null,null,{"$f":"IF(Data_BeeindigingsdatumTijd291=\"\",\"\",Data_BeeindigingsdatumTijd291)","v":""},null,null,{"$f":"IF(Data_LoonkostenTijd291=\"\",\"\",Data_LoonkostenTijd291)","v":""},null,{"$f":"IF(Data_PersoonAanUitTijd291=-1,\"v\",\"\")","v":""},null,"v",null,null,null,null,0,0,null,null,null,{"$f":"IF(Data_NaamPersoonVastVrij291=\"\",\"\",Data_NaamPersoonVastVrij291)","v":""},null,null,{"$f":"IF(Data_BeeindigingsdatumVastVrij291=\"\",\"\",Data_BeeindigingsdatumVastVrij291)","v":""},null,null,{"$f":"IF(Data_LoonkostenVastVrij291=\"\",\"\",Data_LoonkostenVastVrij291)","v":""},null,{"$f":"IF(Data_PersoonAanUitVastVrij291=-1,\"v\",\"\")","v":""},null,"v",null,null,null,null,0,0,null,{"$f":"IF(Data_NaamPersoonVastOntslag291=\"\",\"\",Data_NaamPersoonVastOntslag291)","v":""},null,null,{"$f":"IF(Data_BeeindigingsdatumVastOntslag291=\"\",\"\",Data_BeeindigingsdatumVastOntslag291)","v":""},null,null,{"$f":"IF(Data_LoonkostenVastOntslag291=\"\",\"\",Data_LoonkostenVastOntslag291)","v":""},null,{"$f":"IF(Data_PersoonAanUitVastOntslag291=-1,\"v\",\"\")","v":""},null,"v",null,null,null,null,0,0]
[null,null,null,null,null,null,null,{"$f":"IF(Data_NaamPersoonNatVerloop292=\"\",\"\",Data_NaamPersoonNatVerloop292)","v":""},null,null,{"$f":"IF(Data_BeeindigingsdatumNatVerloop292=\"\",\"\",Data_BeeindigingsdatumNatVerloop292)","v":""},null,null,{"$f":"IF(Data_LoonkostenNatVerloop292=\"\",\"\",Data_LoonkostenNatVerloop292)","v":""},null,"v",null,"v",null,null,null,null,0,"",null,null,null,null,null,null,null,null,{"$f":"IF(Data_NaamPersoonTijd292=\"\",\"\",Data_NaamPersoonTijd292)","v":""},null,null,{"$f":"IF(Data_BeeindigingsdatumTijd292=\"\",\"\",Data_BeeindigingsdatumTijd292)","v":""},null,null,{"$f":"IF(Data_LoonkostenTijd292=\"\",\"\",Data_LoonkostenTijd292)","v":""},null,{"$f":"IF(Data_PersoonAanUitTijd292=-1,\"v\",\"\")","v":""},null,"v",null,null,null,null,0,0,null,null,null,{"$f":"IF(Data_NaamPersoonVastVrij292=\"\",\"\",Data_NaamPersoonVastVrij292)","v":""},null,null,{"$f":"IF(Data_BeeindigingsdatumVastVrij292=\"\",\"\",Data_BeeindigingsdatumVastVrij292)","v":""},null,null,{"$f":"IF(Data_LoonkostenVastVrij292=\"\",\"\",Data_LoonkostenVastVrij292)","v":""},null,{"$f":"IF(Data_PersoonAanUitVastVrij292=-1,\"v\",\"\")","v":""},null,"v",null,null,null,null,0,0,null,{"$f":"IF(Data_NaamPersoonVastOntslag292=\"\",\"\",Data_NaamPersoonVastOntslag292)","v":""},null,null,{"$f":"IF(Data_BeeindigingsdatumVastOntslag292=\"\",\"\",Data_BeeindigingsdatumVastOntslag292)","v":""},null,null,{"$f":"IF(Data_LoonkostenVastOntslag292=\"\",\"\",Data_LoonkostenVastOntslag292)","v":""},null,{"$f":"IF(Data_PersoonAanUitVastOntslag292=-1,\"v\",\"\")","v":""},null,"v",null,null,null,null,0,0]
[null,null,null,null,null,null,null,{"$f":"IF(Data_NaamPersoonNatVerloop293=\"\",\"\",Data_NaamPersoonNatVerloop293)","v":""},null,null,{"$f":"IF(Data_BeeindigingsdatumNatVerloop293=\"\",\"\",Data_BeeindigingsdatumNatVerloop293)","v":""},null,null,{"$f":"IF(Data_LoonkostenNatVerloop293=\"\",\"\",Data_LoonkostenNatVerloop293)","v":""},null,"v",null,"v",null,null,null,null,0,"",null,null,null,null,null,null,null,null,{"$f":"IF(Data_NaamPersoonTijd293=\"\",\"\",Data_NaamPersoonTijd293)","v":""},null,null,{"$f":"IF(Data_BeeindigingsdatumTijd293=\"\",\"\",Data_BeeindigingsdatumTijd293)","v":""},null,null,{"$f":"IF(Data_LoonkostenTijd293=\"\",\"\",Data_LoonkostenTijd293)","v":""},null,{"$f":"IF(Data_PersoonAanUitTijd293=-1,\"v\",\"\")","v":""},null,"v",null,null,null,null,0,0,null,null,null,{"$f":"IF(Data_NaamPersoonVastVrij293=\"\",\"\",Data_NaamPersoonVastVrij293)","v":""},null,null,{"$f":"IF(Data_BeeindigingsdatumVastVrij293=\"\",\"\",Data_BeeindigingsdatumVastVrij293)","v":""},null,null,{"$f":"IF(Data_LoonkostenVastVrij293=\"\",\"\",Data_LoonkostenVastVrij293)","v":""},null,{"$f":"IF(Data_PersoonAanUitVastVrij293=-1,\"v\",\"\")","v":""},null,"v",null,null,null,null,0,0,null,{"$f":"IF(Data_NaamPersoonVastOntslag293=\"\",\"\",Data_NaamPersoonVastOntslag293)","v":""},null,null,{"$f":"IF(Data_BeeindigingsdatumVastOntslag293=\"\",\"\",Data_BeeindigingsdatumVastOntslag293)","v":""},null,null,{"$f":"IF(Data_LoonkostenVastOntslag293=\"\",\"\",Data_LoonkostenVastOntslag293)","v":""},null,{"$f":"IF(Data_PersoonAanUitVastOntslag293=-1,\"v\",\"\")","v":""},null,"v",null,null,null,null,0,0]
[null,null,null,null,null,null,null,{"$f":"IF(Data_NaamPersoonNatVerloop294=\"\",\"\",Data_NaamPersoonNatVerloop294)","v":""},null,null,{"$f":"IF(Data_BeeindigingsdatumNatVerloop294=\"\",\"\",Data_BeeindigingsdatumNatVerloop294)","v":""},null,null,{"$f":"IF(Data_LoonkostenNatVerloop294=\"\",\"\",Data_LoonkostenNatVerloop294)","v":""},null,"v",null,"v",null,null,null,null,0,"",null,null,null,null,null,null,null,null,{"$f":"IF(Data_NaamPersoonTijd294=\"\",\"\",Data_NaamPersoonTijd294)","v":""},null,null,{"$f":"IF(Data_BeeindigingsdatumTijd294=\"\",\"\",Data_BeeindigingsdatumTijd294)","v":""},null,null,{"$f":"IF(Data_LoonkostenTijd294=\"\",\"\",Data_LoonkostenTijd294)","v":""},null,{"$f":"IF(Data_PersoonAanUitTijd294=-1,\"v\",\"\")","v":""},null,"v",null,null,null,null,0,0,null,null,null,{"$f":"IF(Data_NaamPersoonVastVrij294=\"\",\"\",Data_NaamPersoonVastVrij294)","v":""},null,null,{"$f":"IF(Data_BeeindigingsdatumVastVrij294=\"\",\"\",Data_BeeindigingsdatumVastVrij294)","v":""},null,null,{"$f":"IF(Data_LoonkostenVastVrij294=\"\",\"\",Data_LoonkostenVastVrij294)","v":""},null,{"$f":"IF(Data_PersoonAanUitVastVrij294=-1,\"v\",\"\")","v":""},null,"v",null,null,null,null,0,0,null,{"$f":"IF(Data_NaamPersoonVastOntslag294=\"\",\"\",Data_NaamPersoonVastOntslag294)","v":""},null,null,{"$f":"IF(Data_BeeindigingsdatumVastOntslag294=\"\",\"\",Data_BeeindigingsdatumVastOntslag294)","v":""},null,null,{"$f":"IF(Data_LoonkostenVastOntslag294=\"\",\"\",Data_LoonkostenVastOntslag294)","v":""},null,{"$f":"IF(Data_PersoonAanUitVastOntslag294=-1,\"v\",\"\")","v":""},null,"v",null,null,null,null,0,0]
[null,null,null,null,null,null,null,{"$f":"IF(Data_NaamPersoonNatVerloop295=\"\",\"\",Data_NaamPersoonNatVerloop295)","v":""},null,null,{"$f":"IF(Data_BeeindigingsdatumNatVerloop295=\"\",\"\",Data_BeeindigingsdatumNatVerloop295)","v":""},null,null,{"$f":"IF(Data_LoonkostenNatVerloop295=\"\",\"\",Data_LoonkostenNatVerloop295)","v":""},null,"v",null,"v",null,null,null,null,0,"",null,null,null,null,null,null,null,null,{"$f":"IF(Data_NaamPersoonTijd295=\"\",\"\",Data_NaamPersoonTijd295)","v":""},null,null,{"$f":"IF(Data_BeeindigingsdatumTijd295=\"\",\"\",Data_BeeindigingsdatumTijd295)","v":""},null,null,{"$f":"IF(Data_LoonkostenTijd295=\"\",\"\",Data_LoonkostenTijd295)","v":""},null,{"$f":"IF(Data_PersoonAanUitTijd295=-1,\"v\",\"\")","v":""},null,"v",null,null,null,null,0,0,null,null,null,{"$f":"IF(Data_NaamPersoonVastVrij295=\"\",\"\",Data_NaamPersoonVastVrij295)","v":""},null,null,{"$f":"IF(Data_BeeindigingsdatumVastVrij295=\"\",\"\",Data_BeeindigingsdatumVastVrij295)","v":""},null,null,{"$f":"IF(Data_LoonkostenVastVrij295=\"\",\"\",Data_LoonkostenVastVrij295)","v":""},null,{"$f":"IF(Data_PersoonAanUitVastVrij295=-1,\"v\",\"\")","v":""},null,"v",null,null,null,null,0,0,null,{"$f":"IF(Data_NaamPersoonVastOntslag295=\"\",\"\",Data_NaamPersoonVastOntslag295)","v":""},null,null,{"$f":"IF(Data_BeeindigingsdatumVastOntslag295=\"\",\"\",Data_BeeindigingsdatumVastOntslag295)","v":""},null,null,{"$f":"IF(Data_LoonkostenVastOntslag295=\"\",\"\",Data_LoonkostenVastOntslag295)","v":""},null,{"$f":"IF(Data_PersoonAanUitVastOntslag295=-1,\"v\",\"\")","v":""},null,"v",null,null,null,null,0,0]
[null,null,null,null,null,null,null,{"$f":"IF(Data_NaamPersoonNatVerloop296=\"\",\"\",Data_NaamPersoonNatVerloop296)","v":""},null,null,{"$f":"IF(Data_BeeindigingsdatumNatVerloop296=\"\",\"\",Data_BeeindigingsdatumNatVerloop296)","v":""},null,null,{"$f":"IF(Data_LoonkostenNatVerloop296=\"\",\"\",Data_LoonkostenNatVerloop296)","v":""},null,"v",null,"v",null,null,null,null,0,"",null,null,null,null,null,null,null,null,{"$f":"IF(Data_NaamPersoonTijd296=\"\",\"\",Data_NaamPersoonTijd296)","v":""},null,null,{"$f":"IF(Data_BeeindigingsdatumTijd296=\"\",\"\",Data_BeeindigingsdatumTijd296)","v":""},null,null,{"$f":"IF(Data_LoonkostenTijd296=\"\",\"\",Data_LoonkostenTijd296)","v":""},null,{"$f":"IF(Data_PersoonAanUitTijd296=-1,\"v\",\"\")","v":""},null,"v",null,null,null,null,0,0,null,null,null,{"$f":"IF(Data_NaamPersoonVastVrij296=\"\",\"\",Data_NaamPersoonVastVrij296)","v":""},null,null,{"$f":"IF(Data_BeeindigingsdatumVastVrij296=\"\",\"\",Data_BeeindigingsdatumVastVrij296)","v":""},null,null,{"$f":"IF(Data_LoonkostenVastVrij296=\"\",\"\",Data_LoonkostenVastVrij296)","v":""},null,{"$f":"IF(Data_PersoonAanUitVastVrij296=-1,\"v\",\"\")","v":""},null,"v",null,null,null,null,0,0,null,{"$f":"IF(Data_NaamPersoonVastOntslag296=\"\",\"\",Data_NaamPersoonVastOntslag296)","v":""},null,null,{"$f":"IF(Data_BeeindigingsdatumVastOntslag296=\"\",\"\",Data_BeeindigingsdatumVastOntslag296)","v":""},null,null,{"$f":"IF(Data_LoonkostenVastOntslag296=\"\",\"\",Data_LoonkostenVastOntslag296)","v":""},null,{"$f":"IF(Data_PersoonAanUitVastOntslag296=-1,\"v\",\"\")","v":""},null,"v",null,null,null,null,0,0]
[null,null,null,null,null,null,null,{"$f":"IF(Data_NaamPersoonNatVerloop297=\"\",\"\",Data_NaamPersoonNatVerloop297)","v":""},null,null,{"$f":"IF(Data_BeeindigingsdatumNatVerloop297=\"\",\"\",Data_BeeindigingsdatumNatVerloop297)","v":""},null,null,{"$f":"IF(Data_LoonkostenNatVerloop297=\"\",\"\",Data_LoonkostenNatVerloop297)","v":""},null,"v",null,"v",null,null,null,null,0,"",null,null,null,null,null,null,null,null,{"$f":"IF(Data_NaamPersoonTijd297=\"\",\"\",Data_NaamPersoonTijd297)","v":""},null,null,{"$f":"IF(Data_BeeindigingsdatumTijd297=\"\",\"\",Data_BeeindigingsdatumTijd297)","v":""},null,null,{"$f":"IF(Data_LoonkostenTijd297=\"\",\"\",Data_LoonkostenTijd297)","v":""},null,{"$f":"IF(Data_PersoonAanUitTijd297=-1,\"v\",\"\")","v":""},null,"v",null,null,null,null,0,0,null,null,null,{"$f":"IF(Data_NaamPersoonVastVrij297=\"\",\"\",Data_NaamPersoonVastVrij297)","v":""},null,null,{"$f":"IF(Data_BeeindigingsdatumVastVrij297=\"\",\"\",Data_BeeindigingsdatumVastVrij297)","v":""},null,null,{"$f":"IF(Data_LoonkostenVastVrij297=\"\",\"\",Data_LoonkostenVastVrij297)","v":""},null,{"$f":"IF(Data_PersoonAanUitVastVrij297=-1,\"v\",\"\")","v":""},null,"v",null,null,null,null,0,0,null,{"$f":"IF(Data_NaamPersoonVastOntslag297=\"\",\"\",Data_NaamPersoonVastOntslag297)","v":""},null,null,{"$f":"IF(Data_BeeindigingsdatumVastOntslag297=\"\",\"\",Data_BeeindigingsdatumVastOntslag297)","v":""},null,null,{"$f":"IF(Data_LoonkostenVastOntslag297=\"\",\"\",Data_LoonkostenVastOntslag297)","v":""},null,{"$f":"IF(Data_PersoonAanUitVastOntslag297=-1,\"v\",\"\")","v":""},null,"v",null,null,null,null,0,0]
[null,null,null,null,null,null,null,{"$f":"IF(Data_NaamPersoonNatVerloop298=\"\",\"\",Data_NaamPersoonNatVerloop298)","v":""},null,null,{"$f":"IF(Data_BeeindigingsdatumNatVerloop298=\"\",\"\",Data_BeeindigingsdatumNatVerloop298)","v":""},null,null,{"$f":"IF(Data_LoonkostenNatVerloop298=\"\",\"\",Data_LoonkostenNatVerloop298)","v":""},null,"v",null,"v",null,null,null,null,0,"",null,null,null,null,null,null,null,null,{"$f":"IF(Data_NaamPersoonTijd298=\"\",\"\",Data_NaamPersoonTijd298)","v":""},null,null,{"$f":"IF(Data_BeeindigingsdatumTijd298=\"\",\"\",Data_BeeindigingsdatumTijd298)","v":""},null,null,{"$f":"IF(Data_LoonkostenTijd298=\"\",\"\",Data_LoonkostenTijd298)","v":""},null,{"$f":"IF(Data_PersoonAanUitTijd298=-1,\"v\",\"\")","v":""},null,"v",null,null,null,null,0,0,null,null,null,{"$f":"IF(Data_NaamPersoonVastVrij298=\"\",\"\",Data_NaamPersoonVastVrij298)","v":""},null,null,{"$f":"IF(Data_BeeindigingsdatumVastVrij298=\"\",\"\",Data_BeeindigingsdatumVastVrij298)","v":""},null,null,{"$f":"IF(Data_LoonkostenVastVrij298=\"\",\"\",Data_LoonkostenVastVrij298)","v":""},null,{"$f":"IF(Data_PersoonAanUitVastVrij298=-1,\"v\",\"\")","v":""},null,"v",null,null,null,null,0,0,null,{"$f":"IF(Data_NaamPersoonVastOntslag298=\"\",\"\",Data_NaamPersoonVastOntslag298)","v":""},null,null,{"$f":"IF(Data_BeeindigingsdatumVastOntslag298=\"\",\"\",Data_BeeindigingsdatumVastOntslag298)","v":""},null,null,{"$f":"IF(Data_LoonkostenVastOntslag298=\"\",\"\",Data_LoonkostenVastOntslag298)","v":""},null,{"$f":"IF(Data_PersoonAanUitVastOntslag298=-1,\"v\",\"\")","v":""},null,"v",null,null,null,null,0,0]
[null,null,null,null,null,null,null,{"$f":"IF(Data_NaamPersoonNatVerloop299=\"\",\"\",Data_NaamPersoonNatVerloop299)","v":""},null,null,{"$f":"IF(Data_BeeindigingsdatumNatVerloop299=\"\",\"\",Data_BeeindigingsdatumNatVerloop299)","v":""},null,null,{"$f":"IF(Data_LoonkostenNatVerloop299=\"\",\"\",Data_LoonkostenNatVerloop299)","v":""},null,"v",null,"v",null,null,null,null,0,"",null,null,null,null,null,null,null,null,{"$f":"IF(Data_NaamPersoonTijd299=\"\",\"\",Data_NaamPersoonTijd299)","v":""},null,null,{"$f":"IF(Data_BeeindigingsdatumTijd299=\"\",\"\",Data_BeeindigingsdatumTijd299)","v":""},null,null,{"$f":"IF(Data_LoonkostenTijd299=\"\",\"\",Data_LoonkostenTijd299)","v":""},null,{"$f":"IF(Data_PersoonAanUitTijd299=-1,\"v\",\"\")","v":""},null,"v",null,null,null,null,0,0,null,null,null,{"$f":"IF(Data_NaamPersoonVastVrij299=\"\",\"\",Data_NaamPersoonVastVrij299)","v":""},null,null,{"$f":"IF(Data_BeeindigingsdatumVastVrij299=\"\",\"\",Data_BeeindigingsdatumVastVrij299)","v":""},null,null,{"$f":"IF(Data_LoonkostenVastVrij299=\"\",\"\",Data_LoonkostenVastVrij299)","v":""},null,{"$f":"IF(Data_PersoonAanUitVastVrij299=-1,\"v\",\"\")","v":""},null,"v",null,null,null,null,0,0,null,{"$f":"IF(Data_NaamPersoonVastOntslag299=\"\",\"\",Data_NaamPersoonVastOntslag299)","v":""},null,null,{"$f":"IF(Data_BeeindigingsdatumVastOntslag299=\"\",\"\",Data_BeeindigingsdatumVastOntslag299)","v":""},null,null,{"$f":"IF(Data_LoonkostenVastOntslag299=\"\",\"\",Data_LoonkostenVastOntslag299)","v":""},null,{"$f":"IF(Data_PersoonAanUitVastOntslag299=-1,\"v\",\"\")","v":""},null,"v",null,null,null,null,0,0]
[null,null,null,null,null,null,null,{"$f":"IF(Data_NaamPersoonNatVerloop300=\"\",\"\",Data_NaamPersoonNatVerloop300)","v":""},null,null,{"$f":"IF(Data_BeeindigingsdatumNatVerloop300=\"\",\"\",Data_BeeindigingsdatumNatVerloop300)","v":""},null,null,{"$f":"IF(Data_LoonkostenNatVerloop300=\"\",\"\",Data_LoonkostenNatVerloop300)","v":""},null,"v",null,"v",null,null,null,null,0,"",null,null,null,null,null,null,null,null,{"$f":"IF(Data_NaamPersoonTijd300=\"\",\"\",Data_NaamPersoonTijd300)","v":""},null,null,{"$f":"IF(Data_BeeindigingsdatumTijd300=\"\",\"\",Data_BeeindigingsdatumTijd300)","v":""},null,null,{"$f":"IF(Data_LoonkostenTijd300=\"\",\"\",Data_LoonkostenTijd300)","v":""},null,{"$f":"IF(Data_PersoonAanUitTijd300=-1,\"v\",\"\")","v":""},null,"v",null,null,null,null,0,0,null,null,null,{"$f":"IF(Data_NaamPersoonVastVrij300=\"\",\"\",Data_NaamPersoonVastVrij300)","v":""},null,null,{"$f":"IF(Data_BeeindigingsdatumVastVrij300=\"\",\"\",Data_BeeindigingsdatumVastVrij300)","v":""},null,null,{"$f":"IF(Data_LoonkostenVastVrij300=\"\",\"\",Data_LoonkostenVastVrij300)","v":""},null,{"$f":"IF(Data_PersoonAanUitVastVrij300=-1,\"v\",\"\")","v":""},null,"v",null,null,null,null,0,0,null,{"$f":"IF(Data_NaamPersoonVastOntslag300=\"\",\"\",Data_NaamPersoonVastOntslag300)","v":""},null,null,{"$f":"IF(Data_BeeindigingsdatumVastOntslag300=\"\",\"\",Data_BeeindigingsdatumVastOntslag300)","v":""},null,null,{"$f":"IF(Data_LoonkostenVastOntslag300=\"\",\"\",Data_LoonkostenVastOntslag300)","v":""},null,{"$f":"IF(Data_PersoonAanUitVastOntslag300=-1,\"v\",\"\")","v":""},null,"v",null,null,null,null,0,0]
[null,null,null,null,null,null,null,{"$f":"IF(Data_NaamPersoonNatVerloop301=\"\",\"\",Data_NaamPersoonNatVerloop301)","v":""},null,null,{"$f":"IF(Data_BeeindigingsdatumNatVerloop301=\"\",\"\",Data_BeeindigingsdatumNatVerloop301)","v":""},null,null,{"$f":"IF(Data_LoonkostenNatVerloop301=\"\",\"\",Data_LoonkostenNatVerloop301)","v":""},null,"v",null,"v",null,null,null,null,0,"",null,null,null,null,null,null,null,null,{"$f":"IF(Data_NaamPersoonTijd301=\"\",\"\",Data_NaamPersoonTijd301)","v":""},null,null,{"$f":"IF(Data_BeeindigingsdatumTijd301=\"\",\"\",Data_BeeindigingsdatumTijd301)","v":""},null,null,{"$f":"IF(Data_LoonkostenTijd301=\"\",\"\",Data_LoonkostenTijd301)","v":""},null,{"$f":"IF(Data_PersoonAanUitTijd301=-1,\"v\",\"\")","v":""},null,"v",null,null,null,null,0,0,null,null,null,{"$f":"IF(Data_NaamPersoonVastVrij301=\"\",\"\",Data_NaamPersoonVastVrij301)","v":""},null,null,{"$f":"IF(Data_BeeindigingsdatumVastVrij301=\"\",\"\",Data_BeeindigingsdatumVastVrij301)","v":""},null,null,{"$f":"IF(Data_LoonkostenVastVrij301=\"\",\"\",Data_LoonkostenVastVrij301)","v":""},null,{"$f":"IF(Data_PersoonAanUitVastVrij301=-1,\"v\",\"\")","v":""},null,"v",null,null,null,null,0,0,null,{"$f":"IF(Data_NaamPersoonVastOntslag301=\"\",\"\",Data_NaamPersoonVastOntslag301)","v":""},null,null,{"$f":"IF(Data_BeeindigingsdatumVastOntslag301=\"\",\"\",Data_BeeindigingsdatumVastOntslag301)","v":""},null,null,{"$f":"IF(Data_LoonkostenVastOntslag301=\"\",\"\",Data_LoonkostenVastOntslag301)","v":""},null,{"$f":"IF(Data_PersoonAanUitVastOntslag301=-1,\"v\",\"\")","v":""},null,"v",null,null,null,null,0,0]
[null,null,null,null,null,null,null,{"$f":"IF(Data_NaamPersoonNatVerloop302=\"\",\"\",Data_NaamPersoonNatVerloop302)","v":""},null,null,{"$f":"IF(Data_BeeindigingsdatumNatVerloop302=\"\",\"\",Data_BeeindigingsdatumNatVerloop302)","v":""},null,null,{"$f":"IF(Data_LoonkostenNatVerloop302=\"\",\"\",Data_LoonkostenNatVerloop302)","v":""},null,"v",null,"v",null,null,null,null,0,"",null,null,null,null,null,null,null,null,{"$f":"IF(Data_NaamPersoonTijd302=\"\",\"\",Data_NaamPersoonTijd302)","v":""},null,null,{"$f":"IF(Data_BeeindigingsdatumTijd302=\"\",\"\",Data_BeeindigingsdatumTijd302)","v":""},null,null,{"$f":"IF(Data_LoonkostenTijd302=\"\",\"\",Data_LoonkostenTijd302)","v":""},null,{"$f":"IF(Data_PersoonAanUitTijd302=-1,\"v\",\"\")","v":""},null,"v",null,null,null,null,0,0,null,null,null,{"$f":"IF(Data_NaamPersoonVastVrij302=\"\",\"\",Data_NaamPersoonVastVrij302)","v":""},null,null,{"$f":"IF(Data_BeeindigingsdatumVastVrij302=\"\",\"\",Data_BeeindigingsdatumVastVrij302)","v":""},null,null,{"$f":"IF(Data_LoonkostenVastVrij302=\"\",\"\",Data_LoonkostenVastVrij302)","v":""},null,{"$f":"IF(Data_PersoonAanUitVastVrij302=-1,\"v\",\"\")","v":""},null,"v",null,null,null,null,0,0,null,{"$f":"IF(Data_NaamPersoonVastOntslag302=\"\",\"\",Data_NaamPersoonVastOntslag302)","v":""},null,null,{"$f":"IF(Data_BeeindigingsdatumVastOntslag302=\"\",\"\",Data_BeeindigingsdatumVastOntslag302)","v":""},null,null,{"$f":"IF(Data_LoonkostenVastOntslag302=\"\",\"\",Data_LoonkostenVastOntslag302)","v":""},null,{"$f":"IF(Data_PersoonAanUitVastOntslag302=-1,\"v\",\"\")","v":""},null,"v",null,null,null,null,0,0]
[null,null,null,null,null,null,null,{"$f":"IF(Data_NaamPersoonNatVerloop303=\"\",\"\",Data_NaamPersoonNatVerloop303)","v":""},null,null,{"$f":"IF(Data_BeeindigingsdatumNatVerloop303=\"\",\"\",Data_BeeindigingsdatumNatVerloop303)","v":""},null,null,{"$f":"IF(Data_LoonkostenNatVerloop303=\"\",\"\",Data_LoonkostenNatVerloop303)","v":""},null,"v",null,"v",null,null,null,null,0,"",null,null,null,null,null,null,null,null,{"$f":"IF(Data_NaamPersoonTijd303=\"\",\"\",Data_NaamPersoonTijd303)","v":""},null,null,{"$f":"IF(Data_BeeindigingsdatumTijd303=\"\",\"\",Data_BeeindigingsdatumTijd303)","v":""},null,null,{"$f":"IF(Data_LoonkostenTijd303=\"\",\"\",Data_LoonkostenTijd303)","v":""},null,{"$f":"IF(Data_PersoonAanUitTijd303=-1,\"v\",\"\")","v":""},null,"v",null,null,null,null,0,0,null,null,null,{"$f":"IF(Data_NaamPersoonVastVrij303=\"\",\"\",Data_NaamPersoonVastVrij303)","v":""},null,null,{"$f":"IF(Data_BeeindigingsdatumVastVrij303=\"\",\"\",Data_BeeindigingsdatumVastVrij303)","v":""},null,null,{"$f":"IF(Data_LoonkostenVastVrij303=\"\",\"\",Data_LoonkostenVastVrij303)","v":""},null,{"$f":"IF(Data_PersoonAanUitVastVrij303=-1,\"v\",\"\")","v":""},null,"v",null,null,null,null,0,0,null,{"$f":"IF(Data_NaamPersoonVastOntslag303=\"\",\"\",Data_NaamPersoonVastOntslag303)","v":""},null,null,{"$f":"IF(Data_BeeindigingsdatumVastOntslag303=\"\",\"\",Data_BeeindigingsdatumVastOntslag303)","v":""},null,null,{"$f":"IF(Data_LoonkostenVastOntslag303=\"\",\"\",Data_LoonkostenVastOntslag303)","v":""},null,{"$f":"IF(Data_PersoonAanUitVastOntslag303=-1,\"v\",\"\")","v":""},null,"v",null,null,null,null,0,0]
[null,null,null,null,null,null,null,{"$f":"IF(Data_NaamPersoonNatVerloop304=\"\",\"\",Data_NaamPersoonNatVerloop304)","v":""},null,null,{"$f":"IF(Data_BeeindigingsdatumNatVerloop304=\"\",\"\",Data_BeeindigingsdatumNatVerloop304)","v":""},null,null,{"$f":"IF(Data_LoonkostenNatVerloop304=\"\",\"\",Data_LoonkostenNatVerloop304)","v":""},null,"v",null,"v",null,null,null,null,0,"",null,null,null,null,null,null,null,null,{"$f":"IF(Data_NaamPersoonTijd304=\"\",\"\",Data_NaamPersoonTijd304)","v":""},null,null,{"$f":"IF(Data_BeeindigingsdatumTijd304=\"\",\"\",Data_BeeindigingsdatumTijd304)","v":""},null,null,{"$f":"IF(Data_LoonkostenTijd304=\"\",\"\",Data_LoonkostenTijd304)","v":""},null,{"$f":"IF(Data_PersoonAanUitTijd304=-1,\"v\",\"\")","v":""},null,"v",null,null,null,null,0,0,null,null,null,{"$f":"IF(Data_NaamPersoonVastVrij304=\"\",\"\",Data_NaamPersoonVastVrij304)","v":""},null,null,{"$f":"IF(Data_BeeindigingsdatumVastVrij304=\"\",\"\",Data_BeeindigingsdatumVastVrij304)","v":""},null,null,{"$f":"IF(Data_LoonkostenVastVrij304=\"\",\"\",Data_LoonkostenVastVrij304)","v":""},null,{"$f":"IF(Data_PersoonAanUitVastVrij304=-1,\"v\",\"\")","v":""},null,"v",null,null,null,null,0,0,null,{"$f":"IF(Data_NaamPersoonVastOntslag304=\"\",\"\",Data_NaamPersoonVastOntslag304)","v":""},null,null,{"$f":"IF(Data_BeeindigingsdatumVastOntslag304=\"\",\"\",Data_BeeindigingsdatumVastOntslag304)","v":""},null,null,{"$f":"IF(Data_LoonkostenVastOntslag304=\"\",\"\",Data_LoonkostenVastOntslag304)","v":""},null,{"$f":"IF(Data_PersoonAanUitVastOntslag304=-1,\"v\",\"\")","v":""},null,"v",null,null,null,null,0,0]
[null,null,null,null,null,null,null,{"$f":"IF(Data_NaamPersoonNatVerloop305=\"\",\"\",Data_NaamPersoonNatVerloop305)","v":""},null,null,{"$f":"IF(Data_BeeindigingsdatumNatVerloop305=\"\",\"\",Data_BeeindigingsdatumNatVerloop305)","v":""},null,null,{"$f":"IF(Data_LoonkostenNatVerloop305=\"\",\"\",Data_LoonkostenNatVerloop305)","v":""},null,"v",null,"v",null,null,null,null,0,"",null,null,null,null,null,null,null,null,{"$f":"IF(Data_NaamPersoonTijd305=\"\",\"\",Data_NaamPersoonTijd305)","v":""},null,null,{"$f":"IF(Data_BeeindigingsdatumTijd305=\"\",\"\",Data_BeeindigingsdatumTijd305)","v":""},null,null,{"$f":"IF(Data_LoonkostenTijd305=\"\",\"\",Data_LoonkostenTijd305)","v":""},null,{"$f":"IF(Data_PersoonAanUitTijd305=-1,\"v\",\"\")","v":""},null,"v",null,null,null,null,0,0,null,null,null,{"$f":"IF(Data_NaamPersoonVastVrij305=\"\",\"\",Data_NaamPersoonVastVrij305)","v":""},null,null,{"$f":"IF(Data_BeeindigingsdatumVastVrij305=\"\",\"\",Data_BeeindigingsdatumVastVrij305)","v":""},null,null,{"$f":"IF(Data_LoonkostenVastVrij305=\"\",\"\",Data_LoonkostenVastVrij305)","v":""},null,{"$f":"IF(Data_PersoonAanUitVastVrij305=-1,\"v\",\"\")","v":""},null,"v",null,null,null,null,0,0,null,{"$f":"IF(Data_NaamPersoonVastOntslag305=\"\",\"\",Data_NaamPersoonVastOntslag305)","v":""},null,null,{"$f":"IF(Data_BeeindigingsdatumVastOntslag305=\"\",\"\",Data_BeeindigingsdatumVastOntslag305)","v":""},null,null,{"$f":"IF(Data_LoonkostenVastOntslag305=\"\",\"\",Data_LoonkostenVastOntslag305)","v":""},null,{"$f":"IF(Data_PersoonAanUitVastOntslag305=-1,\"v\",\"\")","v":""},null,"v",null,null,null,null,0,0]
[null,null,null,null,null,null,null,{"$f":"IF(Data_NaamPersoonNatVerloop306=\"\",\"\",Data_NaamPersoonNatVerloop306)","v":""},null,null,{"$f":"IF(Data_BeeindigingsdatumNatVerloop306=\"\",\"\",Data_BeeindigingsdatumNatVerloop306)","v":""},null,null,{"$f":"IF(Data_LoonkostenNatVerloop306=\"\",\"\",Data_LoonkostenNatVerloop306)","v":""},null,"v",null,"v",null,null,null,null,0,"",null,null,null,null,null,null,null,null,{"$f":"IF(Data_NaamPersoonTijd306=\"\",\"\",Data_NaamPersoonTijd306)","v":""},null,null,{"$f":"IF(Data_BeeindigingsdatumTijd306=\"\",\"\",Data_BeeindigingsdatumTijd306)","v":""},null,null,{"$f":"IF(Data_LoonkostenTijd306=\"\",\"\",Data_LoonkostenTijd306)","v":""},null,{"$f":"IF(Data_PersoonAanUitTijd306=-1,\"v\",\"\")","v":""},null,"v",null,null,null,null,0,0,null,null,null,{"$f":"IF(Data_NaamPersoonVastVrij306=\"\",\"\",Data_NaamPersoonVastVrij306)","v":""},null,null,{"$f":"IF(Data_BeeindigingsdatumVastVrij306=\"\",\"\",Data_BeeindigingsdatumVastVrij306)","v":""},null,null,{"$f":"IF(Data_LoonkostenVastVrij306=\"\",\"\",Data_LoonkostenVastVrij306)","v":""},null,{"$f":"IF(Data_PersoonAanUitVastVrij306=-1,\"v\",\"\")","v":""},null,"v",null,null,null,null,0,0,null,{"$f":"IF(Data_NaamPersoonVastOntslag306=\"\",\"\",Data_NaamPersoonVastOntslag306)","v":""},null,null,{"$f":"IF(Data_BeeindigingsdatumVastOntslag306=\"\",\"\",Data_BeeindigingsdatumVastOntslag306)","v":""},null,null,{"$f":"IF(Data_LoonkostenVastOntslag306=\"\",\"\",Data_LoonkostenVastOntslag306)","v":""},null,{"$f":"IF(Data_PersoonAanUitVastOntslag306=-1,\"v\",\"\")","v":""},null,"v",null,null,null,null,0,0]
[null,null,null,null,null,null,null,{"$f":"IF(Data_NaamPersoonNatVerloop307=\"\",\"\",Data_NaamPersoonNatVerloop307)","v":""},null,null,{"$f":"IF(Data_BeeindigingsdatumNatVerloop307=\"\",\"\",Data_BeeindigingsdatumNatVerloop307)","v":""},null,null,{"$f":"IF(Data_LoonkostenNatVerloop307=\"\",\"\",Data_LoonkostenNatVerloop307)","v":""},null,"v",null,"v",null,null,null,null,0,"",null,null,null,null,null,null,null,null,{"$f":"IF(Data_NaamPersoonTijd307=\"\",\"\",Data_NaamPersoonTijd307)","v":""},null,null,{"$f":"IF(Data_BeeindigingsdatumTijd307=\"\",\"\",Data_BeeindigingsdatumTijd307)","v":""},null,null,{"$f":"IF(Data_LoonkostenTijd307=\"\",\"\",Data_LoonkostenTijd307)","v":""},null,{"$f":"IF(Data_PersoonAanUitTijd307=-1,\"v\",\"\")","v":""},null,"v",null,null,null,null,0,0,null,null,null,{"$f":"IF(Data_NaamPersoonVastVrij307=\"\",\"\",Data_NaamPersoonVastVrij307)","v":""},null,null,{"$f":"IF(Data_BeeindigingsdatumVastVrij307=\"\",\"\",Data_BeeindigingsdatumVastVrij307)","v":""},null,null,{"$f":"IF(Data_LoonkostenVastVrij307=\"\",\"\",Data_LoonkostenVastVrij307)","v":""},null,{"$f":"IF(Data_PersoonAanUitVastVrij307=-1,\"v\",\"\")","v":""},null,"v",null,null,null,null,0,0,null,{"$f":"IF(Data_NaamPersoonVastOntslag307=\"\",\"\",Data_NaamPersoonVastOntslag307)","v":""},null,null,{"$f":"IF(Data_BeeindigingsdatumVastOntslag307=\"\",\"\",Data_BeeindigingsdatumVastOntslag307)","v":""},null,null,{"$f":"IF(Data_LoonkostenVastOntslag307=\"\",\"\",Data_LoonkostenVastOntslag307)","v":""},null,{"$f":"IF(Data_PersoonAanUitVastOntslag307=-1,\"v\",\"\")","v":""},null,"v",null,null,null,null,0,0]
[null,null,null,null,null,null,null,{"$f":"IF(Data_NaamPersoonNatVerloop308=\"\",\"\",Data_NaamPersoonNatVerloop308)","v":""},null,null,{"$f":"IF(Data_BeeindigingsdatumNatVerloop308=\"\",\"\",Data_BeeindigingsdatumNatVerloop308)","v":""},null,null,{"$f":"IF(Data_LoonkostenNatVerloop308=\"\",\"\",Data_LoonkostenNatVerloop308)","v":""},null,"v",null,"v",null,null,null,null,0,"",null,null,null,null,null,null,null,null,{"$f":"IF(Data_NaamPersoonTijd308=\"\",\"\",Data_NaamPersoonTijd308)","v":""},null,null,{"$f":"IF(Data_BeeindigingsdatumTijd308=\"\",\"\",Data_BeeindigingsdatumTijd308)","v":""},null,null,{"$f":"IF(Data_LoonkostenTijd308=\"\",\"\",Data_LoonkostenTijd308)","v":""},null,{"$f":"IF(Data_PersoonAanUitTijd308=-1,\"v\",\"\")","v":""},null,"v",null,null,null,null,0,0,null,null,null,{"$f":"IF(Data_NaamPersoonVastVrij308=\"\",\"\",Data_NaamPersoonVastVrij308)","v":""},null,null,{"$f":"IF(Data_BeeindigingsdatumVastVrij308=\"\",\"\",Data_BeeindigingsdatumVastVrij308)","v":""},null,null,{"$f":"IF(Data_LoonkostenVastVrij308=\"\",\"\",Data_LoonkostenVastVrij308)","v":""},null,{"$f":"IF(Data_PersoonAanUitVastVrij308=-1,\"v\",\"\")","v":""},null,"v",null,null,null,null,0,0,null,{"$f":"IF(Data_NaamPersoonVastOntslag308=\"\",\"\",Data_NaamPersoonVastOntslag308)","v":""},null,null,{"$f":"IF(Data_BeeindigingsdatumVastOntslag308=\"\",\"\",Data_BeeindigingsdatumVastOntslag308)","v":""},null,null,{"$f":"IF(Data_LoonkostenVastOntslag308=\"\",\"\",Data_LoonkostenVastOntslag308)","v":""},null,{"$f":"IF(Data_PersoonAanUitVastOntslag308=-1,\"v\",\"\")","v":""},null,"v",null,null,null,null,0,0]
[null,null,null,null,null,null,null,{"$f":"IF(Data_NaamPersoonNatVerloop309=\"\",\"\",Data_NaamPersoonNatVerloop309)","v":""},null,null,{"$f":"IF(Data_BeeindigingsdatumNatVerloop309=\"\",\"\",Data_BeeindigingsdatumNatVerloop309)","v":""},null,null,{"$f":"IF(Data_LoonkostenNatVerloop309=\"\",\"\",Data_LoonkostenNatVerloop309)","v":""},null,"v",null,"v",null,null,null,null,0,"",null,null,null,null,null,null,null,null,{"$f":"IF(Data_NaamPersoonTijd309=\"\",\"\",Data_NaamPersoonTijd309)","v":""},null,null,{"$f":"IF(Data_BeeindigingsdatumTijd309=\"\",\"\",Data_BeeindigingsdatumTijd309)","v":""},null,null,{"$f":"IF(Data_LoonkostenTijd309=\"\",\"\",Data_LoonkostenTijd309)","v":""},null,{"$f":"IF(Data_PersoonAanUitTijd309=-1,\"v\",\"\")","v":""},null,"v",null,null,null,null,0,0,null,null,null,{"$f":"IF(Data_NaamPersoonVastVrij309=\"\",\"\",Data_NaamPersoonVastVrij309)","v":""},null,null,{"$f":"IF(Data_BeeindigingsdatumVastVrij309=\"\",\"\",Data_BeeindigingsdatumVastVrij309)","v":""},null,null,{"$f":"IF(Data_LoonkostenVastVrij309=\"\",\"\",Data_LoonkostenVastVrij309)","v":""},null,{"$f":"IF(Data_PersoonAanUitVastVrij309=-1,\"v\",\"\")","v":""},null,"v",null,null,null,null,0,0,null,{"$f":"IF(Data_NaamPersoonVastOntslag309=\"\",\"\",Data_NaamPersoonVastOntslag309)","v":""},null,null,{"$f":"IF(Data_BeeindigingsdatumVastOntslag309=\"\",\"\",Data_BeeindigingsdatumVastOntslag309)","v":""},null,null,{"$f":"IF(Data_LoonkostenVastOntslag309=\"\",\"\",Data_LoonkostenVastOntslag309)","v":""},null,{"$f":"IF(Data_PersoonAanUitVastOntslag309=-1,\"v\",\"\")","v":""},null,"v",null,null,null,null,0,0]
[null,null,null,null,null,null,null,{"$f":"IF(Data_NaamPersoonNatVerloop310=\"\",\"\",Data_NaamPersoonNatVerloop310)","v":""},null,null,{"$f":"IF(Data_BeeindigingsdatumNatVerloop310=\"\",\"\",Data_BeeindigingsdatumNatVerloop310)","v":""},null,null,{"$f":"IF(Data_LoonkostenNatVerloop310=\"\",\"\",Data_LoonkostenNatVerloop310)","v":""},null,"v",null,"v",null,null,null,null,0,"",null,null,null,null,null,null,null,null,{"$f":"IF(Data_NaamPersoonTijd310=\"\",\"\",Data_NaamPersoonTijd310)","v":""},null,null,{"$f":"IF(Data_BeeindigingsdatumTijd310=\"\",\"\",Data_BeeindigingsdatumTijd310)","v":""},null,null,{"$f":"IF(Data_LoonkostenTijd310=\"\",\"\",Data_LoonkostenTijd310)","v":""},null,{"$f":"IF(Data_PersoonAanUitTijd310=-1,\"v\",\"\")","v":""},null,"v",null,null,null,null,0,0,null,null,null,{"$f":"IF(Data_NaamPersoonVastVrij310=\"\",\"\",Data_NaamPersoonVastVrij310)","v":""},null,null,{"$f":"IF(Data_BeeindigingsdatumVastVrij310=\"\",\"\",Data_BeeindigingsdatumVastVrij310)","v":""},null,null,{"$f":"IF(Data_LoonkostenVastVrij310=\"\",\"\",Data_LoonkostenVastVrij310)","v":""},null,{"$f":"IF(Data_PersoonAanUitVastVrij310=-1,\"v\",\"\")","v":""},null,"v",null,null,null,null,0,0,null,{"$f":"IF(Data_NaamPersoonVastOntslag310=\"\",\"\",Data_NaamPersoonVastOntslag310)","v":""},null,null,{"$f":"IF(Data_BeeindigingsdatumVastOntslag310=\"\",\"\",Data_BeeindigingsdatumVastOntslag310)","v":""},null,null,{"$f":"IF(Data_LoonkostenVastOntslag310=\"\",\"\",Data_LoonkostenVastOntslag310)","v":""},null,{"$f":"IF(Data_PersoonAanUitVastOntslag310=-1,\"v\",\"\")","v":""},null,"v",null,null,null,null,0,0]
[null,null,null,null,null,null,null,{"$f":"IF(Data_NaamPersoonNatVerloop311=\"\",\"\",Data_NaamPersoonNatVerloop311)","v":""},null,null,{"$f":"IF(Data_BeeindigingsdatumNatVerloop311=\"\",\"\",Data_BeeindigingsdatumNatVerloop311)","v":""},null,null,{"$f":"IF(Data_LoonkostenNatVerloop311=\"\",\"\",Data_LoonkostenNatVerloop311)","v":""},null,"v",null,"v",null,null,null,null,0,"",null,null,null,null,null,null,null,null,{"$f":"IF(Data_NaamPersoonTijd311=\"\",\"\",Data_NaamPersoonTijd311)","v":""},null,null,{"$f":"IF(Data_BeeindigingsdatumTijd311=\"\",\"\",Data_BeeindigingsdatumTijd311)","v":""},null,null,{"$f":"IF(Data_LoonkostenTijd311=\"\",\"\",Data_LoonkostenTijd311)","v":""},null,{"$f":"IF(Data_PersoonAanUitTijd311=-1,\"v\",\"\")","v":""},null,"v",null,null,null,null,0,0,null,null,null,{"$f":"IF(Data_NaamPersoonVastVrij311=\"\",\"\",Data_NaamPersoonVastVrij311)","v":""},null,null,{"$f":"IF(Data_BeeindigingsdatumVastVrij311=\"\",\"\",Data_BeeindigingsdatumVastVrij311)","v":""},null,null,{"$f":"IF(Data_LoonkostenVastVrij311=\"\",\"\",Data_LoonkostenVastVrij311)","v":""},null,{"$f":"IF(Data_PersoonAanUitVastVrij311=-1,\"v\",\"\")","v":""},null,"v",null,null,null,null,0,0,null,{"$f":"IF(Data_NaamPersoonVastOntslag311=\"\",\"\",Data_NaamPersoonVastOntslag311)","v":""},null,null,{"$f":"IF(Data_BeeindigingsdatumVastOntslag311=\"\",\"\",Data_BeeindigingsdatumVastOntslag311)","v":""},null,null,{"$f":"IF(Data_LoonkostenVastOntslag311=\"\",\"\",Data_LoonkostenVastOntslag311)","v":""},null,{"$f":"IF(Data_PersoonAanUitVastOntslag311=-1,\"v\",\"\")","v":""},null,"v",null,null,null,null,0,0]
[null,null,null,null,null,null,null,{"$f":"IF(Data_NaamPersoonNatVerloop312=\"\",\"\",Data_NaamPersoonNatVerloop312)","v":""},null,null,{"$f":"IF(Data_BeeindigingsdatumNatVerloop312=\"\",\"\",Data_BeeindigingsdatumNatVerloop312)","v":""},null,null,{"$f":"IF(Data_LoonkostenNatVerloop312=\"\",\"\",Data_LoonkostenNatVerloop312)","v":""},null,"v",null,"v",null,null,null,null,0,"",null,null,null,null,null,null,null,null,{"$f":"IF(Data_NaamPersoonTijd312=\"\",\"\",Data_NaamPersoonTijd312)","v":""},null,null,{"$f":"IF(Data_BeeindigingsdatumTijd312=\"\",\"\",Data_BeeindigingsdatumTijd312)","v":""},null,null,{"$f":"IF(Data_LoonkostenTijd312=\"\",\"\",Data_LoonkostenTijd312)","v":""},null,{"$f":"IF(Data_PersoonAanUitTijd312=-1,\"v\",\"\")","v":""},null,"v",null,null,null,null,0,0,null,null,null,{"$f":"IF(Data_NaamPersoonVastVrij312=\"\",\"\",Data_NaamPersoonVastVrij312)","v":""},null,null,{"$f":"IF(Data_BeeindigingsdatumVastVrij312=\"\",\"\",Data_BeeindigingsdatumVastVrij312)","v":""},null,null,{"$f":"IF(Data_LoonkostenVastVrij312=\"\",\"\",Data_LoonkostenVastVrij312)","v":""},null,{"$f":"IF(Data_PersoonAanUitVastVrij312=-1,\"v\",\"\")","v":""},null,"v",null,null,null,null,0,0,null,{"$f":"IF(Data_NaamPersoonVastOntslag312=\"\",\"\",Data_NaamPersoonVastOntslag312)","v":""},null,null,{"$f":"IF(Data_BeeindigingsdatumVastOntslag312=\"\",\"\",Data_BeeindigingsdatumVastOntslag312)","v":""},null,null,{"$f":"IF(Data_LoonkostenVastOntslag312=\"\",\"\",Data_LoonkostenVastOntslag312)","v":""},null,{"$f":"IF(Data_PersoonAanUitVastOntslag312=-1,\"v\",\"\")","v":""},null,"v",null,null,null,null,0,0]
[null,null,null,null,null,null,null,{"$f":"IF(Data_NaamPersoonNatVerloop313=\"\",\"\",Data_NaamPersoonNatVerloop313)","v":""},null,null,{"$f":"IF(Data_BeeindigingsdatumNatVerloop313=\"\",\"\",Data_BeeindigingsdatumNatVerloop313)","v":""},null,null,{"$f":"IF(Data_LoonkostenNatVerloop313=\"\",\"\",Data_LoonkostenNatVerloop313)","v":""},null,"v",null,"v",null,null,null,null,0,"",null,null,null,null,null,null,null,null,{"$f":"IF(Data_NaamPersoonTijd313=\"\",\"\",Data_NaamPersoonTijd313)","v":""},null,null,{"$f":"IF(Data_BeeindigingsdatumTijd313=\"\",\"\",Data_BeeindigingsdatumTijd313)","v":""},null,null,{"$f":"IF(Data_LoonkostenTijd313=\"\",\"\",Data_LoonkostenTijd313)","v":""},null,{"$f":"IF(Data_PersoonAanUitTijd313=-1,\"v\",\"\")","v":""},null,"v",null,null,null,null,0,0,null,null,null,{"$f":"IF(Data_NaamPersoonVastVrij313=\"\",\"\",Data_NaamPersoonVastVrij313)","v":""},null,null,{"$f":"IF(Data_BeeindigingsdatumVastVrij313=\"\",\"\",Data_BeeindigingsdatumVastVrij313)","v":""},null,null,{"$f":"IF(Data_LoonkostenVastVrij313=\"\",\"\",Data_LoonkostenVastVrij313)","v":""},null,{"$f":"IF(Data_PersoonAanUitVastVrij313=-1,\"v\",\"\")","v":""},null,"v",null,null,null,null,0,0,null,{"$f":"IF(Data_NaamPersoonVastOntslag313=\"\",\"\",Data_NaamPersoonVastOntslag313)","v":""},null,null,{"$f":"IF(Data_BeeindigingsdatumVastOntslag313=\"\",\"\",Data_BeeindigingsdatumVastOntslag313)","v":""},null,null,{"$f":"IF(Data_LoonkostenVastOntslag313=\"\",\"\",Data_LoonkostenVastOntslag313)","v":""},null,{"$f":"IF(Data_PersoonAanUitVastOntslag313=-1,\"v\",\"\")","v":""},null,"v",null,null,null,null,0,0]
[null,null,null,null,null,null,null,{"$f":"IF(Data_NaamPersoonNatVerloop314=\"\",\"\",Data_NaamPersoonNatVerloop314)","v":""},null,null,{"$f":"IF(Data_BeeindigingsdatumNatVerloop314=\"\",\"\",Data_BeeindigingsdatumNatVerloop314)","v":""},null,null,{"$f":"IF(Data_LoonkostenNatVerloop314=\"\",\"\",Data_LoonkostenNatVerloop314)","v":""},null,"v",null,"v",null,null,null,null,0,"",null,null,null,null,null,null,null,null,{"$f":"IF(Data_NaamPersoonTijd314=\"\",\"\",Data_NaamPersoonTijd314)","v":""},null,null,{"$f":"IF(Data_BeeindigingsdatumTijd314=\"\",\"\",Data_BeeindigingsdatumTijd314)","v":""},null,null,{"$f":"IF(Data_LoonkostenTijd314=\"\",\"\",Data_LoonkostenTijd314)","v":""},null,{"$f":"IF(Data_PersoonAanUitTijd314=-1,\"v\",\"\")","v":""},null,"v",null,null,null,null,0,0,null,null,null,{"$f":"IF(Data_NaamPersoonVastVrij314=\"\",\"\",Data_NaamPersoonVastVrij314)","v":""},null,null,{"$f":"IF(Data_BeeindigingsdatumVastVrij314=\"\",\"\",Data_BeeindigingsdatumVastVrij314)","v":""},null,null,{"$f":"IF(Data_LoonkostenVastVrij314=\"\",\"\",Data_LoonkostenVastVrij314)","v":""},null,{"$f":"IF(Data_PersoonAanUitVastVrij314=-1,\"v\",\"\")","v":""},null,"v",null,null,null,null,0,0,null,{"$f":"IF(Data_NaamPersoonVastOntslag314=\"\",\"\",Data_NaamPersoonVastOntslag314)","v":""},null,null,{"$f":"IF(Data_BeeindigingsdatumVastOntslag314=\"\",\"\",Data_BeeindigingsdatumVastOntslag314)","v":""},null,null,{"$f":"IF(Data_LoonkostenVastOntslag314=\"\",\"\",Data_LoonkostenVastOntslag314)","v":""},null,{"$f":"IF(Data_PersoonAanUitVastOntslag314=-1,\"v\",\"\")","v":""},null,"v",null,null,null,null,0,0]
[null,null,null,null,null,null,null,{"$f":"IF(Data_NaamPersoonNatVerloop315=\"\",\"\",Data_NaamPersoonNatVerloop315)","v":""},null,null,{"$f":"IF(Data_BeeindigingsdatumNatVerloop315=\"\",\"\",Data_BeeindigingsdatumNatVerloop315)","v":""},null,null,{"$f":"IF(Data_LoonkostenNatVerloop315=\"\",\"\",Data_LoonkostenNatVerloop315)","v":""},null,"v",null,"v",null,null,null,null,0,"",null,null,null,null,null,null,null,null,{"$f":"IF(Data_NaamPersoonTijd315=\"\",\"\",Data_NaamPersoonTijd315)","v":""},null,null,{"$f":"IF(Data_BeeindigingsdatumTijd315=\"\",\"\",Data_BeeindigingsdatumTijd315)","v":""},null,null,{"$f":"IF(Data_LoonkostenTijd315=\"\",\"\",Data_LoonkostenTijd315)","v":""},null,{"$f":"IF(Data_PersoonAanUitTijd315=-1,\"v\",\"\")","v":""},null,"v",null,null,null,null,0,0,null,null,null,{"$f":"IF(Data_NaamPersoonVastVrij315=\"\",\"\",Data_NaamPersoonVastVrij315)","v":""},null,null,{"$f":"IF(Data_BeeindigingsdatumVastVrij315=\"\",\"\",Data_BeeindigingsdatumVastVrij315)","v":""},null,null,{"$f":"IF(Data_LoonkostenVastVrij315=\"\",\"\",Data_LoonkostenVastVrij315)","v":""},null,{"$f":"IF(Data_PersoonAanUitVastVrij315=-1,\"v\",\"\")","v":""},null,"v",null,null,null,null,0,0,null,{"$f":"IF(Data_NaamPersoonVastOntslag315=\"\",\"\",Data_NaamPersoonVastOntslag315)","v":""},null,null,{"$f":"IF(Data_BeeindigingsdatumVastOntslag315=\"\",\"\",Data_BeeindigingsdatumVastOntslag315)","v":""},null,null,{"$f":"IF(Data_LoonkostenVastOntslag315=\"\",\"\",Data_LoonkostenVastOntslag315)","v":""},null,{"$f":"IF(Data_PersoonAanUitVastOntslag315=-1,\"v\",\"\")","v":""},null,"v",null,null,null,null,0,0]
[null,null,null,null,null,null,null,{"$f":"IF(Data_NaamPersoonNatVerloop316=\"\",\"\",Data_NaamPersoonNatVerloop316)","v":""},null,null,{"$f":"IF(Data_BeeindigingsdatumNatVerloop316=\"\",\"\",Data_BeeindigingsdatumNatVerloop316)","v":""},null,null,{"$f":"IF(Data_LoonkostenNatVerloop316=\"\",\"\",Data_LoonkostenNatVerloop316)","v":""},null,"v",null,"v",null,null,null,null,0,"",null,null,null,null,null,null,null,null,{"$f":"IF(Data_NaamPersoonTijd316=\"\",\"\",Data_NaamPersoonTijd316)","v":""},null,null,{"$f":"IF(Data_BeeindigingsdatumTijd316=\"\",\"\",Data_BeeindigingsdatumTijd316)","v":""},null,null,{"$f":"IF(Data_LoonkostenTijd316=\"\",\"\",Data_LoonkostenTijd316)","v":""},null,{"$f":"IF(Data_PersoonAanUitTijd316=-1,\"v\",\"\")","v":""},null,"v",null,null,null,null,0,0,null,null,null,{"$f":"IF(Data_NaamPersoonVastVrij316=\"\",\"\",Data_NaamPersoonVastVrij316)","v":""},null,null,{"$f":"IF(Data_BeeindigingsdatumVastVrij316=\"\",\"\",Data_BeeindigingsdatumVastVrij316)","v":""},null,null,{"$f":"IF(Data_LoonkostenVastVrij316=\"\",\"\",Data_LoonkostenVastVrij316)","v":""},null,{"$f":"IF(Data_PersoonAanUitVastVrij316=-1,\"v\",\"\")","v":""},null,"v",null,null,null,null,0,0,null,{"$f":"IF(Data_NaamPersoonVastOntslag316=\"\",\"\",Data_NaamPersoonVastOntslag316)","v":""},null,null,{"$f":"IF(Data_BeeindigingsdatumVastOntslag316=\"\",\"\",Data_BeeindigingsdatumVastOntslag316)","v":""},null,null,{"$f":"IF(Data_LoonkostenVastOntslag316=\"\",\"\",Data_LoonkostenVastOntslag316)","v":""},null,{"$f":"IF(Data_PersoonAanUitVastOntslag316=-1,\"v\",\"\")","v":""},null,"v",null,null,null,null,0,0]
[null,null,null,null,null,null,null,{"$f":"IF(Data_NaamPersoonNatVerloop317=\"\",\"\",Data_NaamPersoonNatVerloop317)","v":""},null,null,{"$f":"IF(Data_BeeindigingsdatumNatVerloop317=\"\",\"\",Data_BeeindigingsdatumNatVerloop317)","v":""},null,null,{"$f":"IF(Data_LoonkostenNatVerloop317=\"\",\"\",Data_LoonkostenNatVerloop317)","v":""},null,"v",null,"v",null,null,null,null,0,"",null,null,null,null,null,null,null,null,{"$f":"IF(Data_NaamPersoonTijd317=\"\",\"\",Data_NaamPersoonTijd317)","v":""},null,null,{"$f":"IF(Data_BeeindigingsdatumTijd317=\"\",\"\",Data_BeeindigingsdatumTijd317)","v":""},null,null,{"$f":"IF(Data_LoonkostenTijd317=\"\",\"\",Data_LoonkostenTijd317)","v":""},null,{"$f":"IF(Data_PersoonAanUitTijd317=-1,\"v\",\"\")","v":""},null,"v",null,null,null,null,0,0,null,null,null,{"$f":"IF(Data_NaamPersoonVastVrij317=\"\",\"\",Data_NaamPersoonVastVrij317)","v":""},null,null,{"$f":"IF(Data_BeeindigingsdatumVastVrij317=\"\",\"\",Data_BeeindigingsdatumVastVrij317)","v":""},null,null,{"$f":"IF(Data_LoonkostenVastVrij317=\"\",\"\",Data_LoonkostenVastVrij317)","v":""},null,{"$f":"IF(Data_PersoonAanUitVastVrij317=-1,\"v\",\"\")","v":""},null,"v",null,null,null,null,0,0,null,{"$f":"IF(Data_NaamPersoonVastOntslag317=\"\",\"\",Data_NaamPersoonVastOntslag317)","v":""},null,null,{"$f":"IF(Data_BeeindigingsdatumVastOntslag317=\"\",\"\",Data_BeeindigingsdatumVastOntslag317)","v":""},null,null,{"$f":"IF(Data_LoonkostenVastOntslag317=\"\",\"\",Data_LoonkostenVastOntslag317)","v":""},null,{"$f":"IF(Data_PersoonAanUitVastOntslag317=-1,\"v\",\"\")","v":""},null,"v",null,null,null,null,0,0]
[null,null,null,null,null,null,null,{"$f":"IF(Data_NaamPersoonNatVerloop318=\"\",\"\",Data_NaamPersoonNatVerloop318)","v":""},null,null,{"$f":"IF(Data_BeeindigingsdatumNatVerloop318=\"\",\"\",Data_BeeindigingsdatumNatVerloop318)","v":""},null,null,{"$f":"IF(Data_LoonkostenNatVerloop318=\"\",\"\",Data_LoonkostenNatVerloop318)","v":""},null,"v",null,"v",null,null,null,null,0,"",null,null,null,null,null,null,null,null,{"$f":"IF(Data_NaamPersoonTijd318=\"\",\"\",Data_NaamPersoonTijd318)","v":""},null,null,{"$f":"IF(Data_BeeindigingsdatumTijd318=\"\",\"\",Data_BeeindigingsdatumTijd318)","v":""},null,null,{"$f":"IF(Data_LoonkostenTijd318=\"\",\"\",Data_LoonkostenTijd318)","v":""},null,{"$f":"IF(Data_PersoonAanUitTijd318=-1,\"v\",\"\")","v":""},null,"v",null,null,null,null,0,0,null,null,null,{"$f":"IF(Data_NaamPersoonVastVrij318=\"\",\"\",Data_NaamPersoonVastVrij318)","v":""},null,null,{"$f":"IF(Data_BeeindigingsdatumVastVrij318=\"\",\"\",Data_BeeindigingsdatumVastVrij318)","v":""},null,null,{"$f":"IF(Data_LoonkostenVastVrij318=\"\",\"\",Data_LoonkostenVastVrij318)","v":""},null,{"$f":"IF(Data_PersoonAanUitVastVrij318=-1,\"v\",\"\")","v":""},null,"v",null,null,null,null,0,0,null,{"$f":"IF(Data_NaamPersoonVastOntslag318=\"\",\"\",Data_NaamPersoonVastOntslag318)","v":""},null,null,{"$f":"IF(Data_BeeindigingsdatumVastOntslag318=\"\",\"\",Data_BeeindigingsdatumVastOntslag318)","v":""},null,null,{"$f":"IF(Data_LoonkostenVastOntslag318=\"\",\"\",Data_LoonkostenVastOntslag318)","v":""},null,{"$f":"IF(Data_PersoonAanUitVastOntslag318=-1,\"v\",\"\")","v":""},null,"v",null,null,null,null,0,0]
[null,null,null,null,null,null,null,{"$f":"IF(Data_NaamPersoonNatVerloop319=\"\",\"\",Data_NaamPersoonNatVerloop319)","v":""},null,null,{"$f":"IF(Data_BeeindigingsdatumNatVerloop319=\"\",\"\",Data_BeeindigingsdatumNatVerloop319)","v":""},null,null,{"$f":"IF(Data_LoonkostenNatVerloop319=\"\",\"\",Data_LoonkostenNatVerloop319)","v":""},null,"v",null,"v",null,null,null,null,0,"",null,null,null,null,null,null,null,null,{"$f":"IF(Data_NaamPersoonTijd319=\"\",\"\",Data_NaamPersoonTijd319)","v":""},null,null,{"$f":"IF(Data_BeeindigingsdatumTijd319=\"\",\"\",Data_BeeindigingsdatumTijd319)","v":""},null,null,{"$f":"IF(Data_LoonkostenTijd319=\"\",\"\",Data_LoonkostenTijd319)","v":""},null,{"$f":"IF(Data_PersoonAanUitTijd319=-1,\"v\",\"\")","v":""},null,"v",null,null,null,null,0,0,null,null,null,{"$f":"IF(Data_NaamPersoonVastVrij319=\"\",\"\",Data_NaamPersoonVastVrij319)","v":""},null,null,{"$f":"IF(Data_BeeindigingsdatumVastVrij319=\"\",\"\",Data_BeeindigingsdatumVastVrij319)","v":""},null,null,{"$f":"IF(Data_LoonkostenVastVrij319=\"\",\"\",Data_LoonkostenVastVrij319)","v":""},null,{"$f":"IF(Data_PersoonAanUitVastVrij319=-1,\"v\",\"\")","v":""},null,"v",null,null,null,null,0,0,null,{"$f":"IF(Data_NaamPersoonVastOntslag319=\"\",\"\",Data_NaamPersoonVastOntslag319)","v":""},null,null,{"$f":"IF(Data_BeeindigingsdatumVastOntslag319=\"\",\"\",Data_BeeindigingsdatumVastOntslag319)","v":""},null,null,{"$f":"IF(Data_LoonkostenVastOntslag319=\"\",\"\",Data_LoonkostenVastOntslag319)","v":""},null,{"$f":"IF(Data_PersoonAanUitVastOntslag319=-1,\"v\",\"\")","v":""},null,"v",null,null,null,null,0,0]
[null,null,null,null,null,null,null,{"$f":"IF(Data_NaamPersoonNatVerloop320=\"\",\"\",Data_NaamPersoonNatVerloop320)","v":""},null,null,{"$f":"IF(Data_BeeindigingsdatumNatVerloop320=\"\",\"\",Data_BeeindigingsdatumNatVerloop320)","v":""},null,null,{"$f":"IF(Data_LoonkostenNatVerloop320=\"\",\"\",Data_LoonkostenNatVerloop320)","v":""},null,"v",null,"v",null,null,null,null,0,"",null,null,null,null,null,null,null,null,{"$f":"IF(Data_NaamPersoonTijd320=\"\",\"\",Data_NaamPersoonTijd320)","v":""},null,null,{"$f":"IF(Data_BeeindigingsdatumTijd320=\"\",\"\",Data_BeeindigingsdatumTijd320)","v":""},null,null,{"$f":"IF(Data_LoonkostenTijd320=\"\",\"\",Data_LoonkostenTijd320)","v":""},null,{"$f":"IF(Data_PersoonAanUitTijd320=-1,\"v\",\"\")","v":""},null,"v",null,null,null,null,0,0,null,null,null,{"$f":"IF(Data_NaamPersoonVastVrij320=\"\",\"\",Data_NaamPersoonVastVrij320)","v":""},null,null,{"$f":"IF(Data_BeeindigingsdatumVastVrij320=\"\",\"\",Data_BeeindigingsdatumVastVrij320)","v":""},null,null,{"$f":"IF(Data_LoonkostenVastVrij320=\"\",\"\",Data_LoonkostenVastVrij320)","v":""},null,{"$f":"IF(Data_PersoonAanUitVastVrij320=-1,\"v\",\"\")","v":""},null,"v",null,null,null,null,0,0,null,{"$f":"IF(Data_NaamPersoonVastOntslag320=\"\",\"\",Data_NaamPersoonVastOntslag320)","v":""},null,null,{"$f":"IF(Data_BeeindigingsdatumVastOntslag320=\"\",\"\",Data_BeeindigingsdatumVastOntslag320)","v":""},null,null,{"$f":"IF(Data_LoonkostenVastOntslag320=\"\",\"\",Data_LoonkostenVastOntslag320)","v":""},null,{"$f":"IF(Data_PersoonAanUitVastOntslag320=-1,\"v\",\"\")","v":""},null,"v",null,null,null,null,0,0]
[null,null,null,null,null,null,null,{"$f":"IF(Data_NaamPersoonNatVerloop321=\"\",\"\",Data_NaamPersoonNatVerloop321)","v":""},null,null,{"$f":"IF(Data_BeeindigingsdatumNatVerloop321=\"\",\"\",Data_BeeindigingsdatumNatVerloop321)","v":""},null,null,{"$f":"IF(Data_LoonkostenNatVerloop321=\"\",\"\",Data_LoonkostenNatVerloop321)","v":""},null,"v",null,"v",null,null,null,null,{"$f":"IF($AO344=\"v\",M344,T344)","v":0},"",null,null,null,null,null,null,null,null,{"$f":"IF(Data_NaamPersoonTijd321=\"\",\"\",Data_NaamPersoonTijd321)","v":""},null,null,{"$f":"IF(Data_BeeindigingsdatumTijd321=\"\",\"\",Data_BeeindigingsdatumTijd321)","v":""},null,null,{"$f":"IF(Data_LoonkostenTijd321=\"\",\"\",Data_LoonkostenTijd321)","v":""},null,{"$f":"IF(Data_PersoonAanUitTijd321=-1,\"v\",\"\")","v":""},null,"v",null,null,null,null,{"$f":"IF($AO344=\"v\",AL344,AS344)","v":0},{"$f":"IF(AND($AO344=\"v\",$AQ344=\"v\"),AM344,IF(AND($AO344=\"v\",$AQ344<>\"v\"),AT344,0))","v":0},null,null,null,{"$f":"IF(Data_NaamPersoonVastVrij321=\"\",\"\",Data_NaamPersoonVastVrij321)","v":""},null,null,{"$f":"IF(Data_BeeindigingsdatumVastVrij321=\"\",\"\",Data_BeeindigingsdatumVastVrij321)","v":""},null,null,{"$f":"IF(Data_LoonkostenVastVrij321=\"\",\"\",Data_LoonkostenVastVrij321)","v":""},null,{"$f":"IF(Data_PersoonAanUitVastVrij321=-1,\"v\",\"\")","v":""},null,"v",null,null,null,null,{"$f":"IF($BI344=\"v\",BF344,BM344)","v":0},{"$f":"IF(AND($BI344=\"v\",$BK344=\"v\"),BG344,IF(AND($BI344=\"v\",$BK344<>\"v\"),BN344,0))","v":0},null,{"$f":"IF(Data_NaamPersoonVastOntslag321=\"\",\"\",Data_NaamPersoonVastOntslag321)","v":""},null,null,{"$f":"IF(Data_BeeindigingsdatumVastOntslag321=\"\",\"\",Data_BeeindigingsdatumVastOntslag321)","v":""},null,null,{"$f":"IF(Data_LoonkostenVastOntslag321=\"\",\"\",Data_LoonkostenVastOntslag321)","v":""},null,{"$f":"IF(Data_PersoonAanUitVastOntslag321=-1,\"v\",\"\")","v":""},null,"v",null,null,null,null,0,{"$f":"IF(AND($CA344=\"v\",$CC344=\"v\"),BY344,IF(AND($CA344=\"v\",$CC344<>\"v\"),CF343,0))","v":0}]
[null,null,null,null,null,null,null,{"$f":"IF(Data_NaamPersoonNatVerloop322=\"\",\"\",Data_NaamPersoonNatVerloop322)","v":""},null,null,{"$f":"IF(Data_BeeindigingsdatumNatVerloop322=\"\",\"\",Data_BeeindigingsdatumNatVerloop322)","v":""},null,null,{"$f":"IF(Data_LoonkostenNatVerloop322=\"\",\"\",Data_LoonkostenNatVerloop322)","v":""},null,"v",null,"v",null,null,null,null,0,{"$f":"IF(AND($P345=\"v\",$R345=\"v\"),N345,IF(AND($P345=\"v\",$R345<>\"v\"),U345,0))","v":""},null,null,null,null,null,null,null,null,{"$f":"IF(Data_NaamPersoonTijd322=\"\",\"\",Data_NaamPersoonTijd322)","v":""},null,null,{"$f":"IF(Data_BeeindigingsdatumTijd322=\"\",\"\",Data_BeeindigingsdatumTijd322)","v":""},null,null,{"$f":"IF(Data_LoonkostenTijd322=\"\",\"\",Data_LoonkostenTijd322)","v":""},null,{"$f":"IF(Data_PersoonAanUitTijd322=-1,\"v\",\"\")","v":""},null,"v",null,null,null,null,0,0,null,null,null,{"$f":"IF(Data_NaamPersoonVastVrij322=\"\",\"\",Data_NaamPersoonVastVrij322)","v":""},null,null,{"$f":"IF(Data_BeeindigingsdatumVastVrij322=\"\",\"\",Data_BeeindigingsdatumVastVrij322)","v":""},null,null,{"$f":"IF(Data_LoonkostenVastVrij322=\"\",\"\",Data_LoonkostenVastVrij322)","v":""},null,{"$f":"IF(Data_PersoonAanUitVastVrij322=-1,\"v\",\"\")","v":""},null,"v",null,null,null,null,0,0,null,{"$f":"IF(Data_NaamPersoonVastOntslag322=\"\",\"\",Data_NaamPersoonVastOntslag322)","v":""},null,null,{"$f":"IF(Data_BeeindigingsdatumVastOntslag322=\"\",\"\",Data_BeeindigingsdatumVastOntslag322)","v":""},null,null,{"$f":"IF(Data_LoonkostenVastOntslag322=\"\",\"\",Data_LoonkostenVastOntslag322)","v":""},null,{"$f":"IF(Data_PersoonAanUitVastOntslag322=-1,\"v\",\"\")","v":""},null,"v",null,null,null,null,{"$f":"IF($CA345=\"v\",BX345,CE345)","v":0},0]
[null,null,null,null,null,null,null,{"$f":"IF(Data_NaamPersoonNatVerloop323=\"\",\"\",Data_NaamPersoonNatVerloop323)","v":""},null,null,{"$f":"IF(Data_BeeindigingsdatumNatVerloop323=\"\",\"\",Data_BeeindigingsdatumNatVerloop323)","v":""},null,null,{"$f":"IF(Data_LoonkostenNatVerloop323=\"\",\"\",Data_LoonkostenNatVerloop323)","v":""},null,"v",null,"v",null,null,null,null,0,"",null,null,null,null,null,null,null,null,{"$f":"IF(Data_NaamPersoonTijd323=\"\",\"\",Data_NaamPersoonTijd323)","v":""},null,null,{"$f":"IF(Data_BeeindigingsdatumTijd323=\"\",\"\",Data_BeeindigingsdatumTijd323)","v":""},null,null,{"$f":"IF(Data_LoonkostenTijd323=\"\",\"\",Data_LoonkostenTijd323)","v":""},null,{"$f":"IF(Data_PersoonAanUitTijd323=-1,\"v\",\"\")","v":""},null,"v",null,null,null,null,0,0,null,null,null,{"$f":"IF(Data_NaamPersoonVastVrij323=\"\",\"\",Data_NaamPersoonVastVrij323)","v":""},null,null,{"$f":"IF(Data_BeeindigingsdatumVastVrij323=\"\",\"\",Data_BeeindigingsdatumVastVrij323)","v":""},null,null,{"$f":"IF(Data_LoonkostenVastVrij323=\"\",\"\",Data_LoonkostenVastVrij323)","v":""},null,{"$f":"IF(Data_PersoonAanUitVastVrij323=-1,\"v\",\"\")","v":""},null,"v",null,null,null,null,0,0,null,{"$f":"IF(Data_NaamPersoonVastOntslag323=\"\",\"\",Data_NaamPersoonVastOntslag323)","v":""},null,null,{"$f":"IF(Data_BeeindigingsdatumVastOntslag323=\"\",\"\",Data_BeeindigingsdatumVastOntslag323)","v":""},null,null,{"$f":"IF(Data_LoonkostenVastOntslag323=\"\",\"\",Data_LoonkostenVastOntslag323)","v":""},null,{"$f":"IF(Data_PersoonAanUitVastOntslag323=-1,\"v\",\"\")","v":""},null,"v",null,null,null,null,0,0]
[null,null,null,null,null,null,null,{"$f":"IF(Data_NaamPersoonNatVerloop324=\"\",\"\",Data_NaamPersoonNatVerloop324)","v":""},null,null,{"$f":"IF(Data_BeeindigingsdatumNatVerloop324=\"\",\"\",Data_BeeindigingsdatumNatVerloop324)","v":""},null,null,{"$f":"IF(Data_LoonkostenNatVerloop324=\"\",\"\",Data_LoonkostenNatVerloop324)","v":""},null,"v",null,"v",null,null,null,null,0,"",null,null,null,null,null,null,null,null,{"$f":"IF(Data_NaamPersoonTijd324=\"\",\"\",Data_NaamPersoonTijd324)","v":""},null,null,{"$f":"IF(Data_BeeindigingsdatumTijd324=\"\",\"\",Data_BeeindigingsdatumTijd324)","v":""},null,null,{"$f":"IF(Data_LoonkostenTijd324=\"\",\"\",Data_LoonkostenTijd324)","v":""},null,{"$f":"IF(Data_PersoonAanUitTijd324=-1,\"v\",\"\")","v":""},null,"v",null,null,null,null,0,0,null,null,null,{"$f":"IF(Data_NaamPersoonVastVrij324=\"\",\"\",Data_NaamPersoonVastVrij324)","v":""},null,null,{"$f":"IF(Data_BeeindigingsdatumVastVrij324=\"\",\"\",Data_BeeindigingsdatumVastVrij324)","v":""},null,null,{"$f":"IF(Data_LoonkostenVastVrij324=\"\",\"\",Data_LoonkostenVastVrij324)","v":""},null,{"$f":"IF(Data_PersoonAanUitVastVrij324=-1,\"v\",\"\")","v":""},null,"v",null,null,null,null,0,0,null,{"$f":"IF(Data_NaamPersoonVastOntslag324=\"\",\"\",Data_NaamPersoonVastOntslag324)","v":""},null,null,{"$f":"IF(Data_BeeindigingsdatumVastOntslag324=\"\",\"\",Data_BeeindigingsdatumVastOntslag324)","v":""},null,null,{"$f":"IF(Data_LoonkostenVastOntslag324=\"\",\"\",Data_LoonkostenVastOntslag324)","v":""},null,{"$f":"IF(Data_PersoonAanUitVastOntslag324=-1,\"v\",\"\")","v":""},null,"v",null,null,null,null,0,0]
[null,null,null,null,null,null,null,{"$f":"IF(Data_NaamPersoonNatVerloop325=\"\",\"\",Data_NaamPersoonNatVerloop325)","v":""},null,null,{"$f":"IF(Data_BeeindigingsdatumNatVerloop325=\"\",\"\",Data_BeeindigingsdatumNatVerloop325)","v":""},null,null,{"$f":"IF(Data_LoonkostenNatVerloop325=\"\",\"\",Data_LoonkostenNatVerloop325)","v":""},null,"v",null,"v",null,null,null,null,0,"",null,null,null,null,null,null,null,null,{"$f":"IF(Data_NaamPersoonTijd325=\"\",\"\",Data_NaamPersoonTijd325)","v":""},null,null,{"$f":"IF(Data_BeeindigingsdatumTijd325=\"\",\"\",Data_BeeindigingsdatumTijd325)","v":""},null,null,{"$f":"IF(Data_LoonkostenTijd325=\"\",\"\",Data_LoonkostenTijd325)","v":""},null,{"$f":"IF(Data_PersoonAanUitTijd325=-1,\"v\",\"\")","v":""},null,"v",null,null,null,null,0,0,null,null,null,{"$f":"IF(Data_NaamPersoonVastVrij325=\"\",\"\",Data_NaamPersoonVastVrij325)","v":""},null,null,{"$f":"IF(Data_BeeindigingsdatumVastVrij325=\"\",\"\",Data_BeeindigingsdatumVastVrij325)","v":""},null,null,{"$f":"IF(Data_LoonkostenVastVrij325=\"\",\"\",Data_LoonkostenVastVrij325)","v":""},null,{"$f":"IF(Data_PersoonAanUitVastVrij325=-1,\"v\",\"\")","v":""},null,"v",null,null,null,null,0,0,null,{"$f":"IF(Data_NaamPersoonVastOntslag325=\"\",\"\",Data_NaamPersoonVastOntslag325)","v":""},null,null,{"$f":"IF(Data_BeeindigingsdatumVastOntslag325=\"\",\"\",Data_BeeindigingsdatumVastOntslag325)","v":""},null,null,{"$f":"IF(Data_LoonkostenVastOntslag325=\"\",\"\",Data_LoonkostenVastOntslag325)","v":""},null,{"$f":"IF(Data_PersoonAanUitVastOntslag325=-1,\"v\",\"\")","v":""},null,"v",null,null,null,null,0,0]
[null,null,null,null,null,null,null,{"$f":"IF(Data_NaamPersoonNatVerloop326=\"\",\"\",Data_NaamPersoonNatVerloop326)","v":""},null,null,{"$f":"IF(Data_BeeindigingsdatumNatVerloop326=\"\",\"\",Data_BeeindigingsdatumNatVerloop326)","v":""},null,null,{"$f":"IF(Data_LoonkostenNatVerloop326=\"\",\"\",Data_LoonkostenNatVerloop326)","v":""},null,"v",null,"v",null,null,null,null,0,"",null,null,null,null,null,null,null,null,{"$f":"IF(Data_NaamPersoonTijd326=\"\",\"\",Data_NaamPersoonTijd326)","v":""},null,null,{"$f":"IF(Data_BeeindigingsdatumTijd326=\"\",\"\",Data_BeeindigingsdatumTijd326)","v":""},null,null,{"$f":"IF(Data_LoonkostenTijd326=\"\",\"\",Data_LoonkostenTijd326)","v":""},null,{"$f":"IF(Data_PersoonAanUitTijd326=-1,\"v\",\"\")","v":""},null,"v",null,null,null,null,0,0,null,null,null,{"$f":"IF(Data_NaamPersoonVastVrij326=\"\",\"\",Data_NaamPersoonVastVrij326)","v":""},null,null,{"$f":"IF(Data_BeeindigingsdatumVastVrij326=\"\",\"\",Data_BeeindigingsdatumVastVrij326)","v":""},null,null,{"$f":"IF(Data_LoonkostenVastVrij326=\"\",\"\",Data_LoonkostenVastVrij326)","v":""},null,{"$f":"IF(Data_PersoonAanUitVastVrij326=-1,\"v\",\"\")","v":""},null,"v",null,null,null,null,0,0,null,{"$f":"IF(Data_NaamPersoonVastOntslag326=\"\",\"\",Data_NaamPersoonVastOntslag326)","v":""},null,null,{"$f":"IF(Data_BeeindigingsdatumVastOntslag326=\"\",\"\",Data_BeeindigingsdatumVastOntslag326)","v":""},null,null,{"$f":"IF(Data_LoonkostenVastOntslag326=\"\",\"\",Data_LoonkostenVastOntslag326)","v":""},null,{"$f":"IF(Data_PersoonAanUitVastOntslag326=-1,\"v\",\"\")","v":""},null,"v",null,null,null,null,0,0]
[null,null,null,null,null,null,null,{"$f":"IF(Data_NaamPersoonNatVerloop327=\"\",\"\",Data_NaamPersoonNatVerloop327)","v":""},null,null,{"$f":"IF(Data_BeeindigingsdatumNatVerloop327=\"\",\"\",Data_BeeindigingsdatumNatVerloop327)","v":""},null,null,{"$f":"IF(Data_LoonkostenNatVerloop327=\"\",\"\",Data_LoonkostenNatVerloop327)","v":""},null,"v",null,"v",null,null,null,null,0,"",null,null,null,null,null,null,null,null,{"$f":"IF(Data_NaamPersoonTijd327=\"\",\"\",Data_NaamPersoonTijd327)","v":""},null,null,{"$f":"IF(Data_BeeindigingsdatumTijd327=\"\",\"\",Data_BeeindigingsdatumTijd327)","v":""},null,null,{"$f":"IF(Data_LoonkostenTijd327=\"\",\"\",Data_LoonkostenTijd327)","v":""},null,{"$f":"IF(Data_PersoonAanUitTijd327=-1,\"v\",\"\")","v":""},null,"v",null,null,null,null,0,0,null,null,null,{"$f":"IF(Data_NaamPersoonVastVrij327=\"\",\"\",Data_NaamPersoonVastVrij327)","v":""},null,null,{"$f":"IF(Data_BeeindigingsdatumVastVrij327=\"\",\"\",Data_BeeindigingsdatumVastVrij327)","v":""},null,null,{"$f":"IF(Data_LoonkostenVastVrij327=\"\",\"\",Data_LoonkostenVastVrij327)","v":""},null,{"$f":"IF(Data_PersoonAanUitVastVrij327=-1,\"v\",\"\")","v":""},null,"v",null,null,null,null,0,0,null,{"$f":"IF(Data_NaamPersoonVastOntslag327=\"\",\"\",Data_NaamPersoonVastOntslag327)","v":""},null,null,{"$f":"IF(Data_BeeindigingsdatumVastOntslag327=\"\",\"\",Data_BeeindigingsdatumVastOntslag327)","v":""},null,null,{"$f":"IF(Data_LoonkostenVastOntslag327=\"\",\"\",Data_LoonkostenVastOntslag327)","v":""},null,{"$f":"IF(Data_PersoonAanUitVastOntslag327=-1,\"v\",\"\")","v":""},null,"v",null,null,null,null,0,0]
[null,null,null,null,null,null,null,{"$f":"IF(Data_NaamPersoonNatVerloop328=\"\",\"\",Data_NaamPersoonNatVerloop328)","v":""},null,null,{"$f":"IF(Data_BeeindigingsdatumNatVerloop328=\"\",\"\",Data_BeeindigingsdatumNatVerloop328)","v":""},null,null,{"$f":"IF(Data_LoonkostenNatVerloop328=\"\",\"\",Data_LoonkostenNatVerloop328)","v":""},null,"v",null,"v",null,null,null,null,0,"",null,null,null,null,null,null,null,null,{"$f":"IF(Data_NaamPersoonTijd328=\"\",\"\",Data_NaamPersoonTijd328)","v":""},null,null,{"$f":"IF(Data_BeeindigingsdatumTijd328=\"\",\"\",Data_BeeindigingsdatumTijd328)","v":""},null,null,{"$f":"IF(Data_LoonkostenTijd328=\"\",\"\",Data_LoonkostenTijd328)","v":""},null,{"$f":"IF(Data_PersoonAanUitTijd328=-1,\"v\",\"\")","v":""},null,"v",null,null,null,null,0,0,null,null,null,{"$f":"IF(Data_NaamPersoonVastVrij328=\"\",\"\",Data_NaamPersoonVastVrij328)","v":""},null,null,{"$f":"IF(Data_BeeindigingsdatumVastVrij328=\"\",\"\",Data_BeeindigingsdatumVastVrij328)","v":""},null,null,{"$f":"IF(Data_LoonkostenVastVrij328=\"\",\"\",Data_LoonkostenVastVrij328)","v":""},null,{"$f":"IF(Data_PersoonAanUitVastVrij328=-1,\"v\",\"\")","v":""},null,"v",null,null,null,null,0,0,null,{"$f":"IF(Data_NaamPersoonVastOntslag328=\"\",\"\",Data_NaamPersoonVastOntslag328)","v":""},null,null,{"$f":"IF(Data_BeeindigingsdatumVastOntslag328=\"\",\"\",Data_BeeindigingsdatumVastOntslag328)","v":""},null,null,{"$f":"IF(Data_LoonkostenVastOntslag328=\"\",\"\",Data_LoonkostenVastOntslag328)","v":""},null,{"$f":"IF(Data_PersoonAanUitVastOntslag328=-1,\"v\",\"\")","v":""},null,"v",null,null,null,null,0,0]
[null,null,null,null,null,null,null,{"$f":"IF(Data_NaamPersoonNatVerloop329=\"\",\"\",Data_NaamPersoonNatVerloop329)","v":""},null,null,{"$f":"IF(Data_BeeindigingsdatumNatVerloop329=\"\",\"\",Data_BeeindigingsdatumNatVerloop329)","v":""},null,null,{"$f":"IF(Data_LoonkostenNatVerloop329=\"\",\"\",Data_LoonkostenNatVerloop329)","v":""},null,"v",null,"v",null,null,null,null,0,"",null,null,null,null,null,null,null,null,{"$f":"IF(Data_NaamPersoonTijd329=\"\",\"\",Data_NaamPersoonTijd329)","v":""},null,null,{"$f":"IF(Data_BeeindigingsdatumTijd329=\"\",\"\",Data_BeeindigingsdatumTijd329)","v":""},null,null,{"$f":"IF(Data_LoonkostenTijd329=\"\",\"\",Data_LoonkostenTijd329)","v":""},null,{"$f":"IF(Data_PersoonAanUitTijd329=-1,\"v\",\"\")","v":""},null,"v",null,null,null,null,0,0,null,null,null,{"$f":"IF(Data_NaamPersoonVastVrij329=\"\",\"\",Data_NaamPersoonVastVrij329)","v":""},null,null,{"$f":"IF(Data_BeeindigingsdatumVastVrij329=\"\",\"\",Data_BeeindigingsdatumVastVrij329)","v":""},null,null,{"$f":"IF(Data_LoonkostenVastVrij329=\"\",\"\",Data_LoonkostenVastVrij329)","v":""},null,{"$f":"IF(Data_PersoonAanUitVastVrij329=-1,\"v\",\"\")","v":""},null,"v",null,null,null,null,0,0,null,{"$f":"IF(Data_NaamPersoonVastOntslag329=\"\",\"\",Data_NaamPersoonVastOntslag329)","v":""},null,null,{"$f":"IF(Data_BeeindigingsdatumVastOntslag329=\"\",\"\",Data_BeeindigingsdatumVastOntslag329)","v":""},null,null,{"$f":"IF(Data_LoonkostenVastOntslag329=\"\",\"\",Data_LoonkostenVastOntslag329)","v":""},null,{"$f":"IF(Data_PersoonAanUitVastOntslag329=-1,\"v\",\"\")","v":""},null,"v",null,null,null,null,0,0]
[null,null,null,null,null,null,null,{"$f":"IF(Data_NaamPersoonNatVerloop330=\"\",\"\",Data_NaamPersoonNatVerloop330)","v":""},null,null,{"$f":"IF(Data_BeeindigingsdatumNatVerloop330=\"\",\"\",Data_BeeindigingsdatumNatVerloop330)","v":""},null,null,{"$f":"IF(Data_LoonkostenNatVerloop330=\"\",\"\",Data_LoonkostenNatVerloop330)","v":""},null,"v",null,"v",null,null,null,null,0,"",null,null,null,null,null,null,null,null,{"$f":"IF(Data_NaamPersoonTijd330=\"\",\"\",Data_NaamPersoonTijd330)","v":""},null,null,{"$f":"IF(Data_BeeindigingsdatumTijd330=\"\",\"\",Data_BeeindigingsdatumTijd330)","v":""},null,null,{"$f":"IF(Data_LoonkostenTijd330=\"\",\"\",Data_LoonkostenTijd330)","v":""},null,{"$f":"IF(Data_PersoonAanUitTijd330=-1,\"v\",\"\")","v":""},null,"v",null,null,null,null,0,0,null,null,null,{"$f":"IF(Data_NaamPersoonVastVrij330=\"\",\"\",Data_NaamPersoonVastVrij330)","v":""},null,null,{"$f":"IF(Data_BeeindigingsdatumVastVrij330=\"\",\"\",Data_BeeindigingsdatumVastVrij330)","v":""},null,null,{"$f":"IF(Data_LoonkostenVastVrij330=\"\",\"\",Data_LoonkostenVastVrij330)","v":""},null,{"$f":"IF(Data_PersoonAanUitVastVrij330=-1,\"v\",\"\")","v":""},null,"v",null,null,null,null,0,0,null,{"$f":"IF(Data_NaamPersoonVastOntslag330=\"\",\"\",Data_NaamPersoonVastOntslag330)","v":""},null,null,{"$f":"IF(Data_BeeindigingsdatumVastOntslag330=\"\",\"\",Data_BeeindigingsdatumVastOntslag330)","v":""},null,null,{"$f":"IF(Data_LoonkostenVastOntslag330=\"\",\"\",Data_LoonkostenVastOntslag330)","v":""},null,{"$f":"IF(Data_PersoonAanUitVastOntslag330=-1,\"v\",\"\")","v":""},null,"v",null,null,null,null,0,0]
[null,null,null,null,null,null,null,{"$f":"IF(Data_NaamPersoonNatVerloop331=\"\",\"\",Data_NaamPersoonNatVerloop331)","v":""},null,null,{"$f":"IF(Data_BeeindigingsdatumNatVerloop331=\"\",\"\",Data_BeeindigingsdatumNatVerloop331)","v":""},null,null,{"$f":"IF(Data_LoonkostenNatVerloop331=\"\",\"\",Data_LoonkostenNatVerloop331)","v":""},null,"v",null,"v",null,null,null,null,0,"",null,null,null,null,null,null,null,null,{"$f":"IF(Data_NaamPersoonTijd331=\"\",\"\",Data_NaamPersoonTijd331)","v":""},null,null,{"$f":"IF(Data_BeeindigingsdatumTijd331=\"\",\"\",Data_BeeindigingsdatumTijd331)","v":""},null,null,{"$f":"IF(Data_LoonkostenTijd331=\"\",\"\",Data_LoonkostenTijd331)","v":""},null,{"$f":"IF(Data_PersoonAanUitTijd331=-1,\"v\",\"\")","v":""},null,"v",null,null,null,null,0,0,null,null,null,{"$f":"IF(Data_NaamPersoonVastVrij331=\"\",\"\",Data_NaamPersoonVastVrij331)","v":""},null,null,{"$f":"IF(Data_BeeindigingsdatumVastVrij331=\"\",\"\",Data_BeeindigingsdatumVastVrij331)","v":""},null,null,{"$f":"IF(Data_LoonkostenVastVrij331=\"\",\"\",Data_LoonkostenVastVrij331)","v":""},null,{"$f":"IF(Data_PersoonAanUitVastVrij331=-1,\"v\",\"\")","v":""},null,"v",null,null,null,null,0,0,null,{"$f":"IF(Data_NaamPersoonVastOntslag331=\"\",\"\",Data_NaamPersoonVastOntslag331)","v":""},null,null,{"$f":"IF(Data_BeeindigingsdatumVastOntslag331=\"\",\"\",Data_BeeindigingsdatumVastOntslag331)","v":""},null,null,{"$f":"IF(Data_LoonkostenVastOntslag331=\"\",\"\",Data_LoonkostenVastOntslag331)","v":""},null,{"$f":"IF(Data_PersoonAanUitVastOntslag331=-1,\"v\",\"\")","v":""},null,"v",null,null,null,null,0,0]
[null,null,null,null,null,null,null,{"$f":"IF(Data_NaamPersoonNatVerloop332=\"\",\"\",Data_NaamPersoonNatVerloop332)","v":""},null,null,{"$f":"IF(Data_BeeindigingsdatumNatVerloop332=\"\",\"\",Data_BeeindigingsdatumNatVerloop332)","v":""},null,null,{"$f":"IF(Data_LoonkostenNatVerloop332=\"\",\"\",Data_LoonkostenNatVerloop332)","v":""},null,"v",null,"v",null,null,null,null,0,"",null,null,null,null,null,null,null,null,{"$f":"IF(Data_NaamPersoonTijd332=\"\",\"\",Data_NaamPersoonTijd332)","v":""},null,null,{"$f":"IF(Data_BeeindigingsdatumTijd332=\"\",\"\",Data_BeeindigingsdatumTijd332)","v":""},null,null,{"$f":"IF(Data_LoonkostenTijd332=\"\",\"\",Data_LoonkostenTijd332)","v":""},null,{"$f":"IF(Data_PersoonAanUitTijd332=-1,\"v\",\"\")","v":""},null,"v",null,null,null,null,0,0,null,null,null,{"$f":"IF(Data_NaamPersoonVastVrij332=\"\",\"\",Data_NaamPersoonVastVrij332)","v":""},null,null,{"$f":"IF(Data_BeeindigingsdatumVastVrij332=\"\",\"\",Data_BeeindigingsdatumVastVrij332)","v":""},null,null,{"$f":"IF(Data_LoonkostenVastVrij332=\"\",\"\",Data_LoonkostenVastVrij332)","v":""},null,{"$f":"IF(Data_PersoonAanUitVastVrij332=-1,\"v\",\"\")","v":""},null,"v",null,null,null,null,0,0,null,{"$f":"IF(Data_NaamPersoonVastOntslag332=\"\",\"\",Data_NaamPersoonVastOntslag332)","v":""},null,null,{"$f":"IF(Data_BeeindigingsdatumVastOntslag332=\"\",\"\",Data_BeeindigingsdatumVastOntslag332)","v":""},null,null,{"$f":"IF(Data_LoonkostenVastOntslag332=\"\",\"\",Data_LoonkostenVastOntslag332)","v":""},null,{"$f":"IF(Data_PersoonAanUitVastOntslag332=-1,\"v\",\"\")","v":""},null,"v",null,null,null,null,0,0]
[null,null,null,null,null,null,null,{"$f":"IF(Data_NaamPersoonNatVerloop333=\"\",\"\",Data_NaamPersoonNatVerloop333)","v":""},null,null,{"$f":"IF(Data_BeeindigingsdatumNatVerloop333=\"\",\"\",Data_BeeindigingsdatumNatVerloop333)","v":""},null,null,{"$f":"IF(Data_LoonkostenNatVerloop333=\"\",\"\",Data_LoonkostenNatVerloop333)","v":""},null,"v",null,"v",null,null,null,null,0,"",null,null,null,null,null,null,null,null,{"$f":"IF(Data_NaamPersoonTijd333=\"\",\"\",Data_NaamPersoonTijd333)","v":""},null,null,{"$f":"IF(Data_BeeindigingsdatumTijd333=\"\",\"\",Data_BeeindigingsdatumTijd333)","v":""},null,null,{"$f":"IF(Data_LoonkostenTijd333=\"\",\"\",Data_LoonkostenTijd333)","v":""},null,{"$f":"IF(Data_PersoonAanUitTijd333=-1,\"v\",\"\")","v":""},null,"v",null,null,null,null,0,0,null,null,null,{"$f":"IF(Data_NaamPersoonVastVrij333=\"\",\"\",Data_NaamPersoonVastVrij333)","v":""},null,null,{"$f":"IF(Data_BeeindigingsdatumVastVrij333=\"\",\"\",Data_BeeindigingsdatumVastVrij333)","v":""},null,null,{"$f":"IF(Data_LoonkostenVastVrij333=\"\",\"\",Data_LoonkostenVastVrij333)","v":""},null,{"$f":"IF(Data_PersoonAanUitVastVrij333=-1,\"v\",\"\")","v":""},null,"v",null,null,null,null,0,0,null,{"$f":"IF(Data_NaamPersoonVastOntslag333=\"\",\"\",Data_NaamPersoonVastOntslag333)","v":""},null,null,{"$f":"IF(Data_BeeindigingsdatumVastOntslag333=\"\",\"\",Data_BeeindigingsdatumVastOntslag333)","v":""},null,null,{"$f":"IF(Data_LoonkostenVastOntslag333=\"\",\"\",Data_LoonkostenVastOntslag333)","v":""},null,{"$f":"IF(Data_PersoonAanUitVastOntslag333=-1,\"v\",\"\")","v":""},null,"v",null,null,null,null,0,0]
[null,null,null,null,null,null,null,{"$f":"IF(Data_NaamPersoonNatVerloop334=\"\",\"\",Data_NaamPersoonNatVerloop334)","v":""},null,null,{"$f":"IF(Data_BeeindigingsdatumNatVerloop334=\"\",\"\",Data_BeeindigingsdatumNatVerloop334)","v":""},null,null,{"$f":"IF(Data_LoonkostenNatVerloop334=\"\",\"\",Data_LoonkostenNatVerloop334)","v":""},null,"v",null,"v",null,null,null,null,0,"",null,null,null,null,null,null,null,null,{"$f":"IF(Data_NaamPersoonTijd334=\"\",\"\",Data_NaamPersoonTijd334)","v":""},null,null,{"$f":"IF(Data_BeeindigingsdatumTijd334=\"\",\"\",Data_BeeindigingsdatumTijd334)","v":""},null,null,{"$f":"IF(Data_LoonkostenTijd334=\"\",\"\",Data_LoonkostenTijd334)","v":""},null,{"$f":"IF(Data_PersoonAanUitTijd334=-1,\"v\",\"\")","v":""},null,"v",null,null,null,null,0,0,null,null,null,{"$f":"IF(Data_NaamPersoonVastVrij334=\"\",\"\",Data_NaamPersoonVastVrij334)","v":""},null,null,{"$f":"IF(Data_BeeindigingsdatumVastVrij334=\"\",\"\",Data_BeeindigingsdatumVastVrij334)","v":""},null,null,{"$f":"IF(Data_LoonkostenVastVrij334=\"\",\"\",Data_LoonkostenVastVrij334)","v":""},null,{"$f":"IF(Data_PersoonAanUitVastVrij334=-1,\"v\",\"\")","v":""},null,"v",null,null,null,null,0,0,null,{"$f":"IF(Data_NaamPersoonVastOntslag334=\"\",\"\",Data_NaamPersoonVastOntslag334)","v":""},null,null,{"$f":"IF(Data_BeeindigingsdatumVastOntslag334=\"\",\"\",Data_BeeindigingsdatumVastOntslag334)","v":""},null,null,{"$f":"IF(Data_LoonkostenVastOntslag334=\"\",\"\",Data_LoonkostenVastOntslag334)","v":""},null,{"$f":"IF(Data_PersoonAanUitVastOntslag334=-1,\"v\",\"\")","v":""},null,"v",null,null,null,null,0,0]
[null,null,null,null,null,null,null,{"$f":"IF(Data_NaamPersoonNatVerloop335=\"\",\"\",Data_NaamPersoonNatVerloop335)","v":""},null,null,{"$f":"IF(Data_BeeindigingsdatumNatVerloop335=\"\",\"\",Data_BeeindigingsdatumNatVerloop335)","v":""},null,null,{"$f":"IF(Data_LoonkostenNatVerloop335=\"\",\"\",Data_LoonkostenNatVerloop335)","v":""},null,"v",null,"v",null,null,null,null,0,"",null,null,null,null,null,null,null,null,{"$f":"IF(Data_NaamPersoonTijd335=\"\",\"\",Data_NaamPersoonTijd335)","v":""},null,null,{"$f":"IF(Data_BeeindigingsdatumTijd335=\"\",\"\",Data_BeeindigingsdatumTijd335)","v":""},null,null,{"$f":"IF(Data_LoonkostenTijd335=\"\",\"\",Data_LoonkostenTijd335)","v":""},null,{"$f":"IF(Data_PersoonAanUitTijd335=-1,\"v\",\"\")","v":""},null,"v",null,null,null,null,0,0,null,null,null,{"$f":"IF(Data_NaamPersoonVastVrij335=\"\",\"\",Data_NaamPersoonVastVrij335)","v":""},null,null,{"$f":"IF(Data_BeeindigingsdatumVastVrij335=\"\",\"\",Data_BeeindigingsdatumVastVrij335)","v":""},null,null,{"$f":"IF(Data_LoonkostenVastVrij335=\"\",\"\",Data_LoonkostenVastVrij335)","v":""},null,{"$f":"IF(Data_PersoonAanUitVastVrij335=-1,\"v\",\"\")","v":""},null,"v",null,null,null,null,0,0,null,{"$f":"IF(Data_NaamPersoonVastOntslag335=\"\",\"\",Data_NaamPersoonVastOntslag335)","v":""},null,null,{"$f":"IF(Data_BeeindigingsdatumVastOntslag335=\"\",\"\",Data_BeeindigingsdatumVastOntslag335)","v":""},null,null,{"$f":"IF(Data_LoonkostenVastOntslag335=\"\",\"\",Data_LoonkostenVastOntslag335)","v":""},null,{"$f":"IF(Data_PersoonAanUitVastOntslag335=-1,\"v\",\"\")","v":""},null,"v",null,null,null,null,0,0]
[null,null,null,null,null,null,null,{"$f":"IF(Data_NaamPersoonNatVerloop336=\"\",\"\",Data_NaamPersoonNatVerloop336)","v":""},null,null,{"$f":"IF(Data_BeeindigingsdatumNatVerloop336=\"\",\"\",Data_BeeindigingsdatumNatVerloop336)","v":""},null,null,{"$f":"IF(Data_LoonkostenNatVerloop336=\"\",\"\",Data_LoonkostenNatVerloop336)","v":""},null,"v",null,"v",null,null,null,null,0,"",null,null,null,null,null,null,null,null,{"$f":"IF(Data_NaamPersoonTijd336=\"\",\"\",Data_NaamPersoonTijd336)","v":""},null,null,{"$f":"IF(Data_BeeindigingsdatumTijd336=\"\",\"\",Data_BeeindigingsdatumTijd336)","v":""},null,null,{"$f":"IF(Data_LoonkostenTijd336=\"\",\"\",Data_LoonkostenTijd336)","v":""},null,{"$f":"IF(Data_PersoonAanUitTijd336=-1,\"v\",\"\")","v":""},null,"v",null,null,null,null,0,0,null,null,null,{"$f":"IF(Data_NaamPersoonVastVrij336=\"\",\"\",Data_NaamPersoonVastVrij336)","v":""},null,null,{"$f":"IF(Data_BeeindigingsdatumVastVrij336=\"\",\"\",Data_BeeindigingsdatumVastVrij336)","v":""},null,null,{"$f":"IF(Data_LoonkostenVastVrij336=\"\",\"\",Data_LoonkostenVastVrij336)","v":""},null,{"$f":"IF(Data_PersoonAanUitVastVrij336=-1,\"v\",\"\")","v":""},null,"v",null,null,null,null,0,0,null,{"$f":"IF(Data_NaamPersoonVastOntslag336=\"\",\"\",Data_NaamPersoonVastOntslag336)","v":""},null,null,{"$f":"IF(Data_BeeindigingsdatumVastOntslag336=\"\",\"\",Data_BeeindigingsdatumVastOntslag336)","v":""},null,null,{"$f":"IF(Data_LoonkostenVastOntslag336=\"\",\"\",Data_LoonkostenVastOntslag336)","v":""},null,{"$f":"IF(Data_PersoonAanUitVastOntslag336=-1,\"v\",\"\")","v":""},null,"v",null,null,null,null,0,0]
[null,null,null,null,null,null,null,{"$f":"IF(Data_NaamPersoonNatVerloop337=\"\",\"\",Data_NaamPersoonNatVerloop337)","v":""},null,null,{"$f":"IF(Data_BeeindigingsdatumNatVerloop337=\"\",\"\",Data_BeeindigingsdatumNatVerloop337)","v":""},null,null,{"$f":"IF(Data_LoonkostenNatVerloop337=\"\",\"\",Data_LoonkostenNatVerloop337)","v":""},null,"v",null,"v",null,null,null,null,0,"",null,null,null,null,null,null,null,null,{"$f":"IF(Data_NaamPersoonTijd337=\"\",\"\",Data_NaamPersoonTijd337)","v":""},null,null,{"$f":"IF(Data_BeeindigingsdatumTijd337=\"\",\"\",Data_BeeindigingsdatumTijd337)","v":""},null,null,{"$f":"IF(Data_LoonkostenTijd337=\"\",\"\",Data_LoonkostenTijd337)","v":""},null,{"$f":"IF(Data_PersoonAanUitTijd337=-1,\"v\",\"\")","v":""},null,"v",null,null,null,null,0,0,null,null,null,{"$f":"IF(Data_NaamPersoonVastVrij337=\"\",\"\",Data_NaamPersoonVastVrij337)","v":""},null,null,{"$f":"IF(Data_BeeindigingsdatumVastVrij337=\"\",\"\",Data_BeeindigingsdatumVastVrij337)","v":""},null,null,{"$f":"IF(Data_LoonkostenVastVrij337=\"\",\"\",Data_LoonkostenVastVrij337)","v":""},null,{"$f":"IF(Data_PersoonAanUitVastVrij337=-1,\"v\",\"\")","v":""},null,"v",null,null,null,null,0,0,null,{"$f":"IF(Data_NaamPersoonVastOntslag337=\"\",\"\",Data_NaamPersoonVastOntslag337)","v":""},null,null,{"$f":"IF(Data_BeeindigingsdatumVastOntslag337=\"\",\"\",Data_BeeindigingsdatumVastOntslag337)","v":""},null,null,{"$f":"IF(Data_LoonkostenVastOntslag337=\"\",\"\",Data_LoonkostenVastOntslag337)","v":""},null,{"$f":"IF(Data_PersoonAanUitVastOntslag337=-1,\"v\",\"\")","v":""},null,"v",null,null,null,null,0,0]
[null,null,null,null,null,null,null,{"$f":"IF(Data_NaamPersoonNatVerloop338=\"\",\"\",Data_NaamPersoonNatVerloop338)","v":""},null,null,{"$f":"IF(Data_BeeindigingsdatumNatVerloop338=\"\",\"\",Data_BeeindigingsdatumNatVerloop338)","v":""},null,null,{"$f":"IF(Data_LoonkostenNatVerloop338=\"\",\"\",Data_LoonkostenNatVerloop338)","v":""},null,"v",null,"v",null,null,null,null,0,"",null,null,null,null,null,null,null,null,{"$f":"IF(Data_NaamPersoonTijd338=\"\",\"\",Data_NaamPersoonTijd338)","v":""},null,null,{"$f":"IF(Data_BeeindigingsdatumTijd338=\"\",\"\",Data_BeeindigingsdatumTijd338)","v":""},null,null,{"$f":"IF(Data_LoonkostenTijd338=\"\",\"\",Data_LoonkostenTijd338)","v":""},null,{"$f":"IF(Data_PersoonAanUitTijd338=-1,\"v\",\"\")","v":""},null,"v",null,null,null,null,0,0,null,null,null,{"$f":"IF(Data_NaamPersoonVastVrij338=\"\",\"\",Data_NaamPersoonVastVrij338)","v":""},null,null,{"$f":"IF(Data_BeeindigingsdatumVastVrij338=\"\",\"\",Data_BeeindigingsdatumVastVrij338)","v":""},null,null,{"$f":"IF(Data_LoonkostenVastVrij338=\"\",\"\",Data_LoonkostenVastVrij338)","v":""},null,{"$f":"IF(Data_PersoonAanUitVastVrij338=-1,\"v\",\"\")","v":""},null,"v",null,null,null,null,0,0,null,{"$f":"IF(Data_NaamPersoonVastOntslag338=\"\",\"\",Data_NaamPersoonVastOntslag338)","v":""},null,null,{"$f":"IF(Data_BeeindigingsdatumVastOntslag338=\"\",\"\",Data_BeeindigingsdatumVastOntslag338)","v":""},null,null,{"$f":"IF(Data_LoonkostenVastOntslag338=\"\",\"\",Data_LoonkostenVastOntslag338)","v":""},null,{"$f":"IF(Data_PersoonAanUitVastOntslag338=-1,\"v\",\"\")","v":""},null,"v",null,null,null,null,0,0]
[null,null,null,null,null,null,null,{"$f":"IF(Data_NaamPersoonNatVerloop339=\"\",\"\",Data_NaamPersoonNatVerloop339)","v":""},null,null,{"$f":"IF(Data_BeeindigingsdatumNatVerloop339=\"\",\"\",Data_BeeindigingsdatumNatVerloop339)","v":""},null,null,{"$f":"IF(Data_LoonkostenNatVerloop339=\"\",\"\",Data_LoonkostenNatVerloop339)","v":""},null,"v",null,"v",null,null,null,null,0,"",null,null,null,null,null,null,null,null,{"$f":"IF(Data_NaamPersoonTijd339=\"\",\"\",Data_NaamPersoonTijd339)","v":""},null,null,{"$f":"IF(Data_BeeindigingsdatumTijd339=\"\",\"\",Data_BeeindigingsdatumTijd339)","v":""},null,null,{"$f":"IF(Data_LoonkostenTijd339=\"\",\"\",Data_LoonkostenTijd339)","v":""},null,{"$f":"IF(Data_PersoonAanUitTijd339=-1,\"v\",\"\")","v":""},null,"v",null,null,null,null,0,0,null,null,null,{"$f":"IF(Data_NaamPersoonVastVrij339=\"\",\"\",Data_NaamPersoonVastVrij339)","v":""},null,null,{"$f":"IF(Data_BeeindigingsdatumVastVrij339=\"\",\"\",Data_BeeindigingsdatumVastVrij339)","v":""},null,null,{"$f":"IF(Data_LoonkostenVastVrij339=\"\",\"\",Data_LoonkostenVastVrij339)","v":""},null,{"$f":"IF(Data_PersoonAanUitVastVrij339=-1,\"v\",\"\")","v":""},null,"v",null,null,null,null,0,0,null,{"$f":"IF(Data_NaamPersoonVastOntslag339=\"\",\"\",Data_NaamPersoonVastOntslag339)","v":""},null,null,{"$f":"IF(Data_BeeindigingsdatumVastOntslag339=\"\",\"\",Data_BeeindigingsdatumVastOntslag339)","v":""},null,null,{"$f":"IF(Data_LoonkostenVastOntslag339=\"\",\"\",Data_LoonkostenVastOntslag339)","v":""},null,{"$f":"IF(Data_PersoonAanUitVastOntslag339=-1,\"v\",\"\")","v":""},null,"v",null,null,null,null,0,0]
[null,null,null,null,null,null,null,{"$f":"IF(Data_NaamPersoonNatVerloop340=\"\",\"\",Data_NaamPersoonNatVerloop340)","v":""},null,null,{"$f":"IF(Data_BeeindigingsdatumNatVerloop340=\"\",\"\",Data_BeeindigingsdatumNatVerloop340)","v":""},null,null,{"$f":"IF(Data_LoonkostenNatVerloop340=\"\",\"\",Data_LoonkostenNatVerloop340)","v":""},null,"v",null,"v",null,null,null,null,0,"",null,null,null,null,null,null,null,null,{"$f":"IF(Data_NaamPersoonTijd340=\"\",\"\",Data_NaamPersoonTijd340)","v":""},null,null,{"$f":"IF(Data_BeeindigingsdatumTijd340=\"\",\"\",Data_BeeindigingsdatumTijd340)","v":""},null,null,{"$f":"IF(Data_LoonkostenTijd340=\"\",\"\",Data_LoonkostenTijd340)","v":""},null,{"$f":"IF(Data_PersoonAanUitTijd340=-1,\"v\",\"\")","v":""},null,"v",null,null,null,null,0,0,null,null,null,{"$f":"IF(Data_NaamPersoonVastVrij340=\"\",\"\",Data_NaamPersoonVastVrij340)","v":""},null,null,{"$f":"IF(Data_BeeindigingsdatumVastVrij340=\"\",\"\",Data_BeeindigingsdatumVastVrij340)","v":""},null,null,{"$f":"IF(Data_LoonkostenVastVrij340=\"\",\"\",Data_LoonkostenVastVrij340)","v":""},null,{"$f":"IF(Data_PersoonAanUitVastVrij340=-1,\"v\",\"\")","v":""},null,"v",null,null,null,null,0,0,null,{"$f":"IF(Data_NaamPersoonVastOntslag340=\"\",\"\",Data_NaamPersoonVastOntslag340)","v":""},null,null,{"$f":"IF(Data_BeeindigingsdatumVastOntslag340=\"\",\"\",Data_BeeindigingsdatumVastOntslag340)","v":""},null,null,{"$f":"IF(Data_LoonkostenVastOntslag340=\"\",\"\",Data_LoonkostenVastOntslag340)","v":""},null,{"$f":"IF(Data_PersoonAanUitVastOntslag340=-1,\"v\",\"\")","v":""},null,"v",null,null,null,null,0,0]
[null,null,null,null,null,null,null,{"$f":"IF(Data_NaamPersoonNatVerloop341=\"\",\"\",Data_NaamPersoonNatVerloop341)","v":""},null,null,{"$f":"IF(Data_BeeindigingsdatumNatVerloop341=\"\",\"\",Data_BeeindigingsdatumNatVerloop341)","v":""},null,null,{"$f":"IF(Data_LoonkostenNatVerloop341=\"\",\"\",Data_LoonkostenNatVerloop341)","v":""},null,"v",null,"v",null,null,null,null,0,"",null,null,null,null,null,null,null,null,{"$f":"IF(Data_NaamPersoonTijd341=\"\",\"\",Data_NaamPersoonTijd341)","v":""},null,null,{"$f":"IF(Data_BeeindigingsdatumTijd341=\"\",\"\",Data_BeeindigingsdatumTijd341)","v":""},null,null,{"$f":"IF(Data_LoonkostenTijd341=\"\",\"\",Data_LoonkostenTijd341)","v":""},null,{"$f":"IF(Data_PersoonAanUitTijd341=-1,\"v\",\"\")","v":""},null,"v",null,null,null,null,0,0,null,null,null,{"$f":"IF(Data_NaamPersoonVastVrij341=\"\",\"\",Data_NaamPersoonVastVrij341)","v":""},null,null,{"$f":"IF(Data_BeeindigingsdatumVastVrij341=\"\",\"\",Data_BeeindigingsdatumVastVrij341)","v":""},null,null,{"$f":"IF(Data_LoonkostenVastVrij341=\"\",\"\",Data_LoonkostenVastVrij341)","v":""},null,{"$f":"IF(Data_PersoonAanUitVastVrij341=-1,\"v\",\"\")","v":""},null,"v",null,null,null,null,0,0,null,{"$f":"IF(Data_NaamPersoonVastOntslag341=\"\",\"\",Data_NaamPersoonVastOntslag341)","v":""},null,null,{"$f":"IF(Data_BeeindigingsdatumVastOntslag341=\"\",\"\",Data_BeeindigingsdatumVastOntslag341)","v":""},null,null,{"$f":"IF(Data_LoonkostenVastOntslag341=\"\",\"\",Data_LoonkostenVastOntslag341)","v":""},null,{"$f":"IF(Data_PersoonAanUitVastOntslag341=-1,\"v\",\"\")","v":""},null,"v",null,null,null,null,0,0]
[null,null,null,null,null,null,null,{"$f":"IF(Data_NaamPersoonNatVerloop342=\"\",\"\",Data_NaamPersoonNatVerloop342)","v":""},null,null,{"$f":"IF(Data_BeeindigingsdatumNatVerloop342=\"\",\"\",Data_BeeindigingsdatumNatVerloop342)","v":""},null,null,{"$f":"IF(Data_LoonkostenNatVerloop342=\"\",\"\",Data_LoonkostenNatVerloop342)","v":""},null,"v",null,"v",null,null,null,null,0,"",null,null,null,null,null,null,null,null,{"$f":"IF(Data_NaamPersoonTijd342=\"\",\"\",Data_NaamPersoonTijd342)","v":""},null,null,{"$f":"IF(Data_BeeindigingsdatumTijd342=\"\",\"\",Data_BeeindigingsdatumTijd342)","v":""},null,null,{"$f":"IF(Data_LoonkostenTijd342=\"\",\"\",Data_LoonkostenTijd342)","v":""},null,{"$f":"IF(Data_PersoonAanUitTijd342=-1,\"v\",\"\")","v":""},null,"v",null,null,null,null,0,0,null,null,null,{"$f":"IF(Data_NaamPersoonVastVrij342=\"\",\"\",Data_NaamPersoonVastVrij342)","v":""},null,null,{"$f":"IF(Data_BeeindigingsdatumVastVrij342=\"\",\"\",Data_BeeindigingsdatumVastVrij342)","v":""},null,null,{"$f":"IF(Data_LoonkostenVastVrij342=\"\",\"\",Data_LoonkostenVastVrij342)","v":""},null,{"$f":"IF(Data_PersoonAanUitVastVrij342=-1,\"v\",\"\")","v":""},null,"v",null,null,null,null,0,0,null,{"$f":"IF(Data_NaamPersoonVastOntslag342=\"\",\"\",Data_NaamPersoonVastOntslag342)","v":""},null,null,{"$f":"IF(Data_BeeindigingsdatumVastOntslag342=\"\",\"\",Data_BeeindigingsdatumVastOntslag342)","v":""},null,null,{"$f":"IF(Data_LoonkostenVastOntslag342=\"\",\"\",Data_LoonkostenVastOntslag342)","v":""},null,{"$f":"IF(Data_PersoonAanUitVastOntslag342=-1,\"v\",\"\")","v":""},null,"v",null,null,null,null,0,0]
[null,null,null,null,null,null,null,{"$f":"IF(Data_NaamPersoonNatVerloop343=\"\",\"\",Data_NaamPersoonNatVerloop343)","v":""},null,null,{"$f":"IF(Data_BeeindigingsdatumNatVerloop343=\"\",\"\",Data_BeeindigingsdatumNatVerloop343)","v":""},null,null,{"$f":"IF(Data_LoonkostenNatVerloop343=\"\",\"\",Data_LoonkostenNatVerloop343)","v":""},null,"v",null,"v",null,null,null,null,0,"",null,null,null,null,null,null,null,null,{"$f":"IF(Data_NaamPersoonTijd343=\"\",\"\",Data_NaamPersoonTijd343)","v":""},null,null,{"$f":"IF(Data_BeeindigingsdatumTijd343=\"\",\"\",Data_BeeindigingsdatumTijd343)","v":""},null,null,{"$f":"IF(Data_LoonkostenTijd343=\"\",\"\",Data_LoonkostenTijd343)","v":""},null,{"$f":"IF(Data_PersoonAanUitTijd343=-1,\"v\",\"\")","v":""},null,"v",null,null,null,null,0,0,null,null,null,{"$f":"IF(Data_NaamPersoonVastVrij343=\"\",\"\",Data_NaamPersoonVastVrij343)","v":""},null,null,{"$f":"IF(Data_BeeindigingsdatumVastVrij343=\"\",\"\",Data_BeeindigingsdatumVastVrij343)","v":""},null,null,{"$f":"IF(Data_LoonkostenVastVrij343=\"\",\"\",Data_LoonkostenVastVrij343)","v":""},null,{"$f":"IF(Data_PersoonAanUitVastVrij343=-1,\"v\",\"\")","v":""},null,"v",null,null,null,null,0,0,null,{"$f":"IF(Data_NaamPersoonVastOntslag343=\"\",\"\",Data_NaamPersoonVastOntslag343)","v":""},null,null,{"$f":"IF(Data_BeeindigingsdatumVastOntslag343=\"\",\"\",Data_BeeindigingsdatumVastOntslag343)","v":""},null,null,{"$f":"IF(Data_LoonkostenVastOntslag343=\"\",\"\",Data_LoonkostenVastOntslag343)","v":""},null,{"$f":"IF(Data_PersoonAanUitVastOntslag343=-1,\"v\",\"\")","v":""},null,"v",null,null,null,null,0,0]
[null,null,null,null,null,null,null,{"$f":"IF(Data_NaamPersoonNatVerloop344=\"\",\"\",Data_NaamPersoonNatVerloop344)","v":""},null,null,{"$f":"IF(Data_BeeindigingsdatumNatVerloop344=\"\",\"\",Data_BeeindigingsdatumNatVerloop344)","v":""},null,null,{"$f":"IF(Data_LoonkostenNatVerloop344=\"\",\"\",Data_LoonkostenNatVerloop344)","v":""},null,"v",null,"v",null,null,null,null,0,"",null,null,null,null,null,null,null,null,{"$f":"IF(Data_NaamPersoonTijd344=\"\",\"\",Data_NaamPersoonTijd344)","v":""},null,null,{"$f":"IF(Data_BeeindigingsdatumTijd344=\"\",\"\",Data_BeeindigingsdatumTijd344)","v":""},null,null,{"$f":"IF(Data_LoonkostenTijd344=\"\",\"\",Data_LoonkostenTijd344)","v":""},null,{"$f":"IF(Data_PersoonAanUitTijd344=-1,\"v\",\"\")","v":""},null,"v",null,null,null,null,0,0,null,null,null,{"$f":"IF(Data_NaamPersoonVastVrij344=\"\",\"\",Data_NaamPersoonVastVrij344)","v":""},null,null,{"$f":"IF(Data_BeeindigingsdatumVastVrij344=\"\",\"\",Data_BeeindigingsdatumVastVrij344)","v":""},null,null,{"$f":"IF(Data_LoonkostenVastVrij344=\"\",\"\",Data_LoonkostenVastVrij344)","v":""},null,{"$f":"IF(Data_PersoonAanUitVastVrij344=-1,\"v\",\"\")","v":""},null,"v",null,null,null,null,0,0,null,{"$f":"IF(Data_NaamPersoonVastOntslag344=\"\",\"\",Data_NaamPersoonVastOntslag344)","v":""},null,null,{"$f":"IF(Data_BeeindigingsdatumVastOntslag344=\"\",\"\",Data_BeeindigingsdatumVastOntslag344)","v":""},null,null,{"$f":"IF(Data_LoonkostenVastOntslag344=\"\",\"\",Data_LoonkostenVastOntslag344)","v":""},null,{"$f":"IF(Data_PersoonAanUitVastOntslag344=-1,\"v\",\"\")","v":""},null,"v",null,null,null,null,0,0]
[null,null,null,null,null,null,null,{"$f":"IF(Data_NaamPersoonNatVerloop345=\"\",\"\",Data_NaamPersoonNatVerloop345)","v":""},null,null,{"$f":"IF(Data_BeeindigingsdatumNatVerloop345=\"\",\"\",Data_BeeindigingsdatumNatVerloop345)","v":""},null,null,{"$f":"IF(Data_LoonkostenNatVerloop345=\"\",\"\",Data_LoonkostenNatVerloop345)","v":""},null,"v",null,"v",null,null,null,null,0,"",null,null,null,null,null,null,null,null,{"$f":"IF(Data_NaamPersoonTijd345=\"\",\"\",Data_NaamPersoonTijd345)","v":""},null,null,{"$f":"IF(Data_BeeindigingsdatumTijd345=\"\",\"\",Data_BeeindigingsdatumTijd345)","v":""},null,null,{"$f":"IF(Data_LoonkostenTijd345=\"\",\"\",Data_LoonkostenTijd345)","v":""},null,{"$f":"IF(Data_PersoonAanUitTijd345=-1,\"v\",\"\")","v":""},null,"v",null,null,null,null,0,0,null,null,null,{"$f":"IF(Data_NaamPersoonVastVrij345=\"\",\"\",Data_NaamPersoonVastVrij345)","v":""},null,null,{"$f":"IF(Data_BeeindigingsdatumVastVrij345=\"\",\"\",Data_BeeindigingsdatumVastVrij345)","v":""},null,null,{"$f":"IF(Data_LoonkostenVastVrij345=\"\",\"\",Data_LoonkostenVastVrij345)","v":""},null,{"$f":"IF(Data_PersoonAanUitVastVrij345=-1,\"v\",\"\")","v":""},null,"v",null,null,null,null,0,0,null,{"$f":"IF(Data_NaamPersoonVastOntslag345=\"\",\"\",Data_NaamPersoonVastOntslag345)","v":""},null,null,{"$f":"IF(Data_BeeindigingsdatumVastOntslag345=\"\",\"\",Data_BeeindigingsdatumVastOntslag345)","v":""},null,null,{"$f":"IF(Data_LoonkostenVastOntslag345=\"\",\"\",Data_LoonkostenVastOntslag345)","v":""},null,{"$f":"IF(Data_PersoonAanUitVastOntslag345=-1,\"v\",\"\")","v":""},null,"v",null,null,null,null,0,0]
[null,null,null,null,null,null,null,{"$f":"IF(Data_NaamPersoonNatVerloop346=\"\",\"\",Data_NaamPersoonNatVerloop346)","v":""},null,null,{"$f":"IF(Data_BeeindigingsdatumNatVerloop346=\"\",\"\",Data_BeeindigingsdatumNatVerloop346)","v":""},null,null,{"$f":"IF(Data_LoonkostenNatVerloop346=\"\",\"\",Data_LoonkostenNatVerloop346)","v":""},null,"v",null,"v",null,null,null,null,0,"",null,null,null,null,null,null,null,null,{"$f":"IF(Data_NaamPersoonTijd346=\"\",\"\",Data_NaamPersoonTijd346)","v":""},null,null,{"$f":"IF(Data_BeeindigingsdatumTijd346=\"\",\"\",Data_BeeindigingsdatumTijd346)","v":""},null,null,{"$f":"IF(Data_LoonkostenTijd346=\"\",\"\",Data_LoonkostenTijd346)","v":""},null,{"$f":"IF(Data_PersoonAanUitTijd346=-1,\"v\",\"\")","v":""},null,"v",null,null,null,null,0,0,null,null,null,{"$f":"IF(Data_NaamPersoonVastVrij346=\"\",\"\",Data_NaamPersoonVastVrij346)","v":""},null,null,{"$f":"IF(Data_BeeindigingsdatumVastVrij346=\"\",\"\",Data_BeeindigingsdatumVastVrij346)","v":""},null,null,{"$f":"IF(Data_LoonkostenVastVrij346=\"\",\"\",Data_LoonkostenVastVrij346)","v":""},null,{"$f":"IF(Data_PersoonAanUitVastVrij346=-1,\"v\",\"\")","v":""},null,"v",null,null,null,null,0,0,null,{"$f":"IF(Data_NaamPersoonVastOntslag346=\"\",\"\",Data_NaamPersoonVastOntslag346)","v":""},null,null,{"$f":"IF(Data_BeeindigingsdatumVastOntslag346=\"\",\"\",Data_BeeindigingsdatumVastOntslag346)","v":""},null,null,{"$f":"IF(Data_LoonkostenVastOntslag346=\"\",\"\",Data_LoonkostenVastOntslag346)","v":""},null,{"$f":"IF(Data_PersoonAanUitVastOntslag346=-1,\"v\",\"\")","v":""},null,"v",null,null,null,null,0,0]
[null,null,null,null,null,null,null,{"$f":"IF(Data_NaamPersoonNatVerloop347=\"\",\"\",Data_NaamPersoonNatVerloop347)","v":""},null,null,{"$f":"IF(Data_BeeindigingsdatumNatVerloop347=\"\",\"\",Data_BeeindigingsdatumNatVerloop347)","v":""},null,null,{"$f":"IF(Data_LoonkostenNatVerloop347=\"\",\"\",Data_LoonkostenNatVerloop347)","v":""},null,"v",null,"v",null,null,null,null,0,"",null,null,null,null,null,null,null,null,{"$f":"IF(Data_NaamPersoonTijd347=\"\",\"\",Data_NaamPersoonTijd347)","v":""},null,null,{"$f":"IF(Data_BeeindigingsdatumTijd347=\"\",\"\",Data_BeeindigingsdatumTijd347)","v":""},null,null,{"$f":"IF(Data_LoonkostenTijd347=\"\",\"\",Data_LoonkostenTijd347)","v":""},null,{"$f":"IF(Data_PersoonAanUitTijd347=-1,\"v\",\"\")","v":""},null,"v",null,null,null,null,0,0,null,null,null,{"$f":"IF(Data_NaamPersoonVastVrij347=\"\",\"\",Data_NaamPersoonVastVrij347)","v":""},null,null,{"$f":"IF(Data_BeeindigingsdatumVastVrij347=\"\",\"\",Data_BeeindigingsdatumVastVrij347)","v":""},null,null,{"$f":"IF(Data_LoonkostenVastVrij347=\"\",\"\",Data_LoonkostenVastVrij347)","v":""},null,{"$f":"IF(Data_PersoonAanUitVastVrij347=-1,\"v\",\"\")","v":""},null,"v",null,null,null,null,0,0,null,{"$f":"IF(Data_NaamPersoonVastOntslag347=\"\",\"\",Data_NaamPersoonVastOntslag347)","v":""},null,null,{"$f":"IF(Data_BeeindigingsdatumVastOntslag347=\"\",\"\",Data_BeeindigingsdatumVastOntslag347)","v":""},null,null,{"$f":"IF(Data_LoonkostenVastOntslag347=\"\",\"\",Data_LoonkostenVastOntslag347)","v":""},null,{"$f":"IF(Data_PersoonAanUitVastOntslag347=-1,\"v\",\"\")","v":""},null,"v",null,null,null,null,0,0]
[null,null,null,null,null,null,null,{"$f":"IF(Data_NaamPersoonNatVerloop348=\"\",\"\",Data_NaamPersoonNatVerloop348)","v":""},null,null,{"$f":"IF(Data_BeeindigingsdatumNatVerloop348=\"\",\"\",Data_BeeindigingsdatumNatVerloop348)","v":""},null,null,{"$f":"IF(Data_LoonkostenNatVerloop348=\"\",\"\",Data_LoonkostenNatVerloop348)","v":""},null,"v",null,"v",null,null,null,null,0,"",null,null,null,null,null,null,null,null,{"$f":"IF(Data_NaamPersoonTijd348=\"\",\"\",Data_NaamPersoonTijd348)","v":""},null,null,{"$f":"IF(Data_BeeindigingsdatumTijd348=\"\",\"\",Data_BeeindigingsdatumTijd348)","v":""},null,null,{"$f":"IF(Data_LoonkostenTijd348=\"\",\"\",Data_LoonkostenTijd348)","v":""},null,{"$f":"IF(Data_PersoonAanUitTijd348=-1,\"v\",\"\")","v":""},null,"v",null,null,null,null,0,0,null,null,null,{"$f":"IF(Data_NaamPersoonVastVrij348=\"\",\"\",Data_NaamPersoonVastVrij348)","v":""},null,null,{"$f":"IF(Data_BeeindigingsdatumVastVrij348=\"\",\"\",Data_BeeindigingsdatumVastVrij348)","v":""},null,null,{"$f":"IF(Data_LoonkostenVastVrij348=\"\",\"\",Data_LoonkostenVastVrij348)","v":""},null,{"$f":"IF(Data_PersoonAanUitVastVrij348=-1,\"v\",\"\")","v":""},null,"v",null,null,null,null,0,0,null,{"$f":"IF(Data_NaamPersoonVastOntslag348=\"\",\"\",Data_NaamPersoonVastOntslag348)","v":""},null,null,{"$f":"IF(Data_BeeindigingsdatumVastOntslag348=\"\",\"\",Data_BeeindigingsdatumVastOntslag348)","v":""},null,null,{"$f":"IF(Data_LoonkostenVastOntslag348=\"\",\"\",Data_LoonkostenVastOntslag348)","v":""},null,{"$f":"IF(Data_PersoonAanUitVastOntslag348=-1,\"v\",\"\")","v":""},null,"v",null,null,null,null,0,0]
[null,null,null,null,null,null,null,{"$f":"IF(Data_NaamPersoonNatVerloop349=\"\",\"\",Data_NaamPersoonNatVerloop349)","v":""},null,null,{"$f":"IF(Data_BeeindigingsdatumNatVerloop349=\"\",\"\",Data_BeeindigingsdatumNatVerloop349)","v":""},null,null,{"$f":"IF(Data_LoonkostenNatVerloop349=\"\",\"\",Data_LoonkostenNatVerloop349)","v":""},null,"v",null,"v",null,null,null,null,0,"",null,null,null,null,null,null,null,null,{"$f":"IF(Data_NaamPersoonTijd349=\"\",\"\",Data_NaamPersoonTijd349)","v":""},null,null,{"$f":"IF(Data_BeeindigingsdatumTijd349=\"\",\"\",Data_BeeindigingsdatumTijd349)","v":""},null,null,{"$f":"IF(Data_LoonkostenTijd349=\"\",\"\",Data_LoonkostenTijd349)","v":""},null,{"$f":"IF(Data_PersoonAanUitTijd349=-1,\"v\",\"\")","v":""},null,"v",null,null,null,null,0,0,null,null,null,{"$f":"IF(Data_NaamPersoonVastVrij349=\"\",\"\",Data_NaamPersoonVastVrij349)","v":""},null,null,{"$f":"IF(Data_BeeindigingsdatumVastVrij349=\"\",\"\",Data_BeeindigingsdatumVastVrij349)","v":""},null,null,{"$f":"IF(Data_LoonkostenVastVrij349=\"\",\"\",Data_LoonkostenVastVrij349)","v":""},null,{"$f":"IF(Data_PersoonAanUitVastVrij349=-1,\"v\",\"\")","v":""},null,"v",null,null,null,null,0,0,null,{"$f":"IF(Data_NaamPersoonVastOntslag349=\"\",\"\",Data_NaamPersoonVastOntslag349)","v":""},null,null,{"$f":"IF(Data_BeeindigingsdatumVastOntslag349=\"\",\"\",Data_BeeindigingsdatumVastOntslag349)","v":""},null,null,{"$f":"IF(Data_LoonkostenVastOntslag349=\"\",\"\",Data_LoonkostenVastOntslag349)","v":""},null,{"$f":"IF(Data_PersoonAanUitVastOntslag349=-1,\"v\",\"\")","v":""},null,"v",null,null,null,null,0,0]
[null,null,null,null,null,null,null,{"$f":"IF(Data_NaamPersoonNatVerloop350=\"\",\"\",Data_NaamPersoonNatVerloop350)","v":""},null,null,{"$f":"IF(Data_BeeindigingsdatumNatVerloop350=\"\",\"\",Data_BeeindigingsdatumNatVerloop350)","v":""},null,null,{"$f":"IF(Data_LoonkostenNatVerloop350=\"\",\"\",Data_LoonkostenNatVerloop350)","v":""},null,"v",null,"v",null,null,null,null,0,"",null,null,null,null,null,null,null,null,{"$f":"IF(Data_NaamPersoonTijd350=\"\",\"\",Data_NaamPersoonTijd350)","v":""},null,null,{"$f":"IF(Data_BeeindigingsdatumTijd350=\"\",\"\",Data_BeeindigingsdatumTijd350)","v":""},null,null,{"$f":"IF(Data_LoonkostenTijd350=\"\",\"\",Data_LoonkostenTijd350)","v":""},null,{"$f":"IF(Data_PersoonAanUitTijd350=-1,\"v\",\"\")","v":""},null,"v",null,null,null,null,0,0,null,null,null,{"$f":"IF(Data_NaamPersoonVastVrij350=\"\",\"\",Data_NaamPersoonVastVrij350)","v":""},null,null,{"$f":"IF(Data_BeeindigingsdatumVastVrij350=\"\",\"\",Data_BeeindigingsdatumVastVrij350)","v":""},null,null,{"$f":"IF(Data_LoonkostenVastVrij350=\"\",\"\",Data_LoonkostenVastVrij350)","v":""},null,{"$f":"IF(Data_PersoonAanUitVastVrij350=-1,\"v\",\"\")","v":""},null,"v",null,null,null,null,0,0,null,{"$f":"IF(Data_NaamPersoonVastOntslag350=\"\",\"\",Data_NaamPersoonVastOntslag350)","v":""},null,null,{"$f":"IF(Data_BeeindigingsdatumVastOntslag350=\"\",\"\",Data_BeeindigingsdatumVastOntslag350)","v":""},null,null,{"$f":"IF(Data_LoonkostenVastOntslag350=\"\",\"\",Data_LoonkostenVastOntslag350)","v":""},null,{"$f":"IF(Data_PersoonAanUitVastOntslag350=-1,\"v\",\"\")","v":""},null,"v",null,null,null,null,0,0]
[null,null,null,null,null,null,null,{"$f":"IF(Data_NaamPersoonNatVerloop351=\"\",\"\",Data_NaamPersoonNatVerloop351)","v":""},null,null,{"$f":"IF(Data_BeeindigingsdatumNatVerloop351=\"\",\"\",Data_BeeindigingsdatumNatVerloop351)","v":""},null,null,{"$f":"IF(Data_LoonkostenNatVerloop351=\"\",\"\",Data_LoonkostenNatVerloop351)","v":""},null,"v",null,"v",null,null,null,null,0,"",null,null,null,null,null,null,null,null,{"$f":"IF(Data_NaamPersoonTijd351=\"\",\"\",Data_NaamPersoonTijd351)","v":""},null,null,{"$f":"IF(Data_BeeindigingsdatumTijd351=\"\",\"\",Data_BeeindigingsdatumTijd351)","v":""},null,null,{"$f":"IF(Data_LoonkostenTijd351=\"\",\"\",Data_LoonkostenTijd351)","v":""},null,{"$f":"IF(Data_PersoonAanUitTijd351=-1,\"v\",\"\")","v":""},null,"v",null,null,null,null,0,0,null,null,null,{"$f":"IF(Data_NaamPersoonVastVrij351=\"\",\"\",Data_NaamPersoonVastVrij351)","v":""},null,null,{"$f":"IF(Data_BeeindigingsdatumVastVrij351=\"\",\"\",Data_BeeindigingsdatumVastVrij351)","v":""},null,null,{"$f":"IF(Data_LoonkostenVastVrij351=\"\",\"\",Data_LoonkostenVastVrij351)","v":""},null,{"$f":"IF(Data_PersoonAanUitVastVrij351=-1,\"v\",\"\")","v":""},null,"v",null,null,null,null,0,0,null,{"$f":"IF(Data_NaamPersoonVastOntslag351=\"\",\"\",Data_NaamPersoonVastOntslag351)","v":""},null,null,{"$f":"IF(Data_BeeindigingsdatumVastOntslag351=\"\",\"\",Data_BeeindigingsdatumVastOntslag351)","v":""},null,null,{"$f":"IF(Data_LoonkostenVastOntslag351=\"\",\"\",Data_LoonkostenVastOntslag351)","v":""},null,{"$f":"IF(Data_PersoonAanUitVastOntslag351=-1,\"v\",\"\")","v":""},null,"v",null,null,null,null,0,0]
[null,null,null,null,null,null,null,{"$f":"IF(Data_NaamPersoonNatVerloop352=\"\",\"\",Data_NaamPersoonNatVerloop352)","v":""},null,null,{"$f":"IF(Data_BeeindigingsdatumNatVerloop352=\"\",\"\",Data_BeeindigingsdatumNatVerloop352)","v":""},null,null,{"$f":"IF(Data_LoonkostenNatVerloop352=\"\",\"\",Data_LoonkostenNatVerloop352)","v":""},null,"v",null,"v",null,null,null,null,0,"",null,null,null,null,null,null,null,null,{"$f":"IF(Data_NaamPersoonTijd352=\"\",\"\",Data_NaamPersoonTijd352)","v":""},null,null,{"$f":"IF(Data_BeeindigingsdatumTijd352=\"\",\"\",Data_BeeindigingsdatumTijd352)","v":""},null,null,{"$f":"IF(Data_LoonkostenTijd352=\"\",\"\",Data_LoonkostenTijd352)","v":""},null,{"$f":"IF(Data_PersoonAanUitTijd352=-1,\"v\",\"\")","v":""},null,"v",null,null,null,null,0,0,null,null,null,{"$f":"IF(Data_NaamPersoonVastVrij352=\"\",\"\",Data_NaamPersoonVastVrij352)","v":""},null,null,{"$f":"IF(Data_BeeindigingsdatumVastVrij352=\"\",\"\",Data_BeeindigingsdatumVastVrij352)","v":""},null,null,{"$f":"IF(Data_LoonkostenVastVrij352=\"\",\"\",Data_LoonkostenVastVrij352)","v":""},null,{"$f":"IF(Data_PersoonAanUitVastVrij352=-1,\"v\",\"\")","v":""},null,"v",null,null,null,null,0,0,null,{"$f":"IF(Data_NaamPersoonVastOntslag352=\"\",\"\",Data_NaamPersoonVastOntslag352)","v":""},null,null,{"$f":"IF(Data_BeeindigingsdatumVastOntslag352=\"\",\"\",Data_BeeindigingsdatumVastOntslag352)","v":""},null,null,{"$f":"IF(Data_LoonkostenVastOntslag352=\"\",\"\",Data_LoonkostenVastOntslag352)","v":""},null,{"$f":"IF(Data_PersoonAanUitVastOntslag352=-1,\"v\",\"\")","v":""},null,"v",null,null,null,null,0,0]
[null,null,null,null,null,null,null,{"$f":"IF(Data_NaamPersoonNatVerloop353=\"\",\"\",Data_NaamPersoonNatVerloop353)","v":""},null,null,{"$f":"IF(Data_BeeindigingsdatumNatVerloop353=\"\",\"\",Data_BeeindigingsdatumNatVerloop353)","v":""},null,null,{"$f":"IF(Data_LoonkostenNatVerloop353=\"\",\"\",Data_LoonkostenNatVerloop353)","v":""},null,"v",null,"v",null,null,null,null,0,"",null,null,null,null,null,null,null,null,{"$f":"IF(Data_NaamPersoonTijd353=\"\",\"\",Data_NaamPersoonTijd353)","v":""},null,null,{"$f":"IF(Data_BeeindigingsdatumTijd353=\"\",\"\",Data_BeeindigingsdatumTijd353)","v":""},null,null,{"$f":"IF(Data_LoonkostenTijd353=\"\",\"\",Data_LoonkostenTijd353)","v":""},null,{"$f":"IF(Data_PersoonAanUitTijd353=-1,\"v\",\"\")","v":""},null,"v",null,null,null,null,0,0,null,null,null,{"$f":"IF(Data_NaamPersoonVastVrij353=\"\",\"\",Data_NaamPersoonVastVrij353)","v":""},null,null,{"$f":"IF(Data_BeeindigingsdatumVastVrij353=\"\",\"\",Data_BeeindigingsdatumVastVrij353)","v":""},null,null,{"$f":"IF(Data_LoonkostenVastVrij353=\"\",\"\",Data_LoonkostenVastVrij353)","v":""},null,{"$f":"IF(Data_PersoonAanUitVastVrij353=-1,\"v\",\"\")","v":""},null,"v",null,null,null,null,0,0,null,{"$f":"IF(Data_NaamPersoonVastOntslag353=\"\",\"\",Data_NaamPersoonVastOntslag353)","v":""},null,null,{"$f":"IF(Data_BeeindigingsdatumVastOntslag353=\"\",\"\",Data_BeeindigingsdatumVastOntslag353)","v":""},null,null,{"$f":"IF(Data_LoonkostenVastOntslag353=\"\",\"\",Data_LoonkostenVastOntslag353)","v":""},null,{"$f":"IF(Data_PersoonAanUitVastOntslag353=-1,\"v\",\"\")","v":""},null,"v",null,null,null,null,0,0]
[null,null,null,null,null,null,null,{"$f":"IF(Data_NaamPersoonNatVerloop354=\"\",\"\",Data_NaamPersoonNatVerloop354)","v":""},null,null,{"$f":"IF(Data_BeeindigingsdatumNatVerloop354=\"\",\"\",Data_BeeindigingsdatumNatVerloop354)","v":""},null,null,{"$f":"IF(Data_LoonkostenNatVerloop354=\"\",\"\",Data_LoonkostenNatVerloop354)","v":""},null,"v",null,"v",null,null,null,null,0,"",null,null,null,null,null,null,null,null,{"$f":"IF(Data_NaamPersoonTijd354=\"\",\"\",Data_NaamPersoonTijd354)","v":""},null,null,{"$f":"IF(Data_BeeindigingsdatumTijd354=\"\",\"\",Data_BeeindigingsdatumTijd354)","v":""},null,null,{"$f":"IF(Data_LoonkostenTijd354=\"\",\"\",Data_LoonkostenTijd354)","v":""},null,{"$f":"IF(Data_PersoonAanUitTijd354=-1,\"v\",\"\")","v":""},null,"v",null,null,null,null,0,0,null,null,null,{"$f":"IF(Data_NaamPersoonVastVrij354=\"\",\"\",Data_NaamPersoonVastVrij354)","v":""},null,null,{"$f":"IF(Data_BeeindigingsdatumVastVrij354=\"\",\"\",Data_BeeindigingsdatumVastVrij354)","v":""},null,null,{"$f":"IF(Data_LoonkostenVastVrij354=\"\",\"\",Data_LoonkostenVastVrij354)","v":""},null,{"$f":"IF(Data_PersoonAanUitVastVrij354=-1,\"v\",\"\")","v":""},null,"v",null,null,null,null,0,0,null,{"$f":"IF(Data_NaamPersoonVastOntslag354=\"\",\"\",Data_NaamPersoonVastOntslag354)","v":""},null,null,{"$f":"IF(Data_BeeindigingsdatumVastOntslag354=\"\",\"\",Data_BeeindigingsdatumVastOntslag354)","v":""},null,null,{"$f":"IF(Data_LoonkostenVastOntslag354=\"\",\"\",Data_LoonkostenVastOntslag354)","v":""},null,{"$f":"IF(Data_PersoonAanUitVastOntslag354=-1,\"v\",\"\")","v":""},null,"v",null,null,null,null,0,0]
[null,null,null,null,null,null,null,{"$f":"IF(Data_NaamPersoonNatVerloop355=\"\",\"\",Data_NaamPersoonNatVerloop355)","v":""},null,null,{"$f":"IF(Data_BeeindigingsdatumNatVerloop355=\"\",\"\",Data_BeeindigingsdatumNatVerloop355)","v":""},null,null,{"$f":"IF(Data_LoonkostenNatVerloop355=\"\",\"\",Data_LoonkostenNatVerloop355)","v":""},null,"v",null,"v",null,null,null,null,0,"",null,null,null,null,null,null,null,null,{"$f":"IF(Data_NaamPersoonTijd355=\"\",\"\",Data_NaamPersoonTijd355)","v":""},null,null,{"$f":"IF(Data_BeeindigingsdatumTijd355=\"\",\"\",Data_BeeindigingsdatumTijd355)","v":""},null,null,{"$f":"IF(Data_LoonkostenTijd355=\"\",\"\",Data_LoonkostenTijd355)","v":""},null,{"$f":"IF(Data_PersoonAanUitTijd355=-1,\"v\",\"\")","v":""},null,"v",null,null,null,null,0,0,null,null,null,{"$f":"IF(Data_NaamPersoonVastVrij355=\"\",\"\",Data_NaamPersoonVastVrij355)","v":""},null,null,{"$f":"IF(Data_BeeindigingsdatumVastVrij355=\"\",\"\",Data_BeeindigingsdatumVastVrij355)","v":""},null,null,{"$f":"IF(Data_LoonkostenVastVrij355=\"\",\"\",Data_LoonkostenVastVrij355)","v":""},null,{"$f":"IF(Data_PersoonAanUitVastVrij355=-1,\"v\",\"\")","v":""},null,"v",null,null,null,null,0,0,null,{"$f":"IF(Data_NaamPersoonVastOntslag355=\"\",\"\",Data_NaamPersoonVastOntslag355)","v":""},null,null,{"$f":"IF(Data_BeeindigingsdatumVastOntslag355=\"\",\"\",Data_BeeindigingsdatumVastOntslag355)","v":""},null,null,{"$f":"IF(Data_LoonkostenVastOntslag355=\"\",\"\",Data_LoonkostenVastOntslag355)","v":""},null,{"$f":"IF(Data_PersoonAanUitVastOntslag355=-1,\"v\",\"\")","v":""},null,"v",null,null,null,null,0,0]
[null,null,null,null,null,null,null,{"$f":"IF(Data_NaamPersoonNatVerloop356=\"\",\"\",Data_NaamPersoonNatVerloop356)","v":""},null,null,{"$f":"IF(Data_BeeindigingsdatumNatVerloop356=\"\",\"\",Data_BeeindigingsdatumNatVerloop356)","v":""},null,null,{"$f":"IF(Data_LoonkostenNatVerloop356=\"\",\"\",Data_LoonkostenNatVerloop356)","v":""},null,"v",null,"v",null,null,null,null,0,"",null,null,null,null,null,null,null,null,{"$f":"IF(Data_NaamPersoonTijd356=\"\",\"\",Data_NaamPersoonTijd356)","v":""},null,null,{"$f":"IF(Data_BeeindigingsdatumTijd356=\"\",\"\",Data_BeeindigingsdatumTijd356)","v":""},null,null,{"$f":"IF(Data_LoonkostenTijd356=\"\",\"\",Data_LoonkostenTijd356)","v":""},null,{"$f":"IF(Data_PersoonAanUitTijd356=-1,\"v\",\"\")","v":""},null,"v",null,null,null,null,0,0,null,null,null,{"$f":"IF(Data_NaamPersoonVastVrij356=\"\",\"\",Data_NaamPersoonVastVrij356)","v":""},null,null,{"$f":"IF(Data_BeeindigingsdatumVastVrij356=\"\",\"\",Data_BeeindigingsdatumVastVrij356)","v":""},null,null,{"$f":"IF(Data_LoonkostenVastVrij356=\"\",\"\",Data_LoonkostenVastVrij356)","v":""},null,{"$f":"IF(Data_PersoonAanUitVastVrij356=-1,\"v\",\"\")","v":""},null,"v",null,null,null,null,0,0,null,{"$f":"IF(Data_NaamPersoonVastOntslag356=\"\",\"\",Data_NaamPersoonVastOntslag356)","v":""},null,null,{"$f":"IF(Data_BeeindigingsdatumVastOntslag356=\"\",\"\",Data_BeeindigingsdatumVastOntslag356)","v":""},null,null,{"$f":"IF(Data_LoonkostenVastOntslag356=\"\",\"\",Data_LoonkostenVastOntslag356)","v":""},null,{"$f":"IF(Data_PersoonAanUitVastOntslag356=-1,\"v\",\"\")","v":""},null,"v",null,null,null,null,0,0]
[null,null,null,null,null,null,null,{"$f":"IF(Data_NaamPersoonNatVerloop357=\"\",\"\",Data_NaamPersoonNatVerloop357)","v":""},null,null,{"$f":"IF(Data_BeeindigingsdatumNatVerloop357=\"\",\"\",Data_BeeindigingsdatumNatVerloop357)","v":""},null,null,{"$f":"IF(Data_LoonkostenNatVerloop357=\"\",\"\",Data_LoonkostenNatVerloop357)","v":""},null,"v",null,"v",null,null,null,null,0,"",null,null,null,null,null,null,null,null,{"$f":"IF(Data_NaamPersoonTijd357=\"\",\"\",Data_NaamPersoonTijd357)","v":""},null,null,{"$f":"IF(Data_BeeindigingsdatumTijd357=\"\",\"\",Data_BeeindigingsdatumTijd357)","v":""},null,null,{"$f":"IF(Data_LoonkostenTijd357=\"\",\"\",Data_LoonkostenTijd357)","v":""},null,{"$f":"IF(Data_PersoonAanUitTijd357=-1,\"v\",\"\")","v":""},null,"v",null,null,null,null,0,0,null,null,null,{"$f":"IF(Data_NaamPersoonVastVrij357=\"\",\"\",Data_NaamPersoonVastVrij357)","v":""},null,null,{"$f":"IF(Data_BeeindigingsdatumVastVrij357=\"\",\"\",Data_BeeindigingsdatumVastVrij357)","v":""},null,null,{"$f":"IF(Data_LoonkostenVastVrij357=\"\",\"\",Data_LoonkostenVastVrij357)","v":""},null,{"$f":"IF(Data_PersoonAanUitVastVrij357=-1,\"v\",\"\")","v":""},null,"v",null,null,null,null,0,0,null,{"$f":"IF(Data_NaamPersoonVastOntslag357=\"\",\"\",Data_NaamPersoonVastOntslag357)","v":""},null,null,{"$f":"IF(Data_BeeindigingsdatumVastOntslag357=\"\",\"\",Data_BeeindigingsdatumVastOntslag357)","v":""},null,null,{"$f":"IF(Data_LoonkostenVastOntslag357=\"\",\"\",Data_LoonkostenVastOntslag357)","v":""},null,{"$f":"IF(Data_PersoonAanUitVastOntslag357=-1,\"v\",\"\")","v":""},null,"v",null,null,null,null,0,0]
[null,null,null,null,null,null,null,{"$f":"IF(Data_NaamPersoonNatVerloop358=\"\",\"\",Data_NaamPersoonNatVerloop358)","v":""},null,null,{"$f":"IF(Data_BeeindigingsdatumNatVerloop358=\"\",\"\",Data_BeeindigingsdatumNatVerloop358)","v":""},null,null,{"$f":"IF(Data_LoonkostenNatVerloop358=\"\",\"\",Data_LoonkostenNatVerloop358)","v":""},null,"v",null,"v",null,null,null,null,0,"",null,null,null,null,null,null,null,null,{"$f":"IF(Data_NaamPersoonTijd358=\"\",\"\",Data_NaamPersoonTijd358)","v":""},null,null,{"$f":"IF(Data_BeeindigingsdatumTijd358=\"\",\"\",Data_BeeindigingsdatumTijd358)","v":""},null,null,{"$f":"IF(Data_LoonkostenTijd358=\"\",\"\",Data_LoonkostenTijd358)","v":""},null,{"$f":"IF(Data_PersoonAanUitTijd358=-1,\"v\",\"\")","v":""},null,"v",null,null,null,null,0,0,null,null,null,{"$f":"IF(Data_NaamPersoonVastVrij358=\"\",\"\",Data_NaamPersoonVastVrij358)","v":""},null,null,{"$f":"IF(Data_BeeindigingsdatumVastVrij358=\"\",\"\",Data_BeeindigingsdatumVastVrij358)","v":""},null,null,{"$f":"IF(Data_LoonkostenVastVrij358=\"\",\"\",Data_LoonkostenVastVrij358)","v":""},null,{"$f":"IF(Data_PersoonAanUitVastVrij358=-1,\"v\",\"\")","v":""},null,"v",null,null,null,null,0,0,null,{"$f":"IF(Data_NaamPersoonVastOntslag358=\"\",\"\",Data_NaamPersoonVastOntslag358)","v":""},null,null,{"$f":"IF(Data_BeeindigingsdatumVastOntslag358=\"\",\"\",Data_BeeindigingsdatumVastOntslag358)","v":""},null,null,{"$f":"IF(Data_LoonkostenVastOntslag358=\"\",\"\",Data_LoonkostenVastOntslag358)","v":""},null,{"$f":"IF(Data_PersoonAanUitVastOntslag358=-1,\"v\",\"\")","v":""},null,"v",null,null,null,null,0,0]
[null,null,null,null,null,null,null,{"$f":"IF(Data_NaamPersoonNatVerloop359=\"\",\"\",Data_NaamPersoonNatVerloop359)","v":""},null,null,{"$f":"IF(Data_BeeindigingsdatumNatVerloop359=\"\",\"\",Data_BeeindigingsdatumNatVerloop359)","v":""},null,null,{"$f":"IF(Data_LoonkostenNatVerloop359=\"\",\"\",Data_LoonkostenNatVerloop359)","v":""},null,"v",null,"v",null,null,null,null,0,"",null,null,null,null,null,null,null,null,{"$f":"IF(Data_NaamPersoonTijd359=\"\",\"\",Data_NaamPersoonTijd359)","v":""},null,null,{"$f":"IF(Data_BeeindigingsdatumTijd359=\"\",\"\",Data_BeeindigingsdatumTijd359)","v":""},null,null,{"$f":"IF(Data_LoonkostenTijd359=\"\",\"\",Data_LoonkostenTijd359)","v":""},null,{"$f":"IF(Data_PersoonAanUitTijd359=-1,\"v\",\"\")","v":""},null,"v",null,null,null,null,0,0,null,null,null,{"$f":"IF(Data_NaamPersoonVastVrij359=\"\",\"\",Data_NaamPersoonVastVrij359)","v":""},null,null,{"$f":"IF(Data_BeeindigingsdatumVastVrij359=\"\",\"\",Data_BeeindigingsdatumVastVrij359)","v":""},null,null,{"$f":"IF(Data_LoonkostenVastVrij359=\"\",\"\",Data_LoonkostenVastVrij359)","v":""},null,{"$f":"IF(Data_PersoonAanUitVastVrij359=-1,\"v\",\"\")","v":""},null,"v",null,null,null,null,0,0,null,{"$f":"IF(Data_NaamPersoonVastOntslag359=\"\",\"\",Data_NaamPersoonVastOntslag359)","v":""},null,null,{"$f":"IF(Data_BeeindigingsdatumVastOntslag359=\"\",\"\",Data_BeeindigingsdatumVastOntslag359)","v":""},null,null,{"$f":"IF(Data_LoonkostenVastOntslag359=\"\",\"\",Data_LoonkostenVastOntslag359)","v":""},null,{"$f":"IF(Data_PersoonAanUitVastOntslag359=-1,\"v\",\"\")","v":""},null,"v",null,null,null,null,0,0]
[null,null,null,null,null,null,null,{"$f":"IF(Data_NaamPersoonNatVerloop360=\"\",\"\",Data_NaamPersoonNatVerloop360)","v":""},null,null,{"$f":"IF(Data_BeeindigingsdatumNatVerloop360=\"\",\"\",Data_BeeindigingsdatumNatVerloop360)","v":""},null,null,{"$f":"IF(Data_LoonkostenNatVerloop360=\"\",\"\",Data_LoonkostenNatVerloop360)","v":""},null,"v",null,"v",null,null,null,null,0,"",null,null,null,null,null,null,null,null,{"$f":"IF(Data_NaamPersoonTijd360=\"\",\"\",Data_NaamPersoonTijd360)","v":""},null,null,{"$f":"IF(Data_BeeindigingsdatumTijd360=\"\",\"\",Data_BeeindigingsdatumTijd360)","v":""},null,null,{"$f":"IF(Data_LoonkostenTijd360=\"\",\"\",Data_LoonkostenTijd360)","v":""},null,{"$f":"IF(Data_PersoonAanUitTijd360=-1,\"v\",\"\")","v":""},null,"v",null,null,null,null,0,0,null,null,null,{"$f":"IF(Data_NaamPersoonVastVrij360=\"\",\"\",Data_NaamPersoonVastVrij360)","v":""},null,null,{"$f":"IF(Data_BeeindigingsdatumVastVrij360=\"\",\"\",Data_BeeindigingsdatumVastVrij360)","v":""},null,null,{"$f":"IF(Data_LoonkostenVastVrij360=\"\",\"\",Data_LoonkostenVastVrij360)","v":""},null,{"$f":"IF(Data_PersoonAanUitVastVrij360=-1,\"v\",\"\")","v":""},null,"v",null,null,null,null,0,0,null,{"$f":"IF(Data_NaamPersoonVastOntslag360=\"\",\"\",Data_NaamPersoonVastOntslag360)","v":""},null,null,{"$f":"IF(Data_BeeindigingsdatumVastOntslag360=\"\",\"\",Data_BeeindigingsdatumVastOntslag360)","v":""},null,null,{"$f":"IF(Data_LoonkostenVastOntslag360=\"\",\"\",Data_LoonkostenVastOntslag360)","v":""},null,{"$f":"IF(Data_PersoonAanUitVastOntslag360=-1,\"v\",\"\")","v":""},null,"v",null,null,null,null,0,0]
[null,null,null,null,null,null,null,{"$f":"IF(Data_NaamPersoonNatVerloop361=\"\",\"\",Data_NaamPersoonNatVerloop361)","v":""},null,null,{"$f":"IF(Data_BeeindigingsdatumNatVerloop361=\"\",\"\",Data_BeeindigingsdatumNatVerloop361)","v":""},null,null,{"$f":"IF(Data_LoonkostenNatVerloop361=\"\",\"\",Data_LoonkostenNatVerloop361)","v":""},null,"v",null,"v",null,null,null,null,0,"",null,null,null,null,null,null,null,null,{"$f":"IF(Data_NaamPersoonTijd361=\"\",\"\",Data_NaamPersoonTijd361)","v":""},null,null,{"$f":"IF(Data_BeeindigingsdatumTijd361=\"\",\"\",Data_BeeindigingsdatumTijd361)","v":""},null,null,{"$f":"IF(Data_LoonkostenTijd361=\"\",\"\",Data_LoonkostenTijd361)","v":""},null,{"$f":"IF(Data_PersoonAanUitTijd361=-1,\"v\",\"\")","v":""},null,"v",null,null,null,null,0,0,null,null,null,{"$f":"IF(Data_NaamPersoonVastVrij361=\"\",\"\",Data_NaamPersoonVastVrij361)","v":""},null,null,{"$f":"IF(Data_BeeindigingsdatumVastVrij361=\"\",\"\",Data_BeeindigingsdatumVastVrij361)","v":""},null,null,{"$f":"IF(Data_LoonkostenVastVrij361=\"\",\"\",Data_LoonkostenVastVrij361)","v":""},null,{"$f":"IF(Data_PersoonAanUitVastVrij361=-1,\"v\",\"\")","v":""},null,"v",null,null,null,null,0,0,null,{"$f":"IF(Data_NaamPersoonVastOntslag361=\"\",\"\",Data_NaamPersoonVastOntslag361)","v":""},null,null,{"$f":"IF(Data_BeeindigingsdatumVastOntslag361=\"\",\"\",Data_BeeindigingsdatumVastOntslag361)","v":""},null,null,{"$f":"IF(Data_LoonkostenVastOntslag361=\"\",\"\",Data_LoonkostenVastOntslag361)","v":""},null,{"$f":"IF(Data_PersoonAanUitVastOntslag361=-1,\"v\",\"\")","v":""},null,"v",null,null,null,null,0,0]
[null,null,null,null,null,null,null,{"$f":"IF(Data_NaamPersoonNatVerloop362=\"\",\"\",Data_NaamPersoonNatVerloop362)","v":""},null,null,{"$f":"IF(Data_BeeindigingsdatumNatVerloop362=\"\",\"\",Data_BeeindigingsdatumNatVerloop362)","v":""},null,null,{"$f":"IF(Data_LoonkostenNatVerloop362=\"\",\"\",Data_LoonkostenNatVerloop362)","v":""},null,"v",null,"v",null,null,null,null,0,"",null,null,null,null,null,null,null,null,{"$f":"IF(Data_NaamPersoonTijd362=\"\",\"\",Data_NaamPersoonTijd362)","v":""},null,null,{"$f":"IF(Data_BeeindigingsdatumTijd362=\"\",\"\",Data_BeeindigingsdatumTijd362)","v":""},null,null,{"$f":"IF(Data_LoonkostenTijd362=\"\",\"\",Data_LoonkostenTijd362)","v":""},null,{"$f":"IF(Data_PersoonAanUitTijd362=-1,\"v\",\"\")","v":""},null,"v",null,null,null,null,0,0,null,null,null,{"$f":"IF(Data_NaamPersoonVastVrij362=\"\",\"\",Data_NaamPersoonVastVrij362)","v":""},null,null,{"$f":"IF(Data_BeeindigingsdatumVastVrij362=\"\",\"\",Data_BeeindigingsdatumVastVrij362)","v":""},null,null,{"$f":"IF(Data_LoonkostenVastVrij362=\"\",\"\",Data_LoonkostenVastVrij362)","v":""},null,{"$f":"IF(Data_PersoonAanUitVastVrij362=-1,\"v\",\"\")","v":""},null,"v",null,null,null,null,0,0,null,{"$f":"IF(Data_NaamPersoonVastOntslag362=\"\",\"\",Data_NaamPersoonVastOntslag362)","v":""},null,null,{"$f":"IF(Data_BeeindigingsdatumVastOntslag362=\"\",\"\",Data_BeeindigingsdatumVastOntslag362)","v":""},null,null,{"$f":"IF(Data_LoonkostenVastOntslag362=\"\",\"\",Data_LoonkostenVastOntslag362)","v":""},null,{"$f":"IF(Data_PersoonAanUitVastOntslag362=-1,\"v\",\"\")","v":""},null,"v",null,null,null,null,0,0]
[null,null,null,null,null,null,null,{"$f":"IF(Data_NaamPersoonNatVerloop363=\"\",\"\",Data_NaamPersoonNatVerloop363)","v":""},null,null,{"$f":"IF(Data_BeeindigingsdatumNatVerloop363=\"\",\"\",Data_BeeindigingsdatumNatVerloop363)","v":""},null,null,{"$f":"IF(Data_LoonkostenNatVerloop363=\"\",\"\",Data_LoonkostenNatVerloop363)","v":""},null,"v",null,"v",null,null,null,null,0,"",null,null,null,null,null,null,null,null,{"$f":"IF(Data_NaamPersoonTijd363=\"\",\"\",Data_NaamPersoonTijd363)","v":""},null,null,{"$f":"IF(Data_BeeindigingsdatumTijd363=\"\",\"\",Data_BeeindigingsdatumTijd363)","v":""},null,null,{"$f":"IF(Data_LoonkostenTijd363=\"\",\"\",Data_LoonkostenTijd363)","v":""},null,{"$f":"IF(Data_PersoonAanUitTijd363=-1,\"v\",\"\")","v":""},null,"v",null,null,null,null,0,0,null,null,null,{"$f":"IF(Data_NaamPersoonVastVrij363=\"\",\"\",Data_NaamPersoonVastVrij363)","v":""},null,null,{"$f":"IF(Data_BeeindigingsdatumVastVrij363=\"\",\"\",Data_BeeindigingsdatumVastVrij363)","v":""},null,null,{"$f":"IF(Data_LoonkostenVastVrij363=\"\",\"\",Data_LoonkostenVastVrij363)","v":""},null,{"$f":"IF(Data_PersoonAanUitVastVrij363=-1,\"v\",\"\")","v":""},null,"v",null,null,null,null,0,0,null,{"$f":"IF(Data_NaamPersoonVastOntslag363=\"\",\"\",Data_NaamPersoonVastOntslag363)","v":""},null,null,{"$f":"IF(Data_BeeindigingsdatumVastOntslag363=\"\",\"\",Data_BeeindigingsdatumVastOntslag363)","v":""},null,null,{"$f":"IF(Data_LoonkostenVastOntslag363=\"\",\"\",Data_LoonkostenVastOntslag363)","v":""},null,{"$f":"IF(Data_PersoonAanUitVastOntslag363=-1,\"v\",\"\")","v":""},null,"v",null,null,null,null,0,0]
[null,null,null,null,null,null,null,{"$f":"IF(Data_NaamPersoonNatVerloop364=\"\",\"\",Data_NaamPersoonNatVerloop364)","v":""},null,null,{"$f":"IF(Data_BeeindigingsdatumNatVerloop364=\"\",\"\",Data_BeeindigingsdatumNatVerloop364)","v":""},null,null,{"$f":"IF(Data_LoonkostenNatVerloop364=\"\",\"\",Data_LoonkostenNatVerloop364)","v":""},null,"v",null,"v",null,null,null,null,0,"",null,null,null,null,null,null,null,null,{"$f":"IF(Data_NaamPersoonTijd364=\"\",\"\",Data_NaamPersoonTijd364)","v":""},null,null,{"$f":"IF(Data_BeeindigingsdatumTijd364=\"\",\"\",Data_BeeindigingsdatumTijd364)","v":""},null,null,{"$f":"IF(Data_LoonkostenTijd364=\"\",\"\",Data_LoonkostenTijd364)","v":""},null,{"$f":"IF(Data_PersoonAanUitTijd364=-1,\"v\",\"\")","v":""},null,"v",null,null,null,null,0,0,null,null,null,{"$f":"IF(Data_NaamPersoonVastVrij364=\"\",\"\",Data_NaamPersoonVastVrij364)","v":""},null,null,{"$f":"IF(Data_BeeindigingsdatumVastVrij364=\"\",\"\",Data_BeeindigingsdatumVastVrij364)","v":""},null,null,{"$f":"IF(Data_LoonkostenVastVrij364=\"\",\"\",Data_LoonkostenVastVrij364)","v":""},null,{"$f":"IF(Data_PersoonAanUitVastVrij364=-1,\"v\",\"\")","v":""},null,"v",null,null,null,null,0,0,null,{"$f":"IF(Data_NaamPersoonVastOntslag364=\"\",\"\",Data_NaamPersoonVastOntslag364)","v":""},null,null,{"$f":"IF(Data_BeeindigingsdatumVastOntslag364=\"\",\"\",Data_BeeindigingsdatumVastOntslag364)","v":""},null,null,{"$f":"IF(Data_LoonkostenVastOntslag364=\"\",\"\",Data_LoonkostenVastOntslag364)","v":""},null,{"$f":"IF(Data_PersoonAanUitVastOntslag364=-1,\"v\",\"\")","v":""},null,"v",null,null,null,null,0,0]
[null,null,null,null,null,null,null,{"$f":"IF(Data_NaamPersoonNatVerloop365=\"\",\"\",Data_NaamPersoonNatVerloop365)","v":""},null,null,{"$f":"IF(Data_BeeindigingsdatumNatVerloop365=\"\",\"\",Data_BeeindigingsdatumNatVerloop365)","v":""},null,null,{"$f":"IF(Data_LoonkostenNatVerloop365=\"\",\"\",Data_LoonkostenNatVerloop365)","v":""},null,"v",null,"v",null,null,null,null,0,"",null,null,null,null,null,null,null,null,{"$f":"IF(Data_NaamPersoonTijd365=\"\",\"\",Data_NaamPersoonTijd365)","v":""},null,null,{"$f":"IF(Data_BeeindigingsdatumTijd365=\"\",\"\",Data_BeeindigingsdatumTijd365)","v":""},null,null,{"$f":"IF(Data_LoonkostenTijd365=\"\",\"\",Data_LoonkostenTijd365)","v":""},null,{"$f":"IF(Data_PersoonAanUitTijd365=-1,\"v\",\"\")","v":""},null,"v",null,null,null,null,0,0,null,null,null,{"$f":"IF(Data_NaamPersoonVastVrij365=\"\",\"\",Data_NaamPersoonVastVrij365)","v":""},null,null,{"$f":"IF(Data_BeeindigingsdatumVastVrij365=\"\",\"\",Data_BeeindigingsdatumVastVrij365)","v":""},null,null,{"$f":"IF(Data_LoonkostenVastVrij365=\"\",\"\",Data_LoonkostenVastVrij365)","v":""},null,{"$f":"IF(Data_PersoonAanUitVastVrij365=-1,\"v\",\"\")","v":""},null,"v",null,null,null,null,0,0,null,{"$f":"IF(Data_NaamPersoonVastOntslag365=\"\",\"\",Data_NaamPersoonVastOntslag365)","v":""},null,null,{"$f":"IF(Data_BeeindigingsdatumVastOntslag365=\"\",\"\",Data_BeeindigingsdatumVastOntslag365)","v":""},null,null,{"$f":"IF(Data_LoonkostenVastOntslag365=\"\",\"\",Data_LoonkostenVastOntslag365)","v":""},null,{"$f":"IF(Data_PersoonAanUitVastOntslag365=-1,\"v\",\"\")","v":""},null,"v",null,null,null,null,0,0]
[null,null,null,null,null,null,null,{"$f":"IF(Data_NaamPersoonNatVerloop366=\"\",\"\",Data_NaamPersoonNatVerloop366)","v":""},null,null,{"$f":"IF(Data_BeeindigingsdatumNatVerloop366=\"\",\"\",Data_BeeindigingsdatumNatVerloop366)","v":""},null,null,{"$f":"IF(Data_LoonkostenNatVerloop366=\"\",\"\",Data_LoonkostenNatVerloop366)","v":""},null,"v",null,"v",null,null,null,null,0,"",null,null,null,null,null,null,null,null,{"$f":"IF(Data_NaamPersoonTijd366=\"\",\"\",Data_NaamPersoonTijd366)","v":""},null,null,{"$f":"IF(Data_BeeindigingsdatumTijd366=\"\",\"\",Data_BeeindigingsdatumTijd366)","v":""},null,null,{"$f":"IF(Data_LoonkostenTijd366=\"\",\"\",Data_LoonkostenTijd366)","v":""},null,{"$f":"IF(Data_PersoonAanUitTijd366=-1,\"v\",\"\")","v":""},null,"v",null,null,null,null,0,0,null,null,null,{"$f":"IF(Data_NaamPersoonVastVrij366=\"\",\"\",Data_NaamPersoonVastVrij366)","v":""},null,null,{"$f":"IF(Data_BeeindigingsdatumVastVrij366=\"\",\"\",Data_BeeindigingsdatumVastVrij366)","v":""},null,null,{"$f":"IF(Data_LoonkostenVastVrij366=\"\",\"\",Data_LoonkostenVastVrij366)","v":""},null,{"$f":"IF(Data_PersoonAanUitVastVrij366=-1,\"v\",\"\")","v":""},null,"v",null,null,null,null,0,0,null,{"$f":"IF(Data_NaamPersoonVastOntslag366=\"\",\"\",Data_NaamPersoonVastOntslag366)","v":""},null,null,{"$f":"IF(Data_BeeindigingsdatumVastOntslag366=\"\",\"\",Data_BeeindigingsdatumVastOntslag366)","v":""},null,null,{"$f":"IF(Data_LoonkostenVastOntslag366=\"\",\"\",Data_LoonkostenVastOntslag366)","v":""},null,{"$f":"IF(Data_PersoonAanUitVastOntslag366=-1,\"v\",\"\")","v":""},null,"v",null,null,null,null,0,0]
[null,null,null,null,null,null,null,{"$f":"IF(Data_NaamPersoonNatVerloop367=\"\",\"\",Data_NaamPersoonNatVerloop367)","v":""},null,null,{"$f":"IF(Data_BeeindigingsdatumNatVerloop367=\"\",\"\",Data_BeeindigingsdatumNatVerloop367)","v":""},null,null,{"$f":"IF(Data_LoonkostenNatVerloop367=\"\",\"\",Data_LoonkostenNatVerloop367)","v":""},null,"v",null,"v",null,null,null,null,0,"",null,null,null,null,null,null,null,null,{"$f":"IF(Data_NaamPersoonTijd367=\"\",\"\",Data_NaamPersoonTijd367)","v":""},null,null,{"$f":"IF(Data_BeeindigingsdatumTijd367=\"\",\"\",Data_BeeindigingsdatumTijd367)","v":""},null,null,{"$f":"IF(Data_LoonkostenTijd367=\"\",\"\",Data_LoonkostenTijd367)","v":""},null,{"$f":"IF(Data_PersoonAanUitTijd367=-1,\"v\",\"\")","v":""},null,"v",null,null,null,null,0,0,null,null,null,{"$f":"IF(Data_NaamPersoonVastVrij367=\"\",\"\",Data_NaamPersoonVastVrij367)","v":""},null,null,{"$f":"IF(Data_BeeindigingsdatumVastVrij367=\"\",\"\",Data_BeeindigingsdatumVastVrij367)","v":""},null,null,{"$f":"IF(Data_LoonkostenVastVrij367=\"\",\"\",Data_LoonkostenVastVrij367)","v":""},null,{"$f":"IF(Data_PersoonAanUitVastVrij367=-1,\"v\",\"\")","v":""},null,"v",null,null,null,null,0,0,null,{"$f":"IF(Data_NaamPersoonVastOntslag367=\"\",\"\",Data_NaamPersoonVastOntslag367)","v":""},null,null,{"$f":"IF(Data_BeeindigingsdatumVastOntslag367=\"\",\"\",Data_BeeindigingsdatumVastOntslag367)","v":""},null,null,{"$f":"IF(Data_LoonkostenVastOntslag367=\"\",\"\",Data_LoonkostenVastOntslag367)","v":""},null,{"$f":"IF(Data_PersoonAanUitVastOntslag367=-1,\"v\",\"\")","v":""},null,"v",null,null,null,null,0,0]
[null,null,null,null,null,null,null,{"$f":"IF(Data_NaamPersoonNatVerloop368=\"\",\"\",Data_NaamPersoonNatVerloop368)","v":""},null,null,{"$f":"IF(Data_BeeindigingsdatumNatVerloop368=\"\",\"\",Data_BeeindigingsdatumNatVerloop368)","v":""},null,null,{"$f":"IF(Data_LoonkostenNatVerloop368=\"\",\"\",Data_LoonkostenNatVerloop368)","v":""},null,"v",null,"v",null,null,null,null,0,"",null,null,null,null,null,null,null,null,{"$f":"IF(Data_NaamPersoonTijd368=\"\",\"\",Data_NaamPersoonTijd368)","v":""},null,null,{"$f":"IF(Data_BeeindigingsdatumTijd368=\"\",\"\",Data_BeeindigingsdatumTijd368)","v":""},null,null,{"$f":"IF(Data_LoonkostenTijd368=\"\",\"\",Data_LoonkostenTijd368)","v":""},null,{"$f":"IF(Data_PersoonAanUitTijd368=-1,\"v\",\"\")","v":""},null,"v",null,null,null,null,0,0,null,null,null,{"$f":"IF(Data_NaamPersoonVastVrij368=\"\",\"\",Data_NaamPersoonVastVrij368)","v":""},null,null,{"$f":"IF(Data_BeeindigingsdatumVastVrij368=\"\",\"\",Data_BeeindigingsdatumVastVrij368)","v":""},null,null,{"$f":"IF(Data_LoonkostenVastVrij368=\"\",\"\",Data_LoonkostenVastVrij368)","v":""},null,{"$f":"IF(Data_PersoonAanUitVastVrij368=-1,\"v\",\"\")","v":""},null,"v",null,null,null,null,0,0,null,{"$f":"IF(Data_NaamPersoonVastOntslag368=\"\",\"\",Data_NaamPersoonVastOntslag368)","v":""},null,null,{"$f":"IF(Data_BeeindigingsdatumVastOntslag368=\"\",\"\",Data_BeeindigingsdatumVastOntslag368)","v":""},null,null,{"$f":"IF(Data_LoonkostenVastOntslag368=\"\",\"\",Data_LoonkostenVastOntslag368)","v":""},null,{"$f":"IF(Data_PersoonAanUitVastOntslag368=-1,\"v\",\"\")","v":""},null,"v",null,null,null,null,0,0]
[null,null,null,null,null,null,null,{"$f":"IF(Data_NaamPersoonNatVerloop369=\"\",\"\",Data_NaamPersoonNatVerloop369)","v":""},null,null,{"$f":"IF(Data_BeeindigingsdatumNatVerloop369=\"\",\"\",Data_BeeindigingsdatumNatVerloop369)","v":""},null,null,{"$f":"IF(Data_LoonkostenNatVerloop369=\"\",\"\",Data_LoonkostenNatVerloop369)","v":""},null,"v",null,"v",null,null,null,null,0,"",null,null,null,null,null,null,null,null,{"$f":"IF(Data_NaamPersoonTijd369=\"\",\"\",Data_NaamPersoonTijd369)","v":""},null,null,{"$f":"IF(Data_BeeindigingsdatumTijd369=\"\",\"\",Data_BeeindigingsdatumTijd369)","v":""},null,null,{"$f":"IF(Data_LoonkostenTijd369=\"\",\"\",Data_LoonkostenTijd369)","v":""},null,{"$f":"IF(Data_PersoonAanUitTijd369=-1,\"v\",\"\")","v":""},null,"v",null,null,null,null,0,0,null,null,null,{"$f":"IF(Data_NaamPersoonVastVrij369=\"\",\"\",Data_NaamPersoonVastVrij369)","v":""},null,null,{"$f":"IF(Data_BeeindigingsdatumVastVrij369=\"\",\"\",Data_BeeindigingsdatumVastVrij369)","v":""},null,null,{"$f":"IF(Data_LoonkostenVastVrij369=\"\",\"\",Data_LoonkostenVastVrij369)","v":""},null,{"$f":"IF(Data_PersoonAanUitVastVrij369=-1,\"v\",\"\")","v":""},null,"v",null,null,null,null,0,0,null,{"$f":"IF(Data_NaamPersoonVastOntslag369=\"\",\"\",Data_NaamPersoonVastOntslag369)","v":""},null,null,{"$f":"IF(Data_BeeindigingsdatumVastOntslag369=\"\",\"\",Data_BeeindigingsdatumVastOntslag369)","v":""},null,null,{"$f":"IF(Data_LoonkostenVastOntslag369=\"\",\"\",Data_LoonkostenVastOntslag369)","v":""},null,{"$f":"IF(Data_PersoonAanUitVastOntslag369=-1,\"v\",\"\")","v":""},null,"v",null,null,null,null,0,0]
[null,null,null,null,null,null,null,{"$f":"IF(Data_NaamPersoonNatVerloop370=\"\",\"\",Data_NaamPersoonNatVerloop370)","v":""},null,null,{"$f":"IF(Data_BeeindigingsdatumNatVerloop370=\"\",\"\",Data_BeeindigingsdatumNatVerloop370)","v":""},null,null,{"$f":"IF(Data_LoonkostenNatVerloop370=\"\",\"\",Data_LoonkostenNatVerloop370)","v":""},null,"v",null,"v",null,null,null,null,0,"",null,null,null,null,null,null,null,null,{"$f":"IF(Data_NaamPersoonTijd370=\"\",\"\",Data_NaamPersoonTijd370)","v":""},null,null,{"$f":"IF(Data_BeeindigingsdatumTijd370=\"\",\"\",Data_BeeindigingsdatumTijd370)","v":""},null,null,{"$f":"IF(Data_LoonkostenTijd370=\"\",\"\",Data_LoonkostenTijd370)","v":""},null,{"$f":"IF(Data_PersoonAanUitTijd370=-1,\"v\",\"\")","v":""},null,"v",null,null,null,null,0,0,null,null,null,{"$f":"IF(Data_NaamPersoonVastVrij370=\"\",\"\",Data_NaamPersoonVastVrij370)","v":""},null,null,{"$f":"IF(Data_BeeindigingsdatumVastVrij370=\"\",\"\",Data_BeeindigingsdatumVastVrij370)","v":""},null,null,{"$f":"IF(Data_LoonkostenVastVrij370=\"\",\"\",Data_LoonkostenVastVrij370)","v":""},null,{"$f":"IF(Data_PersoonAanUitVastVrij370=-1,\"v\",\"\")","v":""},null,"v",null,null,null,null,0,0,null,{"$f":"IF(Data_NaamPersoonVastOntslag370=\"\",\"\",Data_NaamPersoonVastOntslag370)","v":""},null,null,{"$f":"IF(Data_BeeindigingsdatumVastOntslag370=\"\",\"\",Data_BeeindigingsdatumVastOntslag370)","v":""},null,null,{"$f":"IF(Data_LoonkostenVastOntslag370=\"\",\"\",Data_LoonkostenVastOntslag370)","v":""},null,{"$f":"IF(Data_PersoonAanUitVastOntslag370=-1,\"v\",\"\")","v":""},null,"v",null,null,null,null,0,0]
[null,null,null,null,null,null,null,{"$f":"IF(Data_NaamPersoonNatVerloop371=\"\",\"\",Data_NaamPersoonNatVerloop371)","v":""},null,null,{"$f":"IF(Data_BeeindigingsdatumNatVerloop371=\"\",\"\",Data_BeeindigingsdatumNatVerloop371)","v":""},null,null,{"$f":"IF(Data_LoonkostenNatVerloop371=\"\",\"\",Data_LoonkostenNatVerloop371)","v":""},null,"v",null,"v",null,null,null,null,0,"",null,null,null,null,null,null,null,null,{"$f":"IF(Data_NaamPersoonTijd371=\"\",\"\",Data_NaamPersoonTijd371)","v":""},null,null,{"$f":"IF(Data_BeeindigingsdatumTijd371=\"\",\"\",Data_BeeindigingsdatumTijd371)","v":""},null,null,{"$f":"IF(Data_LoonkostenTijd371=\"\",\"\",Data_LoonkostenTijd371)","v":""},null,{"$f":"IF(Data_PersoonAanUitTijd371=-1,\"v\",\"\")","v":""},null,"v",null,null,null,null,0,0,null,null,null,{"$f":"IF(Data_NaamPersoonVastVrij371=\"\",\"\",Data_NaamPersoonVastVrij371)","v":""},null,null,{"$f":"IF(Data_BeeindigingsdatumVastVrij371=\"\",\"\",Data_BeeindigingsdatumVastVrij371)","v":""},null,null,{"$f":"IF(Data_LoonkostenVastVrij371=\"\",\"\",Data_LoonkostenVastVrij371)","v":""},null,{"$f":"IF(Data_PersoonAanUitVastVrij371=-1,\"v\",\"\")","v":""},null,"v",null,null,null,null,0,0,null,{"$f":"IF(Data_NaamPersoonVastOntslag371=\"\",\"\",Data_NaamPersoonVastOntslag371)","v":""},null,null,{"$f":"IF(Data_BeeindigingsdatumVastOntslag371=\"\",\"\",Data_BeeindigingsdatumVastOntslag371)","v":""},null,null,{"$f":"IF(Data_LoonkostenVastOntslag371=\"\",\"\",Data_LoonkostenVastOntslag371)","v":""},null,{"$f":"IF(Data_PersoonAanUitVastOntslag371=-1,\"v\",\"\")","v":""},null,"v",null,null,null,null,0,0]
[null,null,null,null,null,null,null,{"$f":"IF(Data_NaamPersoonNatVerloop372=\"\",\"\",Data_NaamPersoonNatVerloop372)","v":""},null,null,{"$f":"IF(Data_BeeindigingsdatumNatVerloop372=\"\",\"\",Data_BeeindigingsdatumNatVerloop372)","v":""},null,null,{"$f":"IF(Data_LoonkostenNatVerloop372=\"\",\"\",Data_LoonkostenNatVerloop372)","v":""},null,"v",null,"v",null,null,null,null,0,"",null,null,null,null,null,null,null,null,{"$f":"IF(Data_NaamPersoonTijd372=\"\",\"\",Data_NaamPersoonTijd372)","v":""},null,null,{"$f":"IF(Data_BeeindigingsdatumTijd372=\"\",\"\",Data_BeeindigingsdatumTijd372)","v":""},null,null,{"$f":"IF(Data_LoonkostenTijd372=\"\",\"\",Data_LoonkostenTijd372)","v":""},null,{"$f":"IF(Data_PersoonAanUitTijd372=-1,\"v\",\"\")","v":""},null,"v",null,null,null,null,0,0,null,null,null,{"$f":"IF(Data_NaamPersoonVastVrij372=\"\",\"\",Data_NaamPersoonVastVrij372)","v":""},null,null,{"$f":"IF(Data_BeeindigingsdatumVastVrij372=\"\",\"\",Data_BeeindigingsdatumVastVrij372)","v":""},null,null,{"$f":"IF(Data_LoonkostenVastVrij372=\"\",\"\",Data_LoonkostenVastVrij372)","v":""},null,{"$f":"IF(Data_PersoonAanUitVastVrij372=-1,\"v\",\"\")","v":""},null,"v",null,null,null,null,0,0,null,{"$f":"IF(Data_NaamPersoonVastOntslag372=\"\",\"\",Data_NaamPersoonVastOntslag372)","v":""},null,null,{"$f":"IF(Data_BeeindigingsdatumVastOntslag372=\"\",\"\",Data_BeeindigingsdatumVastOntslag372)","v":""},null,null,{"$f":"IF(Data_LoonkostenVastOntslag372=\"\",\"\",Data_LoonkostenVastOntslag372)","v":""},null,{"$f":"IF(Data_PersoonAanUitVastOntslag372=-1,\"v\",\"\")","v":""},null,"v",null,null,null,null,0,0]
[null,null,null,null,null,null,null,{"$f":"IF(Data_NaamPersoonNatVerloop373=\"\",\"\",Data_NaamPersoonNatVerloop373)","v":""},null,null,{"$f":"IF(Data_BeeindigingsdatumNatVerloop373=\"\",\"\",Data_BeeindigingsdatumNatVerloop373)","v":""},null,null,{"$f":"IF(Data_LoonkostenNatVerloop373=\"\",\"\",Data_LoonkostenNatVerloop373)","v":""},null,"v",null,"v",null,null,null,null,0,"",null,null,null,null,null,null,null,null,{"$f":"IF(Data_NaamPersoonTijd373=\"\",\"\",Data_NaamPersoonTijd373)","v":""},null,null,{"$f":"IF(Data_BeeindigingsdatumTijd373=\"\",\"\",Data_BeeindigingsdatumTijd373)","v":""},null,null,{"$f":"IF(Data_LoonkostenTijd373=\"\",\"\",Data_LoonkostenTijd373)","v":""},null,{"$f":"IF(Data_PersoonAanUitTijd373=-1,\"v\",\"\")","v":""},null,"v",null,null,null,null,0,0,null,null,null,{"$f":"IF(Data_NaamPersoonVastVrij373=\"\",\"\",Data_NaamPersoonVastVrij373)","v":""},null,null,{"$f":"IF(Data_BeeindigingsdatumVastVrij373=\"\",\"\",Data_BeeindigingsdatumVastVrij373)","v":""},null,null,{"$f":"IF(Data_LoonkostenVastVrij373=\"\",\"\",Data_LoonkostenVastVrij373)","v":""},null,{"$f":"IF(Data_PersoonAanUitVastVrij373=-1,\"v\",\"\")","v":""},null,"v",null,null,null,null,0,0,null,{"$f":"IF(Data_NaamPersoonVastOntslag373=\"\",\"\",Data_NaamPersoonVastOntslag373)","v":""},null,null,{"$f":"IF(Data_BeeindigingsdatumVastOntslag373=\"\",\"\",Data_BeeindigingsdatumVastOntslag373)","v":""},null,null,{"$f":"IF(Data_LoonkostenVastOntslag373=\"\",\"\",Data_LoonkostenVastOntslag373)","v":""},null,{"$f":"IF(Data_PersoonAanUitVastOntslag373=-1,\"v\",\"\")","v":""},null,"v",null,null,null,null,0,0]
[null,null,null,null,null,null,null,{"$f":"IF(Data_NaamPersoonNatVerloop374=\"\",\"\",Data_NaamPersoonNatVerloop374)","v":""},null,null,{"$f":"IF(Data_BeeindigingsdatumNatVerloop374=\"\",\"\",Data_BeeindigingsdatumNatVerloop374)","v":""},null,null,{"$f":"IF(Data_LoonkostenNatVerloop374=\"\",\"\",Data_LoonkostenNatVerloop374)","v":""},null,"v",null,"v",null,null,null,null,0,"",null,null,null,null,null,null,null,null,{"$f":"IF(Data_NaamPersoonTijd374=\"\",\"\",Data_NaamPersoonTijd374)","v":""},null,null,{"$f":"IF(Data_BeeindigingsdatumTijd374=\"\",\"\",Data_BeeindigingsdatumTijd374)","v":""},null,null,{"$f":"IF(Data_LoonkostenTijd374=\"\",\"\",Data_LoonkostenTijd374)","v":""},null,{"$f":"IF(Data_PersoonAanUitTijd374=-1,\"v\",\"\")","v":""},null,"v",null,null,null,null,0,0,null,null,null,{"$f":"IF(Data_NaamPersoonVastVrij374=\"\",\"\",Data_NaamPersoonVastVrij374)","v":""},null,null,{"$f":"IF(Data_BeeindigingsdatumVastVrij374=\"\",\"\",Data_BeeindigingsdatumVastVrij374)","v":""},null,null,{"$f":"IF(Data_LoonkostenVastVrij374=\"\",\"\",Data_LoonkostenVastVrij374)","v":""},null,{"$f":"IF(Data_PersoonAanUitVastVrij374=-1,\"v\",\"\")","v":""},null,"v",null,null,null,null,0,0,null,{"$f":"IF(Data_NaamPersoonVastOntslag374=\"\",\"\",Data_NaamPersoonVastOntslag374)","v":""},null,null,{"$f":"IF(Data_BeeindigingsdatumVastOntslag374=\"\",\"\",Data_BeeindigingsdatumVastOntslag374)","v":""},null,null,{"$f":"IF(Data_LoonkostenVastOntslag374=\"\",\"\",Data_LoonkostenVastOntslag374)","v":""},null,{"$f":"IF(Data_PersoonAanUitVastOntslag374=-1,\"v\",\"\")","v":""},null,"v",null,null,null,null,0,0]
[null,null,null,null,null,null,null,{"$f":"IF(Data_NaamPersoonNatVerloop375=\"\",\"\",Data_NaamPersoonNatVerloop375)","v":""},null,null,{"$f":"IF(Data_BeeindigingsdatumNatVerloop375=\"\",\"\",Data_BeeindigingsdatumNatVerloop375)","v":""},null,null,{"$f":"IF(Data_LoonkostenNatVerloop375=\"\",\"\",Data_LoonkostenNatVerloop375)","v":""},null,"v",null,"v",null,null,null,null,0,"",null,null,null,null,null,null,null,null,{"$f":"IF(Data_NaamPersoonTijd375=\"\",\"\",Data_NaamPersoonTijd375)","v":""},null,null,{"$f":"IF(Data_BeeindigingsdatumTijd375=\"\",\"\",Data_BeeindigingsdatumTijd375)","v":""},null,null,{"$f":"IF(Data_LoonkostenTijd375=\"\",\"\",Data_LoonkostenTijd375)","v":""},null,{"$f":"IF(Data_PersoonAanUitTijd375=-1,\"v\",\"\")","v":""},null,"v",null,null,null,null,0,0,null,null,null,{"$f":"IF(Data_NaamPersoonVastVrij375=\"\",\"\",Data_NaamPersoonVastVrij375)","v":""},null,null,{"$f":"IF(Data_BeeindigingsdatumVastVrij375=\"\",\"\",Data_BeeindigingsdatumVastVrij375)","v":""},null,null,{"$f":"IF(Data_LoonkostenVastVrij375=\"\",\"\",Data_LoonkostenVastVrij375)","v":""},null,{"$f":"IF(Data_PersoonAanUitVastVrij375=-1,\"v\",\"\")","v":""},null,"v",null,null,null,null,0,0,null,{"$f":"IF(Data_NaamPersoonVastOntslag375=\"\",\"\",Data_NaamPersoonVastOntslag375)","v":""},null,null,{"$f":"IF(Data_BeeindigingsdatumVastOntslag375=\"\",\"\",Data_BeeindigingsdatumVastOntslag375)","v":""},null,null,{"$f":"IF(Data_LoonkostenVastOntslag375=\"\",\"\",Data_LoonkostenVastOntslag375)","v":""},null,{"$f":"IF(Data_PersoonAanUitVastOntslag375=-1,\"v\",\"\")","v":""},null,"v",null,null,null,null,0,0]
[null,null,null,null,null,null,null,{"$f":"IF(Data_NaamPersoonNatVerloop376=\"\",\"\",Data_NaamPersoonNatVerloop376)","v":""},null,null,{"$f":"IF(Data_BeeindigingsdatumNatVerloop376=\"\",\"\",Data_BeeindigingsdatumNatVerloop376)","v":""},null,null,{"$f":"IF(Data_LoonkostenNatVerloop376=\"\",\"\",Data_LoonkostenNatVerloop376)","v":""},null,"v",null,"v",null,null,null,null,0,"",null,null,null,null,null,null,null,null,{"$f":"IF(Data_NaamPersoonTijd376=\"\",\"\",Data_NaamPersoonTijd376)","v":""},null,null,{"$f":"IF(Data_BeeindigingsdatumTijd376=\"\",\"\",Data_BeeindigingsdatumTijd376)","v":""},null,null,{"$f":"IF(Data_LoonkostenTijd376=\"\",\"\",Data_LoonkostenTijd376)","v":""},null,{"$f":"IF(Data_PersoonAanUitTijd376=-1,\"v\",\"\")","v":""},null,"v",null,null,null,null,0,0,null,null,null,{"$f":"IF(Data_NaamPersoonVastVrij376=\"\",\"\",Data_NaamPersoonVastVrij376)","v":""},null,null,{"$f":"IF(Data_BeeindigingsdatumVastVrij376=\"\",\"\",Data_BeeindigingsdatumVastVrij376)","v":""},null,null,{"$f":"IF(Data_LoonkostenVastVrij376=\"\",\"\",Data_LoonkostenVastVrij376)","v":""},null,{"$f":"IF(Data_PersoonAanUitVastVrij376=-1,\"v\",\"\")","v":""},null,"v",null,null,null,null,0,0,null,{"$f":"IF(Data_NaamPersoonVastOntslag376=\"\",\"\",Data_NaamPersoonVastOntslag376)","v":""},null,null,{"$f":"IF(Data_BeeindigingsdatumVastOntslag376=\"\",\"\",Data_BeeindigingsdatumVastOntslag376)","v":""},null,null,{"$f":"IF(Data_LoonkostenVastOntslag376=\"\",\"\",Data_LoonkostenVastOntslag376)","v":""},null,{"$f":"IF(Data_PersoonAanUitVastOntslag376=-1,\"v\",\"\")","v":""},null,"v",null,null,null,null,0,0]
[null,null,null,null,null,null,null,{"$f":"IF(Data_NaamPersoonNatVerloop377=\"\",\"\",Data_NaamPersoonNatVerloop377)","v":""},null,null,{"$f":"IF(Data_BeeindigingsdatumNatVerloop377=\"\",\"\",Data_BeeindigingsdatumNatVerloop377)","v":""},null,null,{"$f":"IF(Data_LoonkostenNatVerloop377=\"\",\"\",Data_LoonkostenNatVerloop377)","v":""},null,"v",null,"v",null,null,null,null,0,"",null,null,null,null,null,null,null,null,{"$f":"IF(Data_NaamPersoonTijd377=\"\",\"\",Data_NaamPersoonTijd377)","v":""},null,null,{"$f":"IF(Data_BeeindigingsdatumTijd377=\"\",\"\",Data_BeeindigingsdatumTijd377)","v":""},null,null,{"$f":"IF(Data_LoonkostenTijd377=\"\",\"\",Data_LoonkostenTijd377)","v":""},null,{"$f":"IF(Data_PersoonAanUitTijd377=-1,\"v\",\"\")","v":""},null,"v",null,null,null,null,0,0,null,null,null,{"$f":"IF(Data_NaamPersoonVastVrij377=\"\",\"\",Data_NaamPersoonVastVrij377)","v":""},null,null,{"$f":"IF(Data_BeeindigingsdatumVastVrij377=\"\",\"\",Data_BeeindigingsdatumVastVrij377)","v":""},null,null,{"$f":"IF(Data_LoonkostenVastVrij377=\"\",\"\",Data_LoonkostenVastVrij377)","v":""},null,{"$f":"IF(Data_PersoonAanUitVastVrij377=-1,\"v\",\"\")","v":""},null,"v",null,null,null,null,0,0,null,{"$f":"IF(Data_NaamPersoonVastOntslag377=\"\",\"\",Data_NaamPersoonVastOntslag377)","v":""},null,null,{"$f":"IF(Data_BeeindigingsdatumVastOntslag377=\"\",\"\",Data_BeeindigingsdatumVastOntslag377)","v":""},null,null,{"$f":"IF(Data_LoonkostenVastOntslag377=\"\",\"\",Data_LoonkostenVastOntslag377)","v":""},null,{"$f":"IF(Data_PersoonAanUitVastOntslag377=-1,\"v\",\"\")","v":""},null,"v",null,null,null,null,0,0]
[null,null,null,null,null,null,null,{"$f":"IF(Data_NaamPersoonNatVerloop378=\"\",\"\",Data_NaamPersoonNatVerloop378)","v":""},null,null,{"$f":"IF(Data_BeeindigingsdatumNatVerloop378=\"\",\"\",Data_BeeindigingsdatumNatVerloop378)","v":""},null,null,{"$f":"IF(Data_LoonkostenNatVerloop378=\"\",\"\",Data_LoonkostenNatVerloop378)","v":""},null,"v",null,"v",null,null,null,null,0,"",null,null,null,null,null,null,null,null,{"$f":"IF(Data_NaamPersoonTijd378=\"\",\"\",Data_NaamPersoonTijd378)","v":""},null,null,{"$f":"IF(Data_BeeindigingsdatumTijd378=\"\",\"\",Data_BeeindigingsdatumTijd378)","v":""},null,null,{"$f":"IF(Data_LoonkostenTijd378=\"\",\"\",Data_LoonkostenTijd378)","v":""},null,{"$f":"IF(Data_PersoonAanUitTijd378=-1,\"v\",\"\")","v":""},null,"v",null,null,null,null,0,0,null,null,null,{"$f":"IF(Data_NaamPersoonVastVrij378=\"\",\"\",Data_NaamPersoonVastVrij378)","v":""},null,null,{"$f":"IF(Data_BeeindigingsdatumVastVrij378=\"\",\"\",Data_BeeindigingsdatumVastVrij378)","v":""},null,null,{"$f":"IF(Data_LoonkostenVastVrij378=\"\",\"\",Data_LoonkostenVastVrij378)","v":""},null,{"$f":"IF(Data_PersoonAanUitVastVrij378=-1,\"v\",\"\")","v":""},null,"v",null,null,null,null,0,0,null,{"$f":"IF(Data_NaamPersoonVastOntslag378=\"\",\"\",Data_NaamPersoonVastOntslag378)","v":""},null,null,{"$f":"IF(Data_BeeindigingsdatumVastOntslag378=\"\",\"\",Data_BeeindigingsdatumVastOntslag378)","v":""},null,null,{"$f":"IF(Data_LoonkostenVastOntslag378=\"\",\"\",Data_LoonkostenVastOntslag378)","v":""},null,{"$f":"IF(Data_PersoonAanUitVastOntslag378=-1,\"v\",\"\")","v":""},null,"v",null,null,null,null,0,0]
[null,null,null,null,null,null,null,{"$f":"IF(Data_NaamPersoonNatVerloop379=\"\",\"\",Data_NaamPersoonNatVerloop379)","v":""},null,null,{"$f":"IF(Data_BeeindigingsdatumNatVerloop379=\"\",\"\",Data_BeeindigingsdatumNatVerloop379)","v":""},null,null,{"$f":"IF(Data_LoonkostenNatVerloop379=\"\",\"\",Data_LoonkostenNatVerloop379)","v":""},null,"v",null,"v",null,null,null,null,0,"",null,null,null,null,null,null,null,null,{"$f":"IF(Data_NaamPersoonTijd379=\"\",\"\",Data_NaamPersoonTijd379)","v":""},null,null,{"$f":"IF(Data_BeeindigingsdatumTijd379=\"\",\"\",Data_BeeindigingsdatumTijd379)","v":""},null,null,{"$f":"IF(Data_LoonkostenTijd379=\"\",\"\",Data_LoonkostenTijd379)","v":""},null,{"$f":"IF(Data_PersoonAanUitTijd379=-1,\"v\",\"\")","v":""},null,"v",null,null,null,null,0,0,null,null,null,{"$f":"IF(Data_NaamPersoonVastVrij379=\"\",\"\",Data_NaamPersoonVastVrij379)","v":""},null,null,{"$f":"IF(Data_BeeindigingsdatumVastVrij379=\"\",\"\",Data_BeeindigingsdatumVastVrij379)","v":""},null,null,{"$f":"IF(Data_LoonkostenVastVrij379=\"\",\"\",Data_LoonkostenVastVrij379)","v":""},null,{"$f":"IF(Data_PersoonAanUitVastVrij379=-1,\"v\",\"\")","v":""},null,"v",null,null,null,null,0,0,null,{"$f":"IF(Data_NaamPersoonVastOntslag379=\"\",\"\",Data_NaamPersoonVastOntslag379)","v":""},null,null,{"$f":"IF(Data_BeeindigingsdatumVastOntslag379=\"\",\"\",Data_BeeindigingsdatumVastOntslag379)","v":""},null,null,{"$f":"IF(Data_LoonkostenVastOntslag379=\"\",\"\",Data_LoonkostenVastOntslag379)","v":""},null,{"$f":"IF(Data_PersoonAanUitVastOntslag379=-1,\"v\",\"\")","v":""},null,"v",null,null,null,null,0,0]
[null,null,null,null,null,null,null,{"$f":"IF(Data_NaamPersoonNatVerloop380=\"\",\"\",Data_NaamPersoonNatVerloop380)","v":""},null,null,{"$f":"IF(Data_BeeindigingsdatumNatVerloop380=\"\",\"\",Data_BeeindigingsdatumNatVerloop380)","v":""},null,null,{"$f":"IF(Data_LoonkostenNatVerloop380=\"\",\"\",Data_LoonkostenNatVerloop380)","v":""},null,"v",null,"v",null,null,null,null,0,"",null,null,null,null,null,null,null,null,{"$f":"IF(Data_NaamPersoonTijd380=\"\",\"\",Data_NaamPersoonTijd380)","v":""},null,null,{"$f":"IF(Data_BeeindigingsdatumTijd380=\"\",\"\",Data_BeeindigingsdatumTijd380)","v":""},null,null,{"$f":"IF(Data_LoonkostenTijd380=\"\",\"\",Data_LoonkostenTijd380)","v":""},null,{"$f":"IF(Data_PersoonAanUitTijd380=-1,\"v\",\"\")","v":""},null,"v",null,null,null,null,0,0,null,null,null,{"$f":"IF(Data_NaamPersoonVastVrij380=\"\",\"\",Data_NaamPersoonVastVrij380)","v":""},null,null,{"$f":"IF(Data_BeeindigingsdatumVastVrij380=\"\",\"\",Data_BeeindigingsdatumVastVrij380)","v":""},null,null,{"$f":"IF(Data_LoonkostenVastVrij380=\"\",\"\",Data_LoonkostenVastVrij380)","v":""},null,{"$f":"IF(Data_PersoonAanUitVastVrij380=-1,\"v\",\"\")","v":""},null,"v",null,null,null,null,0,0,null,{"$f":"IF(Data_NaamPersoonVastOntslag380=\"\",\"\",Data_NaamPersoonVastOntslag380)","v":""},null,null,{"$f":"IF(Data_BeeindigingsdatumVastOntslag380=\"\",\"\",Data_BeeindigingsdatumVastOntslag380)","v":""},null,null,{"$f":"IF(Data_LoonkostenVastOntslag380=\"\",\"\",Data_LoonkostenVastOntslag380)","v":""},null,{"$f":"IF(Data_PersoonAanUitVastOntslag380=-1,\"v\",\"\")","v":""},null,"v",null,null,null,null,0,0]
[null,null,null,null,null,null,null,{"$f":"IF(Data_NaamPersoonNatVerloop381=\"\",\"\",Data_NaamPersoonNatVerloop381)","v":""},null,null,{"$f":"IF(Data_BeeindigingsdatumNatVerloop381=\"\",\"\",Data_BeeindigingsdatumNatVerloop381)","v":""},null,null,{"$f":"IF(Data_LoonkostenNatVerloop381=\"\",\"\",Data_LoonkostenNatVerloop381)","v":""},null,"v",null,"v",null,null,null,null,0,"",null,null,null,null,null,null,null,null,{"$f":"IF(Data_NaamPersoonTijd381=\"\",\"\",Data_NaamPersoonTijd381)","v":""},null,null,{"$f":"IF(Data_BeeindigingsdatumTijd381=\"\",\"\",Data_BeeindigingsdatumTijd381)","v":""},null,null,{"$f":"IF(Data_LoonkostenTijd381=\"\",\"\",Data_LoonkostenTijd381)","v":""},null,{"$f":"IF(Data_PersoonAanUitTijd381=-1,\"v\",\"\")","v":""},null,"v",null,null,null,null,0,0,null,null,null,{"$f":"IF(Data_NaamPersoonVastVrij381=\"\",\"\",Data_NaamPersoonVastVrij381)","v":""},null,null,{"$f":"IF(Data_BeeindigingsdatumVastVrij381=\"\",\"\",Data_BeeindigingsdatumVastVrij381)","v":""},null,null,{"$f":"IF(Data_LoonkostenVastVrij381=\"\",\"\",Data_LoonkostenVastVrij381)","v":""},null,{"$f":"IF(Data_PersoonAanUitVastVrij381=-1,\"v\",\"\")","v":""},null,"v",null,null,null,null,0,0,null,{"$f":"IF(Data_NaamPersoonVastOntslag381=\"\",\"\",Data_NaamPersoonVastOntslag381)","v":""},null,null,{"$f":"IF(Data_BeeindigingsdatumVastOntslag381=\"\",\"\",Data_BeeindigingsdatumVastOntslag381)","v":""},null,null,{"$f":"IF(Data_LoonkostenVastOntslag381=\"\",\"\",Data_LoonkostenVastOntslag381)","v":""},null,{"$f":"IF(Data_PersoonAanUitVastOntslag381=-1,\"v\",\"\")","v":""},null,"v",null,null,null,null,0,0]
[null,null,null,null,null,null,null,{"$f":"IF(Data_NaamPersoonNatVerloop382=\"\",\"\",Data_NaamPersoonNatVerloop382)","v":""},null,null,{"$f":"IF(Data_BeeindigingsdatumNatVerloop382=\"\",\"\",Data_BeeindigingsdatumNatVerloop382)","v":""},null,null,{"$f":"IF(Data_LoonkostenNatVerloop382=\"\",\"\",Data_LoonkostenNatVerloop382)","v":""},null,"v",null,"v",null,null,null,null,0,"",null,null,null,null,null,null,null,null,{"$f":"IF(Data_NaamPersoonTijd382=\"\",\"\",Data_NaamPersoonTijd382)","v":""},null,null,{"$f":"IF(Data_BeeindigingsdatumTijd382=\"\",\"\",Data_BeeindigingsdatumTijd382)","v":""},null,null,{"$f":"IF(Data_LoonkostenTijd382=\"\",\"\",Data_LoonkostenTijd382)","v":""},null,{"$f":"IF(Data_PersoonAanUitTijd382=-1,\"v\",\"\")","v":""},null,"v",null,null,null,null,0,0,null,null,null,{"$f":"IF(Data_NaamPersoonVastVrij382=\"\",\"\",Data_NaamPersoonVastVrij382)","v":""},null,null,{"$f":"IF(Data_BeeindigingsdatumVastVrij382=\"\",\"\",Data_BeeindigingsdatumVastVrij382)","v":""},null,null,{"$f":"IF(Data_LoonkostenVastVrij382=\"\",\"\",Data_LoonkostenVastVrij382)","v":""},null,{"$f":"IF(Data_PersoonAanUitVastVrij382=-1,\"v\",\"\")","v":""},null,"v",null,null,null,null,0,0,null,{"$f":"IF(Data_NaamPersoonVastOntslag382=\"\",\"\",Data_NaamPersoonVastOntslag382)","v":""},null,null,{"$f":"IF(Data_BeeindigingsdatumVastOntslag382=\"\",\"\",Data_BeeindigingsdatumVastOntslag382)","v":""},null,null,{"$f":"IF(Data_LoonkostenVastOntslag382=\"\",\"\",Data_LoonkostenVastOntslag382)","v":""},null,{"$f":"IF(Data_PersoonAanUitVastOntslag382=-1,\"v\",\"\")","v":""},null,"v",null,null,null,null,0,0]
[null,null,null,null,null,null,null,{"$f":"IF(Data_NaamPersoonNatVerloop383=\"\",\"\",Data_NaamPersoonNatVerloop383)","v":""},null,null,{"$f":"IF(Data_BeeindigingsdatumNatVerloop383=\"\",\"\",Data_BeeindigingsdatumNatVerloop383)","v":""},null,null,{"$f":"IF(Data_LoonkostenNatVerloop383=\"\",\"\",Data_LoonkostenNatVerloop383)","v":""},null,"v",null,"v",null,null,null,null,0,"",null,null,null,null,null,null,null,null,{"$f":"IF(Data_NaamPersoonTijd383=\"\",\"\",Data_NaamPersoonTijd383)","v":""},null,null,{"$f":"IF(Data_BeeindigingsdatumTijd383=\"\",\"\",Data_BeeindigingsdatumTijd383)","v":""},null,null,{"$f":"IF(Data_LoonkostenTijd383=\"\",\"\",Data_LoonkostenTijd383)","v":""},null,{"$f":"IF(Data_PersoonAanUitTijd383=-1,\"v\",\"\")","v":""},null,"v",null,null,null,null,0,0,null,null,null,{"$f":"IF(Data_NaamPersoonVastVrij383=\"\",\"\",Data_NaamPersoonVastVrij383)","v":""},null,null,{"$f":"IF(Data_BeeindigingsdatumVastVrij383=\"\",\"\",Data_BeeindigingsdatumVastVrij383)","v":""},null,null,{"$f":"IF(Data_LoonkostenVastVrij383=\"\",\"\",Data_LoonkostenVastVrij383)","v":""},null,{"$f":"IF(Data_PersoonAanUitVastVrij383=-1,\"v\",\"\")","v":""},null,"v",null,null,null,null,0,0,null,{"$f":"IF(Data_NaamPersoonVastOntslag383=\"\",\"\",Data_NaamPersoonVastOntslag383)","v":""},null,null,{"$f":"IF(Data_BeeindigingsdatumVastOntslag383=\"\",\"\",Data_BeeindigingsdatumVastOntslag383)","v":""},null,null,{"$f":"IF(Data_LoonkostenVastOntslag383=\"\",\"\",Data_LoonkostenVastOntslag383)","v":""},null,{"$f":"IF(Data_PersoonAanUitVastOntslag383=-1,\"v\",\"\")","v":""},null,"v",null,null,null,null,0,0]
[null,null,null,null,null,null,null,{"$f":"IF(Data_NaamPersoonNatVerloop384=\"\",\"\",Data_NaamPersoonNatVerloop384)","v":""},null,null,{"$f":"IF(Data_BeeindigingsdatumNatVerloop384=\"\",\"\",Data_BeeindigingsdatumNatVerloop384)","v":""},null,null,{"$f":"IF(Data_LoonkostenNatVerloop384=\"\",\"\",Data_LoonkostenNatVerloop384)","v":""},null,"v",null,"v",null,null,null,null,0,"",null,null,null,null,null,null,null,null,{"$f":"IF(Data_NaamPersoonTijd384=\"\",\"\",Data_NaamPersoonTijd384)","v":""},null,null,{"$f":"IF(Data_BeeindigingsdatumTijd384=\"\",\"\",Data_BeeindigingsdatumTijd384)","v":""},null,null,{"$f":"IF(Data_LoonkostenTijd384=\"\",\"\",Data_LoonkostenTijd384)","v":""},null,{"$f":"IF(Data_PersoonAanUitTijd384=-1,\"v\",\"\")","v":""},null,"v",null,null,null,null,0,0,null,null,null,{"$f":"IF(Data_NaamPersoonVastVrij384=\"\",\"\",Data_NaamPersoonVastVrij384)","v":""},null,null,{"$f":"IF(Data_BeeindigingsdatumVastVrij384=\"\",\"\",Data_BeeindigingsdatumVastVrij384)","v":""},null,null,{"$f":"IF(Data_LoonkostenVastVrij384=\"\",\"\",Data_LoonkostenVastVrij384)","v":""},null,{"$f":"IF(Data_PersoonAanUitVastVrij384=-1,\"v\",\"\")","v":""},null,"v",null,null,null,null,0,0,null,{"$f":"IF(Data_NaamPersoonVastOntslag384=\"\",\"\",Data_NaamPersoonVastOntslag384)","v":""},null,null,{"$f":"IF(Data_BeeindigingsdatumVastOntslag384=\"\",\"\",Data_BeeindigingsdatumVastOntslag384)","v":""},null,null,{"$f":"IF(Data_LoonkostenVastOntslag384=\"\",\"\",Data_LoonkostenVastOntslag384)","v":""},null,{"$f":"IF(Data_PersoonAanUitVastOntslag384=-1,\"v\",\"\")","v":""},null,"v",null,null,null,null,0,0]
[null,null,null,null,null,null,null,{"$f":"IF(Data_NaamPersoonNatVerloop385=\"\",\"\",Data_NaamPersoonNatVerloop385)","v":""},null,null,{"$f":"IF(Data_BeeindigingsdatumNatVerloop385=\"\",\"\",Data_BeeindigingsdatumNatVerloop385)","v":""},null,null,{"$f":"IF(Data_LoonkostenNatVerloop385=\"\",\"\",Data_LoonkostenNatVerloop385)","v":""},null,"v",null,"v",null,null,null,null,{"$f":"IF($AO408=\"v\",M408,T408)","v":0},"",null,null,null,null,null,null,null,null,{"$f":"IF(Data_NaamPersoonTijd385=\"\",\"\",Data_NaamPersoonTijd385)","v":""},null,null,{"$f":"IF(Data_BeeindigingsdatumTijd385=\"\",\"\",Data_BeeindigingsdatumTijd385)","v":""},null,null,{"$f":"IF(Data_LoonkostenTijd385=\"\",\"\",Data_LoonkostenTijd385)","v":""},null,{"$f":"IF(Data_PersoonAanUitTijd385=-1,\"v\",\"\")","v":""},null,"v",null,null,null,null,{"$f":"IF($AO408=\"v\",AL408,AS408)","v":0},{"$f":"IF(AND($AO408=\"v\",$AQ408=\"v\"),AM408,IF(AND($AO408=\"v\",$AQ408<>\"v\"),AT408,0))","v":0},null,null,null,{"$f":"IF(Data_NaamPersoonVastVrij385=\"\",\"\",Data_NaamPersoonVastVrij385)","v":""},null,null,{"$f":"IF(Data_BeeindigingsdatumVastVrij385=\"\",\"\",Data_BeeindigingsdatumVastVrij385)","v":""},null,null,{"$f":"IF(Data_LoonkostenVastVrij385=\"\",\"\",Data_LoonkostenVastVrij385)","v":""},null,{"$f":"IF(Data_PersoonAanUitVastVrij385=-1,\"v\",\"\")","v":""},null,"v",null,null,null,null,{"$f":"IF($BI408=\"v\",BF408,BM408)","v":0},{"$f":"IF(AND($BI408=\"v\",$BK408=\"v\"),BG408,IF(AND($BI408=\"v\",$BK408<>\"v\"),BN408,0))","v":0},null,{"$f":"IF(Data_NaamPersoonVastOntslag385=\"\",\"\",Data_NaamPersoonVastOntslag385)","v":""},null,null,{"$f":"IF(Data_BeeindigingsdatumVastOntslag385=\"\",\"\",Data_BeeindigingsdatumVastOntslag385)","v":""},null,null,{"$f":"IF(Data_LoonkostenVastOntslag385=\"\",\"\",Data_LoonkostenVastOntslag385)","v":""},null,{"$f":"IF(Data_PersoonAanUitVastOntslag385=-1,\"v\",\"\")","v":""},null,"v",null,null,null,null,0,{"$f":"IF(AND($CA408=\"v\",$CC408=\"v\"),BY408,IF(AND($CA408=\"v\",$CC408<>\"v\"),CF407,0))","v":0}]
[null,null,null,null,null,null,null,{"$f":"IF(Data_NaamPersoonNatVerloop386=\"\",\"\",Data_NaamPersoonNatVerloop386)","v":""},null,null,{"$f":"IF(Data_BeeindigingsdatumNatVerloop386=\"\",\"\",Data_BeeindigingsdatumNatVerloop386)","v":""},null,null,{"$f":"IF(Data_LoonkostenNatVerloop386=\"\",\"\",Data_LoonkostenNatVerloop386)","v":""},null,"v",null,"v",null,null,null,null,0,{"$f":"IF(AND($P409=\"v\",$R409=\"v\"),N409,IF(AND($P409=\"v\",$R409<>\"v\"),U409,0))","v":""},null,null,null,null,null,null,null,null,{"$f":"IF(Data_NaamPersoonTijd386=\"\",\"\",Data_NaamPersoonTijd386)","v":""},null,null,{"$f":"IF(Data_BeeindigingsdatumTijd386=\"\",\"\",Data_BeeindigingsdatumTijd386)","v":""},null,null,{"$f":"IF(Data_LoonkostenTijd386=\"\",\"\",Data_LoonkostenTijd386)","v":""},null,{"$f":"IF(Data_PersoonAanUitTijd386=-1,\"v\",\"\")","v":""},null,"v",null,null,null,null,0,0,null,null,null,{"$f":"IF(Data_NaamPersoonVastVrij386=\"\",\"\",Data_NaamPersoonVastVrij386)","v":""},null,null,{"$f":"IF(Data_BeeindigingsdatumVastVrij386=\"\",\"\",Data_BeeindigingsdatumVastVrij386)","v":""},null,null,{"$f":"IF(Data_LoonkostenVastVrij386=\"\",\"\",Data_LoonkostenVastVrij386)","v":""},null,{"$f":"IF(Data_PersoonAanUitVastVrij386=-1,\"v\",\"\")","v":""},null,"v",null,null,null,null,0,0,null,{"$f":"IF(Data_NaamPersoonVastOntslag386=\"\",\"\",Data_NaamPersoonVastOntslag386)","v":""},null,null,{"$f":"IF(Data_BeeindigingsdatumVastOntslag386=\"\",\"\",Data_BeeindigingsdatumVastOntslag386)","v":""},null,null,{"$f":"IF(Data_LoonkostenVastOntslag386=\"\",\"\",Data_LoonkostenVastOntslag386)","v":""},null,{"$f":"IF(Data_PersoonAanUitVastOntslag386=-1,\"v\",\"\")","v":""},null,"v",null,null,null,null,{"$f":"IF($CA409=\"v\",BX409,CE409)","v":0},0]
[null,null,null,null,null,null,null,{"$f":"IF(Data_NaamPersoonNatVerloop387=\"\",\"\",Data_NaamPersoonNatVerloop387)","v":""},null,null,{"$f":"IF(Data_BeeindigingsdatumNatVerloop387=\"\",\"\",Data_BeeindigingsdatumNatVerloop387)","v":""},null,null,{"$f":"IF(Data_LoonkostenNatVerloop387=\"\",\"\",Data_LoonkostenNatVerloop387)","v":""},null,"v",null,"v",null,null,null,null,0,"",null,null,null,null,null,null,null,null,{"$f":"IF(Data_NaamPersoonTijd387=\"\",\"\",Data_NaamPersoonTijd387)","v":""},null,null,{"$f":"IF(Data_BeeindigingsdatumTijd387=\"\",\"\",Data_BeeindigingsdatumTijd387)","v":""},null,null,{"$f":"IF(Data_LoonkostenTijd387=\"\",\"\",Data_LoonkostenTijd387)","v":""},null,{"$f":"IF(Data_PersoonAanUitTijd387=-1,\"v\",\"\")","v":""},null,"v",null,null,null,null,0,0,null,null,null,{"$f":"IF(Data_NaamPersoonVastVrij387=\"\",\"\",Data_NaamPersoonVastVrij387)","v":""},null,null,{"$f":"IF(Data_BeeindigingsdatumVastVrij387=\"\",\"\",Data_BeeindigingsdatumVastVrij387)","v":""},null,null,{"$f":"IF(Data_LoonkostenVastVrij387=\"\",\"\",Data_LoonkostenVastVrij387)","v":""},null,{"$f":"IF(Data_PersoonAanUitVastVrij387=-1,\"v\",\"\")","v":""},null,"v",null,null,null,null,0,0,null,{"$f":"IF(Data_NaamPersoonVastOntslag387=\"\",\"\",Data_NaamPersoonVastOntslag387)","v":""},null,null,{"$f":"IF(Data_BeeindigingsdatumVastOntslag387=\"\",\"\",Data_BeeindigingsdatumVastOntslag387)","v":""},null,null,{"$f":"IF(Data_LoonkostenVastOntslag387=\"\",\"\",Data_LoonkostenVastOntslag387)","v":""},null,{"$f":"IF(Data_PersoonAanUitVastOntslag387=-1,\"v\",\"\")","v":""},null,"v",null,null,null,null,0,0]
[null,null,null,null,null,null,null,{"$f":"IF(Data_NaamPersoonNatVerloop388=\"\",\"\",Data_NaamPersoonNatVerloop388)","v":""},null,null,{"$f":"IF(Data_BeeindigingsdatumNatVerloop388=\"\",\"\",Data_BeeindigingsdatumNatVerloop388)","v":""},null,null,{"$f":"IF(Data_LoonkostenNatVerloop388=\"\",\"\",Data_LoonkostenNatVerloop388)","v":""},null,"v",null,"v",null,null,null,null,0,"",null,null,null,null,null,null,null,null,{"$f":"IF(Data_NaamPersoonTijd388=\"\",\"\",Data_NaamPersoonTijd388)","v":""},null,null,{"$f":"IF(Data_BeeindigingsdatumTijd388=\"\",\"\",Data_BeeindigingsdatumTijd388)","v":""},null,null,{"$f":"IF(Data_LoonkostenTijd388=\"\",\"\",Data_LoonkostenTijd388)","v":""},null,{"$f":"IF(Data_PersoonAanUitTijd388=-1,\"v\",\"\")","v":""},null,"v",null,null,null,null,0,0,null,null,null,{"$f":"IF(Data_NaamPersoonVastVrij388=\"\",\"\",Data_NaamPersoonVastVrij388)","v":""},null,null,{"$f":"IF(Data_BeeindigingsdatumVastVrij388=\"\",\"\",Data_BeeindigingsdatumVastVrij388)","v":""},null,null,{"$f":"IF(Data_LoonkostenVastVrij388=\"\",\"\",Data_LoonkostenVastVrij388)","v":""},null,{"$f":"IF(Data_PersoonAanUitVastVrij388=-1,\"v\",\"\")","v":""},null,"v",null,null,null,null,0,0,null,{"$f":"IF(Data_NaamPersoonVastOntslag388=\"\",\"\",Data_NaamPersoonVastOntslag388)","v":""},null,null,{"$f":"IF(Data_BeeindigingsdatumVastOntslag388=\"\",\"\",Data_BeeindigingsdatumVastOntslag388)","v":""},null,null,{"$f":"IF(Data_LoonkostenVastOntslag388=\"\",\"\",Data_LoonkostenVastOntslag388)","v":""},null,{"$f":"IF(Data_PersoonAanUitVastOntslag388=-1,\"v\",\"\")","v":""},null,"v",null,null,null,null,0,0]
[null,null,null,null,null,null,null,{"$f":"IF(Data_NaamPersoonNatVerloop389=\"\",\"\",Data_NaamPersoonNatVerloop389)","v":""},null,null,{"$f":"IF(Data_BeeindigingsdatumNatVerloop389=\"\",\"\",Data_BeeindigingsdatumNatVerloop389)","v":""},null,null,{"$f":"IF(Data_LoonkostenNatVerloop389=\"\",\"\",Data_LoonkostenNatVerloop389)","v":""},null,"v",null,"v",null,null,null,null,0,"",null,null,null,null,null,null,null,null,{"$f":"IF(Data_NaamPersoonTijd389=\"\",\"\",Data_NaamPersoonTijd389)","v":""},null,null,{"$f":"IF(Data_BeeindigingsdatumTijd389=\"\",\"\",Data_BeeindigingsdatumTijd389)","v":""},null,null,{"$f":"IF(Data_LoonkostenTijd389=\"\",\"\",Data_LoonkostenTijd389)","v":""},null,{"$f":"IF(Data_PersoonAanUitTijd389=-1,\"v\",\"\")","v":""},null,"v",null,null,null,null,0,0,null,null,null,{"$f":"IF(Data_NaamPersoonVastVrij389=\"\",\"\",Data_NaamPersoonVastVrij389)","v":""},null,null,{"$f":"IF(Data_BeeindigingsdatumVastVrij389=\"\",\"\",Data_BeeindigingsdatumVastVrij389)","v":""},null,null,{"$f":"IF(Data_LoonkostenVastVrij389=\"\",\"\",Data_LoonkostenVastVrij389)","v":""},null,{"$f":"IF(Data_PersoonAanUitVastVrij389=-1,\"v\",\"\")","v":""},null,"v",null,null,null,null,0,0,null,{"$f":"IF(Data_NaamPersoonVastOntslag389=\"\",\"\",Data_NaamPersoonVastOntslag389)","v":""},null,null,{"$f":"IF(Data_BeeindigingsdatumVastOntslag389=\"\",\"\",Data_BeeindigingsdatumVastOntslag389)","v":""},null,null,{"$f":"IF(Data_LoonkostenVastOntslag389=\"\",\"\",Data_LoonkostenVastOntslag389)","v":""},null,{"$f":"IF(Data_PersoonAanUitVastOntslag389=-1,\"v\",\"\")","v":""},null,"v",null,null,null,null,0,0]
[null,null,null,null,null,null,null,{"$f":"IF(Data_NaamPersoonNatVerloop390=\"\",\"\",Data_NaamPersoonNatVerloop390)","v":""},null,null,{"$f":"IF(Data_BeeindigingsdatumNatVerloop390=\"\",\"\",Data_BeeindigingsdatumNatVerloop390)","v":""},null,null,{"$f":"IF(Data_LoonkostenNatVerloop390=\"\",\"\",Data_LoonkostenNatVerloop390)","v":""},null,"v",null,"v",null,null,null,null,0,"",null,null,null,null,null,null,null,null,{"$f":"IF(Data_NaamPersoonTijd390=\"\",\"\",Data_NaamPersoonTijd390)","v":""},null,null,{"$f":"IF(Data_BeeindigingsdatumTijd390=\"\",\"\",Data_BeeindigingsdatumTijd390)","v":""},null,null,{"$f":"IF(Data_LoonkostenTijd390=\"\",\"\",Data_LoonkostenTijd390)","v":""},null,{"$f":"IF(Data_PersoonAanUitTijd390=-1,\"v\",\"\")","v":""},null,"v",null,null,null,null,0,0,null,null,null,{"$f":"IF(Data_NaamPersoonVastVrij390=\"\",\"\",Data_NaamPersoonVastVrij390)","v":""},null,null,{"$f":"IF(Data_BeeindigingsdatumVastVrij390=\"\",\"\",Data_BeeindigingsdatumVastVrij390)","v":""},null,null,{"$f":"IF(Data_LoonkostenVastVrij390=\"\",\"\",Data_LoonkostenVastVrij390)","v":""},null,{"$f":"IF(Data_PersoonAanUitVastVrij390=-1,\"v\",\"\")","v":""},null,"v",null,null,null,null,0,0,null,{"$f":"IF(Data_NaamPersoonVastOntslag390=\"\",\"\",Data_NaamPersoonVastOntslag390)","v":""},null,null,{"$f":"IF(Data_BeeindigingsdatumVastOntslag390=\"\",\"\",Data_BeeindigingsdatumVastOntslag390)","v":""},null,null,{"$f":"IF(Data_LoonkostenVastOntslag390=\"\",\"\",Data_LoonkostenVastOntslag390)","v":""},null,{"$f":"IF(Data_PersoonAanUitVastOntslag390=-1,\"v\",\"\")","v":""},null,"v",null,null,null,null,0,0]
[null,null,null,null,null,null,null,{"$f":"IF(Data_NaamPersoonNatVerloop391=\"\",\"\",Data_NaamPersoonNatVerloop391)","v":""},null,null,{"$f":"IF(Data_BeeindigingsdatumNatVerloop391=\"\",\"\",Data_BeeindigingsdatumNatVerloop391)","v":""},null,null,{"$f":"IF(Data_LoonkostenNatVerloop391=\"\",\"\",Data_LoonkostenNatVerloop391)","v":""},null,"v",null,"v",null,null,null,null,0,"",null,null,null,null,null,null,null,null,{"$f":"IF(Data_NaamPersoonTijd391=\"\",\"\",Data_NaamPersoonTijd391)","v":""},null,null,{"$f":"IF(Data_BeeindigingsdatumTijd391=\"\",\"\",Data_BeeindigingsdatumTijd391)","v":""},null,null,{"$f":"IF(Data_LoonkostenTijd391=\"\",\"\",Data_LoonkostenTijd391)","v":""},null,{"$f":"IF(Data_PersoonAanUitTijd391=-1,\"v\",\"\")","v":""},null,"v",null,null,null,null,0,0,null,null,null,{"$f":"IF(Data_NaamPersoonVastVrij391=\"\",\"\",Data_NaamPersoonVastVrij391)","v":""},null,null,{"$f":"IF(Data_BeeindigingsdatumVastVrij391=\"\",\"\",Data_BeeindigingsdatumVastVrij391)","v":""},null,null,{"$f":"IF(Data_LoonkostenVastVrij391=\"\",\"\",Data_LoonkostenVastVrij391)","v":""},null,{"$f":"IF(Data_PersoonAanUitVastVrij391=-1,\"v\",\"\")","v":""},null,"v",null,null,null,null,0,0,null,{"$f":"IF(Data_NaamPersoonVastOntslag391=\"\",\"\",Data_NaamPersoonVastOntslag391)","v":""},null,null,{"$f":"IF(Data_BeeindigingsdatumVastOntslag391=\"\",\"\",Data_BeeindigingsdatumVastOntslag391)","v":""},null,null,{"$f":"IF(Data_LoonkostenVastOntslag391=\"\",\"\",Data_LoonkostenVastOntslag391)","v":""},null,{"$f":"IF(Data_PersoonAanUitVastOntslag391=-1,\"v\",\"\")","v":""},null,"v",null,null,null,null,0,0]
[null,null,null,null,null,null,null,{"$f":"IF(Data_NaamPersoonNatVerloop392=\"\",\"\",Data_NaamPersoonNatVerloop392)","v":""},null,null,{"$f":"IF(Data_BeeindigingsdatumNatVerloop392=\"\",\"\",Data_BeeindigingsdatumNatVerloop392)","v":""},null,null,{"$f":"IF(Data_LoonkostenNatVerloop392=\"\",\"\",Data_LoonkostenNatVerloop392)","v":""},null,"v",null,"v",null,null,null,null,0,"",null,null,null,null,null,null,null,null,{"$f":"IF(Data_NaamPersoonTijd392=\"\",\"\",Data_NaamPersoonTijd392)","v":""},null,null,{"$f":"IF(Data_BeeindigingsdatumTijd392=\"\",\"\",Data_BeeindigingsdatumTijd392)","v":""},null,null,{"$f":"IF(Data_LoonkostenTijd392=\"\",\"\",Data_LoonkostenTijd392)","v":""},null,{"$f":"IF(Data_PersoonAanUitTijd392=-1,\"v\",\"\")","v":""},null,"v",null,null,null,null,0,0,null,null,null,{"$f":"IF(Data_NaamPersoonVastVrij392=\"\",\"\",Data_NaamPersoonVastVrij392)","v":""},null,null,{"$f":"IF(Data_BeeindigingsdatumVastVrij392=\"\",\"\",Data_BeeindigingsdatumVastVrij392)","v":""},null,null,{"$f":"IF(Data_LoonkostenVastVrij392=\"\",\"\",Data_LoonkostenVastVrij392)","v":""},null,{"$f":"IF(Data_PersoonAanUitVastVrij392=-1,\"v\",\"\")","v":""},null,"v",null,null,null,null,0,0,null,{"$f":"IF(Data_NaamPersoonVastOntslag392=\"\",\"\",Data_NaamPersoonVastOntslag392)","v":""},null,null,{"$f":"IF(Data_BeeindigingsdatumVastOntslag392=\"\",\"\",Data_BeeindigingsdatumVastOntslag392)","v":""},null,null,{"$f":"IF(Data_LoonkostenVastOntslag392=\"\",\"\",Data_LoonkostenVastOntslag392)","v":""},null,{"$f":"IF(Data_PersoonAanUitVastOntslag392=-1,\"v\",\"\")","v":""},null,"v",null,null,null,null,0,0]
[null,null,null,null,null,null,null,{"$f":"IF(Data_NaamPersoonNatVerloop393=\"\",\"\",Data_NaamPersoonNatVerloop393)","v":""},null,null,{"$f":"IF(Data_BeeindigingsdatumNatVerloop393=\"\",\"\",Data_BeeindigingsdatumNatVerloop393)","v":""},null,null,{"$f":"IF(Data_LoonkostenNatVerloop393=\"\",\"\",Data_LoonkostenNatVerloop393)","v":""},null,"v",null,"v",null,null,null,null,0,"",null,null,null,null,null,null,null,null,{"$f":"IF(Data_NaamPersoonTijd393=\"\",\"\",Data_NaamPersoonTijd393)","v":""},null,null,{"$f":"IF(Data_BeeindigingsdatumTijd393=\"\",\"\",Data_BeeindigingsdatumTijd393)","v":""},null,null,{"$f":"IF(Data_LoonkostenTijd393=\"\",\"\",Data_LoonkostenTijd393)","v":""},null,{"$f":"IF(Data_PersoonAanUitTijd393=-1,\"v\",\"\")","v":""},null,"v",null,null,null,null,0,0,null,null,null,{"$f":"IF(Data_NaamPersoonVastVrij393=\"\",\"\",Data_NaamPersoonVastVrij393)","v":""},null,null,{"$f":"IF(Data_BeeindigingsdatumVastVrij393=\"\",\"\",Data_BeeindigingsdatumVastVrij393)","v":""},null,null,{"$f":"IF(Data_LoonkostenVastVrij393=\"\",\"\",Data_LoonkostenVastVrij393)","v":""},null,{"$f":"IF(Data_PersoonAanUitVastVrij393=-1,\"v\",\"\")","v":""},null,"v",null,null,null,null,0,0,null,{"$f":"IF(Data_NaamPersoonVastOntslag393=\"\",\"\",Data_NaamPersoonVastOntslag393)","v":""},null,null,{"$f":"IF(Data_BeeindigingsdatumVastOntslag393=\"\",\"\",Data_BeeindigingsdatumVastOntslag393)","v":""},null,null,{"$f":"IF(Data_LoonkostenVastOntslag393=\"\",\"\",Data_LoonkostenVastOntslag393)","v":""},null,{"$f":"IF(Data_PersoonAanUitVastOntslag393=-1,\"v\",\"\")","v":""},null,"v",null,null,null,null,0,0]
[null,null,null,null,null,null,null,{"$f":"IF(Data_NaamPersoonNatVerloop394=\"\",\"\",Data_NaamPersoonNatVerloop394)","v":""},null,null,{"$f":"IF(Data_BeeindigingsdatumNatVerloop394=\"\",\"\",Data_BeeindigingsdatumNatVerloop394)","v":""},null,null,{"$f":"IF(Data_LoonkostenNatVerloop394=\"\",\"\",Data_LoonkostenNatVerloop394)","v":""},null,"v",null,"v",null,null,null,null,0,"",null,null,null,null,null,null,null,null,{"$f":"IF(Data_NaamPersoonTijd394=\"\",\"\",Data_NaamPersoonTijd394)","v":""},null,null,{"$f":"IF(Data_BeeindigingsdatumTijd394=\"\",\"\",Data_BeeindigingsdatumTijd394)","v":""},null,null,{"$f":"IF(Data_LoonkostenTijd394=\"\",\"\",Data_LoonkostenTijd394)","v":""},null,{"$f":"IF(Data_PersoonAanUitTijd394=-1,\"v\",\"\")","v":""},null,"v",null,null,null,null,0,0,null,null,null,{"$f":"IF(Data_NaamPersoonVastVrij394=\"\",\"\",Data_NaamPersoonVastVrij394)","v":""},null,null,{"$f":"IF(Data_BeeindigingsdatumVastVrij394=\"\",\"\",Data_BeeindigingsdatumVastVrij394)","v":""},null,null,{"$f":"IF(Data_LoonkostenVastVrij394=\"\",\"\",Data_LoonkostenVastVrij394)","v":""},null,{"$f":"IF(Data_PersoonAanUitVastVrij394=-1,\"v\",\"\")","v":""},null,"v",null,null,null,null,0,0,null,{"$f":"IF(Data_NaamPersoonVastOntslag394=\"\",\"\",Data_NaamPersoonVastOntslag394)","v":""},null,null,{"$f":"IF(Data_BeeindigingsdatumVastOntslag394=\"\",\"\",Data_BeeindigingsdatumVastOntslag394)","v":""},null,null,{"$f":"IF(Data_LoonkostenVastOntslag394=\"\",\"\",Data_LoonkostenVastOntslag394)","v":""},null,{"$f":"IF(Data_PersoonAanUitVastOntslag394=-1,\"v\",\"\")","v":""},null,"v",null,null,null,null,0,0]
[null,null,null,null,null,null,null,{"$f":"IF(Data_NaamPersoonNatVerloop395=\"\",\"\",Data_NaamPersoonNatVerloop395)","v":""},null,null,{"$f":"IF(Data_BeeindigingsdatumNatVerloop395=\"\",\"\",Data_BeeindigingsdatumNatVerloop395)","v":""},null,null,{"$f":"IF(Data_LoonkostenNatVerloop395=\"\",\"\",Data_LoonkostenNatVerloop395)","v":""},null,"v",null,"v",null,null,null,null,0,"",null,null,null,null,null,null,null,null,{"$f":"IF(Data_NaamPersoonTijd395=\"\",\"\",Data_NaamPersoonTijd395)","v":""},null,null,{"$f":"IF(Data_BeeindigingsdatumTijd395=\"\",\"\",Data_BeeindigingsdatumTijd395)","v":""},null,null,{"$f":"IF(Data_LoonkostenTijd395=\"\",\"\",Data_LoonkostenTijd395)","v":""},null,{"$f":"IF(Data_PersoonAanUitTijd395=-1,\"v\",\"\")","v":""},null,"v",null,null,null,null,0,0,null,null,null,{"$f":"IF(Data_NaamPersoonVastVrij395=\"\",\"\",Data_NaamPersoonVastVrij395)","v":""},null,null,{"$f":"IF(Data_BeeindigingsdatumVastVrij395=\"\",\"\",Data_BeeindigingsdatumVastVrij395)","v":""},null,null,{"$f":"IF(Data_LoonkostenVastVrij395=\"\",\"\",Data_LoonkostenVastVrij395)","v":""},null,{"$f":"IF(Data_PersoonAanUitVastVrij395=-1,\"v\",\"\")","v":""},null,"v",null,null,null,null,0,0,null,{"$f":"IF(Data_NaamPersoonVastOntslag395=\"\",\"\",Data_NaamPersoonVastOntslag395)","v":""},null,null,{"$f":"IF(Data_BeeindigingsdatumVastOntslag395=\"\",\"\",Data_BeeindigingsdatumVastOntslag395)","v":""},null,null,{"$f":"IF(Data_LoonkostenVastOntslag395=\"\",\"\",Data_LoonkostenVastOntslag395)","v":""},null,{"$f":"IF(Data_PersoonAanUitVastOntslag395=-1,\"v\",\"\")","v":""},null,"v",null,null,null,null,0,0]
[null,null,null,null,null,null,null,{"$f":"IF(Data_NaamPersoonNatVerloop396=\"\",\"\",Data_NaamPersoonNatVerloop396)","v":""},null,null,{"$f":"IF(Data_BeeindigingsdatumNatVerloop396=\"\",\"\",Data_BeeindigingsdatumNatVerloop396)","v":""},null,null,{"$f":"IF(Data_LoonkostenNatVerloop396=\"\",\"\",Data_LoonkostenNatVerloop396)","v":""},null,"v",null,"v",null,null,null,null,0,"",null,null,null,null,null,null,null,null,{"$f":"IF(Data_NaamPersoonTijd396=\"\",\"\",Data_NaamPersoonTijd396)","v":""},null,null,{"$f":"IF(Data_BeeindigingsdatumTijd396=\"\",\"\",Data_BeeindigingsdatumTijd396)","v":""},null,null,{"$f":"IF(Data_LoonkostenTijd396=\"\",\"\",Data_LoonkostenTijd396)","v":""},null,{"$f":"IF(Data_PersoonAanUitTijd396=-1,\"v\",\"\")","v":""},null,"v",null,null,null,null,0,0,null,null,null,{"$f":"IF(Data_NaamPersoonVastVrij396=\"\",\"\",Data_NaamPersoonVastVrij396)","v":""},null,null,{"$f":"IF(Data_BeeindigingsdatumVastVrij396=\"\",\"\",Data_BeeindigingsdatumVastVrij396)","v":""},null,null,{"$f":"IF(Data_LoonkostenVastVrij396=\"\",\"\",Data_LoonkostenVastVrij396)","v":""},null,{"$f":"IF(Data_PersoonAanUitVastVrij396=-1,\"v\",\"\")","v":""},null,"v",null,null,null,null,0,0,null,{"$f":"IF(Data_NaamPersoonVastOntslag396=\"\",\"\",Data_NaamPersoonVastOntslag396)","v":""},null,null,{"$f":"IF(Data_BeeindigingsdatumVastOntslag396=\"\",\"\",Data_BeeindigingsdatumVastOntslag396)","v":""},null,null,{"$f":"IF(Data_LoonkostenVastOntslag396=\"\",\"\",Data_LoonkostenVastOntslag396)","v":""},null,{"$f":"IF(Data_PersoonAanUitVastOntslag396=-1,\"v\",\"\")","v":""},null,"v",null,null,null,null,0,0]
[null,null,null,null,null,null,null,{"$f":"IF(Data_NaamPersoonNatVerloop397=\"\",\"\",Data_NaamPersoonNatVerloop397)","v":""},null,null,{"$f":"IF(Data_BeeindigingsdatumNatVerloop397=\"\",\"\",Data_BeeindigingsdatumNatVerloop397)","v":""},null,null,{"$f":"IF(Data_LoonkostenNatVerloop397=\"\",\"\",Data_LoonkostenNatVerloop397)","v":""},null,"v",null,"v",null,null,null,null,0,"",null,null,null,null,null,null,null,null,{"$f":"IF(Data_NaamPersoonTijd397=\"\",\"\",Data_NaamPersoonTijd397)","v":""},null,null,{"$f":"IF(Data_BeeindigingsdatumTijd397=\"\",\"\",Data_BeeindigingsdatumTijd397)","v":""},null,null,{"$f":"IF(Data_LoonkostenTijd397=\"\",\"\",Data_LoonkostenTijd397)","v":""},null,{"$f":"IF(Data_PersoonAanUitTijd397=-1,\"v\",\"\")","v":""},null,"v",null,null,null,null,0,0,null,null,null,{"$f":"IF(Data_NaamPersoonVastVrij397=\"\",\"\",Data_NaamPersoonVastVrij397)","v":""},null,null,{"$f":"IF(Data_BeeindigingsdatumVastVrij397=\"\",\"\",Data_BeeindigingsdatumVastVrij397)","v":""},null,null,{"$f":"IF(Data_LoonkostenVastVrij397=\"\",\"\",Data_LoonkostenVastVrij397)","v":""},null,{"$f":"IF(Data_PersoonAanUitVastVrij397=-1,\"v\",\"\")","v":""},null,"v",null,null,null,null,0,0,null,{"$f":"IF(Data_NaamPersoonVastOntslag397=\"\",\"\",Data_NaamPersoonVastOntslag397)","v":""},null,null,{"$f":"IF(Data_BeeindigingsdatumVastOntslag397=\"\",\"\",Data_BeeindigingsdatumVastOntslag397)","v":""},null,null,{"$f":"IF(Data_LoonkostenVastOntslag397=\"\",\"\",Data_LoonkostenVastOntslag397)","v":""},null,{"$f":"IF(Data_PersoonAanUitVastOntslag397=-1,\"v\",\"\")","v":""},null,"v",null,null,null,null,0,0]
[null,null,null,null,null,null,null,{"$f":"IF(Data_NaamPersoonNatVerloop398=\"\",\"\",Data_NaamPersoonNatVerloop398)","v":""},null,null,{"$f":"IF(Data_BeeindigingsdatumNatVerloop398=\"\",\"\",Data_BeeindigingsdatumNatVerloop398)","v":""},null,null,{"$f":"IF(Data_LoonkostenNatVerloop398=\"\",\"\",Data_LoonkostenNatVerloop398)","v":""},null,"v",null,"v",null,null,null,null,0,"",null,null,null,null,null,null,null,null,{"$f":"IF(Data_NaamPersoonTijd398=\"\",\"\",Data_NaamPersoonTijd398)","v":""},null,null,{"$f":"IF(Data_BeeindigingsdatumTijd398=\"\",\"\",Data_BeeindigingsdatumTijd398)","v":""},null,null,{"$f":"IF(Data_LoonkostenTijd398=\"\",\"\",Data_LoonkostenTijd398)","v":""},null,{"$f":"IF(Data_PersoonAanUitTijd398=-1,\"v\",\"\")","v":""},null,"v",null,null,null,null,0,0,null,null,null,{"$f":"IF(Data_NaamPersoonVastVrij398=\"\",\"\",Data_NaamPersoonVastVrij398)","v":""},null,null,{"$f":"IF(Data_BeeindigingsdatumVastVrij398=\"\",\"\",Data_BeeindigingsdatumVastVrij398)","v":""},null,null,{"$f":"IF(Data_LoonkostenVastVrij398=\"\",\"\",Data_LoonkostenVastVrij398)","v":""},null,{"$f":"IF(Data_PersoonAanUitVastVrij398=-1,\"v\",\"\")","v":""},null,"v",null,null,null,null,0,0,null,{"$f":"IF(Data_NaamPersoonVastOntslag398=\"\",\"\",Data_NaamPersoonVastOntslag398)","v":""},null,null,{"$f":"IF(Data_BeeindigingsdatumVastOntslag398=\"\",\"\",Data_BeeindigingsdatumVastOntslag398)","v":""},null,null,{"$f":"IF(Data_LoonkostenVastOntslag398=\"\",\"\",Data_LoonkostenVastOntslag398)","v":""},null,{"$f":"IF(Data_PersoonAanUitVastOntslag398=-1,\"v\",\"\")","v":""},null,"v",null,null,null,null,0,0]
[null,null,null,null,null,null,null,{"$f":"IF(Data_NaamPersoonNatVerloop399=\"\",\"\",Data_NaamPersoonNatVerloop399)","v":""},null,null,{"$f":"IF(Data_BeeindigingsdatumNatVerloop399=\"\",\"\",Data_BeeindigingsdatumNatVerloop399)","v":""},null,null,{"$f":"IF(Data_LoonkostenNatVerloop399=\"\",\"\",Data_LoonkostenNatVerloop399)","v":""},null,"v",null,"v",null,null,null,null,0,"",null,null,null,null,null,null,null,null,{"$f":"IF(Data_NaamPersoonTijd399=\"\",\"\",Data_NaamPersoonTijd399)","v":""},null,null,{"$f":"IF(Data_BeeindigingsdatumTijd399=\"\",\"\",Data_BeeindigingsdatumTijd399)","v":""},null,null,{"$f":"IF(Data_LoonkostenTijd399=\"\",\"\",Data_LoonkostenTijd399)","v":""},null,{"$f":"IF(Data_PersoonAanUitTijd399=-1,\"v\",\"\")","v":""},null,"v",null,null,null,null,0,0,null,null,null,{"$f":"IF(Data_NaamPersoonVastVrij399=\"\",\"\",Data_NaamPersoonVastVrij399)","v":""},null,null,{"$f":"IF(Data_BeeindigingsdatumVastVrij399=\"\",\"\",Data_BeeindigingsdatumVastVrij399)","v":""},null,null,{"$f":"IF(Data_LoonkostenVastVrij399=\"\",\"\",Data_LoonkostenVastVrij399)","v":""},null,{"$f":"IF(Data_PersoonAanUitVastVrij399=-1,\"v\",\"\")","v":""},null,"v",null,null,null,null,0,0,null,{"$f":"IF(Data_NaamPersoonVastOntslag399=\"\",\"\",Data_NaamPersoonVastOntslag399)","v":""},null,null,{"$f":"IF(Data_BeeindigingsdatumVastOntslag399=\"\",\"\",Data_BeeindigingsdatumVastOntslag399)","v":""},null,null,{"$f":"IF(Data_LoonkostenVastOntslag399=\"\",\"\",Data_LoonkostenVastOntslag399)","v":""},null,{"$f":"IF(Data_PersoonAanUitVastOntslag399=-1,\"v\",\"\")","v":""},null,"v",null,null,null,null,0,0]
[null,null,null,null,null,null,null,{"$f":"IF(Data_NaamPersoonNatVerloop400=\"\",\"\",Data_NaamPersoonNatVerloop400)","v":""},null,null,{"$f":"IF(Data_BeeindigingsdatumNatVerloop400=\"\",\"\",Data_BeeindigingsdatumNatVerloop400)","v":""},null,null,{"$f":"IF(Data_LoonkostenNatVerloop400=\"\",\"\",Data_LoonkostenNatVerloop400)","v":""},null,"v",null,"v",null,null,null,null,0,"",null,null,null,null,null,null,null,null,{"$f":"IF(Data_NaamPersoonTijd400=\"\",\"\",Data_NaamPersoonTijd400)","v":""},null,null,{"$f":"IF(Data_BeeindigingsdatumTijd400=\"\",\"\",Data_BeeindigingsdatumTijd400)","v":""},null,null,{"$f":"IF(Data_LoonkostenTijd400=\"\",\"\",Data_LoonkostenTijd400)","v":""},null,{"$f":"IF(Data_PersoonAanUitTijd400=-1,\"v\",\"\")","v":""},null,"v",null,null,null,null,0,0,null,null,null,{"$f":"IF(Data_NaamPersoonVastVrij400=\"\",\"\",Data_NaamPersoonVastVrij400)","v":""},null,null,{"$f":"IF(Data_BeeindigingsdatumVastVrij400=\"\",\"\",Data_BeeindigingsdatumVastVrij400)","v":""},null,null,{"$f":"IF(Data_LoonkostenVastVrij400=\"\",\"\",Data_LoonkostenVastVrij400)","v":""},null,{"$f":"IF(Data_PersoonAanUitVastVrij400=-1,\"v\",\"\")","v":""},null,"v",null,null,null,null,0,0,null,{"$f":"IF(Data_NaamPersoonVastOntslag400=\"\",\"\",Data_NaamPersoonVastOntslag400)","v":""},null,null,{"$f":"IF(Data_BeeindigingsdatumVastOntslag400=\"\",\"\",Data_BeeindigingsdatumVastOntslag400)","v":""},null,null,{"$f":"IF(Data_LoonkostenVastOntslag400=\"\",\"\",Data_LoonkostenVastOntslag400)","v":""},null,{"$f":"IF(Data_PersoonAanUitVastOntslag400=-1,\"v\",\"\")","v":""},null,"v",null,null,null,null,0,0]
[null,null,null,null,null,null,null,{"$f":"IF(Data_NaamPersoonNatVerloop401=\"\",\"\",Data_NaamPersoonNatVerloop401)","v":""},null,null,{"$f":"IF(Data_BeeindigingsdatumNatVerloop401=\"\",\"\",Data_BeeindigingsdatumNatVerloop401)","v":""},null,null,{"$f":"IF(Data_LoonkostenNatVerloop401=\"\",\"\",Data_LoonkostenNatVerloop401)","v":""},null,"v",null,"v",null,null,null,null,0,"",null,null,null,null,null,null,null,null,{"$f":"IF(Data_NaamPersoonTijd401=\"\",\"\",Data_NaamPersoonTijd401)","v":""},null,null,{"$f":"IF(Data_BeeindigingsdatumTijd401=\"\",\"\",Data_BeeindigingsdatumTijd401)","v":""},null,null,{"$f":"IF(Data_LoonkostenTijd401=\"\",\"\",Data_LoonkostenTijd401)","v":""},null,{"$f":"IF(Data_PersoonAanUitTijd401=-1,\"v\",\"\")","v":""},null,"v",null,null,null,null,0,0,null,null,null,{"$f":"IF(Data_NaamPersoonVastVrij401=\"\",\"\",Data_NaamPersoonVastVrij401)","v":""},null,null,{"$f":"IF(Data_BeeindigingsdatumVastVrij401=\"\",\"\",Data_BeeindigingsdatumVastVrij401)","v":""},null,null,{"$f":"IF(Data_LoonkostenVastVrij401=\"\",\"\",Data_LoonkostenVastVrij401)","v":""},null,{"$f":"IF(Data_PersoonAanUitVastVrij401=-1,\"v\",\"\")","v":""},null,"v",null,null,null,null,0,0,null,{"$f":"IF(Data_NaamPersoonVastOntslag401=\"\",\"\",Data_NaamPersoonVastOntslag401)","v":""},null,null,{"$f":"IF(Data_BeeindigingsdatumVastOntslag401=\"\",\"\",Data_BeeindigingsdatumVastOntslag401)","v":""},null,null,{"$f":"IF(Data_LoonkostenVastOntslag401=\"\",\"\",Data_LoonkostenVastOntslag401)","v":""},null,{"$f":"IF(Data_PersoonAanUitVastOntslag401=-1,\"v\",\"\")","v":""},null,"v",null,null,null,null,0,0]
[null,null,null,null,null,null,null,{"$f":"IF(Data_NaamPersoonNatVerloop402=\"\",\"\",Data_NaamPersoonNatVerloop402)","v":""},null,null,{"$f":"IF(Data_BeeindigingsdatumNatVerloop402=\"\",\"\",Data_BeeindigingsdatumNatVerloop402)","v":""},null,null,{"$f":"IF(Data_LoonkostenNatVerloop402=\"\",\"\",Data_LoonkostenNatVerloop402)","v":""},null,"v",null,"v",null,null,null,null,0,"",null,null,null,null,null,null,null,null,{"$f":"IF(Data_NaamPersoonTijd402=\"\",\"\",Data_NaamPersoonTijd402)","v":""},null,null,{"$f":"IF(Data_BeeindigingsdatumTijd402=\"\",\"\",Data_BeeindigingsdatumTijd402)","v":""},null,null,{"$f":"IF(Data_LoonkostenTijd402=\"\",\"\",Data_LoonkostenTijd402)","v":""},null,{"$f":"IF(Data_PersoonAanUitTijd402=-1,\"v\",\"\")","v":""},null,"v",null,null,null,null,0,0,null,null,null,{"$f":"IF(Data_NaamPersoonVastVrij402=\"\",\"\",Data_NaamPersoonVastVrij402)","v":""},null,null,{"$f":"IF(Data_BeeindigingsdatumVastVrij402=\"\",\"\",Data_BeeindigingsdatumVastVrij402)","v":""},null,null,{"$f":"IF(Data_LoonkostenVastVrij402=\"\",\"\",Data_LoonkostenVastVrij402)","v":""},null,{"$f":"IF(Data_PersoonAanUitVastVrij402=-1,\"v\",\"\")","v":""},null,"v",null,null,null,null,0,0,null,{"$f":"IF(Data_NaamPersoonVastOntslag402=\"\",\"\",Data_NaamPersoonVastOntslag402)","v":""},null,null,{"$f":"IF(Data_BeeindigingsdatumVastOntslag402=\"\",\"\",Data_BeeindigingsdatumVastOntslag402)","v":""},null,null,{"$f":"IF(Data_LoonkostenVastOntslag402=\"\",\"\",Data_LoonkostenVastOntslag402)","v":""},null,{"$f":"IF(Data_PersoonAanUitVastOntslag402=-1,\"v\",\"\")","v":""},null,"v",null,null,null,null,0,0]
[null,null,null,null,null,null,null,{"$f":"IF(Data_NaamPersoonNatVerloop403=\"\",\"\",Data_NaamPersoonNatVerloop403)","v":""},null,null,{"$f":"IF(Data_BeeindigingsdatumNatVerloop403=\"\",\"\",Data_BeeindigingsdatumNatVerloop403)","v":""},null,null,{"$f":"IF(Data_LoonkostenNatVerloop403=\"\",\"\",Data_LoonkostenNatVerloop403)","v":""},null,"v",null,"v",null,null,null,null,0,"",null,null,null,null,null,null,null,null,{"$f":"IF(Data_NaamPersoonTijd403=\"\",\"\",Data_NaamPersoonTijd403)","v":""},null,null,{"$f":"IF(Data_BeeindigingsdatumTijd403=\"\",\"\",Data_BeeindigingsdatumTijd403)","v":""},null,null,{"$f":"IF(Data_LoonkostenTijd403=\"\",\"\",Data_LoonkostenTijd403)","v":""},null,{"$f":"IF(Data_PersoonAanUitTijd403=-1,\"v\",\"\")","v":""},null,"v",null,null,null,null,0,0,null,null,null,{"$f":"IF(Data_NaamPersoonVastVrij403=\"\",\"\",Data_NaamPersoonVastVrij403)","v":""},null,null,{"$f":"IF(Data_BeeindigingsdatumVastVrij403=\"\",\"\",Data_BeeindigingsdatumVastVrij403)","v":""},null,null,{"$f":"IF(Data_LoonkostenVastVrij403=\"\",\"\",Data_LoonkostenVastVrij403)","v":""},null,{"$f":"IF(Data_PersoonAanUitVastVrij403=-1,\"v\",\"\")","v":""},null,"v",null,null,null,null,0,0,null,{"$f":"IF(Data_NaamPersoonVastOntslag403=\"\",\"\",Data_NaamPersoonVastOntslag403)","v":""},null,null,{"$f":"IF(Data_BeeindigingsdatumVastOntslag403=\"\",\"\",Data_BeeindigingsdatumVastOntslag403)","v":""},null,null,{"$f":"IF(Data_LoonkostenVastOntslag403=\"\",\"\",Data_LoonkostenVastOntslag403)","v":""},null,{"$f":"IF(Data_PersoonAanUitVastOntslag403=-1,\"v\",\"\")","v":""},null,"v",null,null,null,null,0,0]
[null,null,null,null,null,null,null,{"$f":"IF(Data_NaamPersoonNatVerloop404=\"\",\"\",Data_NaamPersoonNatVerloop404)","v":""},null,null,{"$f":"IF(Data_BeeindigingsdatumNatVerloop404=\"\",\"\",Data_BeeindigingsdatumNatVerloop404)","v":""},null,null,{"$f":"IF(Data_LoonkostenNatVerloop404=\"\",\"\",Data_LoonkostenNatVerloop404)","v":""},null,"v",null,"v",null,null,null,null,0,"",null,null,null,null,null,null,null,null,{"$f":"IF(Data_NaamPersoonTijd404=\"\",\"\",Data_NaamPersoonTijd404)","v":""},null,null,{"$f":"IF(Data_BeeindigingsdatumTijd404=\"\",\"\",Data_BeeindigingsdatumTijd404)","v":""},null,null,{"$f":"IF(Data_LoonkostenTijd404=\"\",\"\",Data_LoonkostenTijd404)","v":""},null,{"$f":"IF(Data_PersoonAanUitTijd404=-1,\"v\",\"\")","v":""},null,"v",null,null,null,null,0,0,null,null,null,{"$f":"IF(Data_NaamPersoonVastVrij404=\"\",\"\",Data_NaamPersoonVastVrij404)","v":""},null,null,{"$f":"IF(Data_BeeindigingsdatumVastVrij404=\"\",\"\",Data_BeeindigingsdatumVastVrij404)","v":""},null,null,{"$f":"IF(Data_LoonkostenVastVrij404=\"\",\"\",Data_LoonkostenVastVrij404)","v":""},null,{"$f":"IF(Data_PersoonAanUitVastVrij404=-1,\"v\",\"\")","v":""},null,"v",null,null,null,null,0,0,null,{"$f":"IF(Data_NaamPersoonVastOntslag404=\"\",\"\",Data_NaamPersoonVastOntslag404)","v":""},null,null,{"$f":"IF(Data_BeeindigingsdatumVastOntslag404=\"\",\"\",Data_BeeindigingsdatumVastOntslag404)","v":""},null,null,{"$f":"IF(Data_LoonkostenVastOntslag404=\"\",\"\",Data_LoonkostenVastOntslag404)","v":""},null,{"$f":"IF(Data_PersoonAanUitVastOntslag404=-1,\"v\",\"\")","v":""},null,"v",null,null,null,null,0,0]
[null,null,null,null,null,null,null,{"$f":"IF(Data_NaamPersoonNatVerloop405=\"\",\"\",Data_NaamPersoonNatVerloop405)","v":""},null,null,{"$f":"IF(Data_BeeindigingsdatumNatVerloop405=\"\",\"\",Data_BeeindigingsdatumNatVerloop405)","v":""},null,null,{"$f":"IF(Data_LoonkostenNatVerloop405=\"\",\"\",Data_LoonkostenNatVerloop405)","v":""},null,"v",null,"v",null,null,null,null,0,"",null,null,null,null,null,null,null,null,{"$f":"IF(Data_NaamPersoonTijd405=\"\",\"\",Data_NaamPersoonTijd405)","v":""},null,null,{"$f":"IF(Data_BeeindigingsdatumTijd405=\"\",\"\",Data_BeeindigingsdatumTijd405)","v":""},null,null,{"$f":"IF(Data_LoonkostenTijd405=\"\",\"\",Data_LoonkostenTijd405)","v":""},null,{"$f":"IF(Data_PersoonAanUitTijd405=-1,\"v\",\"\")","v":""},null,"v",null,null,null,null,0,0,null,null,null,{"$f":"IF(Data_NaamPersoonVastVrij405=\"\",\"\",Data_NaamPersoonVastVrij405)","v":""},null,null,{"$f":"IF(Data_BeeindigingsdatumVastVrij405=\"\",\"\",Data_BeeindigingsdatumVastVrij405)","v":""},null,null,{"$f":"IF(Data_LoonkostenVastVrij405=\"\",\"\",Data_LoonkostenVastVrij405)","v":""},null,{"$f":"IF(Data_PersoonAanUitVastVrij405=-1,\"v\",\"\")","v":""},null,"v",null,null,null,null,0,0,null,{"$f":"IF(Data_NaamPersoonVastOntslag405=\"\",\"\",Data_NaamPersoonVastOntslag405)","v":""},null,null,{"$f":"IF(Data_BeeindigingsdatumVastOntslag405=\"\",\"\",Data_BeeindigingsdatumVastOntslag405)","v":""},null,null,{"$f":"IF(Data_LoonkostenVastOntslag405=\"\",\"\",Data_LoonkostenVastOntslag405)","v":""},null,{"$f":"IF(Data_PersoonAanUitVastOntslag405=-1,\"v\",\"\")","v":""},null,"v",null,null,null,null,0,0]
[null,null,null,null,null,null,null,{"$f":"IF(Data_NaamPersoonNatVerloop406=\"\",\"\",Data_NaamPersoonNatVerloop406)","v":""},null,null,{"$f":"IF(Data_BeeindigingsdatumNatVerloop406=\"\",\"\",Data_BeeindigingsdatumNatVerloop406)","v":""},null,null,{"$f":"IF(Data_LoonkostenNatVerloop406=\"\",\"\",Data_LoonkostenNatVerloop406)","v":""},null,"v",null,"v",null,null,null,null,0,"",null,null,null,null,null,null,null,null,{"$f":"IF(Data_NaamPersoonTijd406=\"\",\"\",Data_NaamPersoonTijd406)","v":""},null,null,{"$f":"IF(Data_BeeindigingsdatumTijd406=\"\",\"\",Data_BeeindigingsdatumTijd406)","v":""},null,null,{"$f":"IF(Data_LoonkostenTijd406=\"\",\"\",Data_LoonkostenTijd406)","v":""},null,{"$f":"IF(Data_PersoonAanUitTijd406=-1,\"v\",\"\")","v":""},null,"v",null,null,null,null,0,0,null,null,null,{"$f":"IF(Data_NaamPersoonVastVrij406=\"\",\"\",Data_NaamPersoonVastVrij406)","v":""},null,null,{"$f":"IF(Data_BeeindigingsdatumVastVrij406=\"\",\"\",Data_BeeindigingsdatumVastVrij406)","v":""},null,null,{"$f":"IF(Data_LoonkostenVastVrij406=\"\",\"\",Data_LoonkostenVastVrij406)","v":""},null,{"$f":"IF(Data_PersoonAanUitVastVrij406=-1,\"v\",\"\")","v":""},null,"v",null,null,null,null,0,0,null,{"$f":"IF(Data_NaamPersoonVastOntslag406=\"\",\"\",Data_NaamPersoonVastOntslag406)","v":""},null,null,{"$f":"IF(Data_BeeindigingsdatumVastOntslag406=\"\",\"\",Data_BeeindigingsdatumVastOntslag406)","v":""},null,null,{"$f":"IF(Data_LoonkostenVastOntslag406=\"\",\"\",Data_LoonkostenVastOntslag406)","v":""},null,{"$f":"IF(Data_PersoonAanUitVastOntslag406=-1,\"v\",\"\")","v":""},null,"v",null,null,null,null,0,0]
[null,null,null,null,null,null,null,{"$f":"IF(Data_NaamPersoonNatVerloop407=\"\",\"\",Data_NaamPersoonNatVerloop407)","v":""},null,null,{"$f":"IF(Data_BeeindigingsdatumNatVerloop407=\"\",\"\",Data_BeeindigingsdatumNatVerloop407)","v":""},null,null,{"$f":"IF(Data_LoonkostenNatVerloop407=\"\",\"\",Data_LoonkostenNatVerloop407)","v":""},null,"v",null,"v",null,null,null,null,0,"",null,null,null,null,null,null,null,null,{"$f":"IF(Data_NaamPersoonTijd407=\"\",\"\",Data_NaamPersoonTijd407)","v":""},null,null,{"$f":"IF(Data_BeeindigingsdatumTijd407=\"\",\"\",Data_BeeindigingsdatumTijd407)","v":""},null,null,{"$f":"IF(Data_LoonkostenTijd407=\"\",\"\",Data_LoonkostenTijd407)","v":""},null,{"$f":"IF(Data_PersoonAanUitTijd407=-1,\"v\",\"\")","v":""},null,"v",null,null,null,null,0,0,null,null,null,{"$f":"IF(Data_NaamPersoonVastVrij407=\"\",\"\",Data_NaamPersoonVastVrij407)","v":""},null,null,{"$f":"IF(Data_BeeindigingsdatumVastVrij407=\"\",\"\",Data_BeeindigingsdatumVastVrij407)","v":""},null,null,{"$f":"IF(Data_LoonkostenVastVrij407=\"\",\"\",Data_LoonkostenVastVrij407)","v":""},null,{"$f":"IF(Data_PersoonAanUitVastVrij407=-1,\"v\",\"\")","v":""},null,"v",null,null,null,null,0,0,null,{"$f":"IF(Data_NaamPersoonVastOntslag407=\"\",\"\",Data_NaamPersoonVastOntslag407)","v":""},null,null,{"$f":"IF(Data_BeeindigingsdatumVastOntslag407=\"\",\"\",Data_BeeindigingsdatumVastOntslag407)","v":""},null,null,{"$f":"IF(Data_LoonkostenVastOntslag407=\"\",\"\",Data_LoonkostenVastOntslag407)","v":""},null,{"$f":"IF(Data_PersoonAanUitVastOntslag407=-1,\"v\",\"\")","v":""},null,"v",null,null,null,null,0,0]
[null,null,null,null,null,null,null,{"$f":"IF(Data_NaamPersoonNatVerloop408=\"\",\"\",Data_NaamPersoonNatVerloop408)","v":""},null,null,{"$f":"IF(Data_BeeindigingsdatumNatVerloop408=\"\",\"\",Data_BeeindigingsdatumNatVerloop408)","v":""},null,null,{"$f":"IF(Data_LoonkostenNatVerloop408=\"\",\"\",Data_LoonkostenNatVerloop408)","v":""},null,"v",null,"v",null,null,null,null,0,"",null,null,null,null,null,null,null,null,{"$f":"IF(Data_NaamPersoonTijd408=\"\",\"\",Data_NaamPersoonTijd408)","v":""},null,null,{"$f":"IF(Data_BeeindigingsdatumTijd408=\"\",\"\",Data_BeeindigingsdatumTijd408)","v":""},null,null,{"$f":"IF(Data_LoonkostenTijd408=\"\",\"\",Data_LoonkostenTijd408)","v":""},null,{"$f":"IF(Data_PersoonAanUitTijd408=-1,\"v\",\"\")","v":""},null,"v",null,null,null,null,0,0,null,null,null,{"$f":"IF(Data_NaamPersoonVastVrij408=\"\",\"\",Data_NaamPersoonVastVrij408)","v":""},null,null,{"$f":"IF(Data_BeeindigingsdatumVastVrij408=\"\",\"\",Data_BeeindigingsdatumVastVrij408)","v":""},null,null,{"$f":"IF(Data_LoonkostenVastVrij408=\"\",\"\",Data_LoonkostenVastVrij408)","v":""},null,{"$f":"IF(Data_PersoonAanUitVastVrij408=-1,\"v\",\"\")","v":""},null,"v",null,null,null,null,0,0,null,{"$f":"IF(Data_NaamPersoonVastOntslag408=\"\",\"\",Data_NaamPersoonVastOntslag408)","v":""},null,null,{"$f":"IF(Data_BeeindigingsdatumVastOntslag408=\"\",\"\",Data_BeeindigingsdatumVastOntslag408)","v":""},null,null,{"$f":"IF(Data_LoonkostenVastOntslag408=\"\",\"\",Data_LoonkostenVastOntslag408)","v":""},null,{"$f":"IF(Data_PersoonAanUitVastOntslag408=-1,\"v\",\"\")","v":""},null,"v",null,null,null,null,0,0]
[null,null,null,null,null,null,null,{"$f":"IF(Data_NaamPersoonNatVerloop409=\"\",\"\",Data_NaamPersoonNatVerloop409)","v":""},null,null,{"$f":"IF(Data_BeeindigingsdatumNatVerloop409=\"\",\"\",Data_BeeindigingsdatumNatVerloop409)","v":""},null,null,{"$f":"IF(Data_LoonkostenNatVerloop409=\"\",\"\",Data_LoonkostenNatVerloop409)","v":""},null,"v",null,"v",null,null,null,null,0,"",null,null,null,null,null,null,null,null,{"$f":"IF(Data_NaamPersoonTijd409=\"\",\"\",Data_NaamPersoonTijd409)","v":""},null,null,{"$f":"IF(Data_BeeindigingsdatumTijd409=\"\",\"\",Data_BeeindigingsdatumTijd409)","v":""},null,null,{"$f":"IF(Data_LoonkostenTijd409=\"\",\"\",Data_LoonkostenTijd409)","v":""},null,{"$f":"IF(Data_PersoonAanUitTijd409=-1,\"v\",\"\")","v":""},null,"v",null,null,null,null,0,0,null,null,null,{"$f":"IF(Data_NaamPersoonVastVrij409=\"\",\"\",Data_NaamPersoonVastVrij409)","v":""},null,null,{"$f":"IF(Data_BeeindigingsdatumVastVrij409=\"\",\"\",Data_BeeindigingsdatumVastVrij409)","v":""},null,null,{"$f":"IF(Data_LoonkostenVastVrij409=\"\",\"\",Data_LoonkostenVastVrij409)","v":""},null,{"$f":"IF(Data_PersoonAanUitVastVrij409=-1,\"v\",\"\")","v":""},null,"v",null,null,null,null,0,0,null,{"$f":"IF(Data_NaamPersoonVastOntslag409=\"\",\"\",Data_NaamPersoonVastOntslag409)","v":""},null,null,{"$f":"IF(Data_BeeindigingsdatumVastOntslag409=\"\",\"\",Data_BeeindigingsdatumVastOntslag409)","v":""},null,null,{"$f":"IF(Data_LoonkostenVastOntslag409=\"\",\"\",Data_LoonkostenVastOntslag409)","v":""},null,{"$f":"IF(Data_PersoonAanUitVastOntslag409=-1,\"v\",\"\")","v":""},null,"v",null,null,null,null,0,0]
[null,null,null,null,null,null,null,{"$f":"IF(Data_NaamPersoonNatVerloop410=\"\",\"\",Data_NaamPersoonNatVerloop410)","v":""},null,null,{"$f":"IF(Data_BeeindigingsdatumNatVerloop410=\"\",\"\",Data_BeeindigingsdatumNatVerloop410)","v":""},null,null,{"$f":"IF(Data_LoonkostenNatVerloop410=\"\",\"\",Data_LoonkostenNatVerloop410)","v":""},null,"v",null,"v",null,null,null,null,0,"",null,null,null,null,null,null,null,null,{"$f":"IF(Data_NaamPersoonTijd410=\"\",\"\",Data_NaamPersoonTijd410)","v":""},null,null,{"$f":"IF(Data_BeeindigingsdatumTijd410=\"\",\"\",Data_BeeindigingsdatumTijd410)","v":""},null,null,{"$f":"IF(Data_LoonkostenTijd410=\"\",\"\",Data_LoonkostenTijd410)","v":""},null,{"$f":"IF(Data_PersoonAanUitTijd410=-1,\"v\",\"\")","v":""},null,"v",null,null,null,null,0,0,null,null,null,{"$f":"IF(Data_NaamPersoonVastVrij410=\"\",\"\",Data_NaamPersoonVastVrij410)","v":""},null,null,{"$f":"IF(Data_BeeindigingsdatumVastVrij410=\"\",\"\",Data_BeeindigingsdatumVastVrij410)","v":""},null,null,{"$f":"IF(Data_LoonkostenVastVrij410=\"\",\"\",Data_LoonkostenVastVrij410)","v":""},null,{"$f":"IF(Data_PersoonAanUitVastVrij410=-1,\"v\",\"\")","v":""},null,"v",null,null,null,null,0,0,null,{"$f":"IF(Data_NaamPersoonVastOntslag410=\"\",\"\",Data_NaamPersoonVastOntslag410)","v":""},null,null,{"$f":"IF(Data_BeeindigingsdatumVastOntslag410=\"\",\"\",Data_BeeindigingsdatumVastOntslag410)","v":""},null,null,{"$f":"IF(Data_LoonkostenVastOntslag410=\"\",\"\",Data_LoonkostenVastOntslag410)","v":""},null,{"$f":"IF(Data_PersoonAanUitVastOntslag410=-1,\"v\",\"\")","v":""},null,"v",null,null,null,null,0,0]
[null,null,null,null,null,null,null,{"$f":"IF(Data_NaamPersoonNatVerloop411=\"\",\"\",Data_NaamPersoonNatVerloop411)","v":""},null,null,{"$f":"IF(Data_BeeindigingsdatumNatVerloop411=\"\",\"\",Data_BeeindigingsdatumNatVerloop411)","v":""},null,null,{"$f":"IF(Data_LoonkostenNatVerloop411=\"\",\"\",Data_LoonkostenNatVerloop411)","v":""},null,"v",null,"v",null,null,null,null,0,"",null,null,null,null,null,null,null,null,{"$f":"IF(Data_NaamPersoonTijd411=\"\",\"\",Data_NaamPersoonTijd411)","v":""},null,null,{"$f":"IF(Data_BeeindigingsdatumTijd411=\"\",\"\",Data_BeeindigingsdatumTijd411)","v":""},null,null,{"$f":"IF(Data_LoonkostenTijd411=\"\",\"\",Data_LoonkostenTijd411)","v":""},null,{"$f":"IF(Data_PersoonAanUitTijd411=-1,\"v\",\"\")","v":""},null,"v",null,null,null,null,0,0,null,null,null,{"$f":"IF(Data_NaamPersoonVastVrij411=\"\",\"\",Data_NaamPersoonVastVrij411)","v":""},null,null,{"$f":"IF(Data_BeeindigingsdatumVastVrij411=\"\",\"\",Data_BeeindigingsdatumVastVrij411)","v":""},null,null,{"$f":"IF(Data_LoonkostenVastVrij411=\"\",\"\",Data_LoonkostenVastVrij411)","v":""},null,{"$f":"IF(Data_PersoonAanUitVastVrij411=-1,\"v\",\"\")","v":""},null,"v",null,null,null,null,0,0,null,{"$f":"IF(Data_NaamPersoonVastOntslag411=\"\",\"\",Data_NaamPersoonVastOntslag411)","v":""},null,null,{"$f":"IF(Data_BeeindigingsdatumVastOntslag411=\"\",\"\",Data_BeeindigingsdatumVastOntslag411)","v":""},null,null,{"$f":"IF(Data_LoonkostenVastOntslag411=\"\",\"\",Data_LoonkostenVastOntslag411)","v":""},null,{"$f":"IF(Data_PersoonAanUitVastOntslag411=-1,\"v\",\"\")","v":""},null,"v",null,null,null,null,0,0]
[null,null,null,null,null,null,null,{"$f":"IF(Data_NaamPersoonNatVerloop412=\"\",\"\",Data_NaamPersoonNatVerloop412)","v":""},null,null,{"$f":"IF(Data_BeeindigingsdatumNatVerloop412=\"\",\"\",Data_BeeindigingsdatumNatVerloop412)","v":""},null,null,{"$f":"IF(Data_LoonkostenNatVerloop412=\"\",\"\",Data_LoonkostenNatVerloop412)","v":""},null,"v",null,"v",null,null,null,null,0,"",null,null,null,null,null,null,null,null,{"$f":"IF(Data_NaamPersoonTijd412=\"\",\"\",Data_NaamPersoonTijd412)","v":""},null,null,{"$f":"IF(Data_BeeindigingsdatumTijd412=\"\",\"\",Data_BeeindigingsdatumTijd412)","v":""},null,null,{"$f":"IF(Data_LoonkostenTijd412=\"\",\"\",Data_LoonkostenTijd412)","v":""},null,{"$f":"IF(Data_PersoonAanUitTijd412=-1,\"v\",\"\")","v":""},null,"v",null,null,null,null,0,0,null,null,null,{"$f":"IF(Data_NaamPersoonVastVrij412=\"\",\"\",Data_NaamPersoonVastVrij412)","v":""},null,null,{"$f":"IF(Data_BeeindigingsdatumVastVrij412=\"\",\"\",Data_BeeindigingsdatumVastVrij412)","v":""},null,null,{"$f":"IF(Data_LoonkostenVastVrij412=\"\",\"\",Data_LoonkostenVastVrij412)","v":""},null,{"$f":"IF(Data_PersoonAanUitVastVrij412=-1,\"v\",\"\")","v":""},null,"v",null,null,null,null,0,0,null,{"$f":"IF(Data_NaamPersoonVastOntslag412=\"\",\"\",Data_NaamPersoonVastOntslag412)","v":""},null,null,{"$f":"IF(Data_BeeindigingsdatumVastOntslag412=\"\",\"\",Data_BeeindigingsdatumVastOntslag412)","v":""},null,null,{"$f":"IF(Data_LoonkostenVastOntslag412=\"\",\"\",Data_LoonkostenVastOntslag412)","v":""},null,{"$f":"IF(Data_PersoonAanUitVastOntslag412=-1,\"v\",\"\")","v":""},null,"v",null,null,null,null,0,0]
[null,null,null,null,null,null,null,{"$f":"IF(Data_NaamPersoonNatVerloop413=\"\",\"\",Data_NaamPersoonNatVerloop413)","v":""},null,null,{"$f":"IF(Data_BeeindigingsdatumNatVerloop413=\"\",\"\",Data_BeeindigingsdatumNatVerloop413)","v":""},null,null,{"$f":"IF(Data_LoonkostenNatVerloop413=\"\",\"\",Data_LoonkostenNatVerloop413)","v":""},null,"v",null,"v",null,null,null,null,0,"",null,null,null,null,null,null,null,null,{"$f":"IF(Data_NaamPersoonTijd413=\"\",\"\",Data_NaamPersoonTijd413)","v":""},null,null,{"$f":"IF(Data_BeeindigingsdatumTijd413=\"\",\"\",Data_BeeindigingsdatumTijd413)","v":""},null,null,{"$f":"IF(Data_LoonkostenTijd413=\"\",\"\",Data_LoonkostenTijd413)","v":""},null,{"$f":"IF(Data_PersoonAanUitTijd413=-1,\"v\",\"\")","v":""},null,"v",null,null,null,null,0,0,null,null,null,{"$f":"IF(Data_NaamPersoonVastVrij413=\"\",\"\",Data_NaamPersoonVastVrij413)","v":""},null,null,{"$f":"IF(Data_BeeindigingsdatumVastVrij413=\"\",\"\",Data_BeeindigingsdatumVastVrij413)","v":""},null,null,{"$f":"IF(Data_LoonkostenVastVrij413=\"\",\"\",Data_LoonkostenVastVrij413)","v":""},null,{"$f":"IF(Data_PersoonAanUitVastVrij413=-1,\"v\",\"\")","v":""},null,"v",null,null,null,null,0,0,null,{"$f":"IF(Data_NaamPersoonVastOntslag413=\"\",\"\",Data_NaamPersoonVastOntslag413)","v":""},null,null,{"$f":"IF(Data_BeeindigingsdatumVastOntslag413=\"\",\"\",Data_BeeindigingsdatumVastOntslag413)","v":""},null,null,{"$f":"IF(Data_LoonkostenVastOntslag413=\"\",\"\",Data_LoonkostenVastOntslag413)","v":""},null,{"$f":"IF(Data_PersoonAanUitVastOntslag413=-1,\"v\",\"\")","v":""},null,"v",null,null,null,null,0,0]
[null,null,null,null,null,null,null,{"$f":"IF(Data_NaamPersoonNatVerloop414=\"\",\"\",Data_NaamPersoonNatVerloop414)","v":""},null,null,{"$f":"IF(Data_BeeindigingsdatumNatVerloop414=\"\",\"\",Data_BeeindigingsdatumNatVerloop414)","v":""},null,null,{"$f":"IF(Data_LoonkostenNatVerloop414=\"\",\"\",Data_LoonkostenNatVerloop414)","v":""},null,"v",null,"v",null,null,null,null,0,"",null,null,null,null,null,null,null,null,{"$f":"IF(Data_NaamPersoonTijd414=\"\",\"\",Data_NaamPersoonTijd414)","v":""},null,null,{"$f":"IF(Data_BeeindigingsdatumTijd414=\"\",\"\",Data_BeeindigingsdatumTijd414)","v":""},null,null,{"$f":"IF(Data_LoonkostenTijd414=\"\",\"\",Data_LoonkostenTijd414)","v":""},null,{"$f":"IF(Data_PersoonAanUitTijd414=-1,\"v\",\"\")","v":""},null,"v",null,null,null,null,0,0,null,null,null,{"$f":"IF(Data_NaamPersoonVastVrij414=\"\",\"\",Data_NaamPersoonVastVrij414)","v":""},null,null,{"$f":"IF(Data_BeeindigingsdatumVastVrij414=\"\",\"\",Data_BeeindigingsdatumVastVrij414)","v":""},null,null,{"$f":"IF(Data_LoonkostenVastVrij414=\"\",\"\",Data_LoonkostenVastVrij414)","v":""},null,{"$f":"IF(Data_PersoonAanUitVastVrij414=-1,\"v\",\"\")","v":""},null,"v",null,null,null,null,0,0,null,{"$f":"IF(Data_NaamPersoonVastOntslag414=\"\",\"\",Data_NaamPersoonVastOntslag414)","v":""},null,null,{"$f":"IF(Data_BeeindigingsdatumVastOntslag414=\"\",\"\",Data_BeeindigingsdatumVastOntslag414)","v":""},null,null,{"$f":"IF(Data_LoonkostenVastOntslag414=\"\",\"\",Data_LoonkostenVastOntslag414)","v":""},null,{"$f":"IF(Data_PersoonAanUitVastOntslag414=-1,\"v\",\"\")","v":""},null,"v",null,null,null,null,0,0]
[null,null,null,null,null,null,null,{"$f":"IF(Data_NaamPersoonNatVerloop415=\"\",\"\",Data_NaamPersoonNatVerloop415)","v":""},null,null,{"$f":"IF(Data_BeeindigingsdatumNatVerloop415=\"\",\"\",Data_BeeindigingsdatumNatVerloop415)","v":""},null,null,{"$f":"IF(Data_LoonkostenNatVerloop415=\"\",\"\",Data_LoonkostenNatVerloop415)","v":""},null,"v",null,"v",null,null,null,null,0,"",null,null,null,null,null,null,null,null,{"$f":"IF(Data_NaamPersoonTijd415=\"\",\"\",Data_NaamPersoonTijd415)","v":""},null,null,{"$f":"IF(Data_BeeindigingsdatumTijd415=\"\",\"\",Data_BeeindigingsdatumTijd415)","v":""},null,null,{"$f":"IF(Data_LoonkostenTijd415=\"\",\"\",Data_LoonkostenTijd415)","v":""},null,{"$f":"IF(Data_PersoonAanUitTijd415=-1,\"v\",\"\")","v":""},null,"v",null,null,null,null,0,0,null,null,null,{"$f":"IF(Data_NaamPersoonVastVrij415=\"\",\"\",Data_NaamPersoonVastVrij415)","v":""},null,null,{"$f":"IF(Data_BeeindigingsdatumVastVrij415=\"\",\"\",Data_BeeindigingsdatumVastVrij415)","v":""},null,null,{"$f":"IF(Data_LoonkostenVastVrij415=\"\",\"\",Data_LoonkostenVastVrij415)","v":""},null,{"$f":"IF(Data_PersoonAanUitVastVrij415=-1,\"v\",\"\")","v":""},null,"v",null,null,null,null,0,0,null,{"$f":"IF(Data_NaamPersoonVastOntslag415=\"\",\"\",Data_NaamPersoonVastOntslag415)","v":""},null,null,{"$f":"IF(Data_BeeindigingsdatumVastOntslag415=\"\",\"\",Data_BeeindigingsdatumVastOntslag415)","v":""},null,null,{"$f":"IF(Data_LoonkostenVastOntslag415=\"\",\"\",Data_LoonkostenVastOntslag415)","v":""},null,{"$f":"IF(Data_PersoonAanUitVastOntslag415=-1,\"v\",\"\")","v":""},null,"v",null,null,null,null,0,0]
[null,null,null,null,null,null,null,{"$f":"IF(Data_NaamPersoonNatVerloop416=\"\",\"\",Data_NaamPersoonNatVerloop416)","v":""},null,null,{"$f":"IF(Data_BeeindigingsdatumNatVerloop416=\"\",\"\",Data_BeeindigingsdatumNatVerloop416)","v":""},null,null,{"$f":"IF(Data_LoonkostenNatVerloop416=\"\",\"\",Data_LoonkostenNatVerloop416)","v":""},null,"v",null,"v",null,null,null,null,0,"",null,null,null,null,null,null,null,null,{"$f":"IF(Data_NaamPersoonTijd416=\"\",\"\",Data_NaamPersoonTijd416)","v":""},null,null,{"$f":"IF(Data_BeeindigingsdatumTijd416=\"\",\"\",Data_BeeindigingsdatumTijd416)","v":""},null,null,{"$f":"IF(Data_LoonkostenTijd416=\"\",\"\",Data_LoonkostenTijd416)","v":""},null,{"$f":"IF(Data_PersoonAanUitTijd416=-1,\"v\",\"\")","v":""},null,"v",null,null,null,null,0,0,null,null,null,{"$f":"IF(Data_NaamPersoonVastVrij416=\"\",\"\",Data_NaamPersoonVastVrij416)","v":""},null,null,{"$f":"IF(Data_BeeindigingsdatumVastVrij416=\"\",\"\",Data_BeeindigingsdatumVastVrij416)","v":""},null,null,{"$f":"IF(Data_LoonkostenVastVrij416=\"\",\"\",Data_LoonkostenVastVrij416)","v":""},null,{"$f":"IF(Data_PersoonAanUitVastVrij416=-1,\"v\",\"\")","v":""},null,"v",null,null,null,null,0,0,null,{"$f":"IF(Data_NaamPersoonVastOntslag416=\"\",\"\",Data_NaamPersoonVastOntslag416)","v":""},null,null,{"$f":"IF(Data_BeeindigingsdatumVastOntslag416=\"\",\"\",Data_BeeindigingsdatumVastOntslag416)","v":""},null,null,{"$f":"IF(Data_LoonkostenVastOntslag416=\"\",\"\",Data_LoonkostenVastOntslag416)","v":""},null,{"$f":"IF(Data_PersoonAanUitVastOntslag416=-1,\"v\",\"\")","v":""},null,"v",null,null,null,null,0,0]
[null,null,null,null,null,null,null,{"$f":"IF(Data_NaamPersoonNatVerloop417=\"\",\"\",Data_NaamPersoonNatVerloop417)","v":""},null,null,{"$f":"IF(Data_BeeindigingsdatumNatVerloop417=\"\",\"\",Data_BeeindigingsdatumNatVerloop417)","v":""},null,null,{"$f":"IF(Data_LoonkostenNatVerloop417=\"\",\"\",Data_LoonkostenNatVerloop417)","v":""},null,"v",null,"v",null,null,null,null,0,"",null,null,null,null,null,null,null,null,{"$f":"IF(Data_NaamPersoonTijd417=\"\",\"\",Data_NaamPersoonTijd417)","v":""},null,null,{"$f":"IF(Data_BeeindigingsdatumTijd417=\"\",\"\",Data_BeeindigingsdatumTijd417)","v":""},null,null,{"$f":"IF(Data_LoonkostenTijd417=\"\",\"\",Data_LoonkostenTijd417)","v":""},null,{"$f":"IF(Data_PersoonAanUitTijd417=-1,\"v\",\"\")","v":""},null,"v",null,null,null,null,0,0,null,null,null,{"$f":"IF(Data_NaamPersoonVastVrij417=\"\",\"\",Data_NaamPersoonVastVrij417)","v":""},null,null,{"$f":"IF(Data_BeeindigingsdatumVastVrij417=\"\",\"\",Data_BeeindigingsdatumVastVrij417)","v":""},null,null,{"$f":"IF(Data_LoonkostenVastVrij417=\"\",\"\",Data_LoonkostenVastVrij417)","v":""},null,{"$f":"IF(Data_PersoonAanUitVastVrij417=-1,\"v\",\"\")","v":""},null,"v",null,null,null,null,0,0,null,{"$f":"IF(Data_NaamPersoonVastOntslag417=\"\",\"\",Data_NaamPersoonVastOntslag417)","v":""},null,null,{"$f":"IF(Data_BeeindigingsdatumVastOntslag417=\"\",\"\",Data_BeeindigingsdatumVastOntslag417)","v":""},null,null,{"$f":"IF(Data_LoonkostenVastOntslag417=\"\",\"\",Data_LoonkostenVastOntslag417)","v":""},null,{"$f":"IF(Data_PersoonAanUitVastOntslag417=-1,\"v\",\"\")","v":""},null,"v",null,null,null,null,0,0]
[null,null,null,null,null,null,null,{"$f":"IF(Data_NaamPersoonNatVerloop418=\"\",\"\",Data_NaamPersoonNatVerloop418)","v":""},null,null,{"$f":"IF(Data_BeeindigingsdatumNatVerloop418=\"\",\"\",Data_BeeindigingsdatumNatVerloop418)","v":""},null,null,{"$f":"IF(Data_LoonkostenNatVerloop418=\"\",\"\",Data_LoonkostenNatVerloop418)","v":""},null,"v",null,"v",null,null,null,null,0,"",null,null,null,null,null,null,null,null,{"$f":"IF(Data_NaamPersoonTijd418=\"\",\"\",Data_NaamPersoonTijd418)","v":""},null,null,{"$f":"IF(Data_BeeindigingsdatumTijd418=\"\",\"\",Data_BeeindigingsdatumTijd418)","v":""},null,null,{"$f":"IF(Data_LoonkostenTijd418=\"\",\"\",Data_LoonkostenTijd418)","v":""},null,{"$f":"IF(Data_PersoonAanUitTijd418=-1,\"v\",\"\")","v":""},null,"v",null,null,null,null,0,0,null,null,null,{"$f":"IF(Data_NaamPersoonVastVrij418=\"\",\"\",Data_NaamPersoonVastVrij418)","v":""},null,null,{"$f":"IF(Data_BeeindigingsdatumVastVrij418=\"\",\"\",Data_BeeindigingsdatumVastVrij418)","v":""},null,null,{"$f":"IF(Data_LoonkostenVastVrij418=\"\",\"\",Data_LoonkostenVastVrij418)","v":""},null,{"$f":"IF(Data_PersoonAanUitVastVrij418=-1,\"v\",\"\")","v":""},null,"v",null,null,null,null,0,0,null,{"$f":"IF(Data_NaamPersoonVastOntslag418=\"\",\"\",Data_NaamPersoonVastOntslag418)","v":""},null,null,{"$f":"IF(Data_BeeindigingsdatumVastOntslag418=\"\",\"\",Data_BeeindigingsdatumVastOntslag418)","v":""},null,null,{"$f":"IF(Data_LoonkostenVastOntslag418=\"\",\"\",Data_LoonkostenVastOntslag418)","v":""},null,{"$f":"IF(Data_PersoonAanUitVastOntslag418=-1,\"v\",\"\")","v":""},null,"v",null,null,null,null,0,0]
[null,null,null,null,null,null,null,{"$f":"IF(Data_NaamPersoonNatVerloop419=\"\",\"\",Data_NaamPersoonNatVerloop419)","v":""},null,null,{"$f":"IF(Data_BeeindigingsdatumNatVerloop419=\"\",\"\",Data_BeeindigingsdatumNatVerloop419)","v":""},null,null,{"$f":"IF(Data_LoonkostenNatVerloop419=\"\",\"\",Data_LoonkostenNatVerloop419)","v":""},null,"v",null,"v",null,null,null,null,0,"",null,null,null,null,null,null,null,null,{"$f":"IF(Data_NaamPersoonTijd419=\"\",\"\",Data_NaamPersoonTijd419)","v":""},null,null,{"$f":"IF(Data_BeeindigingsdatumTijd419=\"\",\"\",Data_BeeindigingsdatumTijd419)","v":""},null,null,{"$f":"IF(Data_LoonkostenTijd419=\"\",\"\",Data_LoonkostenTijd419)","v":""},null,{"$f":"IF(Data_PersoonAanUitTijd419=-1,\"v\",\"\")","v":""},null,"v",null,null,null,null,0,0,null,null,null,{"$f":"IF(Data_NaamPersoonVastVrij419=\"\",\"\",Data_NaamPersoonVastVrij419)","v":""},null,null,{"$f":"IF(Data_BeeindigingsdatumVastVrij419=\"\",\"\",Data_BeeindigingsdatumVastVrij419)","v":""},null,null,{"$f":"IF(Data_LoonkostenVastVrij419=\"\",\"\",Data_LoonkostenVastVrij419)","v":""},null,{"$f":"IF(Data_PersoonAanUitVastVrij419=-1,\"v\",\"\")","v":""},null,"v",null,null,null,null,0,0,null,{"$f":"IF(Data_NaamPersoonVastOntslag419=\"\",\"\",Data_NaamPersoonVastOntslag419)","v":""},null,null,{"$f":"IF(Data_BeeindigingsdatumVastOntslag419=\"\",\"\",Data_BeeindigingsdatumVastOntslag419)","v":""},null,null,{"$f":"IF(Data_LoonkostenVastOntslag419=\"\",\"\",Data_LoonkostenVastOntslag419)","v":""},null,{"$f":"IF(Data_PersoonAanUitVastOntslag419=-1,\"v\",\"\")","v":""},null,"v",null,null,null,null,0,0]
[null,null,null,null,null,null,null,{"$f":"IF(Data_NaamPersoonNatVerloop420=\"\",\"\",Data_NaamPersoonNatVerloop420)","v":""},null,null,{"$f":"IF(Data_BeeindigingsdatumNatVerloop420=\"\",\"\",Data_BeeindigingsdatumNatVerloop420)","v":""},null,null,{"$f":"IF(Data_LoonkostenNatVerloop420=\"\",\"\",Data_LoonkostenNatVerloop420)","v":""},null,"v",null,"v",null,null,null,null,0,"",null,null,null,null,null,null,null,null,{"$f":"IF(Data_NaamPersoonTijd420=\"\",\"\",Data_NaamPersoonTijd420)","v":""},null,null,{"$f":"IF(Data_BeeindigingsdatumTijd420=\"\",\"\",Data_BeeindigingsdatumTijd420)","v":""},null,null,{"$f":"IF(Data_LoonkostenTijd420=\"\",\"\",Data_LoonkostenTijd420)","v":""},null,{"$f":"IF(Data_PersoonAanUitTijd420=-1,\"v\",\"\")","v":""},null,"v",null,null,null,null,0,0,null,null,null,{"$f":"IF(Data_NaamPersoonVastVrij420=\"\",\"\",Data_NaamPersoonVastVrij420)","v":""},null,null,{"$f":"IF(Data_BeeindigingsdatumVastVrij420=\"\",\"\",Data_BeeindigingsdatumVastVrij420)","v":""},null,null,{"$f":"IF(Data_LoonkostenVastVrij420=\"\",\"\",Data_LoonkostenVastVrij420)","v":""},null,{"$f":"IF(Data_PersoonAanUitVastVrij420=-1,\"v\",\"\")","v":""},null,"v",null,null,null,null,0,0,null,{"$f":"IF(Data_NaamPersoonVastOntslag420=\"\",\"\",Data_NaamPersoonVastOntslag420)","v":""},null,null,{"$f":"IF(Data_BeeindigingsdatumVastOntslag420=\"\",\"\",Data_BeeindigingsdatumVastOntslag420)","v":""},null,null,{"$f":"IF(Data_LoonkostenVastOntslag420=\"\",\"\",Data_LoonkostenVastOntslag420)","v":""},null,{"$f":"IF(Data_PersoonAanUitVastOntslag420=-1,\"v\",\"\")","v":""},null,"v",null,null,null,null,0,0]
[null,null,null,null,null,null,null,{"$f":"IF(Data_NaamPersoonNatVerloop421=\"\",\"\",Data_NaamPersoonNatVerloop421)","v":""},null,null,{"$f":"IF(Data_BeeindigingsdatumNatVerloop421=\"\",\"\",Data_BeeindigingsdatumNatVerloop421)","v":""},null,null,{"$f":"IF(Data_LoonkostenNatVerloop421=\"\",\"\",Data_LoonkostenNatVerloop421)","v":""},null,"v",null,"v",null,null,null,null,0,"",null,null,null,null,null,null,null,null,{"$f":"IF(Data_NaamPersoonTijd421=\"\",\"\",Data_NaamPersoonTijd421)","v":""},null,null,{"$f":"IF(Data_BeeindigingsdatumTijd421=\"\",\"\",Data_BeeindigingsdatumTijd421)","v":""},null,null,{"$f":"IF(Data_LoonkostenTijd421=\"\",\"\",Data_LoonkostenTijd421)","v":""},null,{"$f":"IF(Data_PersoonAanUitTijd421=-1,\"v\",\"\")","v":""},null,"v",null,null,null,null,0,0,null,null,null,{"$f":"IF(Data_NaamPersoonVastVrij421=\"\",\"\",Data_NaamPersoonVastVrij421)","v":""},null,null,{"$f":"IF(Data_BeeindigingsdatumVastVrij421=\"\",\"\",Data_BeeindigingsdatumVastVrij421)","v":""},null,null,{"$f":"IF(Data_LoonkostenVastVrij421=\"\",\"\",Data_LoonkostenVastVrij421)","v":""},null,{"$f":"IF(Data_PersoonAanUitVastVrij421=-1,\"v\",\"\")","v":""},null,"v",null,null,null,null,0,0,null,{"$f":"IF(Data_NaamPersoonVastOntslag421=\"\",\"\",Data_NaamPersoonVastOntslag421)","v":""},null,null,{"$f":"IF(Data_BeeindigingsdatumVastOntslag421=\"\",\"\",Data_BeeindigingsdatumVastOntslag421)","v":""},null,null,{"$f":"IF(Data_LoonkostenVastOntslag421=\"\",\"\",Data_LoonkostenVastOntslag421)","v":""},null,{"$f":"IF(Data_PersoonAanUitVastOntslag421=-1,\"v\",\"\")","v":""},null,"v",null,null,null,null,0,0]
[null,null,null,null,null,null,null,{"$f":"IF(Data_NaamPersoonNatVerloop422=\"\",\"\",Data_NaamPersoonNatVerloop422)","v":""},null,null,{"$f":"IF(Data_BeeindigingsdatumNatVerloop422=\"\",\"\",Data_BeeindigingsdatumNatVerloop422)","v":""},null,null,{"$f":"IF(Data_LoonkostenNatVerloop422=\"\",\"\",Data_LoonkostenNatVerloop422)","v":""},null,"v",null,"v",null,null,null,null,0,"",null,null,null,null,null,null,null,null,{"$f":"IF(Data_NaamPersoonTijd422=\"\",\"\",Data_NaamPersoonTijd422)","v":""},null,null,{"$f":"IF(Data_BeeindigingsdatumTijd422=\"\",\"\",Data_BeeindigingsdatumTijd422)","v":""},null,null,{"$f":"IF(Data_LoonkostenTijd422=\"\",\"\",Data_LoonkostenTijd422)","v":""},null,{"$f":"IF(Data_PersoonAanUitTijd422=-1,\"v\",\"\")","v":""},null,"v",null,null,null,null,0,0,null,null,null,{"$f":"IF(Data_NaamPersoonVastVrij422=\"\",\"\",Data_NaamPersoonVastVrij422)","v":""},null,null,{"$f":"IF(Data_BeeindigingsdatumVastVrij422=\"\",\"\",Data_BeeindigingsdatumVastVrij422)","v":""},null,null,{"$f":"IF(Data_LoonkostenVastVrij422=\"\",\"\",Data_LoonkostenVastVrij422)","v":""},null,{"$f":"IF(Data_PersoonAanUitVastVrij422=-1,\"v\",\"\")","v":""},null,"v",null,null,null,null,0,0,null,{"$f":"IF(Data_NaamPersoonVastOntslag422=\"\",\"\",Data_NaamPersoonVastOntslag422)","v":""},null,null,{"$f":"IF(Data_BeeindigingsdatumVastOntslag422=\"\",\"\",Data_BeeindigingsdatumVastOntslag422)","v":""},null,null,{"$f":"IF(Data_LoonkostenVastOntslag422=\"\",\"\",Data_LoonkostenVastOntslag422)","v":""},null,{"$f":"IF(Data_PersoonAanUitVastOntslag422=-1,\"v\",\"\")","v":""},null,"v",null,null,null,null,0,0]
[null,null,null,null,null,null,null,{"$f":"IF(Data_NaamPersoonNatVerloop423=\"\",\"\",Data_NaamPersoonNatVerloop423)","v":""},null,null,{"$f":"IF(Data_BeeindigingsdatumNatVerloop423=\"\",\"\",Data_BeeindigingsdatumNatVerloop423)","v":""},null,null,{"$f":"IF(Data_LoonkostenNatVerloop423=\"\",\"\",Data_LoonkostenNatVerloop423)","v":""},null,"v",null,"v",null,null,null,null,0,"",null,null,null,null,null,null,null,null,{"$f":"IF(Data_NaamPersoonTijd423=\"\",\"\",Data_NaamPersoonTijd423)","v":""},null,null,{"$f":"IF(Data_BeeindigingsdatumTijd423=\"\",\"\",Data_BeeindigingsdatumTijd423)","v":""},null,null,{"$f":"IF(Data_LoonkostenTijd423=\"\",\"\",Data_LoonkostenTijd423)","v":""},null,{"$f":"IF(Data_PersoonAanUitTijd423=-1,\"v\",\"\")","v":""},null,"v",null,null,null,null,0,0,null,null,null,{"$f":"IF(Data_NaamPersoonVastVrij423=\"\",\"\",Data_NaamPersoonVastVrij423)","v":""},null,null,{"$f":"IF(Data_BeeindigingsdatumVastVrij423=\"\",\"\",Data_BeeindigingsdatumVastVrij423)","v":""},null,null,{"$f":"IF(Data_LoonkostenVastVrij423=\"\",\"\",Data_LoonkostenVastVrij423)","v":""},null,{"$f":"IF(Data_PersoonAanUitVastVrij423=-1,\"v\",\"\")","v":""},null,"v",null,null,null,null,0,0,null,{"$f":"IF(Data_NaamPersoonVastOntslag423=\"\",\"\",Data_NaamPersoonVastOntslag423)","v":""},null,null,{"$f":"IF(Data_BeeindigingsdatumVastOntslag423=\"\",\"\",Data_BeeindigingsdatumVastOntslag423)","v":""},null,null,{"$f":"IF(Data_LoonkostenVastOntslag423=\"\",\"\",Data_LoonkostenVastOntslag423)","v":""},null,{"$f":"IF(Data_PersoonAanUitVastOntslag423=-1,\"v\",\"\")","v":""},null,"v",null,null,null,null,0,0]
[null,null,null,null,null,null,null,{"$f":"IF(Data_NaamPersoonNatVerloop424=\"\",\"\",Data_NaamPersoonNatVerloop424)","v":""},null,null,{"$f":"IF(Data_BeeindigingsdatumNatVerloop424=\"\",\"\",Data_BeeindigingsdatumNatVerloop424)","v":""},null,null,{"$f":"IF(Data_LoonkostenNatVerloop424=\"\",\"\",Data_LoonkostenNatVerloop424)","v":""},null,"v",null,"v",null,null,null,null,0,"",null,null,null,null,null,null,null,null,{"$f":"IF(Data_NaamPersoonTijd424=\"\",\"\",Data_NaamPersoonTijd424)","v":""},null,null,{"$f":"IF(Data_BeeindigingsdatumTijd424=\"\",\"\",Data_BeeindigingsdatumTijd424)","v":""},null,null,{"$f":"IF(Data_LoonkostenTijd424=\"\",\"\",Data_LoonkostenTijd424)","v":""},null,{"$f":"IF(Data_PersoonAanUitTijd424=-1,\"v\",\"\")","v":""},null,"v",null,null,null,null,0,0,null,null,null,{"$f":"IF(Data_NaamPersoonVastVrij424=\"\",\"\",Data_NaamPersoonVastVrij424)","v":""},null,null,{"$f":"IF(Data_BeeindigingsdatumVastVrij424=\"\",\"\",Data_BeeindigingsdatumVastVrij424)","v":""},null,null,{"$f":"IF(Data_LoonkostenVastVrij424=\"\",\"\",Data_LoonkostenVastVrij424)","v":""},null,{"$f":"IF(Data_PersoonAanUitVastVrij424=-1,\"v\",\"\")","v":""},null,"v",null,null,null,null,0,0,null,{"$f":"IF(Data_NaamPersoonVastOntslag424=\"\",\"\",Data_NaamPersoonVastOntslag424)","v":""},null,null,{"$f":"IF(Data_BeeindigingsdatumVastOntslag424=\"\",\"\",Data_BeeindigingsdatumVastOntslag424)","v":""},null,null,{"$f":"IF(Data_LoonkostenVastOntslag424=\"\",\"\",Data_LoonkostenVastOntslag424)","v":""},null,{"$f":"IF(Data_PersoonAanUitVastOntslag424=-1,\"v\",\"\")","v":""},null,"v",null,null,null,null,0,0]
[null,null,null,null,null,null,null,{"$f":"IF(Data_NaamPersoonNatVerloop425=\"\",\"\",Data_NaamPersoonNatVerloop425)","v":""},null,null,{"$f":"IF(Data_BeeindigingsdatumNatVerloop425=\"\",\"\",Data_BeeindigingsdatumNatVerloop425)","v":""},null,null,{"$f":"IF(Data_LoonkostenNatVerloop425=\"\",\"\",Data_LoonkostenNatVerloop425)","v":""},null,"v",null,"v",null,null,null,null,0,"",null,null,null,null,null,null,null,null,{"$f":"IF(Data_NaamPersoonTijd425=\"\",\"\",Data_NaamPersoonTijd425)","v":""},null,null,{"$f":"IF(Data_BeeindigingsdatumTijd425=\"\",\"\",Data_BeeindigingsdatumTijd425)","v":""},null,null,{"$f":"IF(Data_LoonkostenTijd425=\"\",\"\",Data_LoonkostenTijd425)","v":""},null,{"$f":"IF(Data_PersoonAanUitTijd425=-1,\"v\",\"\")","v":""},null,"v",null,null,null,null,0,0,null,null,null,{"$f":"IF(Data_NaamPersoonVastVrij425=\"\",\"\",Data_NaamPersoonVastVrij425)","v":""},null,null,{"$f":"IF(Data_BeeindigingsdatumVastVrij425=\"\",\"\",Data_BeeindigingsdatumVastVrij425)","v":""},null,null,{"$f":"IF(Data_LoonkostenVastVrij425=\"\",\"\",Data_LoonkostenVastVrij425)","v":""},null,{"$f":"IF(Data_PersoonAanUitVastVrij425=-1,\"v\",\"\")","v":""},null,"v",null,null,null,null,0,0,null,{"$f":"IF(Data_NaamPersoonVastOntslag425=\"\",\"\",Data_NaamPersoonVastOntslag425)","v":""},null,null,{"$f":"IF(Data_BeeindigingsdatumVastOntslag425=\"\",\"\",Data_BeeindigingsdatumVastOntslag425)","v":""},null,null,{"$f":"IF(Data_LoonkostenVastOntslag425=\"\",\"\",Data_LoonkostenVastOntslag425)","v":""},null,{"$f":"IF(Data_PersoonAanUitVastOntslag425=-1,\"v\",\"\")","v":""},null,"v",null,null,null,null,0,0]
[null,null,null,null,null,null,null,{"$f":"IF(Data_NaamPersoonNatVerloop426=\"\",\"\",Data_NaamPersoonNatVerloop426)","v":""},null,null,{"$f":"IF(Data_BeeindigingsdatumNatVerloop426=\"\",\"\",Data_BeeindigingsdatumNatVerloop426)","v":""},null,null,{"$f":"IF(Data_LoonkostenNatVerloop426=\"\",\"\",Data_LoonkostenNatVerloop426)","v":""},null,"v",null,"v",null,null,null,null,0,"",null,null,null,null,null,null,null,null,{"$f":"IF(Data_NaamPersoonTijd426=\"\",\"\",Data_NaamPersoonTijd426)","v":""},null,null,{"$f":"IF(Data_BeeindigingsdatumTijd426=\"\",\"\",Data_BeeindigingsdatumTijd426)","v":""},null,null,{"$f":"IF(Data_LoonkostenTijd426=\"\",\"\",Data_LoonkostenTijd426)","v":""},null,{"$f":"IF(Data_PersoonAanUitTijd426=-1,\"v\",\"\")","v":""},null,"v",null,null,null,null,0,0,null,null,null,{"$f":"IF(Data_NaamPersoonVastVrij426=\"\",\"\",Data_NaamPersoonVastVrij426)","v":""},null,null,{"$f":"IF(Data_BeeindigingsdatumVastVrij426=\"\",\"\",Data_BeeindigingsdatumVastVrij426)","v":""},null,null,{"$f":"IF(Data_LoonkostenVastVrij426=\"\",\"\",Data_LoonkostenVastVrij426)","v":""},null,{"$f":"IF(Data_PersoonAanUitVastVrij426=-1,\"v\",\"\")","v":""},null,"v",null,null,null,null,0,0,null,{"$f":"IF(Data_NaamPersoonVastOntslag426=\"\",\"\",Data_NaamPersoonVastOntslag426)","v":""},null,null,{"$f":"IF(Data_BeeindigingsdatumVastOntslag426=\"\",\"\",Data_BeeindigingsdatumVastOntslag426)","v":""},null,null,{"$f":"IF(Data_LoonkostenVastOntslag426=\"\",\"\",Data_LoonkostenVastOntslag426)","v":""},null,{"$f":"IF(Data_PersoonAanUitVastOntslag426=-1,\"v\",\"\")","v":""},null,"v",null,null,null,null,0,0]
[null,null,null,null,null,null,null,{"$f":"IF(Data_NaamPersoonNatVerloop427=\"\",\"\",Data_NaamPersoonNatVerloop427)","v":""},null,null,{"$f":"IF(Data_BeeindigingsdatumNatVerloop427=\"\",\"\",Data_BeeindigingsdatumNatVerloop427)","v":""},null,null,{"$f":"IF(Data_LoonkostenNatVerloop427=\"\",\"\",Data_LoonkostenNatVerloop427)","v":""},null,"v",null,"v",null,null,null,null,0,"",null,null,null,null,null,null,null,null,{"$f":"IF(Data_NaamPersoonTijd427=\"\",\"\",Data_NaamPersoonTijd427)","v":""},null,null,{"$f":"IF(Data_BeeindigingsdatumTijd427=\"\",\"\",Data_BeeindigingsdatumTijd427)","v":""},null,null,{"$f":"IF(Data_LoonkostenTijd427=\"\",\"\",Data_LoonkostenTijd427)","v":""},null,{"$f":"IF(Data_PersoonAanUitTijd427=-1,\"v\",\"\")","v":""},null,"v",null,null,null,null,0,0,null,null,null,{"$f":"IF(Data_NaamPersoonVastVrij427=\"\",\"\",Data_NaamPersoonVastVrij427)","v":""},null,null,{"$f":"IF(Data_BeeindigingsdatumVastVrij427=\"\",\"\",Data_BeeindigingsdatumVastVrij427)","v":""},null,null,{"$f":"IF(Data_LoonkostenVastVrij427=\"\",\"\",Data_LoonkostenVastVrij427)","v":""},null,{"$f":"IF(Data_PersoonAanUitVastVrij427=-1,\"v\",\"\")","v":""},null,"v",null,null,null,null,0,0,null,{"$f":"IF(Data_NaamPersoonVastOntslag427=\"\",\"\",Data_NaamPersoonVastOntslag427)","v":""},null,null,{"$f":"IF(Data_BeeindigingsdatumVastOntslag427=\"\",\"\",Data_BeeindigingsdatumVastOntslag427)","v":""},null,null,{"$f":"IF(Data_LoonkostenVastOntslag427=\"\",\"\",Data_LoonkostenVastOntslag427)","v":""},null,{"$f":"IF(Data_PersoonAanUitVastOntslag427=-1,\"v\",\"\")","v":""},null,"v",null,null,null,null,0,0]
[null,null,null,null,null,null,null,{"$f":"IF(Data_NaamPersoonNatVerloop428=\"\",\"\",Data_NaamPersoonNatVerloop428)","v":""},null,null,{"$f":"IF(Data_BeeindigingsdatumNatVerloop428=\"\",\"\",Data_BeeindigingsdatumNatVerloop428)","v":""},null,null,{"$f":"IF(Data_LoonkostenNatVerloop428=\"\",\"\",Data_LoonkostenNatVerloop428)","v":""},null,"v",null,"v",null,null,null,null,0,"",null,null,null,null,null,null,null,null,{"$f":"IF(Data_NaamPersoonTijd428=\"\",\"\",Data_NaamPersoonTijd428)","v":""},null,null,{"$f":"IF(Data_BeeindigingsdatumTijd428=\"\",\"\",Data_BeeindigingsdatumTijd428)","v":""},null,null,{"$f":"IF(Data_LoonkostenTijd428=\"\",\"\",Data_LoonkostenTijd428)","v":""},null,{"$f":"IF(Data_PersoonAanUitTijd428=-1,\"v\",\"\")","v":""},null,"v",null,null,null,null,0,0,null,null,null,{"$f":"IF(Data_NaamPersoonVastVrij428=\"\",\"\",Data_NaamPersoonVastVrij428)","v":""},null,null,{"$f":"IF(Data_BeeindigingsdatumVastVrij428=\"\",\"\",Data_BeeindigingsdatumVastVrij428)","v":""},null,null,{"$f":"IF(Data_LoonkostenVastVrij428=\"\",\"\",Data_LoonkostenVastVrij428)","v":""},null,{"$f":"IF(Data_PersoonAanUitVastVrij428=-1,\"v\",\"\")","v":""},null,"v",null,null,null,null,0,0,null,{"$f":"IF(Data_NaamPersoonVastOntslag428=\"\",\"\",Data_NaamPersoonVastOntslag428)","v":""},null,null,{"$f":"IF(Data_BeeindigingsdatumVastOntslag428=\"\",\"\",Data_BeeindigingsdatumVastOntslag428)","v":""},null,null,{"$f":"IF(Data_LoonkostenVastOntslag428=\"\",\"\",Data_LoonkostenVastOntslag428)","v":""},null,{"$f":"IF(Data_PersoonAanUitVastOntslag428=-1,\"v\",\"\")","v":""},null,"v",null,null,null,null,0,0]
[null,null,null,null,null,null,null,{"$f":"IF(Data_NaamPersoonNatVerloop429=\"\",\"\",Data_NaamPersoonNatVerloop429)","v":""},null,null,{"$f":"IF(Data_BeeindigingsdatumNatVerloop429=\"\",\"\",Data_BeeindigingsdatumNatVerloop429)","v":""},null,null,{"$f":"IF(Data_LoonkostenNatVerloop429=\"\",\"\",Data_LoonkostenNatVerloop429)","v":""},null,"v",null,"v",null,null,null,null,0,"",null,null,null,null,null,null,null,null,{"$f":"IF(Data_NaamPersoonTijd429=\"\",\"\",Data_NaamPersoonTijd429)","v":""},null,null,{"$f":"IF(Data_BeeindigingsdatumTijd429=\"\",\"\",Data_BeeindigingsdatumTijd429)","v":""},null,null,{"$f":"IF(Data_LoonkostenTijd429=\"\",\"\",Data_LoonkostenTijd429)","v":""},null,{"$f":"IF(Data_PersoonAanUitTijd429=-1,\"v\",\"\")","v":""},null,"v",null,null,null,null,0,0,null,null,null,{"$f":"IF(Data_NaamPersoonVastVrij429=\"\",\"\",Data_NaamPersoonVastVrij429)","v":""},null,null,{"$f":"IF(Data_BeeindigingsdatumVastVrij429=\"\",\"\",Data_BeeindigingsdatumVastVrij429)","v":""},null,null,{"$f":"IF(Data_LoonkostenVastVrij429=\"\",\"\",Data_LoonkostenVastVrij429)","v":""},null,{"$f":"IF(Data_PersoonAanUitVastVrij429=-1,\"v\",\"\")","v":""},null,"v",null,null,null,null,0,0,null,{"$f":"IF(Data_NaamPersoonVastOntslag429=\"\",\"\",Data_NaamPersoonVastOntslag429)","v":""},null,null,{"$f":"IF(Data_BeeindigingsdatumVastOntslag429=\"\",\"\",Data_BeeindigingsdatumVastOntslag429)","v":""},null,null,{"$f":"IF(Data_LoonkostenVastOntslag429=\"\",\"\",Data_LoonkostenVastOntslag429)","v":""},null,{"$f":"IF(Data_PersoonAanUitVastOntslag429=-1,\"v\",\"\")","v":""},null,"v",null,null,null,null,0,0]
[null,null,null,null,null,null,null,{"$f":"IF(Data_NaamPersoonNatVerloop430=\"\",\"\",Data_NaamPersoonNatVerloop430)","v":""},null,null,{"$f":"IF(Data_BeeindigingsdatumNatVerloop430=\"\",\"\",Data_BeeindigingsdatumNatVerloop430)","v":""},null,null,{"$f":"IF(Data_LoonkostenNatVerloop430=\"\",\"\",Data_LoonkostenNatVerloop430)","v":""},null,"v",null,"v",null,null,null,null,0,"",null,null,null,null,null,null,null,null,{"$f":"IF(Data_NaamPersoonTijd430=\"\",\"\",Data_NaamPersoonTijd430)","v":""},null,null,{"$f":"IF(Data_BeeindigingsdatumTijd430=\"\",\"\",Data_BeeindigingsdatumTijd430)","v":""},null,null,{"$f":"IF(Data_LoonkostenTijd430=\"\",\"\",Data_LoonkostenTijd430)","v":""},null,{"$f":"IF(Data_PersoonAanUitTijd430=-1,\"v\",\"\")","v":""},null,"v",null,null,null,null,0,0,null,null,null,{"$f":"IF(Data_NaamPersoonVastVrij430=\"\",\"\",Data_NaamPersoonVastVrij430)","v":""},null,null,{"$f":"IF(Data_BeeindigingsdatumVastVrij430=\"\",\"\",Data_BeeindigingsdatumVastVrij430)","v":""},null,null,{"$f":"IF(Data_LoonkostenVastVrij430=\"\",\"\",Data_LoonkostenVastVrij430)","v":""},null,{"$f":"IF(Data_PersoonAanUitVastVrij430=-1,\"v\",\"\")","v":""},null,"v",null,null,null,null,0,0,null,{"$f":"IF(Data_NaamPersoonVastOntslag430=\"\",\"\",Data_NaamPersoonVastOntslag430)","v":""},null,null,{"$f":"IF(Data_BeeindigingsdatumVastOntslag430=\"\",\"\",Data_BeeindigingsdatumVastOntslag430)","v":""},null,null,{"$f":"IF(Data_LoonkostenVastOntslag430=\"\",\"\",Data_LoonkostenVastOntslag430)","v":""},null,{"$f":"IF(Data_PersoonAanUitVastOntslag430=-1,\"v\",\"\")","v":""},null,"v",null,null,null,null,0,0]
[null,null,null,null,null,null,null,{"$f":"IF(Data_NaamPersoonNatVerloop431=\"\",\"\",Data_NaamPersoonNatVerloop431)","v":""},null,null,{"$f":"IF(Data_BeeindigingsdatumNatVerloop431=\"\",\"\",Data_BeeindigingsdatumNatVerloop431)","v":""},null,null,{"$f":"IF(Data_LoonkostenNatVerloop431=\"\",\"\",Data_LoonkostenNatVerloop431)","v":""},null,"v",null,"v",null,null,null,null,0,"",null,null,null,null,null,null,null,null,{"$f":"IF(Data_NaamPersoonTijd431=\"\",\"\",Data_NaamPersoonTijd431)","v":""},null,null,{"$f":"IF(Data_BeeindigingsdatumTijd431=\"\",\"\",Data_BeeindigingsdatumTijd431)","v":""},null,null,{"$f":"IF(Data_LoonkostenTijd431=\"\",\"\",Data_LoonkostenTijd431)","v":""},null,{"$f":"IF(Data_PersoonAanUitTijd431=-1,\"v\",\"\")","v":""},null,"v",null,null,null,null,0,0,null,null,null,{"$f":"IF(Data_NaamPersoonVastVrij431=\"\",\"\",Data_NaamPersoonVastVrij431)","v":""},null,null,{"$f":"IF(Data_BeeindigingsdatumVastVrij431=\"\",\"\",Data_BeeindigingsdatumVastVrij431)","v":""},null,null,{"$f":"IF(Data_LoonkostenVastVrij431=\"\",\"\",Data_LoonkostenVastVrij431)","v":""},null,{"$f":"IF(Data_PersoonAanUitVastVrij431=-1,\"v\",\"\")","v":""},null,"v",null,null,null,null,0,0,null,{"$f":"IF(Data_NaamPersoonVastOntslag431=\"\",\"\",Data_NaamPersoonVastOntslag431)","v":""},null,null,{"$f":"IF(Data_BeeindigingsdatumVastOntslag431=\"\",\"\",Data_BeeindigingsdatumVastOntslag431)","v":""},null,null,{"$f":"IF(Data_LoonkostenVastOntslag431=\"\",\"\",Data_LoonkostenVastOntslag431)","v":""},null,{"$f":"IF(Data_PersoonAanUitVastOntslag431=-1,\"v\",\"\")","v":""},null,"v",null,null,null,null,0,0]
[null,null,null,null,null,null,null,{"$f":"IF(Data_NaamPersoonNatVerloop432=\"\",\"\",Data_NaamPersoonNatVerloop432)","v":""},null,null,{"$f":"IF(Data_BeeindigingsdatumNatVerloop432=\"\",\"\",Data_BeeindigingsdatumNatVerloop432)","v":""},null,null,{"$f":"IF(Data_LoonkostenNatVerloop432=\"\",\"\",Data_LoonkostenNatVerloop432)","v":""},null,"v",null,"v",null,null,null,null,0,"",null,null,null,null,null,null,null,null,{"$f":"IF(Data_NaamPersoonTijd432=\"\",\"\",Data_NaamPersoonTijd432)","v":""},null,null,{"$f":"IF(Data_BeeindigingsdatumTijd432=\"\",\"\",Data_BeeindigingsdatumTijd432)","v":""},null,null,{"$f":"IF(Data_LoonkostenTijd432=\"\",\"\",Data_LoonkostenTijd432)","v":""},null,{"$f":"IF(Data_PersoonAanUitTijd432=-1,\"v\",\"\")","v":""},null,"v",null,null,null,null,0,0,null,null,null,{"$f":"IF(Data_NaamPersoonVastVrij432=\"\",\"\",Data_NaamPersoonVastVrij432)","v":""},null,null,{"$f":"IF(Data_BeeindigingsdatumVastVrij432=\"\",\"\",Data_BeeindigingsdatumVastVrij432)","v":""},null,null,{"$f":"IF(Data_LoonkostenVastVrij432=\"\",\"\",Data_LoonkostenVastVrij432)","v":""},null,{"$f":"IF(Data_PersoonAanUitVastVrij432=-1,\"v\",\"\")","v":""},null,"v",null,null,null,null,0,0,null,{"$f":"IF(Data_NaamPersoonVastOntslag432=\"\",\"\",Data_NaamPersoonVastOntslag432)","v":""},null,null,{"$f":"IF(Data_BeeindigingsdatumVastOntslag432=\"\",\"\",Data_BeeindigingsdatumVastOntslag432)","v":""},null,null,{"$f":"IF(Data_LoonkostenVastOntslag432=\"\",\"\",Data_LoonkostenVastOntslag432)","v":""},null,{"$f":"IF(Data_PersoonAanUitVastOntslag432=-1,\"v\",\"\")","v":""},null,"v",null,null,null,null,0,0]
[null,null,null,null,null,null,null,{"$f":"IF(Data_NaamPersoonNatVerloop433=\"\",\"\",Data_NaamPersoonNatVerloop433)","v":""},null,null,{"$f":"IF(Data_BeeindigingsdatumNatVerloop433=\"\",\"\",Data_BeeindigingsdatumNatVerloop433)","v":""},null,null,{"$f":"IF(Data_LoonkostenNatVerloop433=\"\",\"\",Data_LoonkostenNatVerloop433)","v":""},null,"v",null,"v",null,null,null,null,0,"",null,null,null,null,null,null,null,null,{"$f":"IF(Data_NaamPersoonTijd433=\"\",\"\",Data_NaamPersoonTijd433)","v":""},null,null,{"$f":"IF(Data_BeeindigingsdatumTijd433=\"\",\"\",Data_BeeindigingsdatumTijd433)","v":""},null,null,{"$f":"IF(Data_LoonkostenTijd433=\"\",\"\",Data_LoonkostenTijd433)","v":""},null,{"$f":"IF(Data_PersoonAanUitTijd433=-1,\"v\",\"\")","v":""},null,"v",null,null,null,null,0,0,null,null,null,{"$f":"IF(Data_NaamPersoonVastVrij433=\"\",\"\",Data_NaamPersoonVastVrij433)","v":""},null,null,{"$f":"IF(Data_BeeindigingsdatumVastVrij433=\"\",\"\",Data_BeeindigingsdatumVastVrij433)","v":""},null,null,{"$f":"IF(Data_LoonkostenVastVrij433=\"\",\"\",Data_LoonkostenVastVrij433)","v":""},null,{"$f":"IF(Data_PersoonAanUitVastVrij433=-1,\"v\",\"\")","v":""},null,"v",null,null,null,null,0,0,null,{"$f":"IF(Data_NaamPersoonVastOntslag433=\"\",\"\",Data_NaamPersoonVastOntslag433)","v":""},null,null,{"$f":"IF(Data_BeeindigingsdatumVastOntslag433=\"\",\"\",Data_BeeindigingsdatumVastOntslag433)","v":""},null,null,{"$f":"IF(Data_LoonkostenVastOntslag433=\"\",\"\",Data_LoonkostenVastOntslag433)","v":""},null,{"$f":"IF(Data_PersoonAanUitVastOntslag433=-1,\"v\",\"\")","v":""},null,"v",null,null,null,null,0,0]
[null,null,null,null,null,null,null,{"$f":"IF(Data_NaamPersoonNatVerloop434=\"\",\"\",Data_NaamPersoonNatVerloop434)","v":""},null,null,{"$f":"IF(Data_BeeindigingsdatumNatVerloop434=\"\",\"\",Data_BeeindigingsdatumNatVerloop434)","v":""},null,null,{"$f":"IF(Data_LoonkostenNatVerloop434=\"\",\"\",Data_LoonkostenNatVerloop434)","v":""},null,"v",null,"v",null,null,null,null,0,"",null,null,null,null,null,null,null,null,{"$f":"IF(Data_NaamPersoonTijd434=\"\",\"\",Data_NaamPersoonTijd434)","v":""},null,null,{"$f":"IF(Data_BeeindigingsdatumTijd434=\"\",\"\",Data_BeeindigingsdatumTijd434)","v":""},null,null,{"$f":"IF(Data_LoonkostenTijd434=\"\",\"\",Data_LoonkostenTijd434)","v":""},null,{"$f":"IF(Data_PersoonAanUitTijd434=-1,\"v\",\"\")","v":""},null,"v",null,null,null,null,0,0,null,null,null,{"$f":"IF(Data_NaamPersoonVastVrij434=\"\",\"\",Data_NaamPersoonVastVrij434)","v":""},null,null,{"$f":"IF(Data_BeeindigingsdatumVastVrij434=\"\",\"\",Data_BeeindigingsdatumVastVrij434)","v":""},null,null,{"$f":"IF(Data_LoonkostenVastVrij434=\"\",\"\",Data_LoonkostenVastVrij434)","v":""},null,{"$f":"IF(Data_PersoonAanUitVastVrij434=-1,\"v\",\"\")","v":""},null,"v",null,null,null,null,0,0,null,{"$f":"IF(Data_NaamPersoonVastOntslag434=\"\",\"\",Data_NaamPersoonVastOntslag434)","v":""},null,null,{"$f":"IF(Data_BeeindigingsdatumVastOntslag434=\"\",\"\",Data_BeeindigingsdatumVastOntslag434)","v":""},null,null,{"$f":"IF(Data_LoonkostenVastOntslag434=\"\",\"\",Data_LoonkostenVastOntslag434)","v":""},null,{"$f":"IF(Data_PersoonAanUitVastOntslag434=-1,\"v\",\"\")","v":""},null,"v",null,null,null,null,0,0]
[null,null,null,null,null,null,null,{"$f":"IF(Data_NaamPersoonNatVerloop435=\"\",\"\",Data_NaamPersoonNatVerloop435)","v":""},null,null,{"$f":"IF(Data_BeeindigingsdatumNatVerloop435=\"\",\"\",Data_BeeindigingsdatumNatVerloop435)","v":""},null,null,{"$f":"IF(Data_LoonkostenNatVerloop435=\"\",\"\",Data_LoonkostenNatVerloop435)","v":""},null,"v",null,"v",null,null,null,null,0,"",null,null,null,null,null,null,null,null,{"$f":"IF(Data_NaamPersoonTijd435=\"\",\"\",Data_NaamPersoonTijd435)","v":""},null,null,{"$f":"IF(Data_BeeindigingsdatumTijd435=\"\",\"\",Data_BeeindigingsdatumTijd435)","v":""},null,null,{"$f":"IF(Data_LoonkostenTijd435=\"\",\"\",Data_LoonkostenTijd435)","v":""},null,{"$f":"IF(Data_PersoonAanUitTijd435=-1,\"v\",\"\")","v":""},null,"v",null,null,null,null,0,0,null,null,null,{"$f":"IF(Data_NaamPersoonVastVrij435=\"\",\"\",Data_NaamPersoonVastVrij435)","v":""},null,null,{"$f":"IF(Data_BeeindigingsdatumVastVrij435=\"\",\"\",Data_BeeindigingsdatumVastVrij435)","v":""},null,null,{"$f":"IF(Data_LoonkostenVastVrij435=\"\",\"\",Data_LoonkostenVastVrij435)","v":""},null,{"$f":"IF(Data_PersoonAanUitVastVrij435=-1,\"v\",\"\")","v":""},null,"v",null,null,null,null,0,0,null,{"$f":"IF(Data_NaamPersoonVastOntslag435=\"\",\"\",Data_NaamPersoonVastOntslag435)","v":""},null,null,{"$f":"IF(Data_BeeindigingsdatumVastOntslag435=\"\",\"\",Data_BeeindigingsdatumVastOntslag435)","v":""},null,null,{"$f":"IF(Data_LoonkostenVastOntslag435=\"\",\"\",Data_LoonkostenVastOntslag435)","v":""},null,{"$f":"IF(Data_PersoonAanUitVastOntslag435=-1,\"v\",\"\")","v":""},null,"v",null,null,null,null,0,0]
[null,null,null,null,null,null,null,{"$f":"IF(Data_NaamPersoonNatVerloop436=\"\",\"\",Data_NaamPersoonNatVerloop436)","v":""},null,null,{"$f":"IF(Data_BeeindigingsdatumNatVerloop436=\"\",\"\",Data_BeeindigingsdatumNatVerloop436)","v":""},null,null,{"$f":"IF(Data_LoonkostenNatVerloop436=\"\",\"\",Data_LoonkostenNatVerloop436)","v":""},null,"v",null,"v",null,null,null,null,0,"",null,null,null,null,null,null,null,null,{"$f":"IF(Data_NaamPersoonTijd436=\"\",\"\",Data_NaamPersoonTijd436)","v":""},null,null,{"$f":"IF(Data_BeeindigingsdatumTijd436=\"\",\"\",Data_BeeindigingsdatumTijd436)","v":""},null,null,{"$f":"IF(Data_LoonkostenTijd436=\"\",\"\",Data_LoonkostenTijd436)","v":""},null,{"$f":"IF(Data_PersoonAanUitTijd436=-1,\"v\",\"\")","v":""},null,"v",null,null,null,null,0,0,null,null,null,{"$f":"IF(Data_NaamPersoonVastVrij436=\"\",\"\",Data_NaamPersoonVastVrij436)","v":""},null,null,{"$f":"IF(Data_BeeindigingsdatumVastVrij436=\"\",\"\",Data_BeeindigingsdatumVastVrij436)","v":""},null,null,{"$f":"IF(Data_LoonkostenVastVrij436=\"\",\"\",Data_LoonkostenVastVrij436)","v":""},null,{"$f":"IF(Data_PersoonAanUitVastVrij436=-1,\"v\",\"\")","v":""},null,"v",null,null,null,null,0,0,null,{"$f":"IF(Data_NaamPersoonVastOntslag436=\"\",\"\",Data_NaamPersoonVastOntslag436)","v":""},null,null,{"$f":"IF(Data_BeeindigingsdatumVastOntslag436=\"\",\"\",Data_BeeindigingsdatumVastOntslag436)","v":""},null,null,{"$f":"IF(Data_LoonkostenVastOntslag436=\"\",\"\",Data_LoonkostenVastOntslag436)","v":""},null,{"$f":"IF(Data_PersoonAanUitVastOntslag436=-1,\"v\",\"\")","v":""},null,"v",null,null,null,null,0,0]
[null,null,null,null,null,null,null,{"$f":"IF(Data_NaamPersoonNatVerloop437=\"\",\"\",Data_NaamPersoonNatVerloop437)","v":""},null,null,{"$f":"IF(Data_BeeindigingsdatumNatVerloop437=\"\",\"\",Data_BeeindigingsdatumNatVerloop437)","v":""},null,null,{"$f":"IF(Data_LoonkostenNatVerloop437=\"\",\"\",Data_LoonkostenNatVerloop437)","v":""},null,"v",null,"v",null,null,null,null,0,"",null,null,null,null,null,null,null,null,{"$f":"IF(Data_NaamPersoonTijd437=\"\",\"\",Data_NaamPersoonTijd437)","v":""},null,null,{"$f":"IF(Data_BeeindigingsdatumTijd437=\"\",\"\",Data_BeeindigingsdatumTijd437)","v":""},null,null,{"$f":"IF(Data_LoonkostenTijd437=\"\",\"\",Data_LoonkostenTijd437)","v":""},null,{"$f":"IF(Data_PersoonAanUitTijd437=-1,\"v\",\"\")","v":""},null,"v",null,null,null,null,0,0,null,null,null,{"$f":"IF(Data_NaamPersoonVastVrij437=\"\",\"\",Data_NaamPersoonVastVrij437)","v":""},null,null,{"$f":"IF(Data_BeeindigingsdatumVastVrij437=\"\",\"\",Data_BeeindigingsdatumVastVrij437)","v":""},null,null,{"$f":"IF(Data_LoonkostenVastVrij437=\"\",\"\",Data_LoonkostenVastVrij437)","v":""},null,{"$f":"IF(Data_PersoonAanUitVastVrij437=-1,\"v\",\"\")","v":""},null,"v",null,null,null,null,0,0,null,{"$f":"IF(Data_NaamPersoonVastOntslag437=\"\",\"\",Data_NaamPersoonVastOntslag437)","v":""},null,null,{"$f":"IF(Data_BeeindigingsdatumVastOntslag437=\"\",\"\",Data_BeeindigingsdatumVastOntslag437)","v":""},null,null,{"$f":"IF(Data_LoonkostenVastOntslag437=\"\",\"\",Data_LoonkostenVastOntslag437)","v":""},null,{"$f":"IF(Data_PersoonAanUitVastOntslag437=-1,\"v\",\"\")","v":""},null,"v",null,null,null,null,0,0]
[null,null,null,null,null,null,null,{"$f":"IF(Data_NaamPersoonNatVerloop438=\"\",\"\",Data_NaamPersoonNatVerloop438)","v":""},null,null,{"$f":"IF(Data_BeeindigingsdatumNatVerloop438=\"\",\"\",Data_BeeindigingsdatumNatVerloop438)","v":""},null,null,{"$f":"IF(Data_LoonkostenNatVerloop438=\"\",\"\",Data_LoonkostenNatVerloop438)","v":""},null,"v",null,"v",null,null,null,null,0,"",null,null,null,null,null,null,null,null,{"$f":"IF(Data_NaamPersoonTijd438=\"\",\"\",Data_NaamPersoonTijd438)","v":""},null,null,{"$f":"IF(Data_BeeindigingsdatumTijd438=\"\",\"\",Data_BeeindigingsdatumTijd438)","v":""},null,null,{"$f":"IF(Data_LoonkostenTijd438=\"\",\"\",Data_LoonkostenTijd438)","v":""},null,{"$f":"IF(Data_PersoonAanUitTijd438=-1,\"v\",\"\")","v":""},null,"v",null,null,null,null,0,0,null,null,null,{"$f":"IF(Data_NaamPersoonVastVrij438=\"\",\"\",Data_NaamPersoonVastVrij438)","v":""},null,null,{"$f":"IF(Data_BeeindigingsdatumVastVrij438=\"\",\"\",Data_BeeindigingsdatumVastVrij438)","v":""},null,null,{"$f":"IF(Data_LoonkostenVastVrij438=\"\",\"\",Data_LoonkostenVastVrij438)","v":""},null,{"$f":"IF(Data_PersoonAanUitVastVrij438=-1,\"v\",\"\")","v":""},null,"v",null,null,null,null,0,0,null,{"$f":"IF(Data_NaamPersoonVastOntslag438=\"\",\"\",Data_NaamPersoonVastOntslag438)","v":""},null,null,{"$f":"IF(Data_BeeindigingsdatumVastOntslag438=\"\",\"\",Data_BeeindigingsdatumVastOntslag438)","v":""},null,null,{"$f":"IF(Data_LoonkostenVastOntslag438=\"\",\"\",Data_LoonkostenVastOntslag438)","v":""},null,{"$f":"IF(Data_PersoonAanUitVastOntslag438=-1,\"v\",\"\")","v":""},null,"v",null,null,null,null,0,0]
[null,null,null,null,null,null,null,{"$f":"IF(Data_NaamPersoonNatVerloop439=\"\",\"\",Data_NaamPersoonNatVerloop439)","v":""},null,null,{"$f":"IF(Data_BeeindigingsdatumNatVerloop439=\"\",\"\",Data_BeeindigingsdatumNatVerloop439)","v":""},null,null,{"$f":"IF(Data_LoonkostenNatVerloop439=\"\",\"\",Data_LoonkostenNatVerloop439)","v":""},null,"v",null,"v",null,null,null,null,0,"",null,null,null,null,null,null,null,null,{"$f":"IF(Data_NaamPersoonTijd439=\"\",\"\",Data_NaamPersoonTijd439)","v":""},null,null,{"$f":"IF(Data_BeeindigingsdatumTijd439=\"\",\"\",Data_BeeindigingsdatumTijd439)","v":""},null,null,{"$f":"IF(Data_LoonkostenTijd439=\"\",\"\",Data_LoonkostenTijd439)","v":""},null,{"$f":"IF(Data_PersoonAanUitTijd439=-1,\"v\",\"\")","v":""},null,"v",null,null,null,null,0,0,null,null,null,{"$f":"IF(Data_NaamPersoonVastVrij439=\"\",\"\",Data_NaamPersoonVastVrij439)","v":""},null,null,{"$f":"IF(Data_BeeindigingsdatumVastVrij439=\"\",\"\",Data_BeeindigingsdatumVastVrij439)","v":""},null,null,{"$f":"IF(Data_LoonkostenVastVrij439=\"\",\"\",Data_LoonkostenVastVrij439)","v":""},null,{"$f":"IF(Data_PersoonAanUitVastVrij439=-1,\"v\",\"\")","v":""},null,"v",null,null,null,null,0,0,null,{"$f":"IF(Data_NaamPersoonVastOntslag439=\"\",\"\",Data_NaamPersoonVastOntslag439)","v":""},null,null,{"$f":"IF(Data_BeeindigingsdatumVastOntslag439=\"\",\"\",Data_BeeindigingsdatumVastOntslag439)","v":""},null,null,{"$f":"IF(Data_LoonkostenVastOntslag439=\"\",\"\",Data_LoonkostenVastOntslag439)","v":""},null,{"$f":"IF(Data_PersoonAanUitVastOntslag439=-1,\"v\",\"\")","v":""},null,"v",null,null,null,null,0,0]
[null,null,null,null,null,null,null,{"$f":"IF(Data_NaamPersoonNatVerloop440=\"\",\"\",Data_NaamPersoonNatVerloop440)","v":""},null,null,{"$f":"IF(Data_BeeindigingsdatumNatVerloop440=\"\",\"\",Data_BeeindigingsdatumNatVerloop440)","v":""},null,null,{"$f":"IF(Data_LoonkostenNatVerloop440=\"\",\"\",Data_LoonkostenNatVerloop440)","v":""},null,"v",null,"v",null,null,null,null,0,"",null,null,null,null,null,null,null,null,{"$f":"IF(Data_NaamPersoonTijd440=\"\",\"\",Data_NaamPersoonTijd440)","v":""},null,null,{"$f":"IF(Data_BeeindigingsdatumTijd440=\"\",\"\",Data_BeeindigingsdatumTijd440)","v":""},null,null,{"$f":"IF(Data_LoonkostenTijd440=\"\",\"\",Data_LoonkostenTijd440)","v":""},null,{"$f":"IF(Data_PersoonAanUitTijd440=-1,\"v\",\"\")","v":""},null,"v",null,null,null,null,0,0,null,null,null,{"$f":"IF(Data_NaamPersoonVastVrij440=\"\",\"\",Data_NaamPersoonVastVrij440)","v":""},null,null,{"$f":"IF(Data_BeeindigingsdatumVastVrij440=\"\",\"\",Data_BeeindigingsdatumVastVrij440)","v":""},null,null,{"$f":"IF(Data_LoonkostenVastVrij440=\"\",\"\",Data_LoonkostenVastVrij440)","v":""},null,{"$f":"IF(Data_PersoonAanUitVastVrij440=-1,\"v\",\"\")","v":""},null,"v",null,null,null,null,0,0,null,{"$f":"IF(Data_NaamPersoonVastOntslag440=\"\",\"\",Data_NaamPersoonVastOntslag440)","v":""},null,null,{"$f":"IF(Data_BeeindigingsdatumVastOntslag440=\"\",\"\",Data_BeeindigingsdatumVastOntslag440)","v":""},null,null,{"$f":"IF(Data_LoonkostenVastOntslag440=\"\",\"\",Data_LoonkostenVastOntslag440)","v":""},null,{"$f":"IF(Data_PersoonAanUitVastOntslag440=-1,\"v\",\"\")","v":""},null,"v",null,null,null,null,0,0]
[null,null,null,null,null,null,null,{"$f":"IF(Data_NaamPersoonNatVerloop441=\"\",\"\",Data_NaamPersoonNatVerloop441)","v":""},null,null,{"$f":"IF(Data_BeeindigingsdatumNatVerloop441=\"\",\"\",Data_BeeindigingsdatumNatVerloop441)","v":""},null,null,{"$f":"IF(Data_LoonkostenNatVerloop441=\"\",\"\",Data_LoonkostenNatVerloop441)","v":""},null,"v",null,"v",null,null,null,null,0,"",null,null,null,null,null,null,null,null,{"$f":"IF(Data_NaamPersoonTijd441=\"\",\"\",Data_NaamPersoonTijd441)","v":""},null,null,{"$f":"IF(Data_BeeindigingsdatumTijd441=\"\",\"\",Data_BeeindigingsdatumTijd441)","v":""},null,null,{"$f":"IF(Data_LoonkostenTijd441=\"\",\"\",Data_LoonkostenTijd441)","v":""},null,{"$f":"IF(Data_PersoonAanUitTijd441=-1,\"v\",\"\")","v":""},null,"v",null,null,null,null,0,0,null,null,null,{"$f":"IF(Data_NaamPersoonVastVrij441=\"\",\"\",Data_NaamPersoonVastVrij441)","v":""},null,null,{"$f":"IF(Data_BeeindigingsdatumVastVrij441=\"\",\"\",Data_BeeindigingsdatumVastVrij441)","v":""},null,null,{"$f":"IF(Data_LoonkostenVastVrij441=\"\",\"\",Data_LoonkostenVastVrij441)","v":""},null,{"$f":"IF(Data_PersoonAanUitVastVrij441=-1,\"v\",\"\")","v":""},null,"v",null,null,null,null,0,0,null,{"$f":"IF(Data_NaamPersoonVastOntslag441=\"\",\"\",Data_NaamPersoonVastOntslag441)","v":""},null,null,{"$f":"IF(Data_BeeindigingsdatumVastOntslag441=\"\",\"\",Data_BeeindigingsdatumVastOntslag441)","v":""},null,null,{"$f":"IF(Data_LoonkostenVastOntslag441=\"\",\"\",Data_LoonkostenVastOntslag441)","v":""},null,{"$f":"IF(Data_PersoonAanUitVastOntslag441=-1,\"v\",\"\")","v":""},null,"v",null,null,null,null,0,0]
[null,null,null,null,null,null,null,{"$f":"IF(Data_NaamPersoonNatVerloop442=\"\",\"\",Data_NaamPersoonNatVerloop442)","v":""},null,null,{"$f":"IF(Data_BeeindigingsdatumNatVerloop442=\"\",\"\",Data_BeeindigingsdatumNatVerloop442)","v":""},null,null,{"$f":"IF(Data_LoonkostenNatVerloop442=\"\",\"\",Data_LoonkostenNatVerloop442)","v":""},null,"v",null,"v",null,null,null,null,0,"",null,null,null,null,null,null,null,null,{"$f":"IF(Data_NaamPersoonTijd442=\"\",\"\",Data_NaamPersoonTijd442)","v":""},null,null,{"$f":"IF(Data_BeeindigingsdatumTijd442=\"\",\"\",Data_BeeindigingsdatumTijd442)","v":""},null,null,{"$f":"IF(Data_LoonkostenTijd442=\"\",\"\",Data_LoonkostenTijd442)","v":""},null,{"$f":"IF(Data_PersoonAanUitTijd442=-1,\"v\",\"\")","v":""},null,"v",null,null,null,null,0,0,null,null,null,{"$f":"IF(Data_NaamPersoonVastVrij442=\"\",\"\",Data_NaamPersoonVastVrij442)","v":""},null,null,{"$f":"IF(Data_BeeindigingsdatumVastVrij442=\"\",\"\",Data_BeeindigingsdatumVastVrij442)","v":""},null,null,{"$f":"IF(Data_LoonkostenVastVrij442=\"\",\"\",Data_LoonkostenVastVrij442)","v":""},null,{"$f":"IF(Data_PersoonAanUitVastVrij442=-1,\"v\",\"\")","v":""},null,"v",null,null,null,null,0,0,null,{"$f":"IF(Data_NaamPersoonVastOntslag442=\"\",\"\",Data_NaamPersoonVastOntslag442)","v":""},null,null,{"$f":"IF(Data_BeeindigingsdatumVastOntslag442=\"\",\"\",Data_BeeindigingsdatumVastOntslag442)","v":""},null,null,{"$f":"IF(Data_LoonkostenVastOntslag442=\"\",\"\",Data_LoonkostenVastOntslag442)","v":""},null,{"$f":"IF(Data_PersoonAanUitVastOntslag442=-1,\"v\",\"\")","v":""},null,"v",null,null,null,null,0,0]
[null,null,null,null,null,null,null,{"$f":"IF(Data_NaamPersoonNatVerloop443=\"\",\"\",Data_NaamPersoonNatVerloop443)","v":""},null,null,{"$f":"IF(Data_BeeindigingsdatumNatVerloop443=\"\",\"\",Data_BeeindigingsdatumNatVerloop443)","v":""},null,null,{"$f":"IF(Data_LoonkostenNatVerloop443=\"\",\"\",Data_LoonkostenNatVerloop443)","v":""},null,"v",null,"v",null,null,null,null,0,"",null,null,null,null,null,null,null,null,{"$f":"IF(Data_NaamPersoonTijd443=\"\",\"\",Data_NaamPersoonTijd443)","v":""},null,null,{"$f":"IF(Data_BeeindigingsdatumTijd443=\"\",\"\",Data_BeeindigingsdatumTijd443)","v":""},null,null,{"$f":"IF(Data_LoonkostenTijd443=\"\",\"\",Data_LoonkostenTijd443)","v":""},null,{"$f":"IF(Data_PersoonAanUitTijd443=-1,\"v\",\"\")","v":""},null,"v",null,null,null,null,0,0,null,null,null,{"$f":"IF(Data_NaamPersoonVastVrij443=\"\",\"\",Data_NaamPersoonVastVrij443)","v":""},null,null,{"$f":"IF(Data_BeeindigingsdatumVastVrij443=\"\",\"\",Data_BeeindigingsdatumVastVrij443)","v":""},null,null,{"$f":"IF(Data_LoonkostenVastVrij443=\"\",\"\",Data_LoonkostenVastVrij443)","v":""},null,{"$f":"IF(Data_PersoonAanUitVastVrij443=-1,\"v\",\"\")","v":""},null,"v",null,null,null,null,0,0,null,{"$f":"IF(Data_NaamPersoonVastOntslag443=\"\",\"\",Data_NaamPersoonVastOntslag443)","v":""},null,null,{"$f":"IF(Data_BeeindigingsdatumVastOntslag443=\"\",\"\",Data_BeeindigingsdatumVastOntslag443)","v":""},null,null,{"$f":"IF(Data_LoonkostenVastOntslag443=\"\",\"\",Data_LoonkostenVastOntslag443)","v":""},null,{"$f":"IF(Data_PersoonAanUitVastOntslag443=-1,\"v\",\"\")","v":""},null,"v",null,null,null,null,0,0]
[null,null,null,null,null,null,null,{"$f":"IF(Data_NaamPersoonNatVerloop444=\"\",\"\",Data_NaamPersoonNatVerloop444)","v":""},null,null,{"$f":"IF(Data_BeeindigingsdatumNatVerloop444=\"\",\"\",Data_BeeindigingsdatumNatVerloop444)","v":""},null,null,{"$f":"IF(Data_LoonkostenNatVerloop444=\"\",\"\",Data_LoonkostenNatVerloop444)","v":""},null,"v",null,"v",null,null,null,null,0,"",null,null,null,null,null,null,null,null,{"$f":"IF(Data_NaamPersoonTijd444=\"\",\"\",Data_NaamPersoonTijd444)","v":""},null,null,{"$f":"IF(Data_BeeindigingsdatumTijd444=\"\",\"\",Data_BeeindigingsdatumTijd444)","v":""},null,null,{"$f":"IF(Data_LoonkostenTijd444=\"\",\"\",Data_LoonkostenTijd444)","v":""},null,{"$f":"IF(Data_PersoonAanUitTijd444=-1,\"v\",\"\")","v":""},null,"v",null,null,null,null,0,0,null,null,null,{"$f":"IF(Data_NaamPersoonVastVrij444=\"\",\"\",Data_NaamPersoonVastVrij444)","v":""},null,null,{"$f":"IF(Data_BeeindigingsdatumVastVrij444=\"\",\"\",Data_BeeindigingsdatumVastVrij444)","v":""},null,null,{"$f":"IF(Data_LoonkostenVastVrij444=\"\",\"\",Data_LoonkostenVastVrij444)","v":""},null,{"$f":"IF(Data_PersoonAanUitVastVrij444=-1,\"v\",\"\")","v":""},null,"v",null,null,null,null,0,0,null,{"$f":"IF(Data_NaamPersoonVastOntslag444=\"\",\"\",Data_NaamPersoonVastOntslag444)","v":""},null,null,{"$f":"IF(Data_BeeindigingsdatumVastOntslag444=\"\",\"\",Data_BeeindigingsdatumVastOntslag444)","v":""},null,null,{"$f":"IF(Data_LoonkostenVastOntslag444=\"\",\"\",Data_LoonkostenVastOntslag444)","v":""},null,{"$f":"IF(Data_PersoonAanUitVastOntslag444=-1,\"v\",\"\")","v":""},null,"v",null,null,null,null,0,0]
[null,null,null,null,null,null,null,{"$f":"IF(Data_NaamPersoonNatVerloop445=\"\",\"\",Data_NaamPersoonNatVerloop445)","v":""},null,null,{"$f":"IF(Data_BeeindigingsdatumNatVerloop445=\"\",\"\",Data_BeeindigingsdatumNatVerloop445)","v":""},null,null,{"$f":"IF(Data_LoonkostenNatVerloop445=\"\",\"\",Data_LoonkostenNatVerloop445)","v":""},null,"v",null,"v",null,null,null,null,0,"",null,null,null,null,null,null,null,null,{"$f":"IF(Data_NaamPersoonTijd445=\"\",\"\",Data_NaamPersoonTijd445)","v":""},null,null,{"$f":"IF(Data_BeeindigingsdatumTijd445=\"\",\"\",Data_BeeindigingsdatumTijd445)","v":""},null,null,{"$f":"IF(Data_LoonkostenTijd445=\"\",\"\",Data_LoonkostenTijd445)","v":""},null,{"$f":"IF(Data_PersoonAanUitTijd445=-1,\"v\",\"\")","v":""},null,"v",null,null,null,null,0,0,null,null,null,{"$f":"IF(Data_NaamPersoonVastVrij445=\"\",\"\",Data_NaamPersoonVastVrij445)","v":""},null,null,{"$f":"IF(Data_BeeindigingsdatumVastVrij445=\"\",\"\",Data_BeeindigingsdatumVastVrij445)","v":""},null,null,{"$f":"IF(Data_LoonkostenVastVrij445=\"\",\"\",Data_LoonkostenVastVrij445)","v":""},null,{"$f":"IF(Data_PersoonAanUitVastVrij445=-1,\"v\",\"\")","v":""},null,"v",null,null,null,null,0,0,null,{"$f":"IF(Data_NaamPersoonVastOntslag445=\"\",\"\",Data_NaamPersoonVastOntslag445)","v":""},null,null,{"$f":"IF(Data_BeeindigingsdatumVastOntslag445=\"\",\"\",Data_BeeindigingsdatumVastOntslag445)","v":""},null,null,{"$f":"IF(Data_LoonkostenVastOntslag445=\"\",\"\",Data_LoonkostenVastOntslag445)","v":""},null,{"$f":"IF(Data_PersoonAanUitVastOntslag445=-1,\"v\",\"\")","v":""},null,"v",null,null,null,null,0,0]
[null,null,null,null,null,null,null,{"$f":"IF(Data_NaamPersoonNatVerloop446=\"\",\"\",Data_NaamPersoonNatVerloop446)","v":""},null,null,{"$f":"IF(Data_BeeindigingsdatumNatVerloop446=\"\",\"\",Data_BeeindigingsdatumNatVerloop446)","v":""},null,null,{"$f":"IF(Data_LoonkostenNatVerloop446=\"\",\"\",Data_LoonkostenNatVerloop446)","v":""},null,"v",null,"v",null,null,null,null,0,"",null,null,null,null,null,null,null,null,{"$f":"IF(Data_NaamPersoonTijd446=\"\",\"\",Data_NaamPersoonTijd446)","v":""},null,null,{"$f":"IF(Data_BeeindigingsdatumTijd446=\"\",\"\",Data_BeeindigingsdatumTijd446)","v":""},null,null,{"$f":"IF(Data_LoonkostenTijd446=\"\",\"\",Data_LoonkostenTijd446)","v":""},null,{"$f":"IF(Data_PersoonAanUitTijd446=-1,\"v\",\"\")","v":""},null,"v",null,null,null,null,0,0,null,null,null,{"$f":"IF(Data_NaamPersoonVastVrij446=\"\",\"\",Data_NaamPersoonVastVrij446)","v":""},null,null,{"$f":"IF(Data_BeeindigingsdatumVastVrij446=\"\",\"\",Data_BeeindigingsdatumVastVrij446)","v":""},null,null,{"$f":"IF(Data_LoonkostenVastVrij446=\"\",\"\",Data_LoonkostenVastVrij446)","v":""},null,{"$f":"IF(Data_PersoonAanUitVastVrij446=-1,\"v\",\"\")","v":""},null,"v",null,null,null,null,0,0,null,{"$f":"IF(Data_NaamPersoonVastOntslag446=\"\",\"\",Data_NaamPersoonVastOntslag446)","v":""},null,null,{"$f":"IF(Data_BeeindigingsdatumVastOntslag446=\"\",\"\",Data_BeeindigingsdatumVastOntslag446)","v":""},null,null,{"$f":"IF(Data_LoonkostenVastOntslag446=\"\",\"\",Data_LoonkostenVastOntslag446)","v":""},null,{"$f":"IF(Data_PersoonAanUitVastOntslag446=-1,\"v\",\"\")","v":""},null,"v",null,null,null,null,0,0]
[null,null,null,null,null,null,null,{"$f":"IF(Data_NaamPersoonNatVerloop447=\"\",\"\",Data_NaamPersoonNatVerloop447)","v":""},null,null,{"$f":"IF(Data_BeeindigingsdatumNatVerloop447=\"\",\"\",Data_BeeindigingsdatumNatVerloop447)","v":""},null,null,{"$f":"IF(Data_LoonkostenNatVerloop447=\"\",\"\",Data_LoonkostenNatVerloop447)","v":""},null,"v",null,"v",null,null,null,null,0,"",null,null,null,null,null,null,null,null,{"$f":"IF(Data_NaamPersoonTijd447=\"\",\"\",Data_NaamPersoonTijd447)","v":""},null,null,{"$f":"IF(Data_BeeindigingsdatumTijd447=\"\",\"\",Data_BeeindigingsdatumTijd447)","v":""},null,null,{"$f":"IF(Data_LoonkostenTijd447=\"\",\"\",Data_LoonkostenTijd447)","v":""},null,{"$f":"IF(Data_PersoonAanUitTijd447=-1,\"v\",\"\")","v":""},null,"v",null,null,null,null,0,0,null,null,null,{"$f":"IF(Data_NaamPersoonVastVrij447=\"\",\"\",Data_NaamPersoonVastVrij447)","v":""},null,null,{"$f":"IF(Data_BeeindigingsdatumVastVrij447=\"\",\"\",Data_BeeindigingsdatumVastVrij447)","v":""},null,null,{"$f":"IF(Data_LoonkostenVastVrij447=\"\",\"\",Data_LoonkostenVastVrij447)","v":""},null,{"$f":"IF(Data_PersoonAanUitVastVrij447=-1,\"v\",\"\")","v":""},null,"v",null,null,null,null,0,0,null,{"$f":"IF(Data_NaamPersoonVastOntslag447=\"\",\"\",Data_NaamPersoonVastOntslag447)","v":""},null,null,{"$f":"IF(Data_BeeindigingsdatumVastOntslag447=\"\",\"\",Data_BeeindigingsdatumVastOntslag447)","v":""},null,null,{"$f":"IF(Data_LoonkostenVastOntslag447=\"\",\"\",Data_LoonkostenVastOntslag447)","v":""},null,{"$f":"IF(Data_PersoonAanUitVastOntslag447=-1,\"v\",\"\")","v":""},null,"v",null,null,null,null,0,0]
[null,null,null,null,null,null,null,{"$f":"IF(Data_NaamPersoonNatVerloop448=\"\",\"\",Data_NaamPersoonNatVerloop448)","v":""},null,null,{"$f":"IF(Data_BeeindigingsdatumNatVerloop448=\"\",\"\",Data_BeeindigingsdatumNatVerloop448)","v":""},null,null,{"$f":"IF(Data_LoonkostenNatVerloop448=\"\",\"\",Data_LoonkostenNatVerloop448)","v":""},null,"v",null,"v",null,null,null,null,0,"",null,null,null,null,null,null,null,null,{"$f":"IF(Data_NaamPersoonTijd448=\"\",\"\",Data_NaamPersoonTijd448)","v":""},null,null,{"$f":"IF(Data_BeeindigingsdatumTijd448=\"\",\"\",Data_BeeindigingsdatumTijd448)","v":""},null,null,{"$f":"IF(Data_LoonkostenTijd448=\"\",\"\",Data_LoonkostenTijd448)","v":""},null,{"$f":"IF(Data_PersoonAanUitTijd448=-1,\"v\",\"\")","v":""},null,"v",null,null,null,null,0,0,null,null,null,{"$f":"IF(Data_NaamPersoonVastVrij448=\"\",\"\",Data_NaamPersoonVastVrij448)","v":""},null,null,{"$f":"IF(Data_BeeindigingsdatumVastVrij448=\"\",\"\",Data_BeeindigingsdatumVastVrij448)","v":""},null,null,{"$f":"IF(Data_LoonkostenVastVrij448=\"\",\"\",Data_LoonkostenVastVrij448)","v":""},null,{"$f":"IF(Data_PersoonAanUitVastVrij448=-1,\"v\",\"\")","v":""},null,"v",null,null,null,null,0,0,null,{"$f":"IF(Data_NaamPersoonVastOntslag448=\"\",\"\",Data_NaamPersoonVastOntslag448)","v":""},null,null,{"$f":"IF(Data_BeeindigingsdatumVastOntslag448=\"\",\"\",Data_BeeindigingsdatumVastOntslag448)","v":""},null,null,{"$f":"IF(Data_LoonkostenVastOntslag448=\"\",\"\",Data_LoonkostenVastOntslag448)","v":""},null,{"$f":"IF(Data_PersoonAanUitVastOntslag448=-1,\"v\",\"\")","v":""},null,"v",null,null,null,null,0,0]
[null,null,null,null,null,null,null,{"$f":"IF(Data_NaamPersoonNatVerloop449=\"\",\"\",Data_NaamPersoonNatVerloop449)","v":""},null,null,{"$f":"IF(Data_BeeindigingsdatumNatVerloop449=\"\",\"\",Data_BeeindigingsdatumNatVerloop449)","v":""},null,null,{"$f":"IF(Data_LoonkostenNatVerloop449=\"\",\"\",Data_LoonkostenNatVerloop449)","v":""},null,"v",null,"v",null,null,null,null,{"$f":"IF($AO472=\"v\",M472,T472)","v":0},"",null,null,null,null,null,null,null,null,{"$f":"IF(Data_NaamPersoonTijd449=\"\",\"\",Data_NaamPersoonTijd449)","v":""},null,null,{"$f":"IF(Data_BeeindigingsdatumTijd449=\"\",\"\",Data_BeeindigingsdatumTijd449)","v":""},null,null,{"$f":"IF(Data_LoonkostenTijd449=\"\",\"\",Data_LoonkostenTijd449)","v":""},null,{"$f":"IF(Data_PersoonAanUitTijd449=-1,\"v\",\"\")","v":""},null,"v",null,null,null,null,{"$f":"IF($AO472=\"v\",AL472,AS472)","v":0},{"$f":"IF(AND($AO472=\"v\",$AQ472=\"v\"),AM472,IF(AND($AO472=\"v\",$AQ472<>\"v\"),AT472,0))","v":0},null,null,null,{"$f":"IF(Data_NaamPersoonVastVrij449=\"\",\"\",Data_NaamPersoonVastVrij449)","v":""},null,null,{"$f":"IF(Data_BeeindigingsdatumVastVrij449=\"\",\"\",Data_BeeindigingsdatumVastVrij449)","v":""},null,null,{"$f":"IF(Data_LoonkostenVastVrij449=\"\",\"\",Data_LoonkostenVastVrij449)","v":""},null,{"$f":"IF(Data_PersoonAanUitVastVrij449=-1,\"v\",\"\")","v":""},null,"v",null,null,null,null,{"$f":"IF($BI472=\"v\",BF472,BM472)","v":0},{"$f":"IF(AND($BI472=\"v\",$BK472=\"v\"),BG472,IF(AND($BI472=\"v\",$BK472<>\"v\"),BN472,0))","v":0},null,{"$f":"IF(Data_NaamPersoonVastOntslag449=\"\",\"\",Data_NaamPersoonVastOntslag449)","v":""},null,null,{"$f":"IF(Data_BeeindigingsdatumVastOntslag449=\"\",\"\",Data_BeeindigingsdatumVastOntslag449)","v":""},null,null,{"$f":"IF(Data_LoonkostenVastOntslag449=\"\",\"\",Data_LoonkostenVastOntslag449)","v":""},null,{"$f":"IF(Data_PersoonAanUitVastOntslag449=-1,\"v\",\"\")","v":""},null,"v",null,null,null,null,0,{"$f":"IF(AND($CA472=\"v\",$CC472=\"v\"),BY472,IF(AND($CA472=\"v\",$CC472<>\"v\"),CF471,0))","v":0}]
[null,null,null,null,null,null,null,{"$f":"IF(Data_NaamPersoonNatVerloop450=\"\",\"\",Data_NaamPersoonNatVerloop450)","v":""},null,null,{"$f":"IF(Data_BeeindigingsdatumNatVerloop450=\"\",\"\",Data_BeeindigingsdatumNatVerloop450)","v":""},null,null,{"$f":"IF(Data_LoonkostenNatVerloop450=\"\",\"\",Data_LoonkostenNatVerloop450)","v":""},null,"v",null,"v",null,null,null,null,0,{"$f":"IF(AND($P473=\"v\",$R473=\"v\"),N473,IF(AND($P473=\"v\",$R473<>\"v\"),U473,0))","v":""},null,null,null,null,null,null,null,null,{"$f":"IF(Data_NaamPersoonTijd450=\"\",\"\",Data_NaamPersoonTijd450)","v":""},null,null,{"$f":"IF(Data_BeeindigingsdatumTijd450=\"\",\"\",Data_BeeindigingsdatumTijd450)","v":""},null,null,{"$f":"IF(Data_LoonkostenTijd450=\"\",\"\",Data_LoonkostenTijd450)","v":""},null,{"$f":"IF(Data_PersoonAanUitTijd450=-1,\"v\",\"\")","v":""},null,"v",null,null,null,null,0,0,null,null,null,{"$f":"IF(Data_NaamPersoonVastVrij450=\"\",\"\",Data_NaamPersoonVastVrij450)","v":""},null,null,{"$f":"IF(Data_BeeindigingsdatumVastVrij450=\"\",\"\",Data_BeeindigingsdatumVastVrij450)","v":""},null,null,{"$f":"IF(Data_LoonkostenVastVrij450=\"\",\"\",Data_LoonkostenVastVrij450)","v":""},null,{"$f":"IF(Data_PersoonAanUitVastVrij450=-1,\"v\",\"\")","v":""},null,"v",null,null,null,null,0,0,null,{"$f":"IF(Data_NaamPersoonVastOntslag450=\"\",\"\",Data_NaamPersoonVastOntslag450)","v":""},null,null,{"$f":"IF(Data_BeeindigingsdatumVastOntslag450=\"\",\"\",Data_BeeindigingsdatumVastOntslag450)","v":""},null,null,{"$f":"IF(Data_LoonkostenVastOntslag450=\"\",\"\",Data_LoonkostenVastOntslag450)","v":""},null,{"$f":"IF(Data_PersoonAanUitVastOntslag450=-1,\"v\",\"\")","v":""},null,"v",null,null,null,null,{"$f":"IF($CA473=\"v\",BX473,CE473)","v":0},0]
[null,null,null,null,null,null,null,{"$f":"IF(Data_NaamPersoonNatVerloop451=\"\",\"\",Data_NaamPersoonNatVerloop451)","v":""},null,null,{"$f":"IF(Data_BeeindigingsdatumNatVerloop451=\"\",\"\",Data_BeeindigingsdatumNatVerloop451)","v":""},null,null,{"$f":"IF(Data_LoonkostenNatVerloop451=\"\",\"\",Data_LoonkostenNatVerloop451)","v":""},null,"v",null,"v",null,null,null,null,0,"",null,null,null,null,null,null,null,null,{"$f":"IF(Data_NaamPersoonTijd451=\"\",\"\",Data_NaamPersoonTijd451)","v":""},null,null,{"$f":"IF(Data_BeeindigingsdatumTijd451=\"\",\"\",Data_BeeindigingsdatumTijd451)","v":""},null,null,{"$f":"IF(Data_LoonkostenTijd451=\"\",\"\",Data_LoonkostenTijd451)","v":""},null,{"$f":"IF(Data_PersoonAanUitTijd451=-1,\"v\",\"\")","v":""},null,"v",null,null,null,null,0,0,null,null,null,{"$f":"IF(Data_NaamPersoonVastVrij451=\"\",\"\",Data_NaamPersoonVastVrij451)","v":""},null,null,{"$f":"IF(Data_BeeindigingsdatumVastVrij451=\"\",\"\",Data_BeeindigingsdatumVastVrij451)","v":""},null,null,{"$f":"IF(Data_LoonkostenVastVrij451=\"\",\"\",Data_LoonkostenVastVrij451)","v":""},null,{"$f":"IF(Data_PersoonAanUitVastVrij451=-1,\"v\",\"\")","v":""},null,"v",null,null,null,null,0,0,null,{"$f":"IF(Data_NaamPersoonVastOntslag451=\"\",\"\",Data_NaamPersoonVastOntslag451)","v":""},null,null,{"$f":"IF(Data_BeeindigingsdatumVastOntslag451=\"\",\"\",Data_BeeindigingsdatumVastOntslag451)","v":""},null,null,{"$f":"IF(Data_LoonkostenVastOntslag451=\"\",\"\",Data_LoonkostenVastOntslag451)","v":""},null,{"$f":"IF(Data_PersoonAanUitVastOntslag451=-1,\"v\",\"\")","v":""},null,"v",null,null,null,null,0,0]
[null,null,null,null,null,null,null,{"$f":"IF(Data_NaamPersoonNatVerloop452=\"\",\"\",Data_NaamPersoonNatVerloop452)","v":""},null,null,{"$f":"IF(Data_BeeindigingsdatumNatVerloop452=\"\",\"\",Data_BeeindigingsdatumNatVerloop452)","v":""},null,null,{"$f":"IF(Data_LoonkostenNatVerloop452=\"\",\"\",Data_LoonkostenNatVerloop452)","v":""},null,"v",null,"v",null,null,null,null,0,"",null,null,null,null,null,null,null,null,{"$f":"IF(Data_NaamPersoonTijd452=\"\",\"\",Data_NaamPersoonTijd452)","v":""},null,null,{"$f":"IF(Data_BeeindigingsdatumTijd452=\"\",\"\",Data_BeeindigingsdatumTijd452)","v":""},null,null,{"$f":"IF(Data_LoonkostenTijd452=\"\",\"\",Data_LoonkostenTijd452)","v":""},null,{"$f":"IF(Data_PersoonAanUitTijd452=-1,\"v\",\"\")","v":""},null,"v",null,null,null,null,0,0,null,null,null,{"$f":"IF(Data_NaamPersoonVastVrij452=\"\",\"\",Data_NaamPersoonVastVrij452)","v":""},null,null,{"$f":"IF(Data_BeeindigingsdatumVastVrij452=\"\",\"\",Data_BeeindigingsdatumVastVrij452)","v":""},null,null,{"$f":"IF(Data_LoonkostenVastVrij452=\"\",\"\",Data_LoonkostenVastVrij452)","v":""},null,{"$f":"IF(Data_PersoonAanUitVastVrij452=-1,\"v\",\"\")","v":""},null,"v",null,null,null,null,0,0,null,{"$f":"IF(Data_NaamPersoonVastOntslag452=\"\",\"\",Data_NaamPersoonVastOntslag452)","v":""},null,null,{"$f":"IF(Data_BeeindigingsdatumVastOntslag452=\"\",\"\",Data_BeeindigingsdatumVastOntslag452)","v":""},null,null,{"$f":"IF(Data_LoonkostenVastOntslag452=\"\",\"\",Data_LoonkostenVastOntslag452)","v":""},null,{"$f":"IF(Data_PersoonAanUitVastOntslag452=-1,\"v\",\"\")","v":""},null,"v",null,null,null,null,0,0]
[null,null,null,null,null,null,null,{"$f":"IF(Data_NaamPersoonNatVerloop453=\"\",\"\",Data_NaamPersoonNatVerloop453)","v":""},null,null,{"$f":"IF(Data_BeeindigingsdatumNatVerloop453=\"\",\"\",Data_BeeindigingsdatumNatVerloop453)","v":""},null,null,{"$f":"IF(Data_LoonkostenNatVerloop453=\"\",\"\",Data_LoonkostenNatVerloop453)","v":""},null,"v",null,"v",null,null,null,null,0,"",null,null,null,null,null,null,null,null,{"$f":"IF(Data_NaamPersoonTijd453=\"\",\"\",Data_NaamPersoonTijd453)","v":""},null,null,{"$f":"IF(Data_BeeindigingsdatumTijd453=\"\",\"\",Data_BeeindigingsdatumTijd453)","v":""},null,null,{"$f":"IF(Data_LoonkostenTijd453=\"\",\"\",Data_LoonkostenTijd453)","v":""},null,{"$f":"IF(Data_PersoonAanUitTijd453=-1,\"v\",\"\")","v":""},null,"v",null,null,null,null,0,0,null,null,null,{"$f":"IF(Data_NaamPersoonVastVrij453=\"\",\"\",Data_NaamPersoonVastVrij453)","v":""},null,null,{"$f":"IF(Data_BeeindigingsdatumVastVrij453=\"\",\"\",Data_BeeindigingsdatumVastVrij453)","v":""},null,null,{"$f":"IF(Data_LoonkostenVastVrij453=\"\",\"\",Data_LoonkostenVastVrij453)","v":""},null,{"$f":"IF(Data_PersoonAanUitVastVrij453=-1,\"v\",\"\")","v":""},null,"v",null,null,null,null,0,0,null,{"$f":"IF(Data_NaamPersoonVastOntslag453=\"\",\"\",Data_NaamPersoonVastOntslag453)","v":""},null,null,{"$f":"IF(Data_BeeindigingsdatumVastOntslag453=\"\",\"\",Data_BeeindigingsdatumVastOntslag453)","v":""},null,null,{"$f":"IF(Data_LoonkostenVastOntslag453=\"\",\"\",Data_LoonkostenVastOntslag453)","v":""},null,{"$f":"IF(Data_PersoonAanUitVastOntslag453=-1,\"v\",\"\")","v":""},null,"v",null,null,null,null,0,0]
[null,null,null,null,null,null,null,{"$f":"IF(Data_NaamPersoonNatVerloop454=\"\",\"\",Data_NaamPersoonNatVerloop454)","v":""},null,null,{"$f":"IF(Data_BeeindigingsdatumNatVerloop454=\"\",\"\",Data_BeeindigingsdatumNatVerloop454)","v":""},null,null,{"$f":"IF(Data_LoonkostenNatVerloop454=\"\",\"\",Data_LoonkostenNatVerloop454)","v":""},null,"v",null,"v",null,null,null,null,0,"",null,null,null,null,null,null,null,null,{"$f":"IF(Data_NaamPersoonTijd454=\"\",\"\",Data_NaamPersoonTijd454)","v":""},null,null,{"$f":"IF(Data_BeeindigingsdatumTijd454=\"\",\"\",Data_BeeindigingsdatumTijd454)","v":""},null,null,{"$f":"IF(Data_LoonkostenTijd454=\"\",\"\",Data_LoonkostenTijd454)","v":""},null,{"$f":"IF(Data_PersoonAanUitTijd454=-1,\"v\",\"\")","v":""},null,"v",null,null,null,null,0,0,null,null,null,{"$f":"IF(Data_NaamPersoonVastVrij454=\"\",\"\",Data_NaamPersoonVastVrij454)","v":""},null,null,{"$f":"IF(Data_BeeindigingsdatumVastVrij454=\"\",\"\",Data_BeeindigingsdatumVastVrij454)","v":""},null,null,{"$f":"IF(Data_LoonkostenVastVrij454=\"\",\"\",Data_LoonkostenVastVrij454)","v":""},null,{"$f":"IF(Data_PersoonAanUitVastVrij454=-1,\"v\",\"\")","v":""},null,"v",null,null,null,null,0,0,null,{"$f":"IF(Data_NaamPersoonVastOntslag454=\"\",\"\",Data_NaamPersoonVastOntslag454)","v":""},null,null,{"$f":"IF(Data_BeeindigingsdatumVastOntslag454=\"\",\"\",Data_BeeindigingsdatumVastOntslag454)","v":""},null,null,{"$f":"IF(Data_LoonkostenVastOntslag454=\"\",\"\",Data_LoonkostenVastOntslag454)","v":""},null,{"$f":"IF(Data_PersoonAanUitVastOntslag454=-1,\"v\",\"\")","v":""},null,"v",null,null,null,null,0,0]
[null,null,null,null,null,null,null,{"$f":"IF(Data_NaamPersoonNatVerloop455=\"\",\"\",Data_NaamPersoonNatVerloop455)","v":""},null,null,{"$f":"IF(Data_BeeindigingsdatumNatVerloop455=\"\",\"\",Data_BeeindigingsdatumNatVerloop455)","v":""},null,null,{"$f":"IF(Data_LoonkostenNatVerloop455=\"\",\"\",Data_LoonkostenNatVerloop455)","v":""},null,"v",null,"v",null,null,null,null,0,"",null,null,null,null,null,null,null,null,{"$f":"IF(Data_NaamPersoonTijd455=\"\",\"\",Data_NaamPersoonTijd455)","v":""},null,null,{"$f":"IF(Data_BeeindigingsdatumTijd455=\"\",\"\",Data_BeeindigingsdatumTijd455)","v":""},null,null,{"$f":"IF(Data_LoonkostenTijd455=\"\",\"\",Data_LoonkostenTijd455)","v":""},null,{"$f":"IF(Data_PersoonAanUitTijd455=-1,\"v\",\"\")","v":""},null,"v",null,null,null,null,0,0,null,null,null,{"$f":"IF(Data_NaamPersoonVastVrij455=\"\",\"\",Data_NaamPersoonVastVrij455)","v":""},null,null,{"$f":"IF(Data_BeeindigingsdatumVastVrij455=\"\",\"\",Data_BeeindigingsdatumVastVrij455)","v":""},null,null,{"$f":"IF(Data_LoonkostenVastVrij455=\"\",\"\",Data_LoonkostenVastVrij455)","v":""},null,{"$f":"IF(Data_PersoonAanUitVastVrij455=-1,\"v\",\"\")","v":""},null,"v",null,null,null,null,0,0,null,{"$f":"IF(Data_NaamPersoonVastOntslag455=\"\",\"\",Data_NaamPersoonVastOntslag455)","v":""},null,null,{"$f":"IF(Data_BeeindigingsdatumVastOntslag455=\"\",\"\",Data_BeeindigingsdatumVastOntslag455)","v":""},null,null,{"$f":"IF(Data_LoonkostenVastOntslag455=\"\",\"\",Data_LoonkostenVastOntslag455)","v":""},null,{"$f":"IF(Data_PersoonAanUitVastOntslag455=-1,\"v\",\"\")","v":""},null,"v",null,null,null,null,0,0]
[null,null,null,null,null,null,null,{"$f":"IF(Data_NaamPersoonNatVerloop456=\"\",\"\",Data_NaamPersoonNatVerloop456)","v":""},null,null,{"$f":"IF(Data_BeeindigingsdatumNatVerloop456=\"\",\"\",Data_BeeindigingsdatumNatVerloop456)","v":""},null,null,{"$f":"IF(Data_LoonkostenNatVerloop456=\"\",\"\",Data_LoonkostenNatVerloop456)","v":""},null,"v",null,"v",null,null,null,null,0,"",null,null,null,null,null,null,null,null,{"$f":"IF(Data_NaamPersoonTijd456=\"\",\"\",Data_NaamPersoonTijd456)","v":""},null,null,{"$f":"IF(Data_BeeindigingsdatumTijd456=\"\",\"\",Data_BeeindigingsdatumTijd456)","v":""},null,null,{"$f":"IF(Data_LoonkostenTijd456=\"\",\"\",Data_LoonkostenTijd456)","v":""},null,{"$f":"IF(Data_PersoonAanUitTijd456=-1,\"v\",\"\")","v":""},null,"v",null,null,null,null,0,0,null,null,null,{"$f":"IF(Data_NaamPersoonVastVrij456=\"\",\"\",Data_NaamPersoonVastVrij456)","v":""},null,null,{"$f":"IF(Data_BeeindigingsdatumVastVrij456=\"\",\"\",Data_BeeindigingsdatumVastVrij456)","v":""},null,null,{"$f":"IF(Data_LoonkostenVastVrij456=\"\",\"\",Data_LoonkostenVastVrij456)","v":""},null,{"$f":"IF(Data_PersoonAanUitVastVrij456=-1,\"v\",\"\")","v":""},null,"v",null,null,null,null,0,0,null,{"$f":"IF(Data_NaamPersoonVastOntslag456=\"\",\"\",Data_NaamPersoonVastOntslag456)","v":""},null,null,{"$f":"IF(Data_BeeindigingsdatumVastOntslag456=\"\",\"\",Data_BeeindigingsdatumVastOntslag456)","v":""},null,null,{"$f":"IF(Data_LoonkostenVastOntslag456=\"\",\"\",Data_LoonkostenVastOntslag456)","v":""},null,{"$f":"IF(Data_PersoonAanUitVastOntslag456=-1,\"v\",\"\")","v":""},null,"v",null,null,null,null,0,0]
[null,null,null,null,null,null,null,{"$f":"IF(Data_NaamPersoonNatVerloop457=\"\",\"\",Data_NaamPersoonNatVerloop457)","v":""},null,null,{"$f":"IF(Data_BeeindigingsdatumNatVerloop457=\"\",\"\",Data_BeeindigingsdatumNatVerloop457)","v":""},null,null,{"$f":"IF(Data_LoonkostenNatVerloop457=\"\",\"\",Data_LoonkostenNatVerloop457)","v":""},null,"v",null,"v",null,null,null,null,0,"",null,null,null,null,null,null,null,null,{"$f":"IF(Data_NaamPersoonTijd457=\"\",\"\",Data_NaamPersoonTijd457)","v":""},null,null,{"$f":"IF(Data_BeeindigingsdatumTijd457=\"\",\"\",Data_BeeindigingsdatumTijd457)","v":""},null,null,{"$f":"IF(Data_LoonkostenTijd457=\"\",\"\",Data_LoonkostenTijd457)","v":""},null,{"$f":"IF(Data_PersoonAanUitTijd457=-1,\"v\",\"\")","v":""},null,"v",null,null,null,null,0,0,null,null,null,{"$f":"IF(Data_NaamPersoonVastVrij457=\"\",\"\",Data_NaamPersoonVastVrij457)","v":""},null,null,{"$f":"IF(Data_BeeindigingsdatumVastVrij457=\"\",\"\",Data_BeeindigingsdatumVastVrij457)","v":""},null,null,{"$f":"IF(Data_LoonkostenVastVrij457=\"\",\"\",Data_LoonkostenVastVrij457)","v":""},null,{"$f":"IF(Data_PersoonAanUitVastVrij457=-1,\"v\",\"\")","v":""},null,"v",null,null,null,null,0,0,null,{"$f":"IF(Data_NaamPersoonVastOntslag457=\"\",\"\",Data_NaamPersoonVastOntslag457)","v":""},null,null,{"$f":"IF(Data_BeeindigingsdatumVastOntslag457=\"\",\"\",Data_BeeindigingsdatumVastOntslag457)","v":""},null,null,{"$f":"IF(Data_LoonkostenVastOntslag457=\"\",\"\",Data_LoonkostenVastOntslag457)","v":""},null,{"$f":"IF(Data_PersoonAanUitVastOntslag457=-1,\"v\",\"\")","v":""},null,"v",null,null,null,null,0,0]
[null,null,null,null,null,null,null,{"$f":"IF(Data_NaamPersoonNatVerloop458=\"\",\"\",Data_NaamPersoonNatVerloop458)","v":""},null,null,{"$f":"IF(Data_BeeindigingsdatumNatVerloop458=\"\",\"\",Data_BeeindigingsdatumNatVerloop458)","v":""},null,null,{"$f":"IF(Data_LoonkostenNatVerloop458=\"\",\"\",Data_LoonkostenNatVerloop458)","v":""},null,"v",null,"v",null,null,null,null,0,"",null,null,null,null,null,null,null,null,{"$f":"IF(Data_NaamPersoonTijd458=\"\",\"\",Data_NaamPersoonTijd458)","v":""},null,null,{"$f":"IF(Data_BeeindigingsdatumTijd458=\"\",\"\",Data_BeeindigingsdatumTijd458)","v":""},null,null,{"$f":"IF(Data_LoonkostenTijd458=\"\",\"\",Data_LoonkostenTijd458)","v":""},null,{"$f":"IF(Data_PersoonAanUitTijd458=-1,\"v\",\"\")","v":""},null,"v",null,null,null,null,0,0,null,null,null,{"$f":"IF(Data_NaamPersoonVastVrij458=\"\",\"\",Data_NaamPersoonVastVrij458)","v":""},null,null,{"$f":"IF(Data_BeeindigingsdatumVastVrij458=\"\",\"\",Data_BeeindigingsdatumVastVrij458)","v":""},null,null,{"$f":"IF(Data_LoonkostenVastVrij458=\"\",\"\",Data_LoonkostenVastVrij458)","v":""},null,{"$f":"IF(Data_PersoonAanUitVastVrij458=-1,\"v\",\"\")","v":""},null,"v",null,null,null,null,0,0,null,{"$f":"IF(Data_NaamPersoonVastOntslag458=\"\",\"\",Data_NaamPersoonVastOntslag458)","v":""},null,null,{"$f":"IF(Data_BeeindigingsdatumVastOntslag458=\"\",\"\",Data_BeeindigingsdatumVastOntslag458)","v":""},null,null,{"$f":"IF(Data_LoonkostenVastOntslag458=\"\",\"\",Data_LoonkostenVastOntslag458)","v":""},null,{"$f":"IF(Data_PersoonAanUitVastOntslag458=-1,\"v\",\"\")","v":""},null,"v",null,null,null,null,0,0]
[null,null,null,null,null,null,null,{"$f":"IF(Data_NaamPersoonNatVerloop459=\"\",\"\",Data_NaamPersoonNatVerloop459)","v":""},null,null,{"$f":"IF(Data_BeeindigingsdatumNatVerloop459=\"\",\"\",Data_BeeindigingsdatumNatVerloop459)","v":""},null,null,{"$f":"IF(Data_LoonkostenNatVerloop459=\"\",\"\",Data_LoonkostenNatVerloop459)","v":""},null,"v",null,"v",null,null,null,null,0,"",null,null,null,null,null,null,null,null,{"$f":"IF(Data_NaamPersoonTijd459=\"\",\"\",Data_NaamPersoonTijd459)","v":""},null,null,{"$f":"IF(Data_BeeindigingsdatumTijd459=\"\",\"\",Data_BeeindigingsdatumTijd459)","v":""},null,null,{"$f":"IF(Data_LoonkostenTijd459=\"\",\"\",Data_LoonkostenTijd459)","v":""},null,{"$f":"IF(Data_PersoonAanUitTijd459=-1,\"v\",\"\")","v":""},null,"v",null,null,null,null,0,0,null,null,null,{"$f":"IF(Data_NaamPersoonVastVrij459=\"\",\"\",Data_NaamPersoonVastVrij459)","v":""},null,null,{"$f":"IF(Data_BeeindigingsdatumVastVrij459=\"\",\"\",Data_BeeindigingsdatumVastVrij459)","v":""},null,null,{"$f":"IF(Data_LoonkostenVastVrij459=\"\",\"\",Data_LoonkostenVastVrij459)","v":""},null,{"$f":"IF(Data_PersoonAanUitVastVrij459=-1,\"v\",\"\")","v":""},null,"v",null,null,null,null,0,0,null,{"$f":"IF(Data_NaamPersoonVastOntslag459=\"\",\"\",Data_NaamPersoonVastOntslag459)","v":""},null,null,{"$f":"IF(Data_BeeindigingsdatumVastOntslag459=\"\",\"\",Data_BeeindigingsdatumVastOntslag459)","v":""},null,null,{"$f":"IF(Data_LoonkostenVastOntslag459=\"\",\"\",Data_LoonkostenVastOntslag459)","v":""},null,{"$f":"IF(Data_PersoonAanUitVastOntslag459=-1,\"v\",\"\")","v":""},null,"v",null,null,null,null,0,0]
[null,null,null,null,null,null,null,{"$f":"IF(Data_NaamPersoonNatVerloop460=\"\",\"\",Data_NaamPersoonNatVerloop460)","v":""},null,null,{"$f":"IF(Data_BeeindigingsdatumNatVerloop460=\"\",\"\",Data_BeeindigingsdatumNatVerloop460)","v":""},null,null,{"$f":"IF(Data_LoonkostenNatVerloop460=\"\",\"\",Data_LoonkostenNatVerloop460)","v":""},null,"v",null,"v",null,null,null,null,0,"",null,null,null,null,null,null,null,null,{"$f":"IF(Data_NaamPersoonTijd460=\"\",\"\",Data_NaamPersoonTijd460)","v":""},null,null,{"$f":"IF(Data_BeeindigingsdatumTijd460=\"\",\"\",Data_BeeindigingsdatumTijd460)","v":""},null,null,{"$f":"IF(Data_LoonkostenTijd460=\"\",\"\",Data_LoonkostenTijd460)","v":""},null,{"$f":"IF(Data_PersoonAanUitTijd460=-1,\"v\",\"\")","v":""},null,"v",null,null,null,null,0,0,null,null,null,{"$f":"IF(Data_NaamPersoonVastVrij460=\"\",\"\",Data_NaamPersoonVastVrij460)","v":""},null,null,{"$f":"IF(Data_BeeindigingsdatumVastVrij460=\"\",\"\",Data_BeeindigingsdatumVastVrij460)","v":""},null,null,{"$f":"IF(Data_LoonkostenVastVrij460=\"\",\"\",Data_LoonkostenVastVrij460)","v":""},null,{"$f":"IF(Data_PersoonAanUitVastVrij460=-1,\"v\",\"\")","v":""},null,"v",null,null,null,null,0,0,null,{"$f":"IF(Data_NaamPersoonVastOntslag460=\"\",\"\",Data_NaamPersoonVastOntslag460)","v":""},null,null,{"$f":"IF(Data_BeeindigingsdatumVastOntslag460=\"\",\"\",Data_BeeindigingsdatumVastOntslag460)","v":""},null,null,{"$f":"IF(Data_LoonkostenVastOntslag460=\"\",\"\",Data_LoonkostenVastOntslag460)","v":""},null,{"$f":"IF(Data_PersoonAanUitVastOntslag460=-1,\"v\",\"\")","v":""},null,"v",null,null,null,null,0,0]
[null,null,null,null,null,null,null,{"$f":"IF(Data_NaamPersoonNatVerloop461=\"\",\"\",Data_NaamPersoonNatVerloop461)","v":""},null,null,{"$f":"IF(Data_BeeindigingsdatumNatVerloop461=\"\",\"\",Data_BeeindigingsdatumNatVerloop461)","v":""},null,null,{"$f":"IF(Data_LoonkostenNatVerloop461=\"\",\"\",Data_LoonkostenNatVerloop461)","v":""},null,"v",null,"v",null,null,null,null,0,"",null,null,null,null,null,null,null,null,{"$f":"IF(Data_NaamPersoonTijd461=\"\",\"\",Data_NaamPersoonTijd461)","v":""},null,null,{"$f":"IF(Data_BeeindigingsdatumTijd461=\"\",\"\",Data_BeeindigingsdatumTijd461)","v":""},null,null,{"$f":"IF(Data_LoonkostenTijd461=\"\",\"\",Data_LoonkostenTijd461)","v":""},null,{"$f":"IF(Data_PersoonAanUitTijd461=-1,\"v\",\"\")","v":""},null,"v",null,null,null,null,0,0,null,null,null,{"$f":"IF(Data_NaamPersoonVastVrij461=\"\",\"\",Data_NaamPersoonVastVrij461)","v":""},null,null,{"$f":"IF(Data_BeeindigingsdatumVastVrij461=\"\",\"\",Data_BeeindigingsdatumVastVrij461)","v":""},null,null,{"$f":"IF(Data_LoonkostenVastVrij461=\"\",\"\",Data_LoonkostenVastVrij461)","v":""},null,{"$f":"IF(Data_PersoonAanUitVastVrij461=-1,\"v\",\"\")","v":""},null,"v",null,null,null,null,0,0,null,{"$f":"IF(Data_NaamPersoonVastOntslag461=\"\",\"\",Data_NaamPersoonVastOntslag461)","v":""},null,null,{"$f":"IF(Data_BeeindigingsdatumVastOntslag461=\"\",\"\",Data_BeeindigingsdatumVastOntslag461)","v":""},null,null,{"$f":"IF(Data_LoonkostenVastOntslag461=\"\",\"\",Data_LoonkostenVastOntslag461)","v":""},null,{"$f":"IF(Data_PersoonAanUitVastOntslag461=-1,\"v\",\"\")","v":""},null,"v",null,null,null,null,0,0]
[null,null,null,null,null,null,null,{"$f":"IF(Data_NaamPersoonNatVerloop462=\"\",\"\",Data_NaamPersoonNatVerloop462)","v":""},null,null,{"$f":"IF(Data_BeeindigingsdatumNatVerloop462=\"\",\"\",Data_BeeindigingsdatumNatVerloop462)","v":""},null,null,{"$f":"IF(Data_LoonkostenNatVerloop462=\"\",\"\",Data_LoonkostenNatVerloop462)","v":""},null,"v",null,"v",null,null,null,null,0,"",null,null,null,null,null,null,null,null,{"$f":"IF(Data_NaamPersoonTijd462=\"\",\"\",Data_NaamPersoonTijd462)","v":""},null,null,{"$f":"IF(Data_BeeindigingsdatumTijd462=\"\",\"\",Data_BeeindigingsdatumTijd462)","v":""},null,null,{"$f":"IF(Data_LoonkostenTijd462=\"\",\"\",Data_LoonkostenTijd462)","v":""},null,{"$f":"IF(Data_PersoonAanUitTijd462=-1,\"v\",\"\")","v":""},null,"v",null,null,null,null,0,0,null,null,null,{"$f":"IF(Data_NaamPersoonVastVrij462=\"\",\"\",Data_NaamPersoonVastVrij462)","v":""},null,null,{"$f":"IF(Data_BeeindigingsdatumVastVrij462=\"\",\"\",Data_BeeindigingsdatumVastVrij462)","v":""},null,null,{"$f":"IF(Data_LoonkostenVastVrij462=\"\",\"\",Data_LoonkostenVastVrij462)","v":""},null,{"$f":"IF(Data_PersoonAanUitVastVrij462=-1,\"v\",\"\")","v":""},null,"v",null,null,null,null,0,0,null,{"$f":"IF(Data_NaamPersoonVastOntslag462=\"\",\"\",Data_NaamPersoonVastOntslag462)","v":""},null,null,{"$f":"IF(Data_BeeindigingsdatumVastOntslag462=\"\",\"\",Data_BeeindigingsdatumVastOntslag462)","v":""},null,null,{"$f":"IF(Data_LoonkostenVastOntslag462=\"\",\"\",Data_LoonkostenVastOntslag462)","v":""},null,{"$f":"IF(Data_PersoonAanUitVastOntslag462=-1,\"v\",\"\")","v":""},null,"v",null,null,null,null,0,0]
[null,null,null,null,null,null,null,{"$f":"IF(Data_NaamPersoonNatVerloop463=\"\",\"\",Data_NaamPersoonNatVerloop463)","v":""},null,null,{"$f":"IF(Data_BeeindigingsdatumNatVerloop463=\"\",\"\",Data_BeeindigingsdatumNatVerloop463)","v":""},null,null,{"$f":"IF(Data_LoonkostenNatVerloop463=\"\",\"\",Data_LoonkostenNatVerloop463)","v":""},null,"v",null,"v",null,null,null,null,0,"",null,null,null,null,null,null,null,null,{"$f":"IF(Data_NaamPersoonTijd463=\"\",\"\",Data_NaamPersoonTijd463)","v":""},null,null,{"$f":"IF(Data_BeeindigingsdatumTijd463=\"\",\"\",Data_BeeindigingsdatumTijd463)","v":""},null,null,{"$f":"IF(Data_LoonkostenTijd463=\"\",\"\",Data_LoonkostenTijd463)","v":""},null,{"$f":"IF(Data_PersoonAanUitTijd463=-1,\"v\",\"\")","v":""},null,"v",null,null,null,null,0,0,null,null,null,{"$f":"IF(Data_NaamPersoonVastVrij463=\"\",\"\",Data_NaamPersoonVastVrij463)","v":""},null,null,{"$f":"IF(Data_BeeindigingsdatumVastVrij463=\"\",\"\",Data_BeeindigingsdatumVastVrij463)","v":""},null,null,{"$f":"IF(Data_LoonkostenVastVrij463=\"\",\"\",Data_LoonkostenVastVrij463)","v":""},null,{"$f":"IF(Data_PersoonAanUitVastVrij463=-1,\"v\",\"\")","v":""},null,"v",null,null,null,null,0,0,null,{"$f":"IF(Data_NaamPersoonVastOntslag463=\"\",\"\",Data_NaamPersoonVastOntslag463)","v":""},null,null,{"$f":"IF(Data_BeeindigingsdatumVastOntslag463=\"\",\"\",Data_BeeindigingsdatumVastOntslag463)","v":""},null,null,{"$f":"IF(Data_LoonkostenVastOntslag463=\"\",\"\",Data_LoonkostenVastOntslag463)","v":""},null,{"$f":"IF(Data_PersoonAanUitVastOntslag463=-1,\"v\",\"\")","v":""},null,"v",null,null,null,null,0,0]
[null,null,null,null,null,null,null,{"$f":"IF(Data_NaamPersoonNatVerloop464=\"\",\"\",Data_NaamPersoonNatVerloop464)","v":""},null,null,{"$f":"IF(Data_BeeindigingsdatumNatVerloop464=\"\",\"\",Data_BeeindigingsdatumNatVerloop464)","v":""},null,null,{"$f":"IF(Data_LoonkostenNatVerloop464=\"\",\"\",Data_LoonkostenNatVerloop464)","v":""},null,"v",null,"v",null,null,null,null,0,"",null,null,null,null,null,null,null,null,{"$f":"IF(Data_NaamPersoonTijd464=\"\",\"\",Data_NaamPersoonTijd464)","v":""},null,null,{"$f":"IF(Data_BeeindigingsdatumTijd464=\"\",\"\",Data_BeeindigingsdatumTijd464)","v":""},null,null,{"$f":"IF(Data_LoonkostenTijd464=\"\",\"\",Data_LoonkostenTijd464)","v":""},null,{"$f":"IF(Data_PersoonAanUitTijd464=-1,\"v\",\"\")","v":""},null,"v",null,null,null,null,0,0,null,null,null,{"$f":"IF(Data_NaamPersoonVastVrij464=\"\",\"\",Data_NaamPersoonVastVrij464)","v":""},null,null,{"$f":"IF(Data_BeeindigingsdatumVastVrij464=\"\",\"\",Data_BeeindigingsdatumVastVrij464)","v":""},null,null,{"$f":"IF(Data_LoonkostenVastVrij464=\"\",\"\",Data_LoonkostenVastVrij464)","v":""},null,{"$f":"IF(Data_PersoonAanUitVastVrij464=-1,\"v\",\"\")","v":""},null,"v",null,null,null,null,0,0,null,{"$f":"IF(Data_NaamPersoonVastOntslag464=\"\",\"\",Data_NaamPersoonVastOntslag464)","v":""},null,null,{"$f":"IF(Data_BeeindigingsdatumVastOntslag464=\"\",\"\",Data_BeeindigingsdatumVastOntslag464)","v":""},null,null,{"$f":"IF(Data_LoonkostenVastOntslag464=\"\",\"\",Data_LoonkostenVastOntslag464)","v":""},null,{"$f":"IF(Data_PersoonAanUitVastOntslag464=-1,\"v\",\"\")","v":""},null,"v",null,null,null,null,0,0]
[null,null,null,null,null,null,null,{"$f":"IF(Data_NaamPersoonNatVerloop465=\"\",\"\",Data_NaamPersoonNatVerloop465)","v":""},null,null,{"$f":"IF(Data_BeeindigingsdatumNatVerloop465=\"\",\"\",Data_BeeindigingsdatumNatVerloop465)","v":""},null,null,{"$f":"IF(Data_LoonkostenNatVerloop465=\"\",\"\",Data_LoonkostenNatVerloop465)","v":""},null,"v",null,"v",null,null,null,null,0,"",null,null,null,null,null,null,null,null,{"$f":"IF(Data_NaamPersoonTijd465=\"\",\"\",Data_NaamPersoonTijd465)","v":""},null,null,{"$f":"IF(Data_BeeindigingsdatumTijd465=\"\",\"\",Data_BeeindigingsdatumTijd465)","v":""},null,null,{"$f":"IF(Data_LoonkostenTijd465=\"\",\"\",Data_LoonkostenTijd465)","v":""},null,{"$f":"IF(Data_PersoonAanUitTijd465=-1,\"v\",\"\")","v":""},null,"v",null,null,null,null,0,0,null,null,null,{"$f":"IF(Data_NaamPersoonVastVrij465=\"\",\"\",Data_NaamPersoonVastVrij465)","v":""},null,null,{"$f":"IF(Data_BeeindigingsdatumVastVrij465=\"\",\"\",Data_BeeindigingsdatumVastVrij465)","v":""},null,null,{"$f":"IF(Data_LoonkostenVastVrij465=\"\",\"\",Data_LoonkostenVastVrij465)","v":""},null,{"$f":"IF(Data_PersoonAanUitVastVrij465=-1,\"v\",\"\")","v":""},null,"v",null,null,null,null,0,0,null,{"$f":"IF(Data_NaamPersoonVastOntslag465=\"\",\"\",Data_NaamPersoonVastOntslag465)","v":""},null,null,{"$f":"IF(Data_BeeindigingsdatumVastOntslag465=\"\",\"\",Data_BeeindigingsdatumVastOntslag465)","v":""},null,null,{"$f":"IF(Data_LoonkostenVastOntslag465=\"\",\"\",Data_LoonkostenVastOntslag465)","v":""},null,{"$f":"IF(Data_PersoonAanUitVastOntslag465=-1,\"v\",\"\")","v":""},null,"v",null,null,null,null,0,0]
[null,null,null,null,null,null,null,{"$f":"IF(Data_NaamPersoonNatVerloop466=\"\",\"\",Data_NaamPersoonNatVerloop466)","v":""},null,null,{"$f":"IF(Data_BeeindigingsdatumNatVerloop466=\"\",\"\",Data_BeeindigingsdatumNatVerloop466)","v":""},null,null,{"$f":"IF(Data_LoonkostenNatVerloop466=\"\",\"\",Data_LoonkostenNatVerloop466)","v":""},null,"v",null,"v",null,null,null,null,0,"",null,null,null,null,null,null,null,null,{"$f":"IF(Data_NaamPersoonTijd466=\"\",\"\",Data_NaamPersoonTijd466)","v":""},null,null,{"$f":"IF(Data_BeeindigingsdatumTijd466=\"\",\"\",Data_BeeindigingsdatumTijd466)","v":""},null,null,{"$f":"IF(Data_LoonkostenTijd466=\"\",\"\",Data_LoonkostenTijd466)","v":""},null,{"$f":"IF(Data_PersoonAanUitTijd466=-1,\"v\",\"\")","v":""},null,"v",null,null,null,null,0,0,null,null,null,{"$f":"IF(Data_NaamPersoonVastVrij466=\"\",\"\",Data_NaamPersoonVastVrij466)","v":""},null,null,{"$f":"IF(Data_BeeindigingsdatumVastVrij466=\"\",\"\",Data_BeeindigingsdatumVastVrij466)","v":""},null,null,{"$f":"IF(Data_LoonkostenVastVrij466=\"\",\"\",Data_LoonkostenVastVrij466)","v":""},null,{"$f":"IF(Data_PersoonAanUitVastVrij466=-1,\"v\",\"\")","v":""},null,"v",null,null,null,null,0,0,null,{"$f":"IF(Data_NaamPersoonVastOntslag466=\"\",\"\",Data_NaamPersoonVastOntslag466)","v":""},null,null,{"$f":"IF(Data_BeeindigingsdatumVastOntslag466=\"\",\"\",Data_BeeindigingsdatumVastOntslag466)","v":""},null,null,{"$f":"IF(Data_LoonkostenVastOntslag466=\"\",\"\",Data_LoonkostenVastOntslag466)","v":""},null,{"$f":"IF(Data_PersoonAanUitVastOntslag466=-1,\"v\",\"\")","v":""},null,"v",null,null,null,null,0,0]
[null,null,null,null,null,null,null,{"$f":"IF(Data_NaamPersoonNatVerloop467=\"\",\"\",Data_NaamPersoonNatVerloop467)","v":""},null,null,{"$f":"IF(Data_BeeindigingsdatumNatVerloop467=\"\",\"\",Data_BeeindigingsdatumNatVerloop467)","v":""},null,null,{"$f":"IF(Data_LoonkostenNatVerloop467=\"\",\"\",Data_LoonkostenNatVerloop467)","v":""},null,"v",null,"v",null,null,null,null,0,"",null,null,null,null,null,null,null,null,{"$f":"IF(Data_NaamPersoonTijd467=\"\",\"\",Data_NaamPersoonTijd467)","v":""},null,null,{"$f":"IF(Data_BeeindigingsdatumTijd467=\"\",\"\",Data_BeeindigingsdatumTijd467)","v":""},null,null,{"$f":"IF(Data_LoonkostenTijd467=\"\",\"\",Data_LoonkostenTijd467)","v":""},null,{"$f":"IF(Data_PersoonAanUitTijd467=-1,\"v\",\"\")","v":""},null,"v",null,null,null,null,0,0,null,null,null,{"$f":"IF(Data_NaamPersoonVastVrij467=\"\",\"\",Data_NaamPersoonVastVrij467)","v":""},null,null,{"$f":"IF(Data_BeeindigingsdatumVastVrij467=\"\",\"\",Data_BeeindigingsdatumVastVrij467)","v":""},null,null,{"$f":"IF(Data_LoonkostenVastVrij467=\"\",\"\",Data_LoonkostenVastVrij467)","v":""},null,{"$f":"IF(Data_PersoonAanUitVastVrij467=-1,\"v\",\"\")","v":""},null,"v",null,null,null,null,0,0,null,{"$f":"IF(Data_NaamPersoonVastOntslag467=\"\",\"\",Data_NaamPersoonVastOntslag467)","v":""},null,null,{"$f":"IF(Data_BeeindigingsdatumVastOntslag467=\"\",\"\",Data_BeeindigingsdatumVastOntslag467)","v":""},null,null,{"$f":"IF(Data_LoonkostenVastOntslag467=\"\",\"\",Data_LoonkostenVastOntslag467)","v":""},null,{"$f":"IF(Data_PersoonAanUitVastOntslag467=-1,\"v\",\"\")","v":""},null,"v",null,null,null,null,0,0]
[null,null,null,null,null,null,null,{"$f":"IF(Data_NaamPersoonNatVerloop468=\"\",\"\",Data_NaamPersoonNatVerloop468)","v":""},null,null,{"$f":"IF(Data_BeeindigingsdatumNatVerloop468=\"\",\"\",Data_BeeindigingsdatumNatVerloop468)","v":""},null,null,{"$f":"IF(Data_LoonkostenNatVerloop468=\"\",\"\",Data_LoonkostenNatVerloop468)","v":""},null,"v",null,"v",null,null,null,null,0,"",null,null,null,null,null,null,null,null,{"$f":"IF(Data_NaamPersoonTijd468=\"\",\"\",Data_NaamPersoonTijd468)","v":""},null,null,{"$f":"IF(Data_BeeindigingsdatumTijd468=\"\",\"\",Data_BeeindigingsdatumTijd468)","v":""},null,null,{"$f":"IF(Data_LoonkostenTijd468=\"\",\"\",Data_LoonkostenTijd468)","v":""},null,{"$f":"IF(Data_PersoonAanUitTijd468=-1,\"v\",\"\")","v":""},null,"v",null,null,null,null,0,0,null,null,null,{"$f":"IF(Data_NaamPersoonVastVrij468=\"\",\"\",Data_NaamPersoonVastVrij468)","v":""},null,null,{"$f":"IF(Data_BeeindigingsdatumVastVrij468=\"\",\"\",Data_BeeindigingsdatumVastVrij468)","v":""},null,null,{"$f":"IF(Data_LoonkostenVastVrij468=\"\",\"\",Data_LoonkostenVastVrij468)","v":""},null,{"$f":"IF(Data_PersoonAanUitVastVrij468=-1,\"v\",\"\")","v":""},null,"v",null,null,null,null,0,0,null,{"$f":"IF(Data_NaamPersoonVastOntslag468=\"\",\"\",Data_NaamPersoonVastOntslag468)","v":""},null,null,{"$f":"IF(Data_BeeindigingsdatumVastOntslag468=\"\",\"\",Data_BeeindigingsdatumVastOntslag468)","v":""},null,null,{"$f":"IF(Data_LoonkostenVastOntslag468=\"\",\"\",Data_LoonkostenVastOntslag468)","v":""},null,{"$f":"IF(Data_PersoonAanUitVastOntslag468=-1,\"v\",\"\")","v":""},null,"v",null,null,null,null,0,0]
[null,null,null,null,null,null,null,{"$f":"IF(Data_NaamPersoonNatVerloop469=\"\",\"\",Data_NaamPersoonNatVerloop469)","v":""},null,null,{"$f":"IF(Data_BeeindigingsdatumNatVerloop469=\"\",\"\",Data_BeeindigingsdatumNatVerloop469)","v":""},null,null,{"$f":"IF(Data_LoonkostenNatVerloop469=\"\",\"\",Data_LoonkostenNatVerloop469)","v":""},null,"v",null,"v",null,null,null,null,0,"",null,null,null,null,null,null,null,null,{"$f":"IF(Data_NaamPersoonTijd469=\"\",\"\",Data_NaamPersoonTijd469)","v":""},null,null,{"$f":"IF(Data_BeeindigingsdatumTijd469=\"\",\"\",Data_BeeindigingsdatumTijd469)","v":""},null,null,{"$f":"IF(Data_LoonkostenTijd469=\"\",\"\",Data_LoonkostenTijd469)","v":""},null,{"$f":"IF(Data_PersoonAanUitTijd469=-1,\"v\",\"\")","v":""},null,"v",null,null,null,null,0,0,null,null,null,{"$f":"IF(Data_NaamPersoonVastVrij469=\"\",\"\",Data_NaamPersoonVastVrij469)","v":""},null,null,{"$f":"IF(Data_BeeindigingsdatumVastVrij469=\"\",\"\",Data_BeeindigingsdatumVastVrij469)","v":""},null,null,{"$f":"IF(Data_LoonkostenVastVrij469=\"\",\"\",Data_LoonkostenVastVrij469)","v":""},null,{"$f":"IF(Data_PersoonAanUitVastVrij469=-1,\"v\",\"\")","v":""},null,"v",null,null,null,null,0,0,null,{"$f":"IF(Data_NaamPersoonVastOntslag469=\"\",\"\",Data_NaamPersoonVastOntslag469)","v":""},null,null,{"$f":"IF(Data_BeeindigingsdatumVastOntslag469=\"\",\"\",Data_BeeindigingsdatumVastOntslag469)","v":""},null,null,{"$f":"IF(Data_LoonkostenVastOntslag469=\"\",\"\",Data_LoonkostenVastOntslag469)","v":""},null,{"$f":"IF(Data_PersoonAanUitVastOntslag469=-1,\"v\",\"\")","v":""},null,"v",null,null,null,null,0,0]
[null,null,null,null,null,null,null,{"$f":"IF(Data_NaamPersoonNatVerloop470=\"\",\"\",Data_NaamPersoonNatVerloop470)","v":""},null,null,{"$f":"IF(Data_BeeindigingsdatumNatVerloop470=\"\",\"\",Data_BeeindigingsdatumNatVerloop470)","v":""},null,null,{"$f":"IF(Data_LoonkostenNatVerloop470=\"\",\"\",Data_LoonkostenNatVerloop470)","v":""},null,"v",null,"v",null,null,null,null,0,"",null,null,null,null,null,null,null,null,{"$f":"IF(Data_NaamPersoonTijd470=\"\",\"\",Data_NaamPersoonTijd470)","v":""},null,null,{"$f":"IF(Data_BeeindigingsdatumTijd470=\"\",\"\",Data_BeeindigingsdatumTijd470)","v":""},null,null,{"$f":"IF(Data_LoonkostenTijd470=\"\",\"\",Data_LoonkostenTijd470)","v":""},null,{"$f":"IF(Data_PersoonAanUitTijd470=-1,\"v\",\"\")","v":""},null,"v",null,null,null,null,0,0,null,null,null,{"$f":"IF(Data_NaamPersoonVastVrij470=\"\",\"\",Data_NaamPersoonVastVrij470)","v":""},null,null,{"$f":"IF(Data_BeeindigingsdatumVastVrij470=\"\",\"\",Data_BeeindigingsdatumVastVrij470)","v":""},null,null,{"$f":"IF(Data_LoonkostenVastVrij470=\"\",\"\",Data_LoonkostenVastVrij470)","v":""},null,{"$f":"IF(Data_PersoonAanUitVastVrij470=-1,\"v\",\"\")","v":""},null,"v",null,null,null,null,0,0,null,{"$f":"IF(Data_NaamPersoonVastOntslag470=\"\",\"\",Data_NaamPersoonVastOntslag470)","v":""},null,null,{"$f":"IF(Data_BeeindigingsdatumVastOntslag470=\"\",\"\",Data_BeeindigingsdatumVastOntslag470)","v":""},null,null,{"$f":"IF(Data_LoonkostenVastOntslag470=\"\",\"\",Data_LoonkostenVastOntslag470)","v":""},null,{"$f":"IF(Data_PersoonAanUitVastOntslag470=-1,\"v\",\"\")","v":""},null,"v",null,null,null,null,0,0]
[null,null,null,null,null,null,null,{"$f":"IF(Data_NaamPersoonNatVerloop471=\"\",\"\",Data_NaamPersoonNatVerloop471)","v":""},null,null,{"$f":"IF(Data_BeeindigingsdatumNatVerloop471=\"\",\"\",Data_BeeindigingsdatumNatVerloop471)","v":""},null,null,{"$f":"IF(Data_LoonkostenNatVerloop471=\"\",\"\",Data_LoonkostenNatVerloop471)","v":""},null,"v",null,"v",null,null,null,null,0,"",null,null,null,null,null,null,null,null,{"$f":"IF(Data_NaamPersoonTijd471=\"\",\"\",Data_NaamPersoonTijd471)","v":""},null,null,{"$f":"IF(Data_BeeindigingsdatumTijd471=\"\",\"\",Data_BeeindigingsdatumTijd471)","v":""},null,null,{"$f":"IF(Data_LoonkostenTijd471=\"\",\"\",Data_LoonkostenTijd471)","v":""},null,{"$f":"IF(Data_PersoonAanUitTijd471=-1,\"v\",\"\")","v":""},null,"v",null,null,null,null,0,0,null,null,null,{"$f":"IF(Data_NaamPersoonVastVrij471=\"\",\"\",Data_NaamPersoonVastVrij471)","v":""},null,null,{"$f":"IF(Data_BeeindigingsdatumVastVrij471=\"\",\"\",Data_BeeindigingsdatumVastVrij471)","v":""},null,null,{"$f":"IF(Data_LoonkostenVastVrij471=\"\",\"\",Data_LoonkostenVastVrij471)","v":""},null,{"$f":"IF(Data_PersoonAanUitVastVrij471=-1,\"v\",\"\")","v":""},null,"v",null,null,null,null,0,0,null,{"$f":"IF(Data_NaamPersoonVastOntslag471=\"\",\"\",Data_NaamPersoonVastOntslag471)","v":""},null,null,{"$f":"IF(Data_BeeindigingsdatumVastOntslag471=\"\",\"\",Data_BeeindigingsdatumVastOntslag471)","v":""},null,null,{"$f":"IF(Data_LoonkostenVastOntslag471=\"\",\"\",Data_LoonkostenVastOntslag471)","v":""},null,{"$f":"IF(Data_PersoonAanUitVastOntslag471=-1,\"v\",\"\")","v":""},null,"v",null,null,null,null,0,0]
[null,null,null,null,null,null,null,{"$f":"IF(Data_NaamPersoonNatVerloop472=\"\",\"\",Data_NaamPersoonNatVerloop472)","v":""},null,null,{"$f":"IF(Data_BeeindigingsdatumNatVerloop472=\"\",\"\",Data_BeeindigingsdatumNatVerloop472)","v":""},null,null,{"$f":"IF(Data_LoonkostenNatVerloop472=\"\",\"\",Data_LoonkostenNatVerloop472)","v":""},null,"v",null,"v",null,null,null,null,0,"",null,null,null,null,null,null,null,null,{"$f":"IF(Data_NaamPersoonTijd472=\"\",\"\",Data_NaamPersoonTijd472)","v":""},null,null,{"$f":"IF(Data_BeeindigingsdatumTijd472=\"\",\"\",Data_BeeindigingsdatumTijd472)","v":""},null,null,{"$f":"IF(Data_LoonkostenTijd472=\"\",\"\",Data_LoonkostenTijd472)","v":""},null,{"$f":"IF(Data_PersoonAanUitTijd472=-1,\"v\",\"\")","v":""},null,"v",null,null,null,null,0,0,null,null,null,{"$f":"IF(Data_NaamPersoonVastVrij472=\"\",\"\",Data_NaamPersoonVastVrij472)","v":""},null,null,{"$f":"IF(Data_BeeindigingsdatumVastVrij472=\"\",\"\",Data_BeeindigingsdatumVastVrij472)","v":""},null,null,{"$f":"IF(Data_LoonkostenVastVrij472=\"\",\"\",Data_LoonkostenVastVrij472)","v":""},null,{"$f":"IF(Data_PersoonAanUitVastVrij472=-1,\"v\",\"\")","v":""},null,"v",null,null,null,null,0,0,null,{"$f":"IF(Data_NaamPersoonVastOntslag472=\"\",\"\",Data_NaamPersoonVastOntslag472)","v":""},null,null,{"$f":"IF(Data_BeeindigingsdatumVastOntslag472=\"\",\"\",Data_BeeindigingsdatumVastOntslag472)","v":""},null,null,{"$f":"IF(Data_LoonkostenVastOntslag472=\"\",\"\",Data_LoonkostenVastOntslag472)","v":""},null,{"$f":"IF(Data_PersoonAanUitVastOntslag472=-1,\"v\",\"\")","v":""},null,"v",null,null,null,null,0,0]
[null,null,null,null,null,null,null,{"$f":"IF(Data_NaamPersoonNatVerloop473=\"\",\"\",Data_NaamPersoonNatVerloop473)","v":""},null,null,{"$f":"IF(Data_BeeindigingsdatumNatVerloop473=\"\",\"\",Data_BeeindigingsdatumNatVerloop473)","v":""},null,null,{"$f":"IF(Data_LoonkostenNatVerloop473=\"\",\"\",Data_LoonkostenNatVerloop473)","v":""},null,"v",null,"v",null,null,null,null,0,"",null,null,null,null,null,null,null,null,{"$f":"IF(Data_NaamPersoonTijd473=\"\",\"\",Data_NaamPersoonTijd473)","v":""},null,null,{"$f":"IF(Data_BeeindigingsdatumTijd473=\"\",\"\",Data_BeeindigingsdatumTijd473)","v":""},null,null,{"$f":"IF(Data_LoonkostenTijd473=\"\",\"\",Data_LoonkostenTijd473)","v":""},null,{"$f":"IF(Data_PersoonAanUitTijd473=-1,\"v\",\"\")","v":""},null,"v",null,null,null,null,0,0,null,null,null,{"$f":"IF(Data_NaamPersoonVastVrij473=\"\",\"\",Data_NaamPersoonVastVrij473)","v":""},null,null,{"$f":"IF(Data_BeeindigingsdatumVastVrij473=\"\",\"\",Data_BeeindigingsdatumVastVrij473)","v":""},null,null,{"$f":"IF(Data_LoonkostenVastVrij473=\"\",\"\",Data_LoonkostenVastVrij473)","v":""},null,{"$f":"IF(Data_PersoonAanUitVastVrij473=-1,\"v\",\"\")","v":""},null,"v",null,null,null,null,0,0,null,{"$f":"IF(Data_NaamPersoonVastOntslag473=\"\",\"\",Data_NaamPersoonVastOntslag473)","v":""},null,null,{"$f":"IF(Data_BeeindigingsdatumVastOntslag473=\"\",\"\",Data_BeeindigingsdatumVastOntslag473)","v":""},null,null,{"$f":"IF(Data_LoonkostenVastOntslag473=\"\",\"\",Data_LoonkostenVastOntslag473)","v":""},null,{"$f":"IF(Data_PersoonAanUitVastOntslag473=-1,\"v\",\"\")","v":""},null,"v",null,null,null,null,0,0]
[null,null,null,null,null,null,null,{"$f":"IF(Data_NaamPersoonNatVerloop474=\"\",\"\",Data_NaamPersoonNatVerloop474)","v":""},null,null,{"$f":"IF(Data_BeeindigingsdatumNatVerloop474=\"\",\"\",Data_BeeindigingsdatumNatVerloop474)","v":""},null,null,{"$f":"IF(Data_LoonkostenNatVerloop474=\"\",\"\",Data_LoonkostenNatVerloop474)","v":""},null,"v",null,"v",null,null,null,null,0,"",null,null,null,null,null,null,null,null,{"$f":"IF(Data_NaamPersoonTijd474=\"\",\"\",Data_NaamPersoonTijd474)","v":""},null,null,{"$f":"IF(Data_BeeindigingsdatumTijd474=\"\",\"\",Data_BeeindigingsdatumTijd474)","v":""},null,null,{"$f":"IF(Data_LoonkostenTijd474=\"\",\"\",Data_LoonkostenTijd474)","v":""},null,{"$f":"IF(Data_PersoonAanUitTijd474=-1,\"v\",\"\")","v":""},null,"v",null,null,null,null,0,0,null,null,null,{"$f":"IF(Data_NaamPersoonVastVrij474=\"\",\"\",Data_NaamPersoonVastVrij474)","v":""},null,null,{"$f":"IF(Data_BeeindigingsdatumVastVrij474=\"\",\"\",Data_BeeindigingsdatumVastVrij474)","v":""},null,null,{"$f":"IF(Data_LoonkostenVastVrij474=\"\",\"\",Data_LoonkostenVastVrij474)","v":""},null,{"$f":"IF(Data_PersoonAanUitVastVrij474=-1,\"v\",\"\")","v":""},null,"v",null,null,null,null,0,0,null,{"$f":"IF(Data_NaamPersoonVastOntslag474=\"\",\"\",Data_NaamPersoonVastOntslag474)","v":""},null,null,{"$f":"IF(Data_BeeindigingsdatumVastOntslag474=\"\",\"\",Data_BeeindigingsdatumVastOntslag474)","v":""},null,null,{"$f":"IF(Data_LoonkostenVastOntslag474=\"\",\"\",Data_LoonkostenVastOntslag474)","v":""},null,{"$f":"IF(Data_PersoonAanUitVastOntslag474=-1,\"v\",\"\")","v":""},null,"v",null,null,null,null,0,0]
[null,null,null,null,null,null,null,{"$f":"IF(Data_NaamPersoonNatVerloop475=\"\",\"\",Data_NaamPersoonNatVerloop475)","v":""},null,null,{"$f":"IF(Data_BeeindigingsdatumNatVerloop475=\"\",\"\",Data_BeeindigingsdatumNatVerloop475)","v":""},null,null,{"$f":"IF(Data_LoonkostenNatVerloop475=\"\",\"\",Data_LoonkostenNatVerloop475)","v":""},null,"v",null,"v",null,null,null,null,0,"",null,null,null,null,null,null,null,null,{"$f":"IF(Data_NaamPersoonTijd475=\"\",\"\",Data_NaamPersoonTijd475)","v":""},null,null,{"$f":"IF(Data_BeeindigingsdatumTijd475=\"\",\"\",Data_BeeindigingsdatumTijd475)","v":""},null,null,{"$f":"IF(Data_LoonkostenTijd475=\"\",\"\",Data_LoonkostenTijd475)","v":""},null,{"$f":"IF(Data_PersoonAanUitTijd475=-1,\"v\",\"\")","v":""},null,"v",null,null,null,null,0,0,null,null,null,{"$f":"IF(Data_NaamPersoonVastVrij475=\"\",\"\",Data_NaamPersoonVastVrij475)","v":""},null,null,{"$f":"IF(Data_BeeindigingsdatumVastVrij475=\"\",\"\",Data_BeeindigingsdatumVastVrij475)","v":""},null,null,{"$f":"IF(Data_LoonkostenVastVrij475=\"\",\"\",Data_LoonkostenVastVrij475)","v":""},null,{"$f":"IF(Data_PersoonAanUitVastVrij475=-1,\"v\",\"\")","v":""},null,"v",null,null,null,null,0,0,null,{"$f":"IF(Data_NaamPersoonVastOntslag475=\"\",\"\",Data_NaamPersoonVastOntslag475)","v":""},null,null,{"$f":"IF(Data_BeeindigingsdatumVastOntslag475=\"\",\"\",Data_BeeindigingsdatumVastOntslag475)","v":""},null,null,{"$f":"IF(Data_LoonkostenVastOntslag475=\"\",\"\",Data_LoonkostenVastOntslag475)","v":""},null,{"$f":"IF(Data_PersoonAanUitVastOntslag475=-1,\"v\",\"\")","v":""},null,"v",null,null,null,null,0,0]
[null,null,null,null,null,null,null,{"$f":"IF(Data_NaamPersoonNatVerloop476=\"\",\"\",Data_NaamPersoonNatVerloop476)","v":""},null,null,{"$f":"IF(Data_BeeindigingsdatumNatVerloop476=\"\",\"\",Data_BeeindigingsdatumNatVerloop476)","v":""},null,null,{"$f":"IF(Data_LoonkostenNatVerloop476=\"\",\"\",Data_LoonkostenNatVerloop476)","v":""},null,"v",null,"v",null,null,null,null,0,"",null,null,null,null,null,null,null,null,{"$f":"IF(Data_NaamPersoonTijd476=\"\",\"\",Data_NaamPersoonTijd476)","v":""},null,null,{"$f":"IF(Data_BeeindigingsdatumTijd476=\"\",\"\",Data_BeeindigingsdatumTijd476)","v":""},null,null,{"$f":"IF(Data_LoonkostenTijd476=\"\",\"\",Data_LoonkostenTijd476)","v":""},null,{"$f":"IF(Data_PersoonAanUitTijd476=-1,\"v\",\"\")","v":""},null,"v",null,null,null,null,0,0,null,null,null,{"$f":"IF(Data_NaamPersoonVastVrij476=\"\",\"\",Data_NaamPersoonVastVrij476)","v":""},null,null,{"$f":"IF(Data_BeeindigingsdatumVastVrij476=\"\",\"\",Data_BeeindigingsdatumVastVrij476)","v":""},null,null,{"$f":"IF(Data_LoonkostenVastVrij476=\"\",\"\",Data_LoonkostenVastVrij476)","v":""},null,{"$f":"IF(Data_PersoonAanUitVastVrij476=-1,\"v\",\"\")","v":""},null,"v",null,null,null,null,0,0,null,{"$f":"IF(Data_NaamPersoonVastOntslag476=\"\",\"\",Data_NaamPersoonVastOntslag476)","v":""},null,null,{"$f":"IF(Data_BeeindigingsdatumVastOntslag476=\"\",\"\",Data_BeeindigingsdatumVastOntslag476)","v":""},null,null,{"$f":"IF(Data_LoonkostenVastOntslag476=\"\",\"\",Data_LoonkostenVastOntslag476)","v":""},null,{"$f":"IF(Data_PersoonAanUitVastOntslag476=-1,\"v\",\"\")","v":""},null,"v",null,null,null,null,0,0]
[null,null,null,null,null,null,null,{"$f":"IF(Data_NaamPersoonNatVerloop477=\"\",\"\",Data_NaamPersoonNatVerloop477)","v":""},null,null,{"$f":"IF(Data_BeeindigingsdatumNatVerloop477=\"\",\"\",Data_BeeindigingsdatumNatVerloop477)","v":""},null,null,{"$f":"IF(Data_LoonkostenNatVerloop477=\"\",\"\",Data_LoonkostenNatVerloop477)","v":""},null,"v",null,"v",null,null,null,null,0,"",null,null,null,null,null,null,null,null,{"$f":"IF(Data_NaamPersoonTijd477=\"\",\"\",Data_NaamPersoonTijd477)","v":""},null,null,{"$f":"IF(Data_BeeindigingsdatumTijd477=\"\",\"\",Data_BeeindigingsdatumTijd477)","v":""},null,null,{"$f":"IF(Data_LoonkostenTijd477=\"\",\"\",Data_LoonkostenTijd477)","v":""},null,{"$f":"IF(Data_PersoonAanUitTijd477=-1,\"v\",\"\")","v":""},null,"v",null,null,null,null,0,0,null,null,null,{"$f":"IF(Data_NaamPersoonVastVrij477=\"\",\"\",Data_NaamPersoonVastVrij477)","v":""},null,null,{"$f":"IF(Data_BeeindigingsdatumVastVrij477=\"\",\"\",Data_BeeindigingsdatumVastVrij477)","v":""},null,null,{"$f":"IF(Data_LoonkostenVastVrij477=\"\",\"\",Data_LoonkostenVastVrij477)","v":""},null,{"$f":"IF(Data_PersoonAanUitVastVrij477=-1,\"v\",\"\")","v":""},null,"v",null,null,null,null,0,0,null,{"$f":"IF(Data_NaamPersoonVastOntslag477=\"\",\"\",Data_NaamPersoonVastOntslag477)","v":""},null,null,{"$f":"IF(Data_BeeindigingsdatumVastOntslag477=\"\",\"\",Data_BeeindigingsdatumVastOntslag477)","v":""},null,null,{"$f":"IF(Data_LoonkostenVastOntslag477=\"\",\"\",Data_LoonkostenVastOntslag477)","v":""},null,{"$f":"IF(Data_PersoonAanUitVastOntslag477=-1,\"v\",\"\")","v":""},null,"v",null,null,null,null,0,0]
[null,null,null,null,null,null,null,{"$f":"IF(Data_NaamPersoonNatVerloop478=\"\",\"\",Data_NaamPersoonNatVerloop478)","v":""},null,null,{"$f":"IF(Data_BeeindigingsdatumNatVerloop478=\"\",\"\",Data_BeeindigingsdatumNatVerloop478)","v":""},null,null,{"$f":"IF(Data_LoonkostenNatVerloop478=\"\",\"\",Data_LoonkostenNatVerloop478)","v":""},null,"v",null,"v",null,null,null,null,0,"",null,null,null,null,null,null,null,null,{"$f":"IF(Data_NaamPersoonTijd478=\"\",\"\",Data_NaamPersoonTijd478)","v":""},null,null,{"$f":"IF(Data_BeeindigingsdatumTijd478=\"\",\"\",Data_BeeindigingsdatumTijd478)","v":""},null,null,{"$f":"IF(Data_LoonkostenTijd478=\"\",\"\",Data_LoonkostenTijd478)","v":""},null,{"$f":"IF(Data_PersoonAanUitTijd478=-1,\"v\",\"\")","v":""},null,"v",null,null,null,null,0,0,null,null,null,{"$f":"IF(Data_NaamPersoonVastVrij478=\"\",\"\",Data_NaamPersoonVastVrij478)","v":""},null,null,{"$f":"IF(Data_BeeindigingsdatumVastVrij478=\"\",\"\",Data_BeeindigingsdatumVastVrij478)","v":""},null,null,{"$f":"IF(Data_LoonkostenVastVrij478=\"\",\"\",Data_LoonkostenVastVrij478)","v":""},null,{"$f":"IF(Data_PersoonAanUitVastVrij478=-1,\"v\",\"\")","v":""},null,"v",null,null,null,null,0,0,null,{"$f":"IF(Data_NaamPersoonVastOntslag478=\"\",\"\",Data_NaamPersoonVastOntslag478)","v":""},null,null,{"$f":"IF(Data_BeeindigingsdatumVastOntslag478=\"\",\"\",Data_BeeindigingsdatumVastOntslag478)","v":""},null,null,{"$f":"IF(Data_LoonkostenVastOntslag478=\"\",\"\",Data_LoonkostenVastOntslag478)","v":""},null,{"$f":"IF(Data_PersoonAanUitVastOntslag478=-1,\"v\",\"\")","v":""},null,"v",null,null,null,null,0,0]
[null,null,null,null,null,null,null,{"$f":"IF(Data_NaamPersoonNatVerloop479=\"\",\"\",Data_NaamPersoonNatVerloop479)","v":""},null,null,{"$f":"IF(Data_BeeindigingsdatumNatVerloop479=\"\",\"\",Data_BeeindigingsdatumNatVerloop479)","v":""},null,null,{"$f":"IF(Data_LoonkostenNatVerloop479=\"\",\"\",Data_LoonkostenNatVerloop479)","v":""},null,"v",null,"v",null,null,null,null,0,"",null,null,null,null,null,null,null,null,"",null,null,{"$f":"IF(Data_BeeindigingsdatumTijd479=\"\",\"\",Data_BeeindigingsdatumTijd479)","v":""},null,null,{"$f":"IF(Data_LoonkostenTijd479=\"\",\"\",Data_LoonkostenTijd479)","v":""},null,{"$f":"IF(Data_PersoonAanUitTijd479=-1,\"v\",\"\")","v":""},null,"v",null,null,null,null,0,0,null,null,null,{"$f":"IF(Data_NaamPersoonVastVrij479=\"\",\"\",Data_NaamPersoonVastVrij479)","v":""},null,null,{"$f":"IF(Data_BeeindigingsdatumVastVrij479=\"\",\"\",Data_BeeindigingsdatumVastVrij479)","v":""},null,null,{"$f":"IF(Data_LoonkostenVastVrij479=\"\",\"\",Data_LoonkostenVastVrij479)","v":""},null,{"$f":"IF(Data_PersoonAanUitVastVrij479=-1,\"v\",\"\")","v":""},null,"v",null,null,null,null,0,0,null,{"$f":"IF(Data_NaamPersoonVastOntslag479=\"\",\"\",Data_NaamPersoonVastOntslag479)","v":""},null,null,{"$f":"IF(Data_BeeindigingsdatumVastOntslag479=\"\",\"\",Data_BeeindigingsdatumVastOntslag479)","v":""},null,null,{"$f":"IF(Data_LoonkostenVastOntslag479=\"\",\"\",Data_LoonkostenVastOntslag479)","v":""},null,{"$f":"IF(Data_PersoonAanUitVastOntslag479=-1,\"v\",\"\")","v":""},null,"v",null,null,null,null,0,0]
[null,null,null,null,null,null,null,{"$f":"IF(Data_NaamPersoonNatVerloop480=\"\",\"\",Data_NaamPersoonNatVerloop480)","v":""},null,null,{"$f":"IF(Data_BeeindigingsdatumNatVerloop480=\"\",\"\",Data_BeeindigingsdatumNatVerloop480)","v":""},null,null,{"$f":"IF(Data_LoonkostenNatVerloop480=\"\",\"\",Data_LoonkostenNatVerloop480)","v":""},null,"v",null,"v",null,null,null,null,0,"",null,null,null,null,null,null,null,null,"",null,null,{"$f":"IF(Data_BeeindigingsdatumTijd480=\"\",\"\",Data_BeeindigingsdatumTijd480)","v":""},null,null,{"$f":"IF(Data_LoonkostenTijd480=\"\",\"\",Data_LoonkostenTijd480)","v":""},null,{"$f":"IF(Data_PersoonAanUitTijd480=-1,\"v\",\"\")","v":""},null,"v",null,null,null,null,0,0,null,null,null,{"$f":"IF(Data_NaamPersoonVastVrij480=\"\",\"\",Data_NaamPersoonVastVrij480)","v":""},null,null,{"$f":"IF(Data_BeeindigingsdatumVastVrij480=\"\",\"\",Data_BeeindigingsdatumVastVrij480)","v":""},null,null,{"$f":"IF(Data_LoonkostenVastVrij480=\"\",\"\",Data_LoonkostenVastVrij480)","v":""},null,{"$f":"IF(Data_PersoonAanUitVastVrij480=-1,\"v\",\"\")","v":""},null,"v",null,null,null,null,0,0,null,{"$f":"IF(Data_NaamPersoonVastOntslag480=\"\",\"\",Data_NaamPersoonVastOntslag480)","v":""},null,null,{"$f":"IF(Data_BeeindigingsdatumVastOntslag480=\"\",\"\",Data_BeeindigingsdatumVastOntslag480)","v":""},null,null,{"$f":"IF(Data_LoonkostenVastOntslag480=\"\",\"\",Data_LoonkostenVastOntslag480)","v":""},null,{"$f":"IF(Data_PersoonAanUitVastOntslag480=-1,\"v\",\"\")","v":""},null,"v",null,null,null,null,0,0]
[null,null,null,null,null,null,null,{"$f":"IF(Data_NaamPersoonNatVerloop481=\"\",\"\",Data_NaamPersoonNatVerloop481)","v":""},null,null,{"$f":"IF(Data_BeeindigingsdatumNatVerloop481=\"\",\"\",Data_BeeindigingsdatumNatVerloop481)","v":""},null,null,{"$f":"IF(Data_LoonkostenNatVerloop481=\"\",\"\",Data_LoonkostenNatVerloop481)","v":""},null,"v",null,"v",null,null,null,null,0,"",null,null,null,null,null,null,null,null,"",null,null,{"$f":"IF(Data_BeeindigingsdatumTijd481=\"\",\"\",Data_BeeindigingsdatumTijd481)","v":""},null,null,{"$f":"IF(Data_LoonkostenTijd481=\"\",\"\",Data_LoonkostenTijd481)","v":""},null,{"$f":"IF(Data_PersoonAanUitTijd481=-1,\"v\",\"\")","v":""},null,"v",null,null,null,null,0,0,null,null,null,{"$f":"IF(Data_NaamPersoonVastVrij481=\"\",\"\",Data_NaamPersoonVastVrij481)","v":""},null,null,{"$f":"IF(Data_BeeindigingsdatumVastVrij481=\"\",\"\",Data_BeeindigingsdatumVastVrij481)","v":""},null,null,{"$f":"IF(Data_LoonkostenVastVrij481=\"\",\"\",Data_LoonkostenVastVrij481)","v":""},null,{"$f":"IF(Data_PersoonAanUitVastVrij481=-1,\"v\",\"\")","v":""},null,"v",null,null,null,null,0,0,null,{"$f":"IF(Data_NaamPersoonVastOntslag481=\"\",\"\",Data_NaamPersoonVastOntslag481)","v":""},null,null,{"$f":"IF(Data_BeeindigingsdatumVastOntslag481=\"\",\"\",Data_BeeindigingsdatumVastOntslag481)","v":""},null,null,{"$f":"IF(Data_LoonkostenVastOntslag481=\"\",\"\",Data_LoonkostenVastOntslag481)","v":""},null,{"$f":"IF(Data_PersoonAanUitVastOntslag481=-1,\"v\",\"\")","v":""},null,"v",null,null,null,null,0,0]
[null,null,null,null,null,null,null,{"$f":"IF(Data_NaamPersoonNatVerloop482=\"\",\"\",Data_NaamPersoonNatVerloop482)","v":""},null,null,{"$f":"IF(Data_BeeindigingsdatumNatVerloop482=\"\",\"\",Data_BeeindigingsdatumNatVerloop482)","v":""},null,null,{"$f":"IF(Data_LoonkostenNatVerloop482=\"\",\"\",Data_LoonkostenNatVerloop482)","v":""},null,"v",null,"v",null,null,null,null,0,"",null,null,null,null,null,null,null,null,"",null,null,{"$f":"IF(Data_BeeindigingsdatumTijd482=\"\",\"\",Data_BeeindigingsdatumTijd482)","v":""},null,null,{"$f":"IF(Data_LoonkostenTijd482=\"\",\"\",Data_LoonkostenTijd482)","v":""},null,{"$f":"IF(Data_PersoonAanUitTijd482=-1,\"v\",\"\")","v":""},null,"v",null,null,null,null,0,0,null,null,null,{"$f":"IF(Data_NaamPersoonVastVrij482=\"\",\"\",Data_NaamPersoonVastVrij482)","v":""},null,null,{"$f":"IF(Data_BeeindigingsdatumVastVrij482=\"\",\"\",Data_BeeindigingsdatumVastVrij482)","v":""},null,null,{"$f":"IF(Data_LoonkostenVastVrij482=\"\",\"\",Data_LoonkostenVastVrij482)","v":""},null,{"$f":"IF(Data_PersoonAanUitVastVrij482=-1,\"v\",\"\")","v":""},null,"v",null,null,null,null,0,0,null,{"$f":"IF(Data_NaamPersoonVastOntslag482=\"\",\"\",Data_NaamPersoonVastOntslag482)","v":""},null,null,{"$f":"IF(Data_BeeindigingsdatumVastOntslag482=\"\",\"\",Data_BeeindigingsdatumVastOntslag482)","v":""},null,null,{"$f":"IF(Data_LoonkostenVastOntslag482=\"\",\"\",Data_LoonkostenVastOntslag482)","v":""},null,{"$f":"IF(Data_PersoonAanUitVastOntslag482=-1,\"v\",\"\")","v":""},null,"v",null,null,null,null,0,0]
[null,null,null,null,null,null,null,{"$f":"IF(Data_NaamPersoonNatVerloop483=\"\",\"\",Data_NaamPersoonNatVerloop483)","v":""},null,null,{"$f":"IF(Data_BeeindigingsdatumNatVerloop483=\"\",\"\",Data_BeeindigingsdatumNatVerloop483)","v":""},null,null,{"$f":"IF(Data_LoonkostenNatVerloop483=\"\",\"\",Data_LoonkostenNatVerloop483)","v":""},null,"v",null,"v",null,null,null,null,0,"",null,null,null,null,null,null,null,null,"",null,null,{"$f":"IF(Data_BeeindigingsdatumTijd483=\"\",\"\",Data_BeeindigingsdatumTijd483)","v":""},null,null,{"$f":"IF(Data_LoonkostenTijd483=\"\",\"\",Data_LoonkostenTijd483)","v":""},null,{"$f":"IF(Data_PersoonAanUitTijd483=-1,\"v\",\"\")","v":""},null,"v",null,null,null,null,0,0,null,null,null,{"$f":"IF(Data_NaamPersoonVastVrij483=\"\",\"\",Data_NaamPersoonVastVrij483)","v":""},null,null,{"$f":"IF(Data_BeeindigingsdatumVastVrij483=\"\",\"\",Data_BeeindigingsdatumVastVrij483)","v":""},null,null,{"$f":"IF(Data_LoonkostenVastVrij483=\"\",\"\",Data_LoonkostenVastVrij483)","v":""},null,{"$f":"IF(Data_PersoonAanUitVastVrij483=-1,\"v\",\"\")","v":""},null,"v",null,null,null,null,0,0,null,{"$f":"IF(Data_NaamPersoonVastOntslag483=\"\",\"\",Data_NaamPersoonVastOntslag483)","v":""},null,null,{"$f":"IF(Data_BeeindigingsdatumVastOntslag483=\"\",\"\",Data_BeeindigingsdatumVastOntslag483)","v":""},null,null,{"$f":"IF(Data_LoonkostenVastOntslag483=\"\",\"\",Data_LoonkostenVastOntslag483)","v":""},null,{"$f":"IF(Data_PersoonAanUitVastOntslag483=-1,\"v\",\"\")","v":""},null,"v",null,null,null,null,0,0]
[null,null,null,null,null,null,null,{"$f":"IF(Data_NaamPersoonNatVerloop484=\"\",\"\",Data_NaamPersoonNatVerloop484)","v":""},null,null,{"$f":"IF(Data_BeeindigingsdatumNatVerloop484=\"\",\"\",Data_BeeindigingsdatumNatVerloop484)","v":""},null,null,{"$f":"IF(Data_LoonkostenNatVerloop484=\"\",\"\",Data_LoonkostenNatVerloop484)","v":""},null,"v",null,"v",null,null,null,null,0,"",null,null,null,null,null,null,null,null,"",null,null,{"$f":"IF(Data_BeeindigingsdatumTijd484=\"\",\"\",Data_BeeindigingsdatumTijd484)","v":""},null,null,{"$f":"IF(Data_LoonkostenTijd484=\"\",\"\",Data_LoonkostenTijd484)","v":""},null,{"$f":"IF(Data_PersoonAanUitTijd484=-1,\"v\",\"\")","v":""},null,"v",null,null,null,null,0,0,null,null,null,{"$f":"IF(Data_NaamPersoonVastVrij484=\"\",\"\",Data_NaamPersoonVastVrij484)","v":""},null,null,{"$f":"IF(Data_BeeindigingsdatumVastVrij484=\"\",\"\",Data_BeeindigingsdatumVastVrij484)","v":""},null,null,{"$f":"IF(Data_LoonkostenVastVrij484=\"\",\"\",Data_LoonkostenVastVrij484)","v":""},null,{"$f":"IF(Data_PersoonAanUitVastVrij484=-1,\"v\",\"\")","v":""},null,"v",null,null,null,null,0,0,null,{"$f":"IF(Data_NaamPersoonVastOntslag484=\"\",\"\",Data_NaamPersoonVastOntslag484)","v":""},null,null,{"$f":"IF(Data_BeeindigingsdatumVastOntslag484=\"\",\"\",Data_BeeindigingsdatumVastOntslag484)","v":""},null,null,{"$f":"IF(Data_LoonkostenVastOntslag484=\"\",\"\",Data_LoonkostenVastOntslag484)","v":""},null,{"$f":"IF(Data_PersoonAanUitVastOntslag484=-1,\"v\",\"\")","v":""},null,"v",null,null,null,null,0,0]
[null,null,null,null,null,null,null,{"$f":"IF(Data_NaamPersoonNatVerloop485=\"\",\"\",Data_NaamPersoonNatVerloop485)","v":""},null,null,{"$f":"IF(Data_BeeindigingsdatumNatVerloop485=\"\",\"\",Data_BeeindigingsdatumNatVerloop485)","v":""},null,null,{"$f":"IF(Data_LoonkostenNatVerloop485=\"\",\"\",Data_LoonkostenNatVerloop485)","v":""},null,"v",null,"v",null,null,null,null,0,"",null,null,null,null,null,null,null,null,"",null,null,{"$f":"IF(Data_BeeindigingsdatumTijd485=\"\",\"\",Data_BeeindigingsdatumTijd485)","v":""},null,null,{"$f":"IF(Data_LoonkostenTijd485=\"\",\"\",Data_LoonkostenTijd485)","v":""},null,{"$f":"IF(Data_PersoonAanUitTijd485=-1,\"v\",\"\")","v":""},null,"v",null,null,null,null,0,0,null,null,null,{"$f":"IF(Data_NaamPersoonVastVrij485=\"\",\"\",Data_NaamPersoonVastVrij485)","v":""},null,null,{"$f":"IF(Data_BeeindigingsdatumVastVrij485=\"\",\"\",Data_BeeindigingsdatumVastVrij485)","v":""},null,null,{"$f":"IF(Data_LoonkostenVastVrij485=\"\",\"\",Data_LoonkostenVastVrij485)","v":""},null,{"$f":"IF(Data_PersoonAanUitVastVrij485=-1,\"v\",\"\")","v":""},null,"v",null,null,null,null,0,0,null,{"$f":"IF(Data_NaamPersoonVastOntslag485=\"\",\"\",Data_NaamPersoonVastOntslag485)","v":""},null,null,{"$f":"IF(Data_BeeindigingsdatumVastOntslag485=\"\",\"\",Data_BeeindigingsdatumVastOntslag485)","v":""},null,null,{"$f":"IF(Data_LoonkostenVastOntslag485=\"\",\"\",Data_LoonkostenVastOntslag485)","v":""},null,{"$f":"IF(Data_PersoonAanUitVastOntslag485=-1,\"v\",\"\")","v":""},null,"v",null,null,null,null,0,0]
[null,null,null,null,null,null,null,{"$f":"IF(Data_NaamPersoonNatVerloop486=\"\",\"\",Data_NaamPersoonNatVerloop486)","v":""},null,null,{"$f":"IF(Data_BeeindigingsdatumNatVerloop486=\"\",\"\",Data_BeeindigingsdatumNatVerloop486)","v":""},null,null,{"$f":"IF(Data_LoonkostenNatVerloop486=\"\",\"\",Data_LoonkostenNatVerloop486)","v":""},null,"v",null,"v",null,null,null,null,0,"",null,null,null,null,null,null,null,null,"",null,null,{"$f":"IF(Data_BeeindigingsdatumTijd486=\"\",\"\",Data_BeeindigingsdatumTijd486)","v":""},null,null,{"$f":"IF(Data_LoonkostenTijd486=\"\",\"\",Data_LoonkostenTijd486)","v":""},null,{"$f":"IF(Data_PersoonAanUitTijd486=-1,\"v\",\"\")","v":""},null,"v",null,null,null,null,0,0,null,null,null,{"$f":"IF(Data_NaamPersoonVastVrij486=\"\",\"\",Data_NaamPersoonVastVrij486)","v":""},null,null,{"$f":"IF(Data_BeeindigingsdatumVastVrij486=\"\",\"\",Data_BeeindigingsdatumVastVrij486)","v":""},null,null,{"$f":"IF(Data_LoonkostenVastVrij486=\"\",\"\",Data_LoonkostenVastVrij486)","v":""},null,{"$f":"IF(Data_PersoonAanUitVastVrij486=-1,\"v\",\"\")","v":""},null,"v",null,null,null,null,0,0,null,{"$f":"IF(Data_NaamPersoonVastOntslag486=\"\",\"\",Data_NaamPersoonVastOntslag486)","v":""},null,null,{"$f":"IF(Data_BeeindigingsdatumVastOntslag486=\"\",\"\",Data_BeeindigingsdatumVastOntslag486)","v":""},null,null,{"$f":"IF(Data_LoonkostenVastOntslag486=\"\",\"\",Data_LoonkostenVastOntslag486)","v":""},null,{"$f":"IF(Data_PersoonAanUitVastOntslag486=-1,\"v\",\"\")","v":""},null,"v",null,null,null,null,0,0]
[null,null,null,null,null,null,null,{"$f":"IF(Data_NaamPersoonNatVerloop487=\"\",\"\",Data_NaamPersoonNatVerloop487)","v":""},null,null,{"$f":"IF(Data_BeeindigingsdatumNatVerloop487=\"\",\"\",Data_BeeindigingsdatumNatVerloop487)","v":""},null,null,{"$f":"IF(Data_LoonkostenNatVerloop487=\"\",\"\",Data_LoonkostenNatVerloop487)","v":""},null,"v",null,"v",null,null,null,null,0,"",null,null,null,null,null,null,null,null,"",null,null,{"$f":"IF(Data_BeeindigingsdatumTijd487=\"\",\"\",Data_BeeindigingsdatumTijd487)","v":""},null,null,{"$f":"IF(Data_LoonkostenTijd487=\"\",\"\",Data_LoonkostenTijd487)","v":""},null,{"$f":"IF(Data_PersoonAanUitTijd487=-1,\"v\",\"\")","v":""},null,"v",null,null,null,null,0,0,null,null,null,{"$f":"IF(Data_NaamPersoonVastVrij487=\"\",\"\",Data_NaamPersoonVastVrij487)","v":""},null,null,{"$f":"IF(Data_BeeindigingsdatumVastVrij487=\"\",\"\",Data_BeeindigingsdatumVastVrij487)","v":""},null,null,{"$f":"IF(Data_LoonkostenVastVrij487=\"\",\"\",Data_LoonkostenVastVrij487)","v":""},null,{"$f":"IF(Data_PersoonAanUitVastVrij487=-1,\"v\",\"\")","v":""},null,"v",null,null,null,null,0,0,null,{"$f":"IF(Data_NaamPersoonVastOntslag487=\"\",\"\",Data_NaamPersoonVastOntslag487)","v":""},null,null,{"$f":"IF(Data_BeeindigingsdatumVastOntslag487=\"\",\"\",Data_BeeindigingsdatumVastOntslag487)","v":""},null,null,{"$f":"IF(Data_LoonkostenVastOntslag487=\"\",\"\",Data_LoonkostenVastOntslag487)","v":""},null,{"$f":"IF(Data_PersoonAanUitVastOntslag487=-1,\"v\",\"\")","v":""},null,"v",null,null,null,null,0,0]
[null,null,null,null,null,null,null,{"$f":"IF(Data_NaamPersoonNatVerloop488=\"\",\"\",Data_NaamPersoonNatVerloop488)","v":""},null,null,{"$f":"IF(Data_BeeindigingsdatumNatVerloop488=\"\",\"\",Data_BeeindigingsdatumNatVerloop488)","v":""},null,null,{"$f":"IF(Data_LoonkostenNatVerloop488=\"\",\"\",Data_LoonkostenNatVerloop488)","v":""},null,"v",null,"v",null,null,null,null,0,"",null,null,null,null,null,null,null,null,"",null,null,{"$f":"IF(Data_BeeindigingsdatumTijd488=\"\",\"\",Data_BeeindigingsdatumTijd488)","v":""},null,null,{"$f":"IF(Data_LoonkostenTijd488=\"\",\"\",Data_LoonkostenTijd488)","v":""},null,{"$f":"IF(Data_PersoonAanUitTijd488=-1,\"v\",\"\")","v":""},null,"v",null,null,null,null,0,0,null,null,null,{"$f":"IF(Data_NaamPersoonVastVrij488=\"\",\"\",Data_NaamPersoonVastVrij488)","v":""},null,null,{"$f":"IF(Data_BeeindigingsdatumVastVrij488=\"\",\"\",Data_BeeindigingsdatumVastVrij488)","v":""},null,null,{"$f":"IF(Data_LoonkostenVastVrij488=\"\",\"\",Data_LoonkostenVastVrij488)","v":""},null,{"$f":"IF(Data_PersoonAanUitVastVrij488=-1,\"v\",\"\")","v":""},null,"v",null,null,null,null,0,0,null,{"$f":"IF(Data_NaamPersoonVastOntslag488=\"\",\"\",Data_NaamPersoonVastOntslag488)","v":""},null,null,{"$f":"IF(Data_BeeindigingsdatumVastOntslag488=\"\",\"\",Data_BeeindigingsdatumVastOntslag488)","v":""},null,null,{"$f":"IF(Data_LoonkostenVastOntslag488=\"\",\"\",Data_LoonkostenVastOntslag488)","v":""},null,{"$f":"IF(Data_PersoonAanUitVastOntslag488=-1,\"v\",\"\")","v":""},null,"v",null,null,null,null,0,0]
[null,null,null,null,null,null,null,{"$f":"IF(Data_NaamPersoonNatVerloop489=\"\",\"\",Data_NaamPersoonNatVerloop489)","v":""},null,null,{"$f":"IF(Data_BeeindigingsdatumNatVerloop489=\"\",\"\",Data_BeeindigingsdatumNatVerloop489)","v":""},null,null,{"$f":"IF(Data_LoonkostenNatVerloop489=\"\",\"\",Data_LoonkostenNatVerloop489)","v":""},null,"v",null,"v",null,null,null,null,0,"",null,null,null,null,null,null,null,null,"",null,null,{"$f":"IF(Data_BeeindigingsdatumTijd489=\"\",\"\",Data_BeeindigingsdatumTijd489)","v":""},null,null,{"$f":"IF(Data_LoonkostenTijd489=\"\",\"\",Data_LoonkostenTijd489)","v":""},null,{"$f":"IF(Data_PersoonAanUitTijd489=-1,\"v\",\"\")","v":""},null,"v",null,null,null,null,0,0,null,null,null,{"$f":"IF(Data_NaamPersoonVastVrij489=\"\",\"\",Data_NaamPersoonVastVrij489)","v":""},null,null,{"$f":"IF(Data_BeeindigingsdatumVastVrij489=\"\",\"\",Data_BeeindigingsdatumVastVrij489)","v":""},null,null,{"$f":"IF(Data_LoonkostenVastVrij489=\"\",\"\",Data_LoonkostenVastVrij489)","v":""},null,{"$f":"IF(Data_PersoonAanUitVastVrij489=-1,\"v\",\"\")","v":""},null,"v",null,null,null,null,0,0,null,{"$f":"IF(Data_NaamPersoonVastOntslag489=\"\",\"\",Data_NaamPersoonVastOntslag489)","v":""},null,null,{"$f":"IF(Data_BeeindigingsdatumVastOntslag489=\"\",\"\",Data_BeeindigingsdatumVastOntslag489)","v":""},null,null,{"$f":"IF(Data_LoonkostenVastOntslag489=\"\",\"\",Data_LoonkostenVastOntslag489)","v":""},null,{"$f":"IF(Data_PersoonAanUitVastOntslag489=-1,\"v\",\"\")","v":""},null,"v",null,null,null,null,0,0]
[null,null,null,null,null,null,null,{"$f":"IF(Data_NaamPersoonNatVerloop490=\"\",\"\",Data_NaamPersoonNatVerloop490)","v":""},null,null,{"$f":"IF(Data_BeeindigingsdatumNatVerloop490=\"\",\"\",Data_BeeindigingsdatumNatVerloop490)","v":""},null,null,{"$f":"IF(Data_LoonkostenNatVerloop490=\"\",\"\",Data_LoonkostenNatVerloop490)","v":""},null,"v",null,"v",null,null,null,null,0,"",null,null,null,null,null,null,null,null,"",null,null,{"$f":"IF(Data_BeeindigingsdatumTijd490=\"\",\"\",Data_BeeindigingsdatumTijd490)","v":""},null,null,{"$f":"IF(Data_LoonkostenTijd490=\"\",\"\",Data_LoonkostenTijd490)","v":""},null,{"$f":"IF(Data_PersoonAanUitTijd490=-1,\"v\",\"\")","v":""},null,"v",null,null,null,null,0,0,null,null,null,{"$f":"IF(Data_NaamPersoonVastVrij490=\"\",\"\",Data_NaamPersoonVastVrij490)","v":""},null,null,{"$f":"IF(Data_BeeindigingsdatumVastVrij490=\"\",\"\",Data_BeeindigingsdatumVastVrij490)","v":""},null,null,{"$f":"IF(Data_LoonkostenVastVrij490=\"\",\"\",Data_LoonkostenVastVrij490)","v":""},null,{"$f":"IF(Data_PersoonAanUitVastVrij490=-1,\"v\",\"\")","v":""},null,"v",null,null,null,null,0,0,null,{"$f":"IF(Data_NaamPersoonVastOntslag490=\"\",\"\",Data_NaamPersoonVastOntslag490)","v":""},null,null,{"$f":"IF(Data_BeeindigingsdatumVastOntslag490=\"\",\"\",Data_BeeindigingsdatumVastOntslag490)","v":""},null,null,{"$f":"IF(Data_LoonkostenVastOntslag490=\"\",\"\",Data_LoonkostenVastOntslag490)","v":""},null,{"$f":"IF(Data_PersoonAanUitVastOntslag490=-1,\"v\",\"\")","v":""},null,"v",null,null,null,null,0,0]
[null,null,null,null,null,null,null,{"$f":"IF(Data_NaamPersoonNatVerloop491=\"\",\"\",Data_NaamPersoonNatVerloop491)","v":""},null,null,{"$f":"IF(Data_BeeindigingsdatumNatVerloop491=\"\",\"\",Data_BeeindigingsdatumNatVerloop491)","v":""},null,null,{"$f":"IF(Data_LoonkostenNatVerloop491=\"\",\"\",Data_LoonkostenNatVerloop491)","v":""},null,"v",null,"v",null,null,null,null,0,"",null,null,null,null,null,null,null,null,"",null,null,{"$f":"IF(Data_BeeindigingsdatumTijd491=\"\",\"\",Data_BeeindigingsdatumTijd491)","v":""},null,null,{"$f":"IF(Data_LoonkostenTijd491=\"\",\"\",Data_LoonkostenTijd491)","v":""},null,{"$f":"IF(Data_PersoonAanUitTijd491=-1,\"v\",\"\")","v":""},null,"v",null,null,null,null,0,0,null,null,null,{"$f":"IF(Data_NaamPersoonVastVrij491=\"\",\"\",Data_NaamPersoonVastVrij491)","v":""},null,null,{"$f":"IF(Data_BeeindigingsdatumVastVrij491=\"\",\"\",Data_BeeindigingsdatumVastVrij491)","v":""},null,null,{"$f":"IF(Data_LoonkostenVastVrij491=\"\",\"\",Data_LoonkostenVastVrij491)","v":""},null,{"$f":"IF(Data_PersoonAanUitVastVrij491=-1,\"v\",\"\")","v":""},null,"v",null,null,null,null,0,0,null,{"$f":"IF(Data_NaamPersoonVastOntslag491=\"\",\"\",Data_NaamPersoonVastOntslag491)","v":""},null,null,{"$f":"IF(Data_BeeindigingsdatumVastOntslag491=\"\",\"\",Data_BeeindigingsdatumVastOntslag491)","v":""},null,null,{"$f":"IF(Data_LoonkostenVastOntslag491=\"\",\"\",Data_LoonkostenVastOntslag491)","v":""},null,{"$f":"IF(Data_PersoonAanUitVastOntslag491=-1,\"v\",\"\")","v":""},null,"v",null,null,null,null,0,0]
[null,null,null,null,null,null,null,{"$f":"IF(Data_NaamPersoonNatVerloop492=\"\",\"\",Data_NaamPersoonNatVerloop492)","v":""},null,null,{"$f":"IF(Data_BeeindigingsdatumNatVerloop492=\"\",\"\",Data_BeeindigingsdatumNatVerloop492)","v":""},null,null,{"$f":"IF(Data_LoonkostenNatVerloop492=\"\",\"\",Data_LoonkostenNatVerloop492)","v":""},null,"v",null,"v",null,null,null,null,0,"",null,null,null,null,null,null,null,null,"",null,null,{"$f":"IF(Data_BeeindigingsdatumTijd492=\"\",\"\",Data_BeeindigingsdatumTijd492)","v":""},null,null,{"$f":"IF(Data_LoonkostenTijd492=\"\",\"\",Data_LoonkostenTijd492)","v":""},null,{"$f":"IF(Data_PersoonAanUitTijd492=-1,\"v\",\"\")","v":""},null,"v",null,null,null,null,0,0,null,null,null,{"$f":"IF(Data_NaamPersoonVastVrij492=\"\",\"\",Data_NaamPersoonVastVrij492)","v":""},null,null,{"$f":"IF(Data_BeeindigingsdatumVastVrij492=\"\",\"\",Data_BeeindigingsdatumVastVrij492)","v":""},null,null,{"$f":"IF(Data_LoonkostenVastVrij492=\"\",\"\",Data_LoonkostenVastVrij492)","v":""},null,{"$f":"IF(Data_PersoonAanUitVastVrij492=-1,\"v\",\"\")","v":""},null,"v",null,null,null,null,0,0,null,{"$f":"IF(Data_NaamPersoonVastOntslag492=\"\",\"\",Data_NaamPersoonVastOntslag492)","v":""},null,null,{"$f":"IF(Data_BeeindigingsdatumVastOntslag492=\"\",\"\",Data_BeeindigingsdatumVastOntslag492)","v":""},null,null,{"$f":"IF(Data_LoonkostenVastOntslag492=\"\",\"\",Data_LoonkostenVastOntslag492)","v":""},null,{"$f":"IF(Data_PersoonAanUitVastOntslag492=-1,\"v\",\"\")","v":""},null,"v",null,null,null,null,0,0]
[null,null,null,null,null,null,null,{"$f":"IF(Data_NaamPersoonNatVerloop493=\"\",\"\",Data_NaamPersoonNatVerloop493)","v":""},null,null,{"$f":"IF(Data_BeeindigingsdatumNatVerloop493=\"\",\"\",Data_BeeindigingsdatumNatVerloop493)","v":""},null,null,{"$f":"IF(Data_LoonkostenNatVerloop493=\"\",\"\",Data_LoonkostenNatVerloop493)","v":""},null,"v",null,"v",null,null,null,null,0,"",null,null,null,null,null,null,null,null,"",null,null,{"$f":"IF(Data_BeeindigingsdatumTijd493=\"\",\"\",Data_BeeindigingsdatumTijd493)","v":""},null,null,{"$f":"IF(Data_LoonkostenTijd493=\"\",\"\",Data_LoonkostenTijd493)","v":""},null,{"$f":"IF(Data_PersoonAanUitTijd493=-1,\"v\",\"\")","v":""},null,"v",null,null,null,null,0,0,null,null,null,{"$f":"IF(Data_NaamPersoonVastVrij493=\"\",\"\",Data_NaamPersoonVastVrij493)","v":""},null,null,{"$f":"IF(Data_BeeindigingsdatumVastVrij493=\"\",\"\",Data_BeeindigingsdatumVastVrij493)","v":""},null,null,{"$f":"IF(Data_LoonkostenVastVrij493=\"\",\"\",Data_LoonkostenVastVrij493)","v":""},null,{"$f":"IF(Data_PersoonAanUitVastVrij493=-1,\"v\",\"\")","v":""},null,"v",null,null,null,null,0,0,null,{"$f":"IF(Data_NaamPersoonVastOntslag493=\"\",\"\",Data_NaamPersoonVastOntslag493)","v":""},null,null,{"$f":"IF(Data_BeeindigingsdatumVastOntslag493=\"\",\"\",Data_BeeindigingsdatumVastOntslag493)","v":""},null,null,{"$f":"IF(Data_LoonkostenVastOntslag493=\"\",\"\",Data_LoonkostenVastOntslag493)","v":""},null,{"$f":"IF(Data_PersoonAanUitVastOntslag493=-1,\"v\",\"\")","v":""},null,"v",null,null,null,null,0,0]
[null,null,null,null,null,null,null,{"$f":"IF(Data_NaamPersoonNatVerloop494=\"\",\"\",Data_NaamPersoonNatVerloop494)","v":""},null,null,{"$f":"IF(Data_BeeindigingsdatumNatVerloop494=\"\",\"\",Data_BeeindigingsdatumNatVerloop494)","v":""},null,null,{"$f":"IF(Data_LoonkostenNatVerloop494=\"\",\"\",Data_LoonkostenNatVerloop494)","v":""},null,"v",null,"v",null,null,null,null,0,"",null,null,null,null,null,null,null,null,"",null,null,{"$f":"IF(Data_BeeindigingsdatumTijd494=\"\",\"\",Data_BeeindigingsdatumTijd494)","v":""},null,null,{"$f":"IF(Data_LoonkostenTijd494=\"\",\"\",Data_LoonkostenTijd494)","v":""},null,{"$f":"IF(Data_PersoonAanUitTijd494=-1,\"v\",\"\")","v":""},null,"v",null,null,null,null,0,0,null,null,null,{"$f":"IF(Data_NaamPersoonVastVrij494=\"\",\"\",Data_NaamPersoonVastVrij494)","v":""},null,null,{"$f":"IF(Data_BeeindigingsdatumVastVrij494=\"\",\"\",Data_BeeindigingsdatumVastVrij494)","v":""},null,null,{"$f":"IF(Data_LoonkostenVastVrij494=\"\",\"\",Data_LoonkostenVastVrij494)","v":""},null,{"$f":"IF(Data_PersoonAanUitVastVrij494=-1,\"v\",\"\")","v":""},null,"v",null,null,null,null,0,0,null,{"$f":"IF(Data_NaamPersoonVastOntslag494=\"\",\"\",Data_NaamPersoonVastOntslag494)","v":""},null,null,{"$f":"IF(Data_BeeindigingsdatumVastOntslag494=\"\",\"\",Data_BeeindigingsdatumVastOntslag494)","v":""},null,null,{"$f":"IF(Data_LoonkostenVastOntslag494=\"\",\"\",Data_LoonkostenVastOntslag494)","v":""},null,{"$f":"IF(Data_PersoonAanUitVastOntslag494=-1,\"v\",\"\")","v":""},null,"v",null,null,null,null,0,0]
[null,null,null,null,null,null,null,{"$f":"IF(Data_NaamPersoonNatVerloop495=\"\",\"\",Data_NaamPersoonNatVerloop495)","v":""},null,null,{"$f":"IF(Data_BeeindigingsdatumNatVerloop495=\"\",\"\",Data_BeeindigingsdatumNatVerloop495)","v":""},null,null,{"$f":"IF(Data_LoonkostenNatVerloop495=\"\",\"\",Data_LoonkostenNatVerloop495)","v":""},null,"v",null,"v",null,null,null,null,0,"",null,null,null,null,null,null,null,null,"",null,null,{"$f":"IF(Data_BeeindigingsdatumTijd495=\"\",\"\",Data_BeeindigingsdatumTijd495)","v":""},null,null,{"$f":"IF(Data_LoonkostenTijd495=\"\",\"\",Data_LoonkostenTijd495)","v":""},null,{"$f":"IF(Data_PersoonAanUitTijd495=-1,\"v\",\"\")","v":""},null,"v",null,null,null,null,0,0,null,null,null,{"$f":"IF(Data_NaamPersoonVastVrij495=\"\",\"\",Data_NaamPersoonVastVrij495)","v":""},null,null,{"$f":"IF(Data_BeeindigingsdatumVastVrij495=\"\",\"\",Data_BeeindigingsdatumVastVrij495)","v":""},null,null,{"$f":"IF(Data_LoonkostenVastVrij495=\"\",\"\",Data_LoonkostenVastVrij495)","v":""},null,{"$f":"IF(Data_PersoonAanUitVastVrij495=-1,\"v\",\"\")","v":""},null,"v",null,null,null,null,0,0,null,{"$f":"IF(Data_NaamPersoonVastOntslag495=\"\",\"\",Data_NaamPersoonVastOntslag495)","v":""},null,null,{"$f":"IF(Data_BeeindigingsdatumVastOntslag495=\"\",\"\",Data_BeeindigingsdatumVastOntslag495)","v":""},null,null,{"$f":"IF(Data_LoonkostenVastOntslag495=\"\",\"\",Data_LoonkostenVastOntslag495)","v":""},null,{"$f":"IF(Data_PersoonAanUitVastOntslag495=-1,\"v\",\"\")","v":""},null,"v",null,null,null,null,0,0]
[null,null,null,null,null,null,null,{"$f":"IF(Data_NaamPersoonNatVerloop496=\"\",\"\",Data_NaamPersoonNatVerloop496)","v":""},null,null,{"$f":"IF(Data_BeeindigingsdatumNatVerloop496=\"\",\"\",Data_BeeindigingsdatumNatVerloop496)","v":""},null,null,{"$f":"IF(Data_LoonkostenNatVerloop496=\"\",\"\",Data_LoonkostenNatVerloop496)","v":""},null,"v",null,"v",null,null,null,null,0,"",null,null,null,null,null,null,null,null,"",null,null,{"$f":"IF(Data_BeeindigingsdatumTijd496=\"\",\"\",Data_BeeindigingsdatumTijd496)","v":""},null,null,{"$f":"IF(Data_LoonkostenTijd496=\"\",\"\",Data_LoonkostenTijd496)","v":""},null,{"$f":"IF(Data_PersoonAanUitTijd496=-1,\"v\",\"\")","v":""},null,"v",null,null,null,null,0,0,null,null,null,{"$f":"IF(Data_NaamPersoonVastVrij496=\"\",\"\",Data_NaamPersoonVastVrij496)","v":""},null,null,{"$f":"IF(Data_BeeindigingsdatumVastVrij496=\"\",\"\",Data_BeeindigingsdatumVastVrij496)","v":""},null,null,{"$f":"IF(Data_LoonkostenVastVrij496=\"\",\"\",Data_LoonkostenVastVrij496)","v":""},null,{"$f":"IF(Data_PersoonAanUitVastVrij496=-1,\"v\",\"\")","v":""},null,"v",null,null,null,null,0,0,null,{"$f":"IF(Data_NaamPersoonVastOntslag496=\"\",\"\",Data_NaamPersoonVastOntslag496)","v":""},null,null,{"$f":"IF(Data_BeeindigingsdatumVastOntslag496=\"\",\"\",Data_BeeindigingsdatumVastOntslag496)","v":""},null,null,{"$f":"IF(Data_LoonkostenVastOntslag496=\"\",\"\",Data_LoonkostenVastOntslag496)","v":""},null,{"$f":"IF(Data_PersoonAanUitVastOntslag496=-1,\"v\",\"\")","v":""},null,"v",null,null,null,null,0,0]
[null,null,null,null,null,null,null,{"$f":"IF(Data_NaamPersoonNatVerloop497=\"\",\"\",Data_NaamPersoonNatVerloop497)","v":""},null,null,{"$f":"IF(Data_BeeindigingsdatumNatVerloop497=\"\",\"\",Data_BeeindigingsdatumNatVerloop497)","v":""},null,null,{"$f":"IF(Data_LoonkostenNatVerloop497=\"\",\"\",Data_LoonkostenNatVerloop497)","v":""},null,"v",null,"v",null,null,null,null,0,"",null,null,null,null,null,null,null,null,"",null,null,{"$f":"IF(Data_BeeindigingsdatumTijd497=\"\",\"\",Data_BeeindigingsdatumTijd497)","v":""},null,null,{"$f":"IF(Data_LoonkostenTijd497=\"\",\"\",Data_LoonkostenTijd497)","v":""},null,{"$f":"IF(Data_PersoonAanUitTijd497=-1,\"v\",\"\")","v":""},null,"v",null,null,null,null,0,0,null,null,null,{"$f":"IF(Data_NaamPersoonVastVrij497=\"\",\"\",Data_NaamPersoonVastVrij497)","v":""},null,null,{"$f":"IF(Data_BeeindigingsdatumVastVrij497=\"\",\"\",Data_BeeindigingsdatumVastVrij497)","v":""},null,null,{"$f":"IF(Data_LoonkostenVastVrij497=\"\",\"\",Data_LoonkostenVastVrij497)","v":""},null,{"$f":"IF(Data_PersoonAanUitVastVrij497=-1,\"v\",\"\")","v":""},null,"v",null,null,null,null,0,0,null,{"$f":"IF(Data_NaamPersoonVastOntslag497=\"\",\"\",Data_NaamPersoonVastOntslag497)","v":""},null,null,{"$f":"IF(Data_BeeindigingsdatumVastOntslag497=\"\",\"\",Data_BeeindigingsdatumVastOntslag497)","v":""},null,null,{"$f":"IF(Data_LoonkostenVastOntslag497=\"\",\"\",Data_LoonkostenVastOntslag497)","v":""},null,{"$f":"IF(Data_PersoonAanUitVastOntslag497=-1,\"v\",\"\")","v":""},null,"v",null,null,null,null,0,0]
[null,null,null,null,null,null,null,{"$f":"IF(Data_NaamPersoonNatVerloop498=\"\",\"\",Data_NaamPersoonNatVerloop498)","v":""},null,null,{"$f":"IF(Data_BeeindigingsdatumNatVerloop498=\"\",\"\",Data_BeeindigingsdatumNatVerloop498)","v":""},null,null,{"$f":"IF(Data_LoonkostenNatVerloop498=\"\",\"\",Data_LoonkostenNatVerloop498)","v":""},null,"v",null,"v",null,null,null,null,0,"",null,null,null,null,null,null,null,null,"",null,null,{"$f":"IF(Data_BeeindigingsdatumTijd498=\"\",\"\",Data_BeeindigingsdatumTijd498)","v":""},null,null,{"$f":"IF(Data_LoonkostenTijd498=\"\",\"\",Data_LoonkostenTijd498)","v":""},null,{"$f":"IF(Data_PersoonAanUitTijd498=-1,\"v\",\"\")","v":""},null,"v",null,null,null,null,0,0,null,null,null,{"$f":"IF(Data_NaamPersoonVastVrij498=\"\",\"\",Data_NaamPersoonVastVrij498)","v":""},null,null,{"$f":"IF(Data_BeeindigingsdatumVastVrij498=\"\",\"\",Data_BeeindigingsdatumVastVrij498)","v":""},null,null,{"$f":"IF(Data_LoonkostenVastVrij498=\"\",\"\",Data_LoonkostenVastVrij498)","v":""},null,{"$f":"IF(Data_PersoonAanUitVastVrij498=-1,\"v\",\"\")","v":""},null,"v",null,null,null,null,0,0,null,{"$f":"IF(Data_NaamPersoonVastOntslag498=\"\",\"\",Data_NaamPersoonVastOntslag498)","v":""},null,null,{"$f":"IF(Data_BeeindigingsdatumVastOntslag498=\"\",\"\",Data_BeeindigingsdatumVastOntslag498)","v":""},null,null,{"$f":"IF(Data_LoonkostenVastOntslag498=\"\",\"\",Data_LoonkostenVastOntslag498)","v":""},null,{"$f":"IF(Data_PersoonAanUitVastOntslag498=-1,\"v\",\"\")","v":""},null,"v",null,null,null,null,0,0]
[null,null,null,null,null,null,null,{"$f":"IF(Data_NaamPersoonNatVerloop499=\"\",\"\",Data_NaamPersoonNatVerloop499)","v":""},null,null,{"$f":"IF(Data_BeeindigingsdatumNatVerloop499=\"\",\"\",Data_BeeindigingsdatumNatVerloop499)","v":""},null,null,{"$f":"IF(Data_LoonkostenNatVerloop499=\"\",\"\",Data_LoonkostenNatVerloop499)","v":""},null,"v",null,"v",null,null,null,null,0,"",null,null,null,null,null,null,null,null,"",null,null,{"$f":"IF(Data_BeeindigingsdatumTijd499=\"\",\"\",Data_BeeindigingsdatumTijd499)","v":""},null,null,{"$f":"IF(Data_LoonkostenTijd499=\"\",\"\",Data_LoonkostenTijd499)","v":""},null,{"$f":"IF(Data_PersoonAanUitTijd499=-1,\"v\",\"\")","v":""},null,"v",null,null,null,null,0,0,null,null,null,{"$f":"IF(Data_NaamPersoonVastVrij499=\"\",\"\",Data_NaamPersoonVastVrij499)","v":""},null,null,{"$f":"IF(Data_BeeindigingsdatumVastVrij499=\"\",\"\",Data_BeeindigingsdatumVastVrij499)","v":""},null,null,{"$f":"IF(Data_LoonkostenVastVrij499=\"\",\"\",Data_LoonkostenVastVrij499)","v":""},null,{"$f":"IF(Data_PersoonAanUitVastVrij499=-1,\"v\",\"\")","v":""},null,"v",null,null,null,null,0,0,null,{"$f":"IF(Data_NaamPersoonVastOntslag499=\"\",\"\",Data_NaamPersoonVastOntslag499)","v":""},null,null,{"$f":"IF(Data_BeeindigingsdatumVastOntslag499=\"\",\"\",Data_BeeindigingsdatumVastOntslag499)","v":""},null,null,{"$f":"IF(Data_LoonkostenVastOntslag499=\"\",\"\",Data_LoonkostenVastOntslag499)","v":""},null,{"$f":"IF(Data_PersoonAanUitVastOntslag499=-1,\"v\",\"\")","v":""},null,"v",null,null,null,null,0,0]
[null,null,null,null,null,null,null,{"$f":"IF(Data_NaamPersoonNatVerloop500=\"\",\"\",Data_NaamPersoonNatVerloop500)","v":""},null,null,{"$f":"IF(Data_BeeindigingsdatumNatVerloop500=\"\",\"\",Data_BeeindigingsdatumNatVerloop500)","v":""},null,null,{"$f":"IF(Data_LoonkostenNatVerloop500=\"\",\"\",Data_LoonkostenNatVerloop500)","v":""},null,"v",null,"v",null,null,null,null,0,"",null,null,null,null,null,null,null,null,"",null,null,{"$f":"IF(Data_BeeindigingsdatumTijd500=\"\",\"\",Data_BeeindigingsdatumTijd500)","v":""},null,null,{"$f":"IF(Data_LoonkostenTijd500=\"\",\"\",Data_LoonkostenTijd500)","v":""},null,{"$f":"IF(Data_PersoonAanUitTijd500=-1,\"v\",\"\")","v":""},null,"v",null,null,null,null,0,0,null,null,null,{"$f":"IF(Data_NaamPersoonVastVrij500=\"\",\"\",Data_NaamPersoonVastVrij500)","v":""},null,null,{"$f":"IF(Data_BeeindigingsdatumVastVrij500=\"\",\"\",Data_BeeindigingsdatumVastVrij500)","v":""},null,null,{"$f":"IF(Data_LoonkostenVastVrij500=\"\",\"\",Data_LoonkostenVastVrij500)","v":""},null,{"$f":"IF(Data_PersoonAanUitVastVrij500=-1,\"v\",\"\")","v":""},null,"v",null,null,null,null,0,0,null,{"$f":"IF(Data_NaamPersoonVastOntslag500=\"\",\"\",Data_NaamPersoonVastOntslag500)","v":""},null,null,{"$f":"IF(Data_BeeindigingsdatumVastOntslag500=\"\",\"\",Data_BeeindigingsdatumVastOntslag500)","v":""},null,null,{"$f":"IF(Data_LoonkostenVastOntslag500=\"\",\"\",Data_LoonkostenVastOntslag500)","v":""},null,{"$f":"IF(Data_PersoonAanUitVastOntslag500=-1,\"v\",\"\")","v":""},null,"v",null,null,null,null,0,0]
[null,null,null,null,null,null,null,{"$f":"IF(Data_NaamPersoonTijd478=\"\",\"\",Data_NaamPersoonTijd478)","v":""},null,null,{"$f":"IF(Data_BeeindigingsdatumTijd500=\"\",\"\",Data_BeeindigingsdatumTijd500)","v":""},null,null,null,null,"v",null,"v",null,null,null,null,0,0,null,null,null,null,null,null,null,null,"",null,null,{"$f":"IF(Data_BeeindigingsdatumTijd500=\"\",\"\",Data_BeeindigingsdatumTijd500)","v":""},null,null,null,null,null,null,"v",null,null,null,null,0,0,null,null,null,null,null,null,null,null,null,null,null,null,null,"v",null,null,null,null,0,0,null,null,null,null,null,null,null,null,null,null,null,"v",null,null,null,null,0,0]

{"sheet":"Consolidatie","index":10,"n_rows":53,"n_cols":17,"rows_kept":53,"cut":false,"hidden":true,"merged":[[33,5,33,9],[34,5,34,9]]}
["Participatiefonds"]
["Project:",null,null,null,null,"VUIST"]
["Deelproject:",null,null,null,null,"Reglementen",null,null,null,null,null,null,"Peildatum",null,"2022-08-01"]
["Onderdeel:",null,null,null,null,"Rekentool"]
["Onderwerp:",null,null,null,null,"Consolidatie"]
[]
[null,null,null,"Consolidatieformulier"]
[null,null,null,"Bekostiging (bron: https://instellingsinformatie.duo.nl/public/websitecfi)",null,null,null,null,null,null,null,null,null,null,{"$f":"DerdenEnZorg!Q10","v":"2021 - 2022"},null,{"$f":"'DUO-CFI'!T18","v":"2022 - 2023"}]
[null,null,null,null,"Reguliere Rijksbekostiging"]
[null,null,null,null,19,"Personele bekostiging regulier",null,null,null,null,null,null,null,null,{"$f":"'DUO-CFI'!AL58","v":0},null,{"$f":"'DUO-CFI'!AP58","v":0}]
[null,null,null,null,15,"Personeels- en arbeidsmarktbeleid",null,null,null,null,"(percentage:",0.65,null,")",{"$f":"ROUND('DUO-CFI'!AL50*$L11,2)","v":0},null,{"$f":"ROUND('DUO-CFI'!AP50*$L11,2)","v":0}]
[null,null,null,null,16,"Correctie werkdrukgelden",null,null,null,null,"(percentage:",-0.65,null,")",{"$f":"ROUND('DUO-CFI'!AL52*$L12,2)","v":-103347.87},null,{"$f":"ROUND('DUO-CFI'!AP52*$L12,2)","v":-103347.87}]
[null,null,null,null,20,"Prestatiebox Primair Onderwijs",null,null,null,null,"(percentage:",0.65,null,")",{"$f":"ROUND('DUO-CFI'!AL62*$L13,2)","v":0},null,{"$f":"ROUND('DUO-CFI'!AP62*$L13,2)","v":0}]
[]
[null,null,null,null,"Aanvullende Rijksbekostiging"]
[null,null,null,null,1,"Bekostiging impulsgebieden",null,null,null,null,null,null,null,null,{"$f":"'DUO-CFI'!AL20","v":0},null,{"$f":"'DUO-CFI'!AP20","v":0}]
[null,null,null,null,2,"Bijzondere bekostiging aanwezigheid visueel gehandicapte kinderen",null,null,null,null,null,null,null,null,{"$f":"'DUO-CFI'!AL22","v":0},null,{"$f":"'DUO-CFI'!AP22","v":0}]
[null,null,null,null,3,"Bijzondere bekostiging aanwezigheid schipperskinderen",null,null,null,null,null,null,null,null,{"$f":"'DUO-CFI'!AL24","v":0},null,{"$f":"'DUO-CFI'!AP24","v":0}]
[null,null,null,null,4,"Bijzondere bekostiging aanwezigheid zigeunerkinderen",null,null,null,null,null,null,null,null,{"$f":"'DUO-CFI'!AL26","v":0},null,{"$f":"'DUO-CFI'!AP26","v":0}]
[null,null,null,null,5,"Bijzondere bekostiging eerste opvang vreemdelingen",null,null,null,null,null,null,null,null,{"$f":"'DUO-CFI'!AL28","v":0},null,{"$f":"'DUO-CFI'!AP28","v":0}]
[null,null,null,null,6,"Bijzondere bekostiging groei scholen voor (V)SO",null,null,null,null,null,null,null,null,{"$f":"'DUO-CFI'!AL30","v":0},null,{"$f":"'DUO-CFI'!AP30","v":0}]
[null,null,null,null,7,"Bijzondere bekostiging justitiele jeugdinrichtingen (V)SO ZMOK",null,null,null,null,null,null,null,null,{"$f":"'DUO-CFI'!AL32","v":0},null,{"$f":"'DUO-CFI'!AP32","v":0}]
[null,null,null,null,8,"Bijzondere bekostiging leerlingen uit blijf van mijn lijf huizen",null,null,null,null,null,null,null,null,{"$f":"'DUO-CFI'!AL34","v":0},null,{"$f":"'DUO-CFI'!AP34","v":0}]
[null,null,null,null,9,"Bijzondere bekostiging leerlingen van wie de ouders een trekkend bestaan leiden",null,null,null,null,null,null,null,null,{"$f":"'DUO-CFI'!AL36","v":0},null,{"$f":"'DUO-CFI'!AP36","v":0}]
[null,null,null,null,10,"Bijzondere bekostiging opvang en begeleiding van leerlingen met autisme",null,null,null,null,null,null,null,null,{"$f":"'DUO-CFI'!AL38","v":0},null,{"$f":"'DUO-CFI'!AP38","v":0}]
[null,null,null,null,11,"Bijzondere bekostiging toename aantal asielzoekerskinderen",null,null,null,null,null,null,null,null,{"$f":"'DUO-CFI'!AL40","v":0},null,{"$f":"'DUO-CFI'!AP40","v":0}]
[null,null,null,null,12,"Bijzondere bekostiging wegens samenvoeging",null,null,null,null,null,null,null,null,{"$f":"'DUO-CFI'!AL44","v":0},null,{"$f":"'DUO-CFI'!AP44","v":0}]
[null,null,null,null,13,"Bijzondere bekostiging ZMLK-leerlingen in de groepen 3 tm 8  ",null,null,null,null,null,null,null,null,{"$f":"'DUO-CFI'!AL46","v":0},null,{"$f":"'DUO-CFI'!AP46","v":0}]
[null,null,null,null,14,"Internationaal georiënteerd basisonderwijs",null,null,null,null,null,null,null,null,{"$f":"'DUO-CFI'!AL48","v":0},null,{"$f":"'DUO-CFI'!AP48","v":0}]
[null,null,null,null,16,"Personele bekostiging groei 1-10",null,null,null,null,null,null,null,null,{"$f":"'DUO-CFI'!AL54","v":0},null,{"$f":"'DUO-CFI'!AP54","v":0}]
[null,null,null,null,17,"Personele bekostiging groei 16-1",null,null,null,null,null,null,null,null,{"$f":"'DUO-CFI'!AL56","v":0},null,{"$f":"'DUO-CFI'!AP56","v":0}]
[null,null,null,null,21,"Middelen fusiecompensatieregeling",null,null,null,null,null,null,null,null,{"$f":"'DUO-CFI'!AL60","v":0},null,{"$f":"'DUO-CFI'!AP60","v":0}]
[null,null,null,null,22,"Aanvullende bekostiging onderwijsachterstandenbeleid",null,null,null,null,null,null,null,null,{"$f":"'DUO-CFI'!AL64","v":0},null,{"$f":"'DUO-CFI'!AP64","v":0}]
[null,null,null,null,23,{"$f":"IF(ISBLANK('DUO-CFI'!C66),\"\",'DUO-CFI'!C66)","v":""},null,null,null,null,null,null,null,null,{"$f":"'DUO-CFI'!AL66","v":""},null,{"$f":"'DUO-CFI'!AP66","v":""}]
[null,null,null,null,24,{"$f":"IF(ISBLANK('DUO-CFI'!C68),\"\",'DUO-CFI'!C68)","v":""},null,null,null,null,"(percentage:",0.65,null,")",{"$f":"IF(Read_L_01_02_20=\"\",\"\",IF('DUO-CFI'!AL68=\"\",\"\",ROUND('DUO-CFI'!AL68*$L35,2)))","v":""},null,{"$f":"IF(Read_L_01_02_20=\"\",\"\",IF('DUO-CFI'!AP68=\"\",\"\",ROUND('DUO-CFI'!AP68*$L35,2)))","v":""}]
[]
[null,null,null,null,"Financiële bijdragen van derden",null,null,null,null,null,null,null,null,null,{"$f":"DerdenEnZorg!Q28","v":0},null,{"$f":"DerdenEnZorg!S28","v":0}]
[]
[null,null,null,null,"Zorg-/ondersteuningsformatie volgens opgave bestuur",null,null,null,null,null,null,null,null,null,{"$f":"DerdenEnZorg!Q43","v":0},null,{"$f":"DerdenEnZorg!S43","v":0}]
[]
[null,null,null,null,"Totalen bekostiging",null,null,null,null,null,null,null,null,null,{"$f":"SUM(O9:O40)","v":-103347.87},null,{"$f":"SUM(Q9:Q40)","v":-103347.87}]
[]
[null,null,null,null,"Totaal verschil in bekostiging (actuele jaar - vorige jaar)",null,null,null,null,null,null,null,null,null,null,null,{"$f":"Q41-O41","v":0}]
[]
[null,null,null,"Beëindigingen / ontslagen"]
[null,null,null,null,null,{"$f":"Personeel!C20","v":"Beëindigingen - Natuurlijk verloop en andere…"},null,null,null,null,null,null,null,null,null,null,{"$f":"Personeel!X10","v":63539.51}]
[null,null,null,null,null,{"$f":"Personeel!AB20","v":"Beëindigingen - Tijdelijke dienstverbanden "},null,null,null,null,null,null,null,null,null,null,{"$f":"Personeel!X11","v":0}]
[null,null,null,null,null,{"$f":"Personeel!BA20","v":"Beëindigingen - Vaste dienstverbanden met wederzijds goedvinden"},null,null,null,null,null,null,null,null,null,null,{"$f":"Personeel!X12","v":0}]
[null,null,null,null,null,{"$f":"Personeel!BS20","v":"Ontslagen - Vaste dienstverbanden"},null,null,null,null,null,null,null,null,null,null,{"$f":"Personeel!X13","v":0}]
[]
[null,null,null,null,null,"Totaal beëindigingen / ontslagen",null,null,null,null,null,null,null,null,null,null,{"$f":"SUM(Q46:Q49)","v":63539.51}]
[]
[null,null,null,"Verschil (Bekostiging - Ontslagen)",null,null,null,null,null,null,null,null,null,"Indien negatief binnen ontslagruimte: ",null,null,{"$f":"Q43+Q51","v":63539.51}]

{"sheet":"Directie","index":11,"n_rows":118,"n_cols":13,"rows_kept":118,"cut":false,"hidden":true,"merged":[[95,1,95,2],[95,3,95,4],[13,1,13,2],[13,3,13,4],[42,1,42,2],[42,3,42,4],[12,1,12,2],[12,3,12,4],[13,9,13,10],[13,11,13,12],[12,9,12,10],[12,11,12,12],[12,5,12,6],[12,7,12,8],[13,5,13,6],[13,7,13,8]]}
["VfPf"]
["Organisatie:",null,"Participatiefonds"]
["Project:",null,"VUIST"]
["Deelproject:",null,"Reglement"]
["Onderdeel:",null,"Bekostigingstool"]
["Onderwerp:",null,"Salarisschalen PO - Directie"]
[]
[null,"Carrièrepatronen directeuren"]
[]
[null,"Bedoeld in artikel 6.22 en 6.23 van de CAO PO"]
[null,"Bedragen op 1 januari 2013 (Loonpeil 1 januari 2009)"]
[]
[null," BO Y <200  ",null," BO Y 200-400 \nSBO Y < 200 \nSO q < 100  ",null," BO Y 400-900 \nSBO Y200-400 \nSO q 100-200  ",null," BO Y ≥ 900 \nSBO Y ≥ 400  \nSO q ≥ 200  ",null," Niet normfuncties  ",null," Niet  normfuncties "]
[null," DA  ",null," DB  ",null," DC  ",null," DC + uitloop  ",null," DD  ",null," DE  "]
[null," nr  "," bedrag  "," nr  "," bedrag  "," nr  "," bedrag  "," nr  "," bedrag  "," nr  "," bedrag  "," nr  "," bedrag  "]
[null," 1  "," 2605  "," 1  "," 2707  "," 1  "," 2811  "," 1  "," 2811  "," 1  "," 2854  "," 1  "," 2961  "]
[null," 2  "," 2707  "," 2  "," 2912  "," 2  "," 3118  "," 2  "," 3118  "," 2  "," 3067  "," 2  "," 3182  "]
[null," 3  "," 2811  "," 3  "," 3118  "," 3  "," 3323  "," 3  "," 3323  "," 3  "," 3285  "," 3  "," 3390  "]
[null," 4  "," 2912  "," 4  "," 3220  "," 4  "," 3527  "," 4  "," 3527  "," 4  "," 3494  "," 4  "," 3609  "]
[null," 5  "," 3014  "," 5  "," 3323  "," 5  "," 3733  "," 5  "," 3733  "," 5  "," 3725  "," 5  "," 3837  "]
[null," 6  "," 3118  "," 6  "," 3424  "," 6  "," 3837  "," 6  "," 3837  "," 6  "," 3837  "," 6  "," 4053  "]
[null," 7  "," 3220  "," 7  "," 3527  "," 7  "," 3940  "," 7  "," 3940  "," 7  "," 3944  "," 7  "," 4269  "]
[null," 8  "," 3323  "," 8  "," 3631  "," 8  "," 4041  "," 8  "," 4041  "," 8  "," 4053  "," 8  "," 4377  "]
[null," 9  "," 3424  "," 9  "," 3733  "," 9  "," 4144  "," 9  "," 4144  "," 9  "," 4157  "," 9  "," 4482  "]
[null," 10  "," 3527  "," 10  "," 3837  "," 10  "," 4245  "," 10  "," 4245  "," 10  "," 4269  "," 10  "," 4590  "]
[null," 11  "," 3631  "," 11  "," 3940  "," 11  "," 4350  "," 11  "," 4350  "," 11  "," 4377  "," 11  "," 4726  "]
[null," 12  "," 3733  "," 12  "," 4041  "," 12  "," 4452  "," 12  "," 4452  "," 12  "," 4482  "," 12  "," 4862  "]
[null," 13  "," 3837  "," 13  "," 4144  "," 13  "," 4555  "," 13  "," 4555  "," 13  "," 4590  "," 13  "," 4997  "]
[null,"   ","   "," 14  "," 4245  "," 14  "," 4656  "," 14  "," 4656  "," 14  "," 4726  "," 14  "," 5133  "]
[null,"   ","   "," 15  "," 4350  "," 15  "," 4759  "," 15  "," 4759  "," 15  "," 4862  "," 15  "," 5270  "]
[null,"   ","   ","   ","   "," 16  "," 4863  "," 16  "," 4863  "," 16  "," 4997  "," 16  "," 5414  "]
[null,"   ","   ","   ","   ","   ","   "," U17  "," 4965  "," 17  "," 5133  "," 17  "," 5561  "]
[null,"   ","   ","   ","   ","   ","   "," U18  "," 5067  "," 18  "," 5198  "," 18  "," 5713  "]
[]
[]
[]
[]
[null,"Carrièrepatronen meerhoofdige schoolleiding basisschool"]
[]
[null,"Bedoeld in artikel 6.22, vierde lid, van de CAO PO"]
[null,"Bedragen op 1 januari 2013 (Loonpeil 1 januari 2009)"]
[]
[null," BO Y <200  ",null," BO Y 200-400   ",null," BO Y 400-900   ",null," BO Y ≥ 900   "]
[null," DA 11  ",null," DA 13  ",null," DB  ",null," DB + uitloop  "]
[null," nr  "," bedrag  "," nr  "," bedrag  "," nr  "," bedrag  "," nr  "," bedrag "]
[null," 1  "," 2605  "," 1  "," 2605  "," 1  "," 2707  "," 1  "," 2707  "]
[null," 2  "," 2707  "," 2  "," 2707  "," 2  "," 2912  "," 2  "," 2912  "]
[null," 3  "," 2811  "," 3  "," 2811  "," 3  "," 3118  "," 3  "," 3118  "]
[null," 4  "," 2912  "," 4  "," 2912  "," 4  "," 3220  "," 4  "," 3220  "]
[null," 5  "," 3014  "," 5  "," 3014  "," 5  "," 3323  "," 5  "," 3323  "]
[null," 6  "," 3118  "," 6  "," 3118  "," 6  "," 3424  "," 6  "," 3424  "]
[null," 7  "," 3220  "," 7  "," 3220  "," 7  "," 3527  "," 7  "," 3527  "]
[null," 8  "," 3323  "," 8  "," 3323  "," 8  "," 3631  "," 8  "," 3631  "]
[null," 9  "," 3424  "," 9  "," 3424  "," 9  "," 3733  "," 9  "," 3733  "]
[null," 10  "," 3527  "," 10  "," 3527  "," 10  "," 3837  "," 10  "," 3837  "]
[null," 11  "," 3631  "," 11  "," 3631  "," 11  "," 3940  "," 11  "," 3940  "]
[null,"   ","   "," 12  "," 3733  "," 12  "," 4041  "," 12  "," 4041  "]
[null,"   ","   "," 13  "," 3837  "," 13  "," 4144  "," 13  "," 4144  "]
[null,"   ","   ","   ","   "," 14  "," 4245  "," 14  "," 4245  "]
[null,"   ","   ","   ","   "," 15  "," 4350  "," 15  "," 4350  "]
[null,"   ","   ","   ","   ","   ","   "," U16  "," 4452  "]
[null,"   ","   ","   ","   ","   ","   "," U17  "," 4555  "]
[]
[]
[null,"Carrièrepatronen meerhoofdige schoolleiding aan speciale school basisonderwijs"]
[]
[null,"Bedoeld in artikel 6.22, vierde lid, van de CAO PO"]
[null,"Bedragen op 1 januari 2013 (Loonpeil 1 januari 2009)"]
[]
[null," SBO Y <100  ",null," SBO Y 100-200  ",null," SBO Y 200-400  ",null," SBO Y ≥ 400  "]
[null," DA 10  ",null," DA 11  ",null," DC  ",null," DC + uitloop  "]
[null," nr  "," bedrag  "," nr  "," bedrag  "," nr  "," bedrag  "," nr  "," bedrag "]
[null," 1  "," 2707  "," 1  "," 2707  "," 1  "," 2811  "," 1  "," 2811  "]
[null," 2  "," 2912  "," 2  "," 2912  "," 2  "," 3118  "," 2  "," 3118  "]
[null," 3  "," 3118  "," 3  "," 3118  "," 3  "," 3323  "," 3  "," 3323  "]
[null," 4  "," 3220  "," 4  "," 3220  "," 4  "," 3527  "," 4  "," 3527  "]
[null," 5  "," 3323  "," 5  "," 3323  "," 5  "," 3733  "," 5  "," 3733  "]
[null," 6  "," 3424  "," 6  "," 3424  "," 6  "," 3837  "," 6  "," 3837  "]
[null," 7  "," 3527  "," 7  "," 3527  "," 7  "," 3940  "," 7  "," 3940  "]
[null," 8  "," 3631  "," 8  "," 3631  "," 8  "," 4041  "," 8  "," 4041  "]
[null," 9  "," 3733  "," 9  "," 3733  "," 9  "," 4144  "," 9  "," 4144  "]
[null," 10  "," 3837  "," 10  "," 3837  "," 10  "," 4245  "," 10  "," 4245  "]
[null,"   ","   "," 11  "," 3940  "," 11  "," 4350  "," 11  "," 4350  "]
[null,"   ","   ","   ","   "," 12  "," 4452  "," 12  "," 4452  "]
[null,"   ","   ","   ","   "," 13  "," 4555  "," 13  "," 4555  "]
[null,"   ","   ","   ","   ","   ","   "," U14  "," 4656  "]
[null,"   ","   ","   ","   ","   ","   "," U15  "," 4759  "]
[]
[]
[null,"Carrièrepatronen adjunct-directeuren"]
[]
[null,"Bedoeld in artikel 6.22 en 6.23 van de CAO PO"]
[null,"Bedragen op 1 januari 2013 (Loonpeil 1 januari 2009)"]
[]
[]
[null," BO Y < 900 \nSBO Y < 200 \nSO q 50-100  ",null," BO Y  ≥ 900 \nSBO Y ≥ 200 \nSO q ≥ 100  ",null," Niet normfuncties   ",null," Niet normfuncties   "]
[null," AB  ",null," AC  ",null," AD  ",null," AE  "]
[null," nr  "," bedrag  "," nr  "," bedrag  "," nr  "," bedrag  "," nr  "," bedrag "]
[null," 1  "," 2385  "," 1  "," 2436  "," 1  "," 2556  "," 1  "," 2683  "]
[null," 2  "," 2493  "," 2  "," 2556  "," 2  "," 2683  "," 2  "," 2909  "]
[null," 3  "," 2611  "," 3  "," 2683  "," 3  "," 2909  "," 3  "," 3123  "]
[null," 4  "," 2741  "," 4  "," 2797  "," 4  "," 3123  "," 4  "," 3344  "]
[null," 5  "," 2852  "," 5  "," 2909  "," 5  "," 3240  "," 5  "," 3554  "]
[null," 6  "," 2966  "," 6  "," 3018  "," 6  "," 3344  "," 6  "," 3786  "]
[null," 7  "," 3072  "," 7  "," 3123  "," 7  "," 3449  "," 7  "," 3897  "]
[null," 8  "," 3179  "," 8  "," 3240  "," 8  "," 3554  "," 8  "," 4006  "]
[null," 9  "," 3294  "," 9  "," 3344  "," 9  "," 3669  "," 9  "," 4114  "]
[null," 10  "," 3400  "," 10  "," 3449  "," 10  "," 3786  "," 10  "," 4220  "]
[null," 11  "," 3503  "," 11  "," 3554  "," 11  "," 3897  "," 11  "," 4331  "]
[null," 12  "," 3608  "," 12  "," 3669  "," 12  "," 4006  "," 12  "," 4441  "]
[null," 13  "," 3786  "," 13  "," 3786  "," 13  "," 4114  "," 13  "," 4545  "]
[null,"   ","   "," 14  "," 3897  "," 14  "," 4220  "," 14  "," 4655  "]
[null,"   ","   "," 15  "," 4006  "," 15  "," 4331  "," 15  "," 4792  "]
[null,"   ","   "," 16  "," 4114  "," 16  "," 4441  "," 16  "," 4927  "]
[null,"   ","   "," 17  "," 4220  "," 17  "," 4545  "," 17  "," 5064  "]
[null,"   ","   "," 18  "," 4275  "," 18  "," 4655  "," 18  "," 5201  "]
[null,"   ","   ","   ","   "," 19  "," 4792  "," 19  "," 5266  "]
[null,"   ","   ","   ","   "," 20  "," 4859  ","   ","   "]

{"sheet":"Leraren_OOP_ID","index":12,"n_rows":75,"n_cols":29,"rows_kept":75,"cut":false,"hidden":true,"merged":[[63,1,63,2],[63,3,63,4],[63,5,63,6]]}
["VfPf"]
["Organisatie:",null,"Participatiefonds"]
["Project:",null,"VUIST"]
["Deelproject:",null,"Reglement"]
["Onderdeel:",null,"Bekostigingstool"]
["Onderwerp:",null,"Salarisschalen PO - Leraren - OOP - ID"]
[]
[null,"Carrièrepatronen leraren"]
[]
[null,"Bedoeld in artikel 6.30 van de CAO PO"]
[null,"Bedragen op 1 januari 2013 (Loonpeil 1 januari 2011)"]
[]
[]
[null," Schaal LA  ",null," Schaal LB  ",null," Schaal LC  ",null," Schaal LD  ",null," Schaal LE  "]
[null," nr  "," bedrag  "," nr  "," bedrag  "," nr  "," bedrag  "," nr  "," bedrag  "," nr  "," bedrag "]
[null," 1  "," 2290  "," 1  "," 2374  "," 1  "," 2387  "," 1  "," 2396  "," 1  "," 3083  "]
[null," 2  "," 2336  "," 2  "," 2431  "," 2  "," 2503  "," 2  "," 2540  "," 2  "," 3200  "]
[null," 3  "," 2387  "," 3  "," 2496  "," 3  "," 2621  "," 3  "," 2688  "," 3  "," 3304  "]
[null," 4  "," 2438  "," 4  "," 2559  "," 4  "," 2741  "," 4  "," 2838  "," 4  "," 3514  "]
[null," 5  "," 2489  "," 5  "," 2622  "," 5  "," 2859  "," 5  "," 2988  "," 5  "," 3746  "]
[null," 6  "," 2548  "," 6  "," 2694  "," 6  "," 2981  "," 6  "," 3145  "," 6  "," 3892  "]
[null," 7  "," 2610  "," 7  "," 2771  "," 7  "," 3106  "," 7  "," 3308  "," 7  "," 4040  "]
[null," 8  "," 2677  "," 8  "," 2855  "," 8  "," 3234  "," 8  "," 3473  "," 8  "," 4188  "]
[null," 9  "," 2752  "," 9  "," 2953  "," 9  "," 3368  "," 9  "," 3647  "," 9  "," 4336  "]
[null," 10  "," 2829  "," 10  "," 3052  "," 10  "," 3505  "," 10  "," 3828  "," 10  "," 4483  "]
[null," 11  "," 2914  "," 11  "," 3159  "," 11  "," 3642  "," 11  "," 4014  "," 11  "," 4632  "]
[null," 12  "," 3003  "," 12  "," 3269  "," 12  "," 3786  "," 12  "," 4206  "," 12  "," 4781  "]
[null," 13  "," 3099  "," 13  "," 3384  "," 13  "," 3933  "," 13  "," 4405  "," 13  "," 4930  "]
[null," 14  "," 3198  "," 14  "," 3504  "," 14  "," 4082  "," 14  "," 4609  "," 14  "," 5077  "]
[null," 15  "," 3274  "," 15  "," 3597  "," 15  "," 4197  "," 15  "," 4775  "," 15  "," 5178  "]
[]
[]
[null,"Carrièrepatronen onderwijsondersteunend personeel (OOP)"]
[]
[null,"Bedoeld in artikel 6.32 van de CAO PO"]
[null,"Bedragen op 1 januari 2013 (Loonpeil 1 januari 2009)"]
[]
[null," Schaal 1  ",null," Schaal 2  ",null," Schaal 3  ",null," Schaal 4  ",null," Schaal 5  ",null," Schaal 6  ",null," Schaal 7  ",null," Schaal 8  ",null," Schaal 9  ",null," Schaal 10  ",null," Schaal 11  ",null," Schaal 12  ",null," Schaal 13  ",null," Schaal 14  "]
[null," nr  "," bedrag  "," nr  "," bedrag  "," nr  "," bedrag  "," nr  "," bedrag  "," nr  "," bedrag  "," nr  "," bedrag "," nr  "," bedrag  "," nr  "," bedrag  "," nr  "," bedrag  "," nr  "," bedrag  "," nr  "," bedrag  "," nr  "," bedrag "," nr  "," bedrag  "," nr  "," bedrag "]
[null," 1  "," 1469,4017  "," 1  "," 1469,40  "," 1  "," 1469,40  "," 1  "," 1477  "," 1  "," 1508  "," 1  "," 1566  "," 1  "," 1674  "," 1  "," 1896  "," 1  "," 2180  "," 1  "," 2180  "," 1  "," 2292  "," 1  "," 3087  "," 1  "," 3748  "," 1  "," 4295  "]
[null," 2  "," 1477  "," 2  "," 1508  "," 2  "," 1566  "," 2  "," 1538  "," 2  "," 1538  "," 2  "," 1631  "," 2  "," 1723  "," 2  "," 1950  "," 2  "," 2292  "," 2  "," 2400  "," 2  "," 2400  "," 2  "," 3204  "," 2  "," 3861  "," 2  "," 4405  "]
[null," 3  "," 1538  "," 3  "," 1566  "," 3  "," 1631  "," 3  "," 1598  "," 3  "," 1631  "," 3  "," 1840  "," 3  "," 1840  "," 3  "," 2056  "," 3  "," 2518  "," 3  "," 2518  "," 3  "," 2518  "," 3  "," 3306  "," 3  "," 3968  "," 3  "," 4619  "]
[null," 4  "," 1566  "," 4  "," 1631  "," 4  "," 1723  "," 4  "," 1674  "," 4  "," 1723  "," 4  "," 1950  "," 4  "," 2056  "," 4  "," 2270  "," 4  "," 2647  "," 4  "," 2647  "," 4  "," 2647  "," 4  "," 3413  "," 4  "," 4078  "," 4  "," 4754  "]
[null," 5  "," 1598  "," 5  "," 1674  "," 5  "," 1783  "," 5  "," 1783  "," 5  "," 1840  "," 5  "," 2004  "," 5  "," 2158  "," 5  "," 2376  "," 5  "," 2759  "," 5  "," 2759  "," 5  "," 2759  "," 5  "," 3516  "," 5  "," 4182  "," 5  "," 4891  "]
[null," 6  "," 1631  "," 6  "," 1723  "," 6  "," 1840  "," 6  "," 1840  "," 6  "," 1896  "," 6  "," 2056  "," 6  "," 2216  "," 6  "," 2494  "," 6  "," 2873  "," 6  "," 2873  "," 6  "," 2873  "," 6  "," 3633  "," 6  "," 4405  "," 6  "," 5028  "]
[null," 7  "," 1674  "," 7  "," 1783  "," 7  "," 1896  "," 7  "," 1896  "," 7  "," 1950  "," 7  "," 2108  "," 7  "," 2270  "," 7  "," 2560  "," 7  "," 2980  "," 7  "," 2980  "," 7  "," 2980  "," 7  "," 3861  "," 7  "," 4509  "," 7  "," 5163  "]
[null,"   ","   "," 8  "," 1840  "," 8  "," 1950  "," 8  "," 1950  "," 8  "," 2004  "," 8  "," 2158  "," 8  "," 2322  "," 8  "," 2621  "," 8  "," 3087  "," 8  "," 3087  "," 8  "," 3204  "," 8  "," 3968  "," 8  "," 4619  "," 8  "," 5301  "]
[null,"   ","   ","   ","   "," 9  "," 2004  "," 9  "," 2004  "," 9  "," 2056  "," 9  "," 2216  "," 9  "," 2376  "," 9  "," 2675  "," 9  "," 3204  "," 9  "," 3204  "," 9  "," 3306  "," 9  "," 4078  "," 9  "," 4754  "," 9  "," 5447  "]
[null,"   ","   ","   ","   ","   ","   "," 10  "," 2056  "," 10  "," 2108  "," 10  "," 2270  "," 10  "," 2434  "," 10  "," 2733  "," 10  "," 3306  "," 10  "," 3306  "," 10  "," 3413  "," 10  "," 4182  "," 10  "," 4891  "," 10  "," 5593  "]
[null,"   ","   ","   ","   ","   ","   "," 11  "," 2108  "," 11  "," 2158  "," 11  "," 2322  "," 11  "," 2494  "," 11  "," 2791  ","   ","   "," 11  "," 3413  "," 11  "," 3516  "," 11  "," 4295  "," 11  "," 5028  "," 11  "," 5746  "]
[null,"   ","   ","   ","   ","   ","   ","   ","   "," 12  "," 2216  ","   ","   "," 12  "," 2560  "," 12  "," 2845  ","   ","    "," 12  "," 3516  "," 12  "," 3633  "," 12  "," 4405  "," 12  "," 5163  ","   ","   "]
[null,null,null,null,null,null,null,null,null,null,null,null,null,"   ","   "," 13  "," 2896  ","    ","    "," 13  "," 3633  "," 13  "," 3748  "," 13  "," 4509  "," 13  "," 5230  ","   ","   "]
[null,null,null,null,null,null,null,null,null,null,null,null,null,"   ","   ","   ","   ","   ","   ","   ","   "," 14  "," 3861  "," 14  "," 4619  "]
[null,null,null,null,null,null,null,null,null,null,null,null,null,"   ","   ","   ","   ","   ","   ","   ","   "," 15  "," 3968  "," 15  "," 4754  "]
[null,null,null,null,null,null,null,null,null,null,null,null,null,"   ","   ","   ","   ","   ","   ","   ","   "," 16  "," 4078  "," 16  "," 4823  "]
[null,null,null,null,null,null,null,null,null,null,null,null,null,"   ","   ","   ","   ","   ","   ","   ","   "," 17  "," 4182  ","   ","   "]
[null,null,null,null,null,null,null,null,null,null,null,null,null,"   ","   ","   ","   ","   ","   ","   ","   "," 18  "," 4239  ","   ","   "]
[]
[]
[null,"Carrièrepatronen I/D-banen"]
[]
[null,"Bedragen op 1 januari 2013 (Loonpeil 1 januari 2010)"]
[]
[null,"Instroombaan \n\n",null,"Doorstroom-baan \n",null,"Doorstroom-baan \n  "]
[null,"Schaal 1  ",null,"Schaal 2  ",null,"Schaal 3"]
[null," nr  "," bedrag  "," nr  "," bedrag  "," nr  "," bedrag  "]
[null," a1  "," 1469,4018  "," 1  "," 1469,40  "," 1  "," 1469,40 "]
[null," a2  "," 1469,40  "," 2  "," 1508  "," 2  "," 1566  "]
[null," 1  "," 1469,40  "," 3  "," 1566  "," 3  "," 1631  "]
[null," 2  "," 1477  "," 4  "," 1631  "," 4  "," 1723  "]
[null," 3  "," 1538  "," 5  "," 1674  "," 5  "," 1783  "]
[null," 4  "," 1566  "," 6  "," 1723  "," 6  "," 1840  "]
[null," 5  "," 1598  "," 7  "," 1783  "," 7  "," 1896  "]
[null," 6  "," 1631  "," 8  "," 1840  ","   ","   "]
[null," 7  "," 1674  ","   ","   ","   ","   "]

{"sheet":"Schalen_integraal","index":13,"n_rows":122,"n_cols":35,"rows_kept":122,"cut":false,"hidden":true,"merged":[[88,9,88,10],[110,3,110,4],[110,5,110,6],[110,7,110,8],[39,3,39,4],[39,5,39,6],[88,3,88,4],[88,7,88,8],[12,5,12,6],[12,7,12,8],[13,9,13,10],[15,7,15,8],[10,21,10,22],[9,21,9,22],[9,23,9,24],[9,7,9,8],[9,9,9,10],[10,7,10,8],[10,9,10,10],[10,15,10,16],[10,19,10,20],[9,15,9,16],[9,19,9,20],[10,23,10,24]]}
["VfPf"]
["Organisatie:",null,null,null,"Participatiefonds"]
["Project:",null,null,null,"VUIST"]
["Deelproject:",null,null,null,"Reglement"]
["Onderdeel:",null,null,null,"Bekostigingstool"]
["Onderwerp:",null,null,null,"Salarisschalen integraal"]
[]
[]
[null,"Directeuren"]
[null,null,null,null,null,null,null," BO Y <200  ",null," BO Y 200-400 \nSBO Y < 200 \nSO q < 100  ",null," BO Y ≥ 900   ",null,null,null," BO Y 400-900 \nSBO Y200-400 \nSO q 100-200  ",null,null,null," BO Y ≥ 900 \nSBO Y ≥ 400  \nSO q ≥ 200  ",null," Niet normfuncties  ",null," Niet  normfuncties "]
[null,null,null,null,null,null,null," DA  ",null," DB  ",null," DB+U  ",null,null,null," DC  ",null,null,null," DC+U",null," DD  ",null," DE  "]
[null,"Meerhoofdige schoolleiding"]
[null,null,null,null,null," BO Y <200  ",null," BO Y 200-400   ",null," BO Y 400-900   "]
[null,null,null,null,null," DA 11  ",null," DA 13  ",null," DB  "]
[null,"Meerhoofdige schoolleiding SBO"]
[null,null,null," SBO Y <100  ",null," SBO Y 100-200  ",null," BO Y 200-400   ",null," BO Y 400-900   ",null," BO Y ≥ 900   ",null," SBO Y 200-400  ",null,null,null," SBO Y ≥ 400  "]
[null,null,null," DA 10  ",null," DA 11  ",null," DA 13  ",null," DB  ",null," DB+U  ",null," DC  ",null,null,null," DC+U"]
[null,null,null," nr  "," bedrag  "," nr  "," bedrag  "," nr  "," bedrag  "," nr  "," bedrag  "," nr  "," bedrag  "," nr  "," bedrag  "," nr  "," bedrag  "," nr  "," bedrag  "," nr  "," bedrag  "," nr  "," bedrag  "," nr  "," bedrag  "]
[null,null,null," 1  "," 2707  "," 1  "," 2605  "," 1  "," 2605  "," 1  "," 2707  "," 1  "," 2707  "," 1  "," 2811  "," 1  "," 2811  "," 1  "," 2811  "," 1  "," 2811  "," 1  "," 2854  "," 1  "," 2961  "]
[null,null,null," 2  "," 2912  "," 2  "," 2707  "," 2  "," 2707  "," 2  "," 2912  "," 2  "," 2912  "," 2  "," 3118  "," 2  "," 3118  "," 2  "," 3118  "," 2  "," 3118  "," 2  "," 3067  "," 2  "," 3182  "]
[null,null,null," 3  "," 3118  "," 3  "," 2811  "," 3  "," 2811  "," 3  "," 3118  "," 3  "," 3118  "," 3  "," 3323  "," 3  "," 3323  "," 3  "," 3323  "," 3  "," 3323  "," 3  "," 3285  "," 3  "," 3390  "]
[null,null,null," 4  "," 3220  "," 4  "," 2912  "," 4  "," 2912  "," 4  "," 3220  "," 4  "," 3220  "," 4  "," 3527  "," 4  "," 3527  "," 4  "," 3527  "," 4  "," 3527  "," 4  "," 3494  "," 4  "," 3609  "]
[null,null,null," 5  "," 3323  "," 5  "," 3014  "," 5  "," 3014  "," 5  "," 3323  "," 5  "," 3323  "," 5  "," 3733  "," 5  "," 3733  "," 5  "," 3733  "," 5  "," 3733  "," 5  "," 3725  "," 5  "," 3837  "]
[null,null,null," 6  "," 3424  "," 6  "," 3118  "," 6  "," 3118  "," 6  "," 3424  "," 6  "," 3424  "," 6  "," 3837  "," 6  "," 3837  "," 6  "," 3837  "," 6  "," 3837  "," 6  "," 3837  "," 6  "," 4053  "]
[null,null,null," 7  "," 3527  "," 7  "," 3220  "," 7  "," 3220  "," 7  "," 3527  "," 7  "," 3527  "," 7  "," 3940  "," 7  "," 3940  "," 7  "," 3940  "," 7  "," 3940  "," 7  "," 3944  "," 7  "," 4269  "]
[null,null,null," 8  "," 3631  "," 8  "," 3323  "," 8  "," 3323  "," 8  "," 3631  "," 8  "," 3631  "," 8  "," 4041  "," 8  "," 4041  "," 8  "," 4041  "," 8  "," 4041  "," 8  "," 4053  "," 8  "," 4377  "]
[null,null,null," 9  "," 3733  "," 9  "," 3424  "," 9  "," 3424  "," 9  "," 3733  "," 9  "," 3733  "," 9  "," 4144  "," 9  "," 4144  "," 9  "," 4144  "," 9  "," 4144  "," 9  "," 4157  "," 9  "," 4482  "]
[null,null,null," 10  "," 3837  "," 10  "," 3527  "," 10  "," 3527  "," 10  "," 3837  "," 10  "," 3837  "," 10  "," 4245  "," 10  "," 4245  "," 10  "," 4245  "," 10  "," 4245  "," 10  "," 4269  "," 10  "," 4590  "]
[null,null,null,null,null," 11  "," 3631  "," 11  "," 3631  "," 11  "," 3940  "," 11  "," 3940  "," 11  "," 4350  "," 11  "," 4350  "," 11  "," 4350  "," 11  "," 4350  "," 11  "," 4377  "," 11  "," 4726  "]
[null,null,null,null,null,null,null," 12  "," 3733  "," 12  "," 4041  "," 12  "," 4041  "," 12  "," 4452  "," 12  "," 4452  "," 12  "," 4452  "," 12  "," 4452  "," 12  "," 4482  "," 12  "," 4862  ","   ","   "]
[null,null,null,null,null,null,null," 13  "," 3837  "," 13  "," 4144  "," 13  "," 4144  "," 13  "," 4555  "," 13  "," 4555  "," 13  "," 4555  "," 13  "," 4555  "," 13  "," 4590  "," 13  "," 4997  ","   ","   "]
[null,null,null,null,null,null,null,null,null," 14  "," 4245  "," 14  "," 4245  ",null,null," 14  "," 4656  "," U14  "," 4656  "," 14  "," 4656  "," 14  "," 4726  "," 14  "," 5133  ","   ","   ","   ","   "]
[null,null,null,null,null,null,null,null,null," 15  "," 4350  "," 15  "," 4350  ",null,null," 15  "," 4759  "," U15  "," 4759  "," 15  "," 4759  "," 15  "," 4862  "," 15  "," 5270  ","   ","   ","   ","   "]
[null,null,null,null,null,null,null,null,null,"   ","   "," U16  "," 4452  ",null,null," 16  "," 4863  ",null,null," 16  "," 4863  "," 16  "," 4997  "," 16  "," 5414  ","   ","   ","   ","   ","   ","   "]
[null,null,null,null,null,null,null,null,null,"   ","   "," U17  "," 4555  ",null,null,"   ","   ",null,null," U17  "," 4965  "," 17  "," 5133  "," 17  "," 5561  ","   ","   ","   ","   ","   ","   "]
[null,null,null,null,null,null,null,null,null,"   ","   ",null,null,null,null,"   ","   ",null,null," U18  "," 5067  "," 18  "," 5198  "," 18  "," 5713  "]
[]
[]
[null,"Adjunct directeuren"]
[null,null,null," BO Y < 900 \nSBO Y < 200 \nSO q 50-100  ",null," BO Y  ≥ 900 \nSBO Y ≥ 200 \nSO q ≥ 100  ",null," Niet normfuncties   ",null," Niet normfuncties   "]
[null,null,null," AB  ",null," AC  ",null," AD  ",null," AE  "]
[null,null,null," nr  "," bedrag  "," nr  "," bedrag  "," nr  "," bedrag  "," nr  "," bedrag  "]
[null,null,null," 1  "," 2385  "," 1  "," 2436  "," 1  "," 2556  "," 1  "," 2683  "]
[null,null,null," 2  "," 2493  "," 2  "," 2556  "," 2  "," 2683  "," 2  "," 2909  "]
[null,null,null," 3  "," 2611  "," 3  "," 2683  "," 3  "," 2909  "," 3  "," 3123  "]
[null,null,null," 4  "," 2741  "," 4  "," 2797  "," 4  "," 3123  "," 4  "," 3344  "]
[null,null,null," 5  "," 2852  "," 5  "," 2909  "," 5  "," 3240  "," 5  "," 3554  "]
[null,null,null," 6  "," 2966  "," 6  "," 3018  "," 6  "," 3344  "," 6  "," 3786  "]
[null,null,null," 7  "," 3072  "," 7  "," 3123  "," 7  "," 3449  "," 7  "," 3897  "]
[null,null,null," 8  "," 3179  "," 8  "," 3240  "," 8  "," 3554  "," 8  "," 4006  "]
[null,null,null," 9  "," 3294  "," 9  "," 3344  "," 9  "," 3669  "," 9  "," 4114  "]
[null,null,null," 10  "," 3400  "," 10  "," 3449  "," 10  "," 3786  "," 10  "," 4220  "]
[null,null,null," 11  "," 3503  "," 11  "," 3554  "," 11  "," 3897  "," 11  "," 4331  "]
[null,null,null," 12  "," 3608  "," 12  "," 3669  "," 12  "," 4006  "," 12  "," 4441  "]
[null,null,null," 13  "," 3786  "," 13  "," 3786  "," 13  "," 4114  "," 13  "," 4545  "]
[null,null,null,"   ","   "," 14  "," 3897  "," 14  "," 4220  "," 14  "," 4655  "]
[null,null,null,"   ","   "," 15  "," 4006  "," 15  "," 4331  "," 15  "," 4792  "]
[null,null,null,"   ","   "," 16  "," 4114  "," 16  "," 4441  "," 16  "," 4927  "]
[null,null,null,"   ","   "," 17  "," 4220  "," 17  "," 4545  "," 17  "," 5064  "]
[null,null,null,"   ","   "," 18  "," 4275  "," 18  "," 4655  "," 18  "," 5201  "]
[null,null,null,"   ","   ","   ","   "," 19  "," 4792  "," 19  "," 5266  "]
[null,null,null,"   ","   ","   ","   "," 20  "," 4859  ","   ","   "]
[]
[]
[null,"Leraren"]
[null,null,null," Schaal LA  ",null," Schaal LB  ",null," Schaal LC  ",null," Schaal LD  ",null," Schaal LE  "]
[null,null,null," nr  "," bedrag  "," nr  "," bedrag  "," nr  "," bedrag  "," nr  "," bedrag  "," nr  "," bedrag "]
[null,null,null," 1  "," 2290  "," 1  "," 2374  "," 1  "," 2387  "," 1  "," 2396  "," 1  "," 3083  "]
[null,null,null," 2  "," 2336  "," 2  "," 2431  "," 2  "," 2503  "," 2  "," 2540  "," 2  "," 3200  "]
[null,null,null," 3  "," 2387  "," 3  "," 2496  "," 3  "," 2621  "," 3  "," 2688  "," 3  "," 3304  "]
[null,null,null," 4  "," 2438  "," 4  "," 2559  "," 4  "," 2741  "," 4  "," 2838  "," 4  "," 3514  "]
[null,null,null," 5  "," 2489  "," 5  "," 2622  "," 5  "," 2859  "," 5  "," 2988  "," 5  "," 3746  "]
[null,null,null," 6  "," 2548  "," 6  "," 2694  "," 6  "," 2981  "," 6  "," 3145  "," 6  "," 3892  "]
[null,null,null," 7  "," 2610  "," 7  "," 2771  "," 7  "," 3106  "," 7  "," 3308  "," 7  "," 4040  "]
[null,null,null," 8  "," 2677  "," 8  "," 2855  "," 8  "," 3234  "," 8  "," 3473  "," 8  "," 4188  "]
[null,null,null," 9  "," 2752  "," 9  "," 2953  "," 9  "," 3368  "," 9  "," 3647  "," 9  "," 4336  "]
[null,null,null," 10  "," 2829  "," 10  "," 3052  "," 10  "," 3505  "," 10  "," 3828  "," 10  "," 4483  "]
[null,null,null," 11  "," 2914  "," 11  "," 3159  "," 11  "," 3642  "," 11  "," 4014  "," 11  "," 4632  "]
[null,null,null," 12  "," 3003  "," 12  "," 3269  "," 12  "," 3786  "," 12  "," 4206  "," 12  "," 4781  "]
[null,null,null," 13  "," 3099  "," 13  "," 3384  "," 13  "," 3933  "," 13  "," 4405  "," 13  "," 4930  "]
[null,null,null," 14  "," 3198  "," 14  "," 3504  "," 14  "," 4082  "," 14  "," 4609  "," 14  "," 5077  "]
[null,null,null," 15  "," 3274  "," 15  "," 3597  "," 15  "," 4197  "," 15  "," 4775  "," 15  "," 5178  "]
[]
[]
[null,"Onderwijs Ondersteunend Personeel"]
[null,null,null,null,null," Schaal 1  ",null," Schaal 2  ",null,null,null," Schaal 3  ",null," Schaal 4  ",null," Schaal 5  ",null," Schaal 6  ",null," Schaal 7  ",null," Schaal 8  ",null," Schaal 9  ",null," Schaal 10  ",null," Schaal 11  ",null," Schaal 12  ",null," Schaal 13  ",null," Schaal 14  "]
[]
[null,"ID-banen"]
[null,null,null,"Doorstroom-baan \n",null,null,null,"Doorstroom-baan \n",null,"Doorstroom-baan \n"]
[null,null,null," Schaal 1  ",null,null,null," Schaal 2",null," Schaal 3"]
[null,null,null," nr  "," bedrag  "," nr  "," bedrag  "," nr  "," bedrag  "," nr  "," bedrag  "," nr  "," bedrag  "," nr  "," bedrag  "," nr  "," bedrag  "," nr  "," bedrag "," nr  "," bedrag  "," nr  "," bedrag  "," nr  "," bedrag  "," nr  "," bedrag  "," nr  "," bedrag  "," nr  "," bedrag "," nr  "," bedrag  "," nr  "," bedrag "]
[null,null,null," a1  "," 1469,4018  "]
[null,null,null," a2  "," 1469,40  "]
[null,null,null," 1  "," 1469,40  "," 1  "," 1469,4017  "," 1  "," 1469,40  "," 1  "," 1469,40 "," 1  "," 1469,40  "," 1  "," 1477  "," 1  "," 1508  "," 1  "," 1566  "," 1  "," 1674  "," 1  "," 1896  "," 1  "," 2180  "," 1  "," 2180  "," 1  "," 2292  "," 1  "," 3087  "," 1  "," 3748  "," 1  "," 4295  "]
[null,null,null," 2  "," 1477  "," 2  "," 1477  "," 2  "," 1508  "," 2  "," 1566  "," 2  "," 1566  "," 2  "," 1538  "," 2  "," 1538  "," 2  "," 1631  "," 2  "," 1723  "," 2  "," 1950  "," 2  "," 2292  "," 2  "," 2400  "," 2  "," 2400  "," 2  "," 3204  "," 2  "," 3861  "," 2  "," 4405  "]
[null,null,null," 3  "," 1538  "," 3  "," 1538  "," 3  "," 1566  "," 3  "," 1631  "," 3  "," 1631  "," 3  "," 1598  "," 3  "," 1631  "," 3  "," 1840  "," 3  "," 1840  "," 3  "," 2056  "," 3  "," 2518  "," 3  "," 2518  "," 3  "," 2518  "," 3  "," 3306  "," 3  "," 3968  "," 3  "," 4619  "]
[null,null,null," 4  "," 1566  "," 4  "," 1566  "," 4  "," 1631  "," 4  "," 1723  "," 4  "," 1723  "," 4  "," 1674  "," 4  "," 1723  "," 4  "," 1950  "," 4  "," 2056  "," 4  "," 2270  "," 4  "," 2647  "," 4  "," 2647  "," 4  "," 2647  "," 4  "," 3413  "," 4  "," 4078  "," 4  "," 4754  "]
[null,null,null," 5  "," 1598  "," 5  "," 1598  "," 5  "," 1674  "," 5  "," 1783  "," 5  "," 1783  "," 5  "," 1783  "," 5  "," 1840  "," 5  "," 2004  "," 5  "," 2158  "," 5  "," 2376  "," 5  "," 2759  "," 5  "," 2759  "," 5  "," 2759  "," 5  "," 3516  "," 5  "," 4182  "," 5  "," 4891  "]
[null,null,null," 6  "," 1631  "," 6  "," 1631  "," 6  "," 1723  "," 6  "," 1840  "," 6  "," 1840  "," 6  "," 1840  "," 6  "," 1896  "," 6  "," 2056  "," 6  "," 2216  "," 6  "," 2494  "," 6  "," 2873  "," 6  "," 2873  "," 6  "," 2873  "," 6  "," 3633  "," 6  "," 4405  "," 6  "," 5028  "]
[null,null,null," 7  "," 1674  "," 7  "," 1674  "," 7  "," 1783  "," 7  "," 1896  "," 7  "," 1896  "," 7  "," 1896  "," 7  "," 1950  "," 7  "," 2108  "," 7  "," 2270  "," 7  "," 2560  "," 7  "," 2980  "," 7  "," 2980  "," 7  "," 2980  "," 7  "," 3861  "," 7  "," 4509  "," 7  "," 5163  "]
[null,null,null,"   ","   ",null,null," 8  "," 1840  ",null,null," 8  "," 1950  "," 8  "," 1950  "," 8  "," 2004  "," 8  "," 2158  "," 8  "," 2322  "," 8  "," 2621  "," 8  "," 3087  "," 8  "," 3087  "," 8  "," 3204  "," 8  "," 3968  "," 8  "," 4619  "," 8  "," 5301  "]
[null,null,null,"   ","   ","   ","   ",null,null,null,null," 9  "," 2004  "," 9  "," 2004  "," 9  "," 2056  "," 9  "," 2216  "," 9  "," 2376  "," 9  "," 2675  "," 9  "," 3204  "," 9  "," 3204  "," 9  "," 3306  "," 9  "," 4078  "," 9  "," 4754  "," 9  "," 5447  "]
[null,null,null,"   ","   ","   ","   ","   ","   ",null,null,null,null," 10  "," 2056  "," 10  "," 2108  "," 10  "," 2270  "," 10  "," 2434  "," 10  "," 2733  "," 10  "," 3306  "," 10  "," 3306  "," 10  "," 3413  "," 10  "," 4182  "," 10  "," 4891  "," 10  "," 5593  "]
[null,null,null,"   ","   ","   ","   ","   ","   ",null,null,null,null," 11  "," 2108  "," 11  "," 2158  "," 11  "," 2322  "," 11  "," 2494  "," 11  "," 2791  ","   ","   "," 11  "," 3413  "," 11  "," 3516  "," 11  "," 4295  "," 11  "," 5028  "," 11  "," 5746  "]
[null,null,null,"   ","   ","   ","   ","   ","   ",null,null,null,null,"   ","   "," 12  "," 2216  ","   ","   "," 12  "," 2560  "," 12  "," 2845  ","   ","    "," 12  "," 3516  "," 12  "," 3633  "," 12  "," 4405  "," 12  "," 5163  ","   ","   "]
[null,null,null,null,null,null,null,null,null,null,null,null,null,null,null,null,null,null,null,"   ","   "," 13  "," 2896  ","    ","    "," 13  "," 3633  "," 13  "," 3748  "," 13  "," 4509  "," 13  "," 5230  ","   ","   "]
[null,null,null,null,null,null,null,null,null,null,null,null,null,null,null,"   ","   ","   ","   ","   ","   ",null,null,null,null,"   ","   "," 14  "," 3861  "," 14  "," 4619  "]
[null,null,null,null,null,null,null,null,null,null,null,null,null,null,null,"   ","   ","   ","   ","   ","   ",null,null,null,null,"   ","   "," 15  "," 3968  "," 15  "," 4754  "]
[null,null,null,null,null,null,null,null,null,null,null,null,null,null,null,"   ","   ","   ","   ","   ","   ",null,null,null,null,"   ","   "," 16  "," 4078  "," 16  "," 4823  "]
[null,null,null,null,null,null,null,null,null,null,null,null,null,null,null,"   ","   ","   ","   ","   ","   ",null,null,null,null,"   ","   "," 17  "," 4182  ","   ","   "]
[null,null,null,null,null,null,null,null,null,null,null,null,null,null,null,"   ","   ","   ","   ","   ","   ",null,null,null,null,"   ","   "," 18  "," 4239  ","   ","   "]
[]
[]
[]
[]
[]
[]
[]
[]
[]
[null,null,null,null,null,null,null,"   ","   "]
[null,null,null,null,null,"   ","   ","   ","   "]

{"sheet":"Salaris_berekening","index":14,"n_rows":105,"n_cols":21,"rows_kept":105,"cut":false,"hidden":true,"merged":[]}
["VfPf"]
["Organisatie:",null,null,null,"Participatiefonds"]
["Project:",null,null,null,"VUIST"]
["Deelproject:",null,null,null,"Reglement"]
["Onderdeel:",null,null,null,"Bekostigingstool"]
["Onderwerp:",null,null,null,"Berekening jaarsalaris"]
[]
[]
[null,null,null,null,"Artikel in CAO-PO",null,"Salariscomponent",null,null,null,"Schaal","Trede","Bedrag","per",null,"Opmerking",null,null,"Van toepassing"]
[null,null,null,null,null,null,null,null,null,null,null,null,null,null,null,null,null,null,"VU","SEJU","wtf"]
[]
[null,null,null,null,"6.1, 6.8, 6.9, 6.31",null,"Salaris",null,null,null,null,null,null,null,null,null,null,null,"Ja","Ja","Ja"]
[]
[null,null,null,null,"6.13","Auto","Uitlooptoeslag",null,null,null,"LA",15,29.24,"maand",null,null,null,null,"Ja","Ja","Ja"]
[null,null,null,null,null,null,null,null,null,null,"LB",15,25.65,"maand",null,null,null,null,"Ja","Ja","Ja"]
[null,null,null,null,null,null,null,null,null,null,"LC",15,46.71,"maand",null,null,null,null,"Ja","Ja","Ja"]
[null,null,null,null,null,null,null,null,null,null,"LD",15,23.1,"maand",null,null,null,null,"Ja","Ja","Ja"]
[]
[null,null,null,null,"6.14","Auto","Bindingstoelage",null,"Leraar",null,"LA",15,715.21,"jaar",null,null,null,null,"Nee","Nee","Ja"]
[null,null,null,null,null,null,null,null,null,null,"LB",15,715.21,"jaar",null,null,null,null,"Nee","Nee","Ja"]
[null,null,null,null,null,null,null,null,"Directiefunctie",null,"DA",13,218.98,"jaar",null,null,null,null,"Nee","Nee","Ja"]
[null,null,null,null,null,null,null,null,null,null,"DB",15,null,null,null,null,null,null,"Nee","Nee","Ja"]
[null,null,null,null,null,null,null,null,null,null,"DC","16,17,18",null,null,null,null,null,null,"Nee","Nee","Ja"]
[null,null,null,null,null,null,null,null,null,null,"DD",18,null,null,null,null,null,null,"Nee","Nee","Ja"]
[null,null,null,null,null,null,null,null,null,null,"DE",18,null,null,null,null,null,null,"Nee","Nee","Ja"]
[null,null,null,null,null,null,null,null,"OOP salarisschaal 9",null,9,10,218.98,"jaar",null,null,null,null,"Nee","Nee","Ja"]
[]
[null,null,null,null,"6.14a","Altijd","Inkomenstoelage",null,"bij een normbetrekking",null,null,null,32.409999999999997,"maand",null,null,null,null,"Nee","Nee","Ja"]
[]
[null,null,null,null,"6.14b","Auto","Schaaluitloopbedrag",null,null,null,"LA",15,61,"maand",null,null,null,null,"Ja","Ja","Ja"]
[null,null,null,null,null,null,null,null,null,null,"LB",15,61,"maand",null,null,null,null,"Ja","Ja","Ja"]
[]
[null,null,null,null,"6.15","Altijd","Structurele eindejaarsuitkering",null,null,"SEJU",null,6.3E-2,null,"jaar",null,null,null,null,"Nee","Nee","Ja"]
[]
[null,null,null,null,"6.33","Auto","Eindejaarsuitkering OOP",null,null,null,"Schaal 1 t/m 5",null,1070.28,"jaar",null,"per 1/1/2013",null,820.08,"Nee","Nee","Ja"]
[null,null,null,null,null,null,null,null,null,null,"Schaal 6 t/m 8",null,1025.28,"jaar",null,"per 1/1/2013",null,775.08,"Nee","Nee","Ja"]
[]
[null,null,null,null,"6.29a","Manueel","Toelage directeuren",null,null,null,"DA t/m DC + U",null,298,"maand",null,null,null,null,"Nee","Nee","Nee"]
[]
[null,null,null,null,null,"Niet in tool","Toelage i.v.m. directeurswerkzaamheden",null,null,"Moet worden meegenomen in",null,null,null,null,null,null,null,null,"Nee","Nee","nvt"]
[null,null,null,null,null,null,"aan een andere instelling",null,null,"voorgaand onderdeel"]
[]
[null,null,null,null,"6.14c","Altijd","Nominale uitkering dag van de leraar",null,null,null,null,null,200,"jaar",null,null,null,null,"Nee","Nee","Ja"]
[]
[null,null,null,null,"8.24","Altijd","Uitkering levensloop",null,null,null,null,8.0000000000000002E-3,null,"maand",null,null,null,null,"Nee","Nee","Ja"]
[]
[null,null,null,null,null,"Altijd","Vakantie-uitkering",null,null,"VU",null,0.08,null,"jaar",null,"(minimum is 140,49 / mnd)",null,null,"Nee","Nee","Ja"]
[]
[null,null,null,null,null,"Niet in tool","Toelage senior leraar SBO / WEC",null,null,null,"1e jaar",null,115.46,"maand",null,null,null,null,"Nee","Nee","nvt"]
[null,null,null,null,null,null,null,null,null,null,"2e jaar",null,230.92,"maand"]
[]
[]
[]
[null,null,null,null,"Salarisberekening"]
[]
[null,null,null,null,"Schaal",null,null,null,null,{"$f":"Data_PersonPanelSchaal","v":"AC"}]
[null,null,null,null,"Trede",null,null,null,null,{"$f":"Data_PersonPanelTrede","v":5}]
[null,null,null,null,"Uitloopschaal",null,"U invullen als er sprake is van uitloopschaal",null,null,{"$f":"Data_PersonPanelUitloopschaal","v":0}]
[null,null,null,null,"Werktijdfactor",null,null,null,null,{"$f":"Data_PersonPanelWerktijdfactor","v":1}]
[null,null,null,null,"Toelage directeuren",null,"DA,DB,DC,DD,DE",null,"/mnd",{"$f":"Data_PersonPanelToelageDirecteur","v":0}]
[null,null,null,null,"Salariscomponenten waarop VU eb SEJU van toepassing zijn"]
[]
[null,null,null,null,"Maandsalaris volgens schaal",null,null,null,null,"schaal&trede","toeslag 1 = true",null,{"$f":"HLOOKUP($J$56,Schalen_ineengeschoven!$C$11:$AM$33,VLOOKUP($J$57,Schalen_ineengeschoven!$C$11:$AM$33,2,FALSE)+1,FALSE)","v":3365},"/mnd"]
[null,null,null,null,"Als  Uitloopschaal U bevat",null,null,null,null,null,null,null,null,null,"Zet de schalen en treden  per toeslag in de gele vlakken"]
[null,null,null,null,"Uitlooptoeslag",null,"LA15, LB15",46.71,"/mnd",{"$f":"$J$56&$J$57","v":"AC5"},{"$f":"IF(ISNA(HLOOKUP(J65,O65:S65,1,FALSE)),0,1)","v":0},null,{"$f":"IF($J$58=\"U\",K65*H65,0)","v":0},"/mnd","LA15","LB15"]
[null,null,null,null,null,null,"LC15, LD15",46.71,"/mnd",{"$f":"$J$56&$J$57","v":"AC5"},{"$f":"IF(ISNA(HLOOKUP(J66,O66:S66,1,FALSE)),0,1)","v":0},null,{"$f":"IF($J$58=\"U\",K66*H66,0)","v":0},"/mnd","LC15","LD15"]
[null,null,null,null,"Als  Uitloopschaal U bevat"]
[null,null,null,null,"Schaaluitloopbedrag",null,"LA15, LB15",61,"/mnd",{"$f":"$J$56&$J$57","v":"AC5"},{"$f":"IF(ISNA(HLOOKUP(J68,O68:S68,1,FALSE)),0,1)","v":0},null,{"$f":"IF($J$58=\"U\",K68*H68,0)","v":0},"/mnd","LA15","LB15"]
[]
[null,null,null,null,"Maandsalaris",null,null,null,null,null,null,null,{"$f":"SUM(M63:M69)","v":3365},"/mnd"]
[null,null,null,null,"Werktijdfactor",null,null,null,null,null,null,null,{"$f":"J59","v":1},"x"]
[null,null,null,null,"Maandsalaris",null,null,null,null,null,null,null,{"$f":"ROUND(M70*M71,2)","v":3365},"/mnd"]
[null,null,null,null,"Maanden",null,null,null,null,null,null,null,12]
[null,null,null,null,"Jaarsalaris op basis 12 maanden",null,null,null,null,null,null,null,{"$f":"M72*M73","v":40380},"/jaar"]
[]
[null,null,null,null,"Uitkering levensloop",null,null,null,null,null,null,8.0000000000000002E-3,{"$f":"ROUND(M74*L76,2)","v":323.04000000000002},"/jaar"]
[null,null,null,null,"Vakantieuitkering",null,"VU",null,null,null,null,0.08,{"$f":"ROUND(M74*L77,2)","v":3230.4},"/jaar"]
[null,null,null,null,"Structurele eindejaarsuitkering",null,"SEJU",null,null,null,null,6.3E-2,{"$f":"ROUND(M74*L78,2)","v":2543.94},"/jaar"]
[]
[null,null,null,null,"Jaarsalaris incl VU en SEJU",null,null,null,null,null,null,null,{"$f":"SUM(M74:M79)","v":46477.380000000005},"/jaar",{"$f":"E80","v":"Jaarsalaris incl VU en SEJU"},null,null,{"$f":"M80","v":46477.380000000005},{"$f":"N80","v":"/jaar"}]
[]
[null,null,null,null,"Toelagen"]
[]
[null,null,null,null,"Inkomenstoelage",null,"(vast bedrag)",null,null,null,12,32.409999999999997,{"$f":"K84*L84","v":388.91999999999996},"/jaar"]
[null,null,null,null,null,null,null,null,null,null,null,null,null,null,"Zet de schalen en treden  per toeslag in de gele vlakken"]
[null,null,null,null,"Bindingstoelage","Leraren","LA15, LB15",715.21,"/jaar",{"$f":"$J$56&$J$57","v":"AC5"},{"$f":"IF(ISNA(HLOOKUP(J86,O86:S86,1,FALSE)),0,1)","v":0},null,{"$f":"K86*H86","v":0},"/jaar","LA15","LB15"]
[null,null,null,null,null,"Directie","DA13, DB15",218.98,"/jaar",{"$f":"$J$56&$J$57","v":"AC5"},{"$f":"IF(ISNA(HLOOKUP(J87,O87:S87,1,FALSE)),0,1)","v":0},null,{"$f":"K87*H87","v":0},"/jaar","DA13","DB15"]
[null,null,null,null,null,"Directie","DC16,17,18",218.98,"/jaar",{"$f":"$J$56&$J$57","v":"AC5"},{"$f":"IF(ISNA(HLOOKUP(J88,O88:S88,1,FALSE)),0,1)","v":0},null,{"$f":"K88*H88","v":0},"/jaar","DC16","DC17","DC18"]
[null,null,null,null,null,"Directie","DD18, DE18",218.98,"/jaar",{"$f":"$J$56&$J$57","v":"AC5"},{"$f":"IF(ISNA(HLOOKUP(J89,O89:S89,1,FALSE)),0,1)","v":0},null,{"$f":"K89*H89","v":0},"/jaar","DD18","DE18"]
[null,null,null,null,null,"OOP","9-10",218.98,"/jaar",{"$f":"$J$56&$J$57","v":"AC5"},{"$f":"IF(ISNA(HLOOKUP(J90,O90:S90,1,FALSE)),0,1)","v":0},null,{"$f":"K90*H90","v":0},"/jaar","910"]
[]
[null,null,null,null,"Nominale uitkering dag van de leraar",null,null,null,null,null,null,null,200,"/jaar"]
[null,null,null,null,null,null,null,null,null,null,null,null,null,null,"Zet de schalen  per toeslag in de gele vlakken"]
[null,null,null,null,"Eindejaarsuitkering OOP",null,"1, 2, 3, 4, 5",829.08,"/jaar",{"$f":"$J$56 & \"\"","v":"AC"},{"$f":"IF(ISNA(HLOOKUP(J94,O94:S94,1,FALSE)),0,1)","v":0},null,{"$f":"K94*H94","v":0},"/jaar","1","2","3","4","5"]
[null,null,null,null,null,null,"6, 7, 8",775.08,"/jaar",{"$f":"$J$56 & \"\"","v":"AC"},{"$f":"IF(ISNA(HLOOKUP(J95,O95:S95,1,FALSE)),0,1)","v":0},null,{"$f":"K95*H95","v":0},"/jaar","6","7","8"]
[]
[]
[null,null,null,null,"Totaal toelagen (excl dir) op basis full-time",null,null,null,null,null,null,null,{"$f":"SUM(M84:M97)","v":588.91999999999996},"/jaar"]
[null,null,null,null,"Werktijdfactor",null,null,null,null,null,null,null,{"$f":"J59","v":1}]
[null,null,null,null,"Totaal toelagen (excl dir)",null,null,null,null,null,null,null,{"$f":"ROUND(M98*M99,2)","v":588.91999999999996},"/jaar",{"$f":"E100","v":"Totaal toelagen (excl dir)"},null,null,{"$f":"M100","v":588.91999999999996},{"$f":"N100","v":"/jaar"}]
[]
[]
[null,null,null,null,"Toelage directeuren",null,null,null,null,null,12,{"$f":"J60","v":0},{"$f":"K103*L103","v":0},"/jaar",{"$f":"E103","v":"Toelage directeuren"},null,null,{"$f":"M103","v":0},{"$f":"N103","v":"/jaar"}]
[]
[null,null,null,null,"Jaarsalaris inclusief toeslagen vermeerderd met 35 % tbv bruto salaris",null,null,null,null,null,null,null,0.35,null,"netto",{"$f":"SUM(R64:R104)","v":47066.3},"bruto",{"$f":"SUM(R64:R104)* (1+M105)","v":63539.505000000005},"/jaar"]

{"sheet":"Prestatiebox","index":15,"n_rows":50,"n_cols":5,"rows_kept":50,"cut":false,"hidden":true,"merged":[]}
["Prestatiebox in verband met de bekostigingsvergelijking 1 augustus 2014"]
[]
["Vastgestelde berekening voor het schooljaar 2012-2013:"]
[]
["totaal  2012/2013"]
["opbrengstgericht werken (per lln)",null,47.33,null,"Informatie van rekenmodel PO-raad"]
["professionalisering (per lln)",null,24.71]
["subsidie cultuureducatie (per lln)",null,10.95]
["bedrag per leerling",null,82.99]
["bedrag per school (prof. schoolleiders)",null,1954]
[]
["Rekenhulp schooljaar 2013-2014:"]
["Volgende elementen:"]
["leerlingaantal op 1 oktober 2012",{"$f":"Data_PerformanceBoxPanelLearnerNumber2011","v":0},"<= invoerveld"]
["aantal brinnummers op 1 oktober 2012",{"$f":"Data_PerformanceBoxPanelBRINNumber2011","v":0},"<= invoerveld"]
[]
["Bedrag per leerling",82.99,null,"vast gegeven"]
["Bedrag per brinnummer",1954,null,"vast gegeven"]
[]
["Totaal prestatiebox",null,{"$f":"(B14*B17)+(B15*B18)","v":0},"<= aantal ll * 82,99 + aantal brinnummers * 1954"]
["meenemen voor bekostigingsvergelijking ",0.65,{"$f":"C20*B21","v":0}]
[]
[]
["Vastgestelde berekening voor het schooljaar 2014-2015:"]
[]
["vanaf 1 augustus 2014 wordt de prestatiebox opgenomen in de regeling personele bekostiging 2014-2015."]
["De volgende bedragen zijn gepubliceerd:"]
["Artikel 39. Vaststelling bedragen prestatiebox primair onderwijs"]
[]
[null,"bedrag per leerling"]
["2, eerste lid (opbrengstgericht werken basisonderwijs)",{"$f":"+B32+B35","v":43.23},null,"volgens mij zijn de gearceerde velden"]
["2, eerste lid (professionalisering leraren basisonderwijs)",31.99,null,"van toepassing"]
["2, tweede lid (taal en rekenen,toetsen (voortgezet) speciaal onderwijs)",30.68]
["2, tweede lid (professionalisering leraren (voortgezet) speciaal onderwijs)",86.6]
["2, derde lid (cultuureducatieve activiteiten)",11.24]
[]
["bedrag per leerling",86.46]
[]
["bedrag per school ",1983]
[]
["Rekenhulp 2014-2015"]
["Volgende elementen:"]
["leerlingaantal op 1 oktober 2013",{"$f":"Data_PerformanceBoxPanelLearnerNumber2012","v":0},"<= invoerveld"]
["aantal brinnummers op 1 oktober 2013",{"$f":"Data_PerformanceBoxPanelBRINNumber2012","v":0},"<= invoerveld"]
[]
["Bedrag per leerling",86.46,null,"vast gegeven"]
["Bedrag per brinnummer",1983,null,"vast gegeven"]
[]
["Totaal prestatiebox",null,{"$f":"B43*B46+B44*B47","v":0},"<= aantal ll * 86,46 + aantal brinnummers * 1983"]
["meenemen voor bekostigingsvergelijking",0.65,{"$f":"C49*B50","v":0}]